{"text_format":"1","workbook":"xlsx","n_sheets":22,"sheets":["Original ABG Allocation","Revision No. 1","Amended ABG Allocation No. 1 ","Revision No. 2","Amended ABG Allocation No. 2","Revision No. 3","Amended ABG Allocation No. 3","Regular BG","Caregiver Support","Federal Caregiver Support","NSIP","PA MEDI","Health Promotion","Other Funds Summary","Other Funds-Revision No. 1","Amendment 1-Other Funds","Other Funds-Revision No. 2","Amendment 2- Other Funds ","Other Funds-Revision No. 3","Amendment 3-Other Funds","In Home Parameter","Changes"],"not_rendered":{"charts":0,"images":0,"macros":0,"external_links":3,"defined_names":14,"comments":0,"pivot_tables":0},"unopened":[],"bounds":{"document_bytes":16777216,"sheet_cells":100000,"rows_first":2000,"rows_last":500,"rows_between":2000,"halvings":0,"cell_chars":16384,"cell_head_chars":4096},"cells_cut":0,"cells_raw":0,"read":"whole","date_system":"1900"}

{"sheet":"Original ABG Allocation","index":0,"n_rows":58,"n_cols":11,"rows_kept":58,"cut":false,"hidden":false,"merged":[]}
["ORIGINAL ",null,null,null,null,null,null,null,null,null," "]
["BLOCK GRANT ALLOCATION"]
["FY 2022-23",null,"(1)","(2)","(3)","(4)","(5)","(6)","(7)","(8)"]
[null,null,"REGULAR","CAREGIVER","FED. CAREGIVER",null,"PA MEDI","HEALTH",null,"TOTAL ALL"]
[null,null,"BLOCK GRANT","SUPPORT ","SUPPORT ","NSIP","APPRISE","PROMOTION","OTHER","FUNDS"]
["01","ERIE",4411598,156011,134766,66325,20097,25670,0,{"$f":"SUM(C6:I6)","v":4814467}]
["02","CRAWFORD",2137845,94962,55648,47328,10676,12253,0,2358712]
["03","CAM/ELK/MCKEAN",2104494,104392,69557,35588,11237,13477,0,2338745]
["04","BEAVER",3472650,120693,115200,23968,15815,22039,0,3770365]
["05","INDIANA",1949787,72332,65877,51905,10185,12618,0,2162704]
["06","ALLEGHENY",29841874,1024598,1027359,419219,107007,158619,0,32578676]
["07","WESTMORELAND",7750368,279704,249205,123773,33328,47027,0,8483405]
["08","WASH/FAY/GREENE",10511355,393598,534972,354500,39938,68098,0,11902461]
["09","SOMERSET",2326690,81631,93246,72579,11799,14877,0,2600822]
["10","CAMBRIA",4034624,140343,133780,178185,17087,25081,0,4529100]
["11","BLAIR",2763377,114081,109683,118873,11735,17034,0,3134783]
["12","BED/FULT/HUNT",3121983,120022,106084,66409,14807,19221,0,3448526]
["13","CENTRE",1381274,45132,36131,42135,10000,8909,0,1523581]
["14","LYCOM/CLINTON",3159609,117392,98452,80903,16355,18458,0,3491169]
["15","COLUM/MONT",1789613,66474,53326,26259,10000,10126,0,1955798]
["16","NORTHUMBERLND",2955045,122953,109123,38517,11327,17718,0,3254683]
["17","UNION/SNYDER",1295880,41818,38788,16745,10000,8635,0,1411866]
["18","MIFF/JUNIATA",1827966,64859,74111,44916,10222,11964,0,2034038]
["19","FRANKLIN",2436382,83393,78131,66539,15528,14543,0,2694516]
["20","ADAMS",1263446,39383,32448,29737,10175,7955,0,1383144]
["21","CUMBERLAND",2273659,80733,57284,21248,17010,9223,0,2459157]
["22","PERRY",767004,25396,23988,28967,10000,7923,0,863278]
["23","DAUPHIN",4488392,171730,127675,76056,18822,23922,0,4906597]
["24","LEBANON",1934714,68543,56539,40188,11419,9146,0,2120549]
["25","YORK",5364017,199228,133054,204767,27448,25017,0,5953531]
["26","LANCASTER",5609386,198436,164965,60963,33008,30859,0,6097617]
["27","CHESTER",3766491,114753,74312,65735,25091,14330,0,4060712]
["28","MONTGOMERY",8212898,236029,238996,222009,47311,27365,0,8984608]
["29","BUCKS",5247058,206856,197793,80421,33291,24480,0,5789899]
["30","DELAWARE",8091925,278240,230814,92075,35954,44239,0,8773247]
["31","PHILADELPHIA",56025883,1702584,2431642,803599,107007,307815,0,61378530]
["32","BERKS",6004484,235166,262043,158821,29191,32781,0,6722486]
["33","LEHIGH",4654532,172458,119971,42793,21310,17348,0,{"$f":"SUM(C38:I38)","v":5028412}]
["34","NORTHAMPTON",4087354,153486,102099,73789,19506,19316,0,4455550]
["35","PIKE",714453,25399,20229,20687,10000,7908,0,798676]
["36","B/S/S/T",3993199,141181,136248,98527,20201,24698,0,4414054]
["37","LUZERNE/WYOMING",9360224,343992,282547,219979,31720,54157,0,10292619]
["38","LACKAWANNA",5223495,202907,231866,124839,18501,33436,0,5835044]
["39","CARBON",1185509,44213,39403,30903,10000,7982,0,1318010]
["40","SCHUYLKILL",4568989,181495,156510,56511,18478,29322,0,5011305]
["41","CLEARFIELD",2229583,79676,76522,110249,11341,14212,0,2521583]
["42","JEFFERSON",1281851,51609,59466,28079,10000,8874,0,1439879]
["43","FOREST/WARREN",1026619,34269,30176,27753,10000,7946,0,1136763]
["44","VENANGO",1267563,48574,55242,36107,10000,8569,0,1426055]
["45","ARMSTRONG",1994604,75493,62026,71631,10719,12115,0,2226588]
["46","LAWRENCE",2116483,79407,65793,43055,10341,12981,0,2328060]
["47","MERCER",2322893,80316,77331,41143,13302,14661,0,2549646]
["48","MONROE",1655963,46961,65227,37809,13317,8435,0,1827712]
["49","CLARION",954686,32868,43252,29696,10000,7961,0,1078463]
["50","BUTLER",2546870,104331,112372,40783,16742,14150,0,2835248]
["51","POTTER",589962,25400,20017,14811,10000,7905,0,668095]
["52","WAYNE",1178872,35500,38682,55047,10000,8635,0,1326736]
[null,"     TOTALS",{"$f":"SUM(C6:C57)","v":251275475},8761000,9009971,4963443,1078348,1412033,0,276500270]

{"sheet":"Revision No. 1","index":1,"n_rows":58,"n_cols":10,"rows_kept":58,"cut":false,"hidden":false,"merged":[]}
["CHANGE 1 "]
["BLOCK GRANT ALLOCATION"]
[{"$f":"+'Original ABG Allocation'!A3","v":"FY 2022-23"},null,{"$f":"+'Original ABG Allocation'!C3","v":"(1)"},{"$f":"+'Original ABG Allocation'!D3","v":"(2)"},{"$f":"+'Original ABG Allocation'!E3","v":"(3)"},{"$f":"+'Original ABG Allocation'!F3","v":"(4)"},{"$f":"+'Original ABG Allocation'!G3","v":"(5)"},{"$f":"+'Original ABG Allocation'!H3","v":"(6)"},{"$f":"+'Original ABG Allocation'!I3","v":"(7)"},{"$f":"+'Original ABG Allocation'!J3","v":"(8)"}]
[null,null,{"$f":"+'Original ABG Allocation'!C4","v":"REGULAR"},{"$f":"+'Original ABG Allocation'!D4","v":"CAREGIVER"},{"$f":"+'Original ABG Allocation'!E4","v":"FED. CAREGIVER"},{"$f":"+'Original ABG Allocation'!F4","v":0},{"$f":"+'Original ABG Allocation'!G4","v":"PA MEDI"},{"$f":"+'Original ABG Allocation'!H4","v":"HEALTH"},null,{"$f":"+'Original ABG Allocation'!J4","v":"TOTAL ALL"}]
[null,null,{"$f":"+'Original ABG Allocation'!C5","v":"BLOCK GRANT"},{"$f":"+'Original ABG Allocation'!D5","v":"SUPPORT "},{"$f":"+'Original ABG Allocation'!E5","v":"SUPPORT "},{"$f":"+'Original ABG Allocation'!F5","v":"NSIP"},{"$f":"+'Original ABG Allocation'!G5","v":"APPRISE"},{"$f":"+'Original ABG Allocation'!H5","v":"PROMOTION"},{"$f":"+'Original ABG Allocation'!I5","v":"OTHER"},{"$f":"+'Original ABG Allocation'!J5","v":"FUNDS"}]
["01",{"$f":"+'Original ABG Allocation'!B6","v":"ERIE"},{"$f":"+'Regular BG'!M7","v":0},{"$f":"+'Caregiver Support'!E7","v":0},{"$f":"+'Federal Caregiver Support'!I7","v":0},{"$f":"NSIP!G7","v":0},{"$f":"+'PA MEDI'!E7","v":0},{"$f":"+'Health Promotion'!J7","v":0},{"$f":"+'Other Funds-Revision No. 1'!AM6","v":50754},{"$f":"SUM(C6:I6)","v":50754}]
["02",{"$f":"+'Original ABG Allocation'!B7","v":"CRAWFORD"},{"$f":"+'Regular BG'!M8","v":0},{"$f":"+'Caregiver Support'!E8","v":0},{"$f":"+'Federal Caregiver Support'!I8","v":0},{"$f":"NSIP!G8","v":0},{"$f":"+'PA MEDI'!E8","v":0},{"$f":"+'Health Promotion'!J8","v":0},{"$f":"+'Other Funds-Revision No. 1'!AM7","v":27952},27952]
["03",{"$f":"+'Original ABG Allocation'!B8","v":"CAM/ELK/MCKEAN"},{"$f":"+'Regular BG'!M9","v":0},{"$f":"+'Caregiver Support'!E9","v":0},{"$f":"+'Federal Caregiver Support'!I9","v":0},{"$f":"NSIP!G9","v":0},{"$f":"+'PA MEDI'!E9","v":0},{"$f":"+'Health Promotion'!J9","v":0},{"$f":"+'Other Funds-Revision No. 1'!AM8","v":26526},26526]
["04",{"$f":"+'Original ABG Allocation'!B9","v":"BEAVER"},{"$f":"+'Regular BG'!M10","v":0},{"$f":"+'Caregiver Support'!E10","v":0},{"$f":"+'Federal Caregiver Support'!I10","v":0},{"$f":"NSIP!G10","v":0},{"$f":"+'PA MEDI'!E10","v":0},{"$f":"+'Health Promotion'!J10","v":0},{"$f":"+'Other Funds-Revision No. 1'!AM9","v":37277},37277]
["05",{"$f":"+'Original ABG Allocation'!B10","v":"INDIANA"},{"$f":"+'Regular BG'!M11","v":0},{"$f":"+'Caregiver Support'!E11","v":0},{"$f":"+'Federal Caregiver Support'!I11","v":0},{"$f":"NSIP!G11","v":0},{"$f":"+'PA MEDI'!E11","v":0},{"$f":"+'Health Promotion'!J11","v":0},{"$f":"+'Other Funds-Revision No. 1'!AM10","v":26503},26503]
["06",{"$f":"+'Original ABG Allocation'!B11","v":"ALLEGHENY"},{"$f":"+'Regular BG'!M12","v":0},{"$f":"+'Caregiver Support'!E12","v":0},{"$f":"+'Federal Caregiver Support'!I12","v":0},{"$f":"NSIP!G12","v":0},{"$f":"+'PA MEDI'!E12","v":0},{"$f":"+'Health Promotion'!J12","v":0},{"$f":"+'Other Funds-Revision No. 1'!AM11","v":189804},189804]
["07",{"$f":"+'Original ABG Allocation'!B12","v":"WESTMORELAND"},{"$f":"+'Regular BG'!M13","v":0},{"$f":"+'Caregiver Support'!E13","v":0},{"$f":"+'Federal Caregiver Support'!I13","v":0},{"$f":"NSIP!G13","v":0},{"$f":"+'PA MEDI'!E13","v":0},{"$f":"+'Health Promotion'!J13","v":0},{"$f":"+'Other Funds-Revision No. 1'!AM12","v":66831},66831]
["08",{"$f":"+'Original ABG Allocation'!B13","v":"WASH/FAY/GREENE"},{"$f":"+'Regular BG'!M14","v":0},{"$f":"+'Caregiver Support'!E14","v":0},{"$f":"+'Federal Caregiver Support'!I14","v":0},{"$f":"NSIP!G14","v":0},{"$f":"+'PA MEDI'!E14","v":0},{"$f":"+'Health Promotion'!J14","v":0},{"$f":"+'Other Funds-Revision No. 1'!AM13","v":80930},80930]
["09",{"$f":"+'Original ABG Allocation'!B14","v":"SOMERSET"},{"$f":"+'Regular BG'!M15","v":0},{"$f":"+'Caregiver Support'!E15","v":0},{"$f":"+'Federal Caregiver Support'!I15","v":0},{"$f":"NSIP!G15","v":0},{"$f":"+'PA MEDI'!E15","v":0},{"$f":"+'Health Promotion'!J15","v":0},{"$f":"+'Other Funds-Revision No. 1'!AM14","v":27562},27562]
["10",{"$f":"+'Original ABG Allocation'!B15","v":"CAMBRIA"},{"$f":"+'Regular BG'!M16","v":0},{"$f":"+'Caregiver Support'!E16","v":0},{"$f":"+'Federal Caregiver Support'!I16","v":0},{"$f":"NSIP!G16","v":0},{"$f":"+'PA MEDI'!E16","v":0},{"$f":"+'Health Promotion'!J16","v":0},{"$f":"+'Other Funds-Revision No. 1'!AM15","v":37762},37762]
["11",{"$f":"+'Original ABG Allocation'!B16","v":"BLAIR"},{"$f":"+'Regular BG'!M17","v":0},{"$f":"+'Caregiver Support'!E17","v":0},{"$f":"+'Federal Caregiver Support'!I17","v":0},{"$f":"NSIP!G17","v":0},{"$f":"+'PA MEDI'!E17","v":0},{"$f":"+'Health Promotion'!J17","v":0},{"$f":"+'Other Funds-Revision No. 1'!AM16","v":30296},30296]
["12",{"$f":"+'Original ABG Allocation'!B17","v":"BED/FULT/HUNT"},{"$f":"+'Regular BG'!M18","v":0},{"$f":"+'Caregiver Support'!E18","v":0},{"$f":"+'Federal Caregiver Support'!I18","v":0},{"$f":"NSIP!G18","v":0},{"$f":"+'PA MEDI'!E18","v":0},{"$f":"+'Health Promotion'!J18","v":0},{"$f":"+'Other Funds-Revision No. 1'!AM17","v":37342},37342]
["13",{"$f":"+'Original ABG Allocation'!B18","v":"CENTRE"},{"$f":"+'Regular BG'!M19","v":0},{"$f":"+'Caregiver Support'!E19","v":0},{"$f":"+'Federal Caregiver Support'!I19","v":0},{"$f":"NSIP!G19","v":0},{"$f":"+'PA MEDI'!E19","v":0},{"$f":"+'Health Promotion'!J19","v":0},{"$f":"+'Other Funds-Revision No. 1'!AM18","v":27428},27428]
["14",{"$f":"+'Original ABG Allocation'!B19","v":"LYCOM/CLINTON"},{"$f":"+'Regular BG'!M20","v":0},{"$f":"+'Caregiver Support'!E20","v":0},{"$f":"+'Federal Caregiver Support'!I20","v":0},{"$f":"NSIP!G20","v":0},{"$f":"+'PA MEDI'!E20","v":0},{"$f":"+'Health Promotion'!J20","v":0},{"$f":"+'Other Funds-Revision No. 1'!AM19","v":38012},38012]
["15",{"$f":"+'Original ABG Allocation'!B20","v":"COLUM/MONT"},{"$f":"+'Regular BG'!M21","v":0},{"$f":"+'Caregiver Support'!E21","v":0},{"$f":"+'Federal Caregiver Support'!I21","v":0},{"$f":"NSIP!G21","v":0},{"$f":"+'PA MEDI'!E21","v":0},{"$f":"+'Health Promotion'!J21","v":0},{"$f":"+'Other Funds-Revision No. 1'!AM20","v":25338},25338]
["16",{"$f":"+'Original ABG Allocation'!B21","v":"NORTHUMBERLND"},{"$f":"+'Regular BG'!M22","v":0},{"$f":"+'Caregiver Support'!E22","v":0},{"$f":"+'Federal Caregiver Support'!I22","v":0},{"$f":"NSIP!G22","v":0},{"$f":"+'PA MEDI'!E22","v":0},{"$f":"+'Health Promotion'!J22","v":0},{"$f":"+'Other Funds-Revision No. 1'!AM21","v":27835},27835]
["17",{"$f":"+'Original ABG Allocation'!B22","v":"UNION/SNYDER"},{"$f":"+'Regular BG'!M23","v":0},{"$f":"+'Caregiver Support'!E23","v":0},{"$f":"+'Federal Caregiver Support'!I23","v":0},{"$f":"NSIP!G23","v":0},{"$f":"+'PA MEDI'!E23","v":0},{"$f":"+'Health Promotion'!J23","v":0},{"$f":"+'Other Funds-Revision No. 1'!AM22","v":25178},25178]
["18",{"$f":"+'Original ABG Allocation'!B23","v":"MIFF/JUNIATA"},{"$f":"+'Regular BG'!M24","v":0},{"$f":"+'Caregiver Support'!E24","v":0},{"$f":"+'Federal Caregiver Support'!I24","v":0},{"$f":"NSIP!G24","v":0},{"$f":"+'PA MEDI'!E24","v":0},{"$f":"+'Health Promotion'!J24","v":0},{"$f":"+'Other Funds-Revision No. 1'!AM23","v":25974},25974]
["19",{"$f":"+'Original ABG Allocation'!B24","v":"FRANKLIN"},{"$f":"+'Regular BG'!M25","v":0},{"$f":"+'Caregiver Support'!E25","v":0},{"$f":"+'Federal Caregiver Support'!I25","v":0},{"$f":"NSIP!G25","v":0},{"$f":"+'PA MEDI'!E25","v":0},{"$f":"+'Health Promotion'!J25","v":0},{"$f":"+'Other Funds-Revision No. 1'!AM24","v":31873},31873]
["20",{"$f":"+'Original ABG Allocation'!B25","v":"ADAMS"},{"$f":"+'Regular BG'!M26","v":0},{"$f":"+'Caregiver Support'!E26","v":0},{"$f":"+'Federal Caregiver Support'!I26","v":0},{"$f":"NSIP!G26","v":0},{"$f":"+'PA MEDI'!E26","v":0},{"$f":"+'Health Promotion'!J26","v":0},{"$f":"+'Other Funds-Revision No. 1'!AM25","v":29100},29100]
["21",{"$f":"+'Original ABG Allocation'!B26","v":"CUMBERLAND"},{"$f":"+'Regular BG'!M27","v":0},{"$f":"+'Caregiver Support'!E27","v":0},{"$f":"+'Federal Caregiver Support'!I27","v":0},{"$f":"NSIP!G27","v":0},{"$f":"+'PA MEDI'!E27","v":0},{"$f":"+'Health Promotion'!J27","v":0},{"$f":"+'Other Funds-Revision No. 1'!AM26","v":38546},38546]
["22",{"$f":"+'Original ABG Allocation'!B27","v":"PERRY"},{"$f":"+'Regular BG'!M28","v":0},{"$f":"+'Caregiver Support'!E28","v":0},{"$f":"+'Federal Caregiver Support'!I28","v":0},{"$f":"NSIP!G28","v":0},{"$f":"+'PA MEDI'!E28","v":0},{"$f":"+'Health Promotion'!J28","v":0},{"$f":"+'Other Funds-Revision No. 1'!AM27","v":19102},19102]
["23",{"$f":"+'Original ABG Allocation'!B28","v":"DAUPHIN"},{"$f":"+'Regular BG'!M29","v":0},{"$f":"+'Caregiver Support'!E29","v":0},{"$f":"+'Federal Caregiver Support'!I29","v":0},{"$f":"NSIP!G29","v":0},{"$f":"+'PA MEDI'!E29","v":0},{"$f":"+'Health Promotion'!J29","v":0},{"$f":"+'Other Funds-Revision No. 1'!AM28","v":49986},49986]
["24",{"$f":"+'Original ABG Allocation'!B29","v":"LEBANON"},{"$f":"+'Regular BG'!M30","v":0},{"$f":"+'Caregiver Support'!E30","v":0},{"$f":"+'Federal Caregiver Support'!I30","v":0},{"$f":"NSIP!G30","v":0},{"$f":"+'PA MEDI'!E30","v":0},{"$f":"+'Health Promotion'!J30","v":0},{"$f":"+'Other Funds-Revision No. 1'!AM29","v":28558},28558]
["25",{"$f":"+'Original ABG Allocation'!B30","v":"YORK"},{"$f":"+'Regular BG'!M31","v":0},{"$f":"+'Caregiver Support'!E31","v":0},{"$f":"+'Federal Caregiver Support'!I31","v":0},{"$f":"NSIP!G31","v":0},{"$f":"+'PA MEDI'!E31","v":0},{"$f":"+'Health Promotion'!J31","v":0},{"$f":"+'Other Funds-Revision No. 1'!AM30","v":69151},69151]
["26",{"$f":"+'Original ABG Allocation'!B31","v":"LANCASTER"},{"$f":"+'Regular BG'!M32","v":0},{"$f":"+'Caregiver Support'!E32","v":0},{"$f":"+'Federal Caregiver Support'!I32","v":0},{"$f":"NSIP!G32","v":0},{"$f":"+'PA MEDI'!E32","v":0},{"$f":"+'Health Promotion'!J32","v":0},{"$f":"+'Other Funds-Revision No. 1'!AM31","v":77387},77387]
["27",{"$f":"+'Original ABG Allocation'!B32","v":"CHESTER"},{"$f":"+'Regular BG'!M33","v":0},{"$f":"+'Caregiver Support'!E33","v":0},{"$f":"+'Federal Caregiver Support'!I33","v":0},{"$f":"NSIP!G33","v":0},{"$f":"+'PA MEDI'!E33","v":0},{"$f":"+'Health Promotion'!J33","v":0},{"$f":"+'Other Funds-Revision No. 1'!AM32","v":59974},59974]
["28",{"$f":"+'Original ABG Allocation'!B33","v":"MONTGOMERY"},{"$f":"+'Regular BG'!M34","v":0},{"$f":"+'Caregiver Support'!E34","v":0},{"$f":"+'Federal Caregiver Support'!I34","v":0},{"$f":"NSIP!G34","v":0},{"$f":"+'PA MEDI'!E34","v":0},{"$f":"+'Health Promotion'!J34","v":0},{"$f":"+'Other Funds-Revision No. 1'!AM33","v":101434},101434]
["29",{"$f":"+'Original ABG Allocation'!B34","v":"BUCKS"},{"$f":"+'Regular BG'!M35","v":0},{"$f":"+'Caregiver Support'!E35","v":0},{"$f":"+'Federal Caregiver Support'!I35","v":0},{"$f":"NSIP!G35","v":0},{"$f":"+'PA MEDI'!E35","v":0},{"$f":"+'Health Promotion'!J35","v":0},{"$f":"+'Other Funds-Revision No. 1'!AM34","v":76281},76281]
["30",{"$f":"+'Original ABG Allocation'!B35","v":"DELAWARE"},{"$f":"+'Regular BG'!M36","v":0},{"$f":"+'Caregiver Support'!E36","v":0},{"$f":"+'Federal Caregiver Support'!I36","v":0},{"$f":"NSIP!G36","v":0},{"$f":"+'PA MEDI'!E36","v":0},{"$f":"+'Health Promotion'!J36","v":0},{"$f":"+'Other Funds-Revision No. 1'!AM35","v":82487},82487]
["31",{"$f":"+'Original ABG Allocation'!B36","v":"PHILADELPHIA"},{"$f":"+'Regular BG'!M37","v":0},{"$f":"+'Caregiver Support'!E37","v":0},{"$f":"+'Federal Caregiver Support'!I37","v":0},{"$f":"NSIP!G37","v":0},{"$f":"+'PA MEDI'!E37","v":0},{"$f":"+'Health Promotion'!J37","v":0},{"$f":"+'Other Funds-Revision No. 1'!AM36","v":375238},375238]
["32",{"$f":"+'Original ABG Allocation'!B37","v":"BERKS"},{"$f":"+'Regular BG'!M38","v":0},{"$f":"+'Caregiver Support'!E38","v":0},{"$f":"+'Federal Caregiver Support'!I38","v":0},{"$f":"NSIP!G38","v":0},{"$f":"+'PA MEDI'!E38","v":0},{"$f":"+'Health Promotion'!J38","v":0},{"$f":"+'Other Funds-Revision No. 1'!AM37","v":70382},70382]
["33",{"$f":"+'Original ABG Allocation'!B38","v":"LEHIGH"},{"$f":"+'Regular BG'!M39","v":0},{"$f":"+'Caregiver Support'!E39","v":0},{"$f":"+'Federal Caregiver Support'!I39","v":0},{"$f":"NSIP!G39","v":0},{"$f":"+'PA MEDI'!E39","v":0},{"$f":"+'Health Promotion'!J39","v":0},{"$f":"+'Other Funds-Revision No. 1'!AM38","v":57889},{"$f":"SUM(C38:I38)","v":57889}]
["34",{"$f":"+'Original ABG Allocation'!B39","v":"NORTHAMPTON"},{"$f":"+'Regular BG'!M40","v":0},{"$f":"+'Caregiver Support'!E40","v":0},{"$f":"+'Federal Caregiver Support'!I40","v":0},{"$f":"NSIP!G40","v":0},{"$f":"+'PA MEDI'!E40","v":0},{"$f":"+'Health Promotion'!J40","v":0},{"$f":"+'Other Funds-Revision No. 1'!AM39","v":46413},46413]
["35",{"$f":"+'Original ABG Allocation'!B40","v":"PIKE"},{"$f":"+'Regular BG'!M41","v":0},{"$f":"+'Caregiver Support'!E41","v":0},{"$f":"+'Federal Caregiver Support'!I41","v":0},{"$f":"NSIP!G41","v":0},{"$f":"+'PA MEDI'!E41","v":0},{"$f":"+'Health Promotion'!J41","v":0},{"$f":"+'Other Funds-Revision No. 1'!AM40","v":24546},24546]
["36",{"$f":"+'Original ABG Allocation'!B41","v":"B/S/S/T"},{"$f":"+'Regular BG'!M42","v":0},{"$f":"+'Caregiver Support'!E42","v":0},{"$f":"+'Federal Caregiver Support'!I42","v":0},{"$f":"NSIP!G42","v":0},{"$f":"+'PA MEDI'!E42","v":0},{"$f":"+'Health Promotion'!J42","v":0},{"$f":"+'Other Funds-Revision No. 1'!AM41","v":48433},48433]
["37",{"$f":"+'Original ABG Allocation'!B42","v":"LUZERNE/WYOMING"},{"$f":"+'Regular BG'!M43","v":0},{"$f":"+'Caregiver Support'!E43","v":0},{"$f":"+'Federal Caregiver Support'!I43","v":0},{"$f":"NSIP!G43","v":0},{"$f":"+'PA MEDI'!E43","v":0},{"$f":"+'Health Promotion'!J43","v":0},{"$f":"+'Other Funds-Revision No. 1'!AM42","v":62651},62651]
["38",{"$f":"+'Original ABG Allocation'!B43","v":"LACKAWANNA"},{"$f":"+'Regular BG'!M44","v":0},{"$f":"+'Caregiver Support'!E44","v":0},{"$f":"+'Federal Caregiver Support'!I44","v":0},{"$f":"NSIP!G44","v":0},{"$f":"+'PA MEDI'!E44","v":0},{"$f":"+'Health Promotion'!J44","v":0},{"$f":"+'Other Funds-Revision No. 1'!AM43","v":42257},42257]
["39",{"$f":"+'Original ABG Allocation'!B44","v":"CARBON"},{"$f":"+'Regular BG'!M45","v":0},{"$f":"+'Caregiver Support'!E45","v":0},{"$f":"+'Federal Caregiver Support'!I45","v":0},{"$f":"NSIP!G45","v":0},{"$f":"+'PA MEDI'!E45","v":0},{"$f":"+'Health Promotion'!J45","v":0},{"$f":"+'Other Funds-Revision No. 1'!AM44","v":23256},23256]
["40",{"$f":"+'Original ABG Allocation'!B45","v":"SCHUYLKILL"},{"$f":"+'Regular BG'!M46","v":0},{"$f":"+'Caregiver Support'!E46","v":0},{"$f":"+'Federal Caregiver Support'!I46","v":0},{"$f":"NSIP!G46","v":0},{"$f":"+'PA MEDI'!E46","v":0},{"$f":"+'Health Promotion'!J46","v":0},{"$f":"+'Other Funds-Revision No. 1'!AM45","v":42433},42433]
["41",{"$f":"+'Original ABG Allocation'!B46","v":"CLEARFIELD"},{"$f":"+'Regular BG'!M47","v":0},{"$f":"+'Caregiver Support'!E47","v":0},{"$f":"+'Federal Caregiver Support'!I47","v":0},{"$f":"NSIP!G47","v":0},{"$f":"+'PA MEDI'!E47","v":0},{"$f":"+'Health Promotion'!J47","v":0},{"$f":"+'Other Funds-Revision No. 1'!AM46","v":28506},28506]
["42",{"$f":"+'Original ABG Allocation'!B47","v":"JEFFERSON"},{"$f":"+'Regular BG'!M48","v":0},{"$f":"+'Caregiver Support'!E48","v":0},{"$f":"+'Federal Caregiver Support'!I48","v":0},{"$f":"NSIP!G48","v":0},{"$f":"+'PA MEDI'!E48","v":0},{"$f":"+'Health Promotion'!J48","v":0},{"$f":"+'Other Funds-Revision No. 1'!AM47","v":19041},19041]
["43",{"$f":"+'Original ABG Allocation'!B48","v":"FOREST/WARREN"},{"$f":"+'Regular BG'!M49","v":0},{"$f":"+'Caregiver Support'!E49","v":0},{"$f":"+'Federal Caregiver Support'!I49","v":0},{"$f":"NSIP!G49","v":0},{"$f":"+'PA MEDI'!E49","v":0},{"$f":"+'Health Promotion'!J49","v":0},{"$f":"+'Other Funds-Revision No. 1'!AM48","v":21068},21068]
["44",{"$f":"+'Original ABG Allocation'!B49","v":"VENANGO"},{"$f":"+'Regular BG'!M50","v":0},{"$f":"+'Caregiver Support'!E50","v":0},{"$f":"+'Federal Caregiver Support'!I50","v":0},{"$f":"NSIP!G50","v":0},{"$f":"+'PA MEDI'!E50","v":0},{"$f":"+'Health Promotion'!J50","v":0},{"$f":"+'Other Funds-Revision No. 1'!AM49","v":21935},21935]
["45",{"$f":"+'Original ABG Allocation'!B50","v":"ARMSTRONG"},{"$f":"+'Regular BG'!M51","v":0},{"$f":"+'Caregiver Support'!E51","v":0},{"$f":"+'Federal Caregiver Support'!I51","v":0},{"$f":"NSIP!G51","v":0},{"$f":"+'PA MEDI'!E51","v":0},{"$f":"+'Health Promotion'!J51","v":0},{"$f":"+'Other Funds-Revision No. 1'!AM50","v":26308},26308]
["46",{"$f":"+'Original ABG Allocation'!B51","v":"LAWRENCE"},{"$f":"+'Regular BG'!M52","v":0},{"$f":"+'Caregiver Support'!E52","v":0},{"$f":"+'Federal Caregiver Support'!I52","v":0},{"$f":"NSIP!G52","v":0},{"$f":"+'PA MEDI'!E52","v":0},{"$f":"+'Health Promotion'!J52","v":0},{"$f":"+'Other Funds-Revision No. 1'!AM51","v":26446},26446]
["47",{"$f":"+'Original ABG Allocation'!B52","v":"MERCER"},{"$f":"+'Regular BG'!M53","v":0},{"$f":"+'Caregiver Support'!E53","v":0},{"$f":"+'Federal Caregiver Support'!I53","v":0},{"$f":"NSIP!G53","v":0},{"$f":"+'PA MEDI'!E53","v":0},{"$f":"+'Health Promotion'!J53","v":0},{"$f":"+'Other Funds-Revision No. 1'!AM52","v":31299},31299]
["48",{"$f":"+'Original ABG Allocation'!B53","v":"MONROE"},{"$f":"+'Regular BG'!M54","v":0},{"$f":"+'Caregiver Support'!E54","v":0},{"$f":"+'Federal Caregiver Support'!I54","v":0},{"$f":"NSIP!G54","v":0},{"$f":"+'PA MEDI'!E54","v":0},{"$f":"+'Health Promotion'!J54","v":0},{"$f":"+'Other Funds-Revision No. 1'!AM53","v":42174},42174]
["49",{"$f":"+'Original ABG Allocation'!B54","v":"CLARION"},{"$f":"+'Regular BG'!M55","v":0},{"$f":"+'Caregiver Support'!E55","v":0},{"$f":"+'Federal Caregiver Support'!I55","v":0},{"$f":"NSIP!G55","v":0},{"$f":"+'PA MEDI'!E55","v":0},{"$f":"+'Health Promotion'!J55","v":0},{"$f":"+'Other Funds-Revision No. 1'!AM54","v":18749},18749]
["50",{"$f":"+'Original ABG Allocation'!B55","v":"BUTLER"},{"$f":"+'Regular BG'!M56","v":0},{"$f":"+'Caregiver Support'!E56","v":0},{"$f":"+'Federal Caregiver Support'!I56","v":0},{"$f":"NSIP!G56","v":0},{"$f":"+'PA MEDI'!E56","v":0},{"$f":"+'Health Promotion'!J56","v":0},{"$f":"+'Other Funds-Revision No. 1'!AM55","v":38611},38611]
["51",{"$f":"+'Original ABG Allocation'!B56","v":"POTTER"},{"$f":"+'Regular BG'!M57","v":0},{"$f":"+'Caregiver Support'!E57","v":0},{"$f":"+'Federal Caregiver Support'!I57","v":0},{"$f":"NSIP!G57","v":0},{"$f":"+'PA MEDI'!E57","v":0},{"$f":"+'Health Promotion'!J57","v":0},{"$f":"+'Other Funds-Revision No. 1'!AM56","v":13351},13351]
["52",{"$f":"+'Original ABG Allocation'!B57","v":"WAYNE"},{"$f":"+'Regular BG'!M58","v":0},{"$f":"+'Caregiver Support'!E58","v":0},{"$f":"+'Federal Caregiver Support'!I58","v":0},{"$f":"NSIP!G58","v":0},{"$f":"+'PA MEDI'!E58","v":0},{"$f":"+'Health Promotion'!J58","v":0},{"$f":"+'Other Funds-Revision No. 1'!AM57","v":22788},22788]
[null,"     TOTALS",{"$f":"SUM(C6:C57)","v":0},0,0,0,0,0,2576957,2576957]

{"sheet":"Amended ABG Allocation No. 1 ","index":2,"n_rows":67,"n_cols":10,"rows_kept":67,"cut":false,"hidden":false,"merged":[]}
["AMENDMENT #1"]
["BLOCK GRANT ALLOCATION"]
[{"$f":"+'Original ABG Allocation'!A3","v":"FY 2022-23"},null,{"$f":"+'Original ABG Allocation'!C3","v":"(1)"},{"$f":"+'Original ABG Allocation'!D3","v":"(2)"},{"$f":"+'Original ABG Allocation'!E3","v":"(3)"},{"$f":"+'Original ABG Allocation'!F3","v":"(4)"},{"$f":"+'Original ABG Allocation'!G3","v":"(5)"},{"$f":"+'Original ABG Allocation'!H3","v":"(6)"},{"$f":"+'Original ABG Allocation'!I3","v":"(7)"},{"$f":"+'Original ABG Allocation'!J3","v":"(8)"}]
[null,null,{"$f":"+'Original ABG Allocation'!C4","v":"REGULAR"},{"$f":"+'Original ABG Allocation'!D4","v":"CAREGIVER"},{"$f":"+'Original ABG Allocation'!E4","v":"FED. CAREGIVER"},null,{"$f":"+'Original ABG Allocation'!G4","v":"PA MEDI"},{"$f":"+'Original ABG Allocation'!H4","v":"HEALTH"},null,{"$f":"+'Original ABG Allocation'!J4","v":"TOTAL ALL"}]
[null,null,{"$f":"+'Original ABG Allocation'!C5","v":"BLOCK GRANT"},{"$f":"+'Original ABG Allocation'!D5","v":"SUPPORT "},{"$f":"+'Original ABG Allocation'!E5","v":"SUPPORT "},{"$f":"+'Original ABG Allocation'!F5","v":"NSIP"},{"$f":"+'Original ABG Allocation'!G5","v":"APPRISE"},{"$f":"+'Original ABG Allocation'!H5","v":"PROMOTION"},{"$f":"+'Original ABG Allocation'!I5","v":"OTHER"},{"$f":"+'Original ABG Allocation'!J5","v":"FUNDS"}]
["01",{"$f":"+'Original ABG Allocation'!B6","v":"ERIE"},{"$f":"'Original ABG Allocation'!C6+'Revision No. 1'!C6","v":4411598},{"$f":"'Original ABG Allocation'!D6+'Revision No. 1'!D6","v":156011},{"$f":"'Original ABG Allocation'!E6+'Revision No. 1'!E6","v":134766},{"$f":"NSIP!C7","v":66325},{"$f":"'Original ABG Allocation'!G6+'Revision No. 1'!G6","v":20097},{"$f":"'Original ABG Allocation'!H6+'Revision No. 1'!H6","v":25670},{"$f":"'Original ABG Allocation'!I6+'Revision No. 1'!I6","v":50754},{"$f":"SUM(C6:I6)","v":4865221}]
["02",{"$f":"+'Original ABG Allocation'!B7","v":"CRAWFORD"},{"$f":"'Original ABG Allocation'!C7+'Revision No. 1'!C7","v":2137845},{"$f":"'Original ABG Allocation'!D7+'Revision No. 1'!D7","v":94962},{"$f":"'Original ABG Allocation'!E7+'Revision No. 1'!E7","v":55648},{"$f":"NSIP!C8","v":47328},{"$f":"'Original ABG Allocation'!G7+'Revision No. 1'!G7","v":10676},{"$f":"'Original ABG Allocation'!H7+'Revision No. 1'!H7","v":12253},{"$f":"'Original ABG Allocation'!I7+'Revision No. 1'!I7","v":27952},2386664]
["03",{"$f":"+'Original ABG Allocation'!B8","v":"CAM/ELK/MCKEAN"},{"$f":"'Original ABG Allocation'!C8+'Revision No. 1'!C8","v":2104494},{"$f":"'Original ABG Allocation'!D8+'Revision No. 1'!D8","v":104392},{"$f":"'Original ABG Allocation'!E8+'Revision No. 1'!E8","v":69557},{"$f":"NSIP!C9","v":35588},{"$f":"'Original ABG Allocation'!G8+'Revision No. 1'!G8","v":11237},{"$f":"'Original ABG Allocation'!H8+'Revision No. 1'!H8","v":13477},{"$f":"'Original ABG Allocation'!I8+'Revision No. 1'!I8","v":26526},2365271]
["04",{"$f":"+'Original ABG Allocation'!B9","v":"BEAVER"},{"$f":"'Original ABG Allocation'!C9+'Revision No. 1'!C9","v":3472650},{"$f":"'Original ABG Allocation'!D9+'Revision No. 1'!D9","v":120693},{"$f":"'Original ABG Allocation'!E9+'Revision No. 1'!E9","v":115200},{"$f":"NSIP!C10","v":23968},{"$f":"'Original ABG Allocation'!G9+'Revision No. 1'!G9","v":15815},{"$f":"'Original ABG Allocation'!H9+'Revision No. 1'!H9","v":22039},{"$f":"'Original ABG Allocation'!I9+'Revision No. 1'!I9","v":37277},3807642]
["05",{"$f":"+'Original ABG Allocation'!B10","v":"INDIANA"},{"$f":"'Original ABG Allocation'!C10+'Revision No. 1'!C10","v":1949787},{"$f":"'Original ABG Allocation'!D10+'Revision No. 1'!D10","v":72332},{"$f":"'Original ABG Allocation'!E10+'Revision No. 1'!E10","v":65877},{"$f":"NSIP!C11","v":51905},{"$f":"'Original ABG Allocation'!G10+'Revision No. 1'!G10","v":10185},{"$f":"'Original ABG Allocation'!H10+'Revision No. 1'!H10","v":12618},{"$f":"'Original ABG Allocation'!I10+'Revision No. 1'!I10","v":26503},2189207]
["06",{"$f":"+'Original ABG Allocation'!B11","v":"ALLEGHENY"},{"$f":"'Original ABG Allocation'!C11+'Revision No. 1'!C11","v":29841874},{"$f":"'Original ABG Allocation'!D11+'Revision No. 1'!D11","v":1024598},{"$f":"'Original ABG Allocation'!E11+'Revision No. 1'!E11","v":1027359},{"$f":"NSIP!C12","v":419219},{"$f":"'Original ABG Allocation'!G11+'Revision No. 1'!G11","v":107007},{"$f":"'Original ABG Allocation'!H11+'Revision No. 1'!H11","v":158619},{"$f":"'Original ABG Allocation'!I11+'Revision No. 1'!I11","v":189804},32768480]
["07",{"$f":"+'Original ABG Allocation'!B12","v":"WESTMORELAND"},{"$f":"'Original ABG Allocation'!C12+'Revision No. 1'!C12","v":7750368},{"$f":"'Original ABG Allocation'!D12+'Revision No. 1'!D12","v":279704},{"$f":"'Original ABG Allocation'!E12+'Revision No. 1'!E12","v":249205},{"$f":"NSIP!C13","v":123773},{"$f":"'Original ABG Allocation'!G12+'Revision No. 1'!G12","v":33328},{"$f":"'Original ABG Allocation'!H12+'Revision No. 1'!H12","v":47027},{"$f":"'Original ABG Allocation'!I12+'Revision No. 1'!I12","v":66831},8550236]
["08",{"$f":"+'Original ABG Allocation'!B13","v":"WASH/FAY/GREENE"},{"$f":"'Original ABG Allocation'!C13+'Revision No. 1'!C13","v":10511355},{"$f":"'Original ABG Allocation'!D13+'Revision No. 1'!D13","v":393598},{"$f":"'Original ABG Allocation'!E13+'Revision No. 1'!E13","v":534972},{"$f":"NSIP!C14","v":354500},{"$f":"'Original ABG Allocation'!G13+'Revision No. 1'!G13","v":39938},{"$f":"'Original ABG Allocation'!H13+'Revision No. 1'!H13","v":68098},{"$f":"'Original ABG Allocation'!I13+'Revision No. 1'!I13","v":80930},11983391]
["09",{"$f":"+'Original ABG Allocation'!B14","v":"SOMERSET"},{"$f":"'Original ABG Allocation'!C14+'Revision No. 1'!C14","v":2326690},{"$f":"'Original ABG Allocation'!D14+'Revision No. 1'!D14","v":81631},{"$f":"'Original ABG Allocation'!E14+'Revision No. 1'!E14","v":93246},{"$f":"NSIP!C15","v":72579},{"$f":"'Original ABG Allocation'!G14+'Revision No. 1'!G14","v":11799},{"$f":"'Original ABG Allocation'!H14+'Revision No. 1'!H14","v":14877},{"$f":"'Original ABG Allocation'!I14+'Revision No. 1'!I14","v":27562},2628384]
["10",{"$f":"+'Original ABG Allocation'!B15","v":"CAMBRIA"},{"$f":"'Original ABG Allocation'!C15+'Revision No. 1'!C15","v":4034624},{"$f":"'Original ABG Allocation'!D15+'Revision No. 1'!D15","v":140343},{"$f":"'Original ABG Allocation'!E15+'Revision No. 1'!E15","v":133780},{"$f":"NSIP!C16","v":178185},{"$f":"'Original ABG Allocation'!G15+'Revision No. 1'!G15","v":17087},{"$f":"'Original ABG Allocation'!H15+'Revision No. 1'!H15","v":25081},{"$f":"'Original ABG Allocation'!I15+'Revision No. 1'!I15","v":37762},4566862]
["11",{"$f":"+'Original ABG Allocation'!B16","v":"BLAIR"},{"$f":"'Original ABG Allocation'!C16+'Revision No. 1'!C16","v":2763377},{"$f":"'Original ABG Allocation'!D16+'Revision No. 1'!D16","v":114081},{"$f":"'Original ABG Allocation'!E16+'Revision No. 1'!E16","v":109683},{"$f":"NSIP!C17","v":118873},{"$f":"'Original ABG Allocation'!G16+'Revision No. 1'!G16","v":11735},{"$f":"'Original ABG Allocation'!H16+'Revision No. 1'!H16","v":17034},{"$f":"'Original ABG Allocation'!I16+'Revision No. 1'!I16","v":30296},3165079]
["12",{"$f":"+'Original ABG Allocation'!B17","v":"BED/FULT/HUNT"},{"$f":"'Original ABG Allocation'!C17+'Revision No. 1'!C17","v":3121983},{"$f":"'Original ABG Allocation'!D17+'Revision No. 1'!D17","v":120022},{"$f":"'Original ABG Allocation'!E17+'Revision No. 1'!E17","v":106084},{"$f":"NSIP!C18","v":66409},{"$f":"'Original ABG Allocation'!G17+'Revision No. 1'!G17","v":14807},{"$f":"'Original ABG Allocation'!H17+'Revision No. 1'!H17","v":19221},{"$f":"'Original ABG Allocation'!I17+'Revision No. 1'!I17","v":37342},3485868]
["13",{"$f":"+'Original ABG Allocation'!B18","v":"CENTRE"},{"$f":"'Original ABG Allocation'!C18+'Revision No. 1'!C18","v":1381274},{"$f":"'Original ABG Allocation'!D18+'Revision No. 1'!D18","v":45132},{"$f":"'Original ABG Allocation'!E18+'Revision No. 1'!E18","v":36131},{"$f":"NSIP!C19","v":42135},{"$f":"'Original ABG Allocation'!G18+'Revision No. 1'!G18","v":10000},{"$f":"'Original ABG Allocation'!H18+'Revision No. 1'!H18","v":8909},{"$f":"'Original ABG Allocation'!I18+'Revision No. 1'!I18","v":27428},1551009]
["14",{"$f":"+'Original ABG Allocation'!B19","v":"LYCOM/CLINTON"},{"$f":"'Original ABG Allocation'!C19+'Revision No. 1'!C19","v":3159609},{"$f":"'Original ABG Allocation'!D19+'Revision No. 1'!D19","v":117392},{"$f":"'Original ABG Allocation'!E19+'Revision No. 1'!E19","v":98452},{"$f":"NSIP!C20","v":80903},{"$f":"'Original ABG Allocation'!G19+'Revision No. 1'!G19","v":16355},{"$f":"'Original ABG Allocation'!H19+'Revision No. 1'!H19","v":18458},{"$f":"'Original ABG Allocation'!I19+'Revision No. 1'!I19","v":38012},3529181]
["15",{"$f":"+'Original ABG Allocation'!B20","v":"COLUM/MONT"},{"$f":"'Original ABG Allocation'!C20+'Revision No. 1'!C20","v":1789613},{"$f":"'Original ABG Allocation'!D20+'Revision No. 1'!D20","v":66474},{"$f":"'Original ABG Allocation'!E20+'Revision No. 1'!E20","v":53326},{"$f":"NSIP!C21","v":26259},{"$f":"'Original ABG Allocation'!G20+'Revision No. 1'!G20","v":10000},{"$f":"'Original ABG Allocation'!H20+'Revision No. 1'!H20","v":10126},{"$f":"'Original ABG Allocation'!I20+'Revision No. 1'!I20","v":25338},1981136]
["16",{"$f":"+'Original ABG Allocation'!B21","v":"NORTHUMBERLND"},{"$f":"'Original ABG Allocation'!C21+'Revision No. 1'!C21","v":2955045},{"$f":"'Original ABG Allocation'!D21+'Revision No. 1'!D21","v":122953},{"$f":"'Original ABG Allocation'!E21+'Revision No. 1'!E21","v":109123},{"$f":"NSIP!C22","v":38517},{"$f":"'Original ABG Allocation'!G21+'Revision No. 1'!G21","v":11327},{"$f":"'Original ABG Allocation'!H21+'Revision No. 1'!H21","v":17718},{"$f":"'Original ABG Allocation'!I21+'Revision No. 1'!I21","v":27835},3282518]
["17",{"$f":"+'Original ABG Allocation'!B22","v":"UNION/SNYDER"},{"$f":"'Original ABG Allocation'!C22+'Revision No. 1'!C22","v":1295880},{"$f":"'Original ABG Allocation'!D22+'Revision No. 1'!D22","v":41818},{"$f":"'Original ABG Allocation'!E22+'Revision No. 1'!E22","v":38788},{"$f":"NSIP!C23","v":16745},{"$f":"'Original ABG Allocation'!G22+'Revision No. 1'!G22","v":10000},{"$f":"'Original ABG Allocation'!H22+'Revision No. 1'!H22","v":8635},{"$f":"'Original ABG Allocation'!I22+'Revision No. 1'!I22","v":25178},1437044]
["18",{"$f":"+'Original ABG Allocation'!B23","v":"MIFF/JUNIATA"},{"$f":"'Original ABG Allocation'!C23+'Revision No. 1'!C23","v":1827966},{"$f":"'Original ABG Allocation'!D23+'Revision No. 1'!D23","v":64859},{"$f":"'Original ABG Allocation'!E23+'Revision No. 1'!E23","v":74111},{"$f":"NSIP!C24","v":44916},{"$f":"'Original ABG Allocation'!G23+'Revision No. 1'!G23","v":10222},{"$f":"'Original ABG Allocation'!H23+'Revision No. 1'!H23","v":11964},{"$f":"'Original ABG Allocation'!I23+'Revision No. 1'!I23","v":25974},2060012]
["19",{"$f":"+'Original ABG Allocation'!B24","v":"FRANKLIN"},{"$f":"'Original ABG Allocation'!C24+'Revision No. 1'!C24","v":2436382},{"$f":"'Original ABG Allocation'!D24+'Revision No. 1'!D24","v":83393},{"$f":"'Original ABG Allocation'!E24+'Revision No. 1'!E24","v":78131},{"$f":"NSIP!C25","v":66539},{"$f":"'Original ABG Allocation'!G24+'Revision No. 1'!G24","v":15528},{"$f":"'Original ABG Allocation'!H24+'Revision No. 1'!H24","v":14543},{"$f":"'Original ABG Allocation'!I24+'Revision No. 1'!I24","v":31873},2726389]
["20",{"$f":"+'Original ABG Allocation'!B25","v":"ADAMS"},{"$f":"'Original ABG Allocation'!C25+'Revision No. 1'!C25","v":1263446},{"$f":"'Original ABG Allocation'!D25+'Revision No. 1'!D25","v":39383},{"$f":"'Original ABG Allocation'!E25+'Revision No. 1'!E25","v":32448},{"$f":"NSIP!C26","v":29737},{"$f":"'Original ABG Allocation'!G25+'Revision No. 1'!G25","v":10175},{"$f":"'Original ABG Allocation'!H25+'Revision No. 1'!H25","v":7955},{"$f":"'Original ABG Allocation'!I25+'Revision No. 1'!I25","v":29100},1412244]
["21",{"$f":"+'Original ABG Allocation'!B26","v":"CUMBERLAND"},{"$f":"'Original ABG Allocation'!C26+'Revision No. 1'!C26","v":2273659},{"$f":"'Original ABG Allocation'!D26+'Revision No. 1'!D26","v":80733},{"$f":"'Original ABG Allocation'!E26+'Revision No. 1'!E26","v":57284},{"$f":"NSIP!C27","v":21248},{"$f":"'Original ABG Allocation'!G26+'Revision No. 1'!G26","v":17010},{"$f":"'Original ABG Allocation'!H26+'Revision No. 1'!H26","v":9223},{"$f":"'Original ABG Allocation'!I26+'Revision No. 1'!I26","v":38546},2497703]
["22",{"$f":"+'Original ABG Allocation'!B27","v":"PERRY"},{"$f":"'Original ABG Allocation'!C27+'Revision No. 1'!C27","v":767004},{"$f":"'Original ABG Allocation'!D27+'Revision No. 1'!D27","v":25396},{"$f":"'Original ABG Allocation'!E27+'Revision No. 1'!E27","v":23988},{"$f":"NSIP!C28","v":28967},{"$f":"'Original ABG Allocation'!G27+'Revision No. 1'!G27","v":10000},{"$f":"'Original ABG Allocation'!H27+'Revision No. 1'!H27","v":7923},{"$f":"'Original ABG Allocation'!I27+'Revision No. 1'!I27","v":19102},882380]
["23",{"$f":"+'Original ABG Allocation'!B28","v":"DAUPHIN"},{"$f":"'Original ABG Allocation'!C28+'Revision No. 1'!C28","v":4488392},{"$f":"'Original ABG Allocation'!D28+'Revision No. 1'!D28","v":171730},{"$f":"'Original ABG Allocation'!E28+'Revision No. 1'!E28","v":127675},{"$f":"NSIP!C29","v":76056},{"$f":"'Original ABG Allocation'!G28+'Revision No. 1'!G28","v":18822},{"$f":"'Original ABG Allocation'!H28+'Revision No. 1'!H28","v":23922},{"$f":"'Original ABG Allocation'!I28+'Revision No. 1'!I28","v":49986},4956583]
["24",{"$f":"+'Original ABG Allocation'!B29","v":"LEBANON"},{"$f":"'Original ABG Allocation'!C29+'Revision No. 1'!C29","v":1934714},{"$f":"'Original ABG Allocation'!D29+'Revision No. 1'!D29","v":68543},{"$f":"'Original ABG Allocation'!E29+'Revision No. 1'!E29","v":56539},{"$f":"NSIP!C30","v":40188},{"$f":"'Original ABG Allocation'!G29+'Revision No. 1'!G29","v":11419},{"$f":"'Original ABG Allocation'!H29+'Revision No. 1'!H29","v":9146},{"$f":"'Original ABG Allocation'!I29+'Revision No. 1'!I29","v":28558},2149107]
["25",{"$f":"+'Original ABG Allocation'!B30","v":"YORK"},{"$f":"'Original ABG Allocation'!C30+'Revision No. 1'!C30","v":5364017},{"$f":"'Original ABG Allocation'!D30+'Revision No. 1'!D30","v":199228},{"$f":"'Original ABG Allocation'!E30+'Revision No. 1'!E30","v":133054},{"$f":"NSIP!C31","v":204767},{"$f":"'Original ABG Allocation'!G30+'Revision No. 1'!G30","v":27448},{"$f":"'Original ABG Allocation'!H30+'Revision No. 1'!H30","v":25017},{"$f":"'Original ABG Allocation'!I30+'Revision No. 1'!I30","v":69151},6022682]
["26",{"$f":"+'Original ABG Allocation'!B31","v":"LANCASTER"},{"$f":"'Original ABG Allocation'!C31+'Revision No. 1'!C31","v":5609386},{"$f":"'Original ABG Allocation'!D31+'Revision No. 1'!D31","v":198436},{"$f":"'Original ABG Allocation'!E31+'Revision No. 1'!E31","v":164965},{"$f":"NSIP!C32","v":60963},{"$f":"'Original ABG Allocation'!G31+'Revision No. 1'!G31","v":33008},{"$f":"'Original ABG Allocation'!H31+'Revision No. 1'!H31","v":30859},{"$f":"'Original ABG Allocation'!I31+'Revision No. 1'!I31","v":77387},6175004]
["27",{"$f":"+'Original ABG Allocation'!B32","v":"CHESTER"},{"$f":"'Original ABG Allocation'!C32+'Revision No. 1'!C32","v":3766491},{"$f":"'Original ABG Allocation'!D32+'Revision No. 1'!D32","v":114753},{"$f":"'Original ABG Allocation'!E32+'Revision No. 1'!E32","v":74312},{"$f":"NSIP!C33","v":65735},{"$f":"'Original ABG Allocation'!G32+'Revision No. 1'!G32","v":25091},{"$f":"'Original ABG Allocation'!H32+'Revision No. 1'!H32","v":14330},{"$f":"'Original ABG Allocation'!I32+'Revision No. 1'!I32","v":59974},4120686]
["28",{"$f":"+'Original ABG Allocation'!B33","v":"MONTGOMERY"},{"$f":"'Original ABG Allocation'!C33+'Revision No. 1'!C33","v":8212898},{"$f":"'Original ABG Allocation'!D33+'Revision No. 1'!D33","v":236029},{"$f":"'Original ABG Allocation'!E33+'Revision No. 1'!E33","v":238996},{"$f":"NSIP!C34","v":222009},{"$f":"'Original ABG Allocation'!G33+'Revision No. 1'!G33","v":47311},{"$f":"'Original ABG Allocation'!H33+'Revision No. 1'!H33","v":27365},{"$f":"'Original ABG Allocation'!I33+'Revision No. 1'!I33","v":101434},9086042]
["29",{"$f":"+'Original ABG Allocation'!B34","v":"BUCKS"},{"$f":"'Original ABG Allocation'!C34+'Revision No. 1'!C34","v":5247058},{"$f":"'Original ABG Allocation'!D34+'Revision No. 1'!D34","v":206856},{"$f":"'Original ABG Allocation'!E34+'Revision No. 1'!E34","v":197793},{"$f":"NSIP!C35","v":80421},{"$f":"'Original ABG Allocation'!G34+'Revision No. 1'!G34","v":33291},{"$f":"'Original ABG Allocation'!H34+'Revision No. 1'!H34","v":24480},{"$f":"'Original ABG Allocation'!I34+'Revision No. 1'!I34","v":76281},5866180]
["30",{"$f":"+'Original ABG Allocation'!B35","v":"DELAWARE"},{"$f":"'Original ABG Allocation'!C35+'Revision No. 1'!C35","v":8091925},{"$f":"'Original ABG Allocation'!D35+'Revision No. 1'!D35","v":278240},{"$f":"'Original ABG Allocation'!E35+'Revision No. 1'!E35","v":230814},{"$f":"NSIP!C36","v":92075},{"$f":"'Original ABG Allocation'!G35+'Revision No. 1'!G35","v":35954},{"$f":"'Original ABG Allocation'!H35+'Revision No. 1'!H35","v":44239},{"$f":"'Original ABG Allocation'!I35+'Revision No. 1'!I35","v":82487},8855734]
["31",{"$f":"+'Original ABG Allocation'!B36","v":"PHILADELPHIA"},{"$f":"'Original ABG Allocation'!C36+'Revision No. 1'!C36","v":56025883},{"$f":"'Original ABG Allocation'!D36+'Revision No. 1'!D36","v":1702584},{"$f":"'Original ABG Allocation'!E36+'Revision No. 1'!E36","v":2431642},{"$f":"NSIP!C37","v":803599},{"$f":"'Original ABG Allocation'!G36+'Revision No. 1'!G36","v":107007},{"$f":"'Original ABG Allocation'!H36+'Revision No. 1'!H36","v":307815},{"$f":"'Original ABG Allocation'!I36+'Revision No. 1'!I36","v":375238},61753768]
["32",{"$f":"+'Original ABG Allocation'!B37","v":"BERKS"},{"$f":"'Original ABG Allocation'!C37+'Revision No. 1'!C37","v":6004484},{"$f":"'Original ABG Allocation'!D37+'Revision No. 1'!D37","v":235166},{"$f":"'Original ABG Allocation'!E37+'Revision No. 1'!E37","v":262043},{"$f":"NSIP!C38","v":158821},{"$f":"'Original ABG Allocation'!G37+'Revision No. 1'!G37","v":29191},{"$f":"'Original ABG Allocation'!H37+'Revision No. 1'!H37","v":32781},{"$f":"'Original ABG Allocation'!I37+'Revision No. 1'!I37","v":70382},6792868]
["33",{"$f":"+'Original ABG Allocation'!B38","v":"LEHIGH"},{"$f":"'Original ABG Allocation'!C38+'Revision No. 1'!C38","v":4654532},{"$f":"'Original ABG Allocation'!D38+'Revision No. 1'!D38","v":172458},{"$f":"'Original ABG Allocation'!E38+'Revision No. 1'!E38","v":119971},{"$f":"NSIP!C39","v":42793},{"$f":"'Original ABG Allocation'!G38+'Revision No. 1'!G38","v":21310},{"$f":"'Original ABG Allocation'!H38+'Revision No. 1'!H38","v":17348},{"$f":"'Original ABG Allocation'!I38+'Revision No. 1'!I38","v":57889},{"$f":"SUM(C38:I38)","v":5086301}]
["34",{"$f":"+'Original ABG Allocation'!B39","v":"NORTHAMPTON"},{"$f":"'Original ABG Allocation'!C39+'Revision No. 1'!C39","v":4087354},{"$f":"'Original ABG Allocation'!D39+'Revision No. 1'!D39","v":153486},{"$f":"'Original ABG Allocation'!E39+'Revision No. 1'!E39","v":102099},{"$f":"NSIP!C40","v":73789},{"$f":"'Original ABG Allocation'!G39+'Revision No. 1'!G39","v":19506},{"$f":"'Original ABG Allocation'!H39+'Revision No. 1'!H39","v":19316},{"$f":"'Original ABG Allocation'!I39+'Revision No. 1'!I39","v":46413},4501963]
["35",{"$f":"+'Original ABG Allocation'!B40","v":"PIKE"},{"$f":"'Original ABG Allocation'!C40+'Revision No. 1'!C40","v":714453},{"$f":"'Original ABG Allocation'!D40+'Revision No. 1'!D40","v":25399},{"$f":"'Original ABG Allocation'!E40+'Revision No. 1'!E40","v":20229},{"$f":"NSIP!C41","v":20687},{"$f":"'Original ABG Allocation'!G40+'Revision No. 1'!G40","v":10000},{"$f":"'Original ABG Allocation'!H40+'Revision No. 1'!H40","v":7908},{"$f":"'Original ABG Allocation'!I40+'Revision No. 1'!I40","v":24546},823222]
["36",{"$f":"+'Original ABG Allocation'!B41","v":"B/S/S/T"},{"$f":"'Original ABG Allocation'!C41+'Revision No. 1'!C41","v":3993199},{"$f":"'Original ABG Allocation'!D41+'Revision No. 1'!D41","v":141181},{"$f":"'Original ABG Allocation'!E41+'Revision No. 1'!E41","v":136248},{"$f":"NSIP!C42","v":98527},{"$f":"'Original ABG Allocation'!G41+'Revision No. 1'!G41","v":20201},{"$f":"'Original ABG Allocation'!H41+'Revision No. 1'!H41","v":24698},{"$f":"'Original ABG Allocation'!I41+'Revision No. 1'!I41","v":48433},4462487]
["37",{"$f":"+'Original ABG Allocation'!B42","v":"LUZERNE/WYOMING"},{"$f":"'Original ABG Allocation'!C42+'Revision No. 1'!C42","v":9360224},{"$f":"'Original ABG Allocation'!D42+'Revision No. 1'!D42","v":343992},{"$f":"'Original ABG Allocation'!E42+'Revision No. 1'!E42","v":282547},{"$f":"NSIP!C43","v":219979},{"$f":"'Original ABG Allocation'!G42+'Revision No. 1'!G42","v":31720},{"$f":"'Original ABG Allocation'!H42+'Revision No. 1'!H42","v":54157},{"$f":"'Original ABG Allocation'!I42+'Revision No. 1'!I42","v":62651},10355270]
["38",{"$f":"+'Original ABG Allocation'!B43","v":"LACKAWANNA"},{"$f":"'Original ABG Allocation'!C43+'Revision No. 1'!C43","v":5223495},{"$f":"'Original ABG Allocation'!D43+'Revision No. 1'!D43","v":202907},{"$f":"'Original ABG Allocation'!E43+'Revision No. 1'!E43","v":231866},{"$f":"NSIP!C44","v":124839},{"$f":"'Original ABG Allocation'!G43+'Revision No. 1'!G43","v":18501},{"$f":"'Original ABG Allocation'!H43+'Revision No. 1'!H43","v":33436},{"$f":"'Original ABG Allocation'!I43+'Revision No. 1'!I43","v":42257},5877301]
["39",{"$f":"+'Original ABG Allocation'!B44","v":"CARBON"},{"$f":"'Original ABG Allocation'!C44+'Revision No. 1'!C44","v":1185509},{"$f":"'Original ABG Allocation'!D44+'Revision No. 1'!D44","v":44213},{"$f":"'Original ABG Allocation'!E44+'Revision No. 1'!E44","v":39403},{"$f":"NSIP!C45","v":30903},{"$f":"'Original ABG Allocation'!G44+'Revision No. 1'!G44","v":10000},{"$f":"'Original ABG Allocation'!H44+'Revision No. 1'!H44","v":7982},{"$f":"'Original ABG Allocation'!I44+'Revision No. 1'!I44","v":23256},1341266]
["40",{"$f":"+'Original ABG Allocation'!B45","v":"SCHUYLKILL"},{"$f":"'Original ABG Allocation'!C45+'Revision No. 1'!C45","v":4568989},{"$f":"'Original ABG Allocation'!D45+'Revision No. 1'!D45","v":181495},{"$f":"'Original ABG Allocation'!E45+'Revision No. 1'!E45","v":156510},{"$f":"NSIP!C46","v":56511},{"$f":"'Original ABG Allocation'!G45+'Revision No. 1'!G45","v":18478},{"$f":"'Original ABG Allocation'!H45+'Revision No. 1'!H45","v":29322},{"$f":"'Original ABG Allocation'!I45+'Revision No. 1'!I45","v":42433},5053738]
["41",{"$f":"+'Original ABG Allocation'!B46","v":"CLEARFIELD"},{"$f":"'Original ABG Allocation'!C46+'Revision No. 1'!C46","v":2229583},{"$f":"'Original ABG Allocation'!D46+'Revision No. 1'!D46","v":79676},{"$f":"'Original ABG Allocation'!E46+'Revision No. 1'!E46","v":76522},{"$f":"NSIP!C47","v":110249},{"$f":"'Original ABG Allocation'!G46+'Revision No. 1'!G46","v":11341},{"$f":"'Original ABG Allocation'!H46+'Revision No. 1'!H46","v":14212},{"$f":"'Original ABG Allocation'!I46+'Revision No. 1'!I46","v":28506},2550089]
["42",{"$f":"+'Original ABG Allocation'!B47","v":"JEFFERSON"},{"$f":"'Original ABG Allocation'!C47+'Revision No. 1'!C47","v":1281851},{"$f":"'Original ABG Allocation'!D47+'Revision No. 1'!D47","v":51609},{"$f":"'Original ABG Allocation'!E47+'Revision No. 1'!E47","v":59466},{"$f":"NSIP!C48","v":28079},{"$f":"'Original ABG Allocation'!G47+'Revision No. 1'!G47","v":10000},{"$f":"'Original ABG Allocation'!H47+'Revision No. 1'!H47","v":8874},{"$f":"'Original ABG Allocation'!I47+'Revision No. 1'!I47","v":19041},1458920]
["43",{"$f":"+'Original ABG Allocation'!B48","v":"FOREST/WARREN"},{"$f":"'Original ABG Allocation'!C48+'Revision No. 1'!C48","v":1026619},{"$f":"'Original ABG Allocation'!D48+'Revision No. 1'!D48","v":34269},{"$f":"'Original ABG Allocation'!E48+'Revision No. 1'!E48","v":30176},{"$f":"NSIP!C49","v":27753},{"$f":"'Original ABG Allocation'!G48+'Revision No. 1'!G48","v":10000},{"$f":"'Original ABG Allocation'!H48+'Revision No. 1'!H48","v":7946},{"$f":"'Original ABG Allocation'!I48+'Revision No. 1'!I48","v":21068},1157831]
["44",{"$f":"+'Original ABG Allocation'!B49","v":"VENANGO"},{"$f":"'Original ABG Allocation'!C49+'Revision No. 1'!C49","v":1267563},{"$f":"'Original ABG Allocation'!D49+'Revision No. 1'!D49","v":48574},{"$f":"'Original ABG Allocation'!E49+'Revision No. 1'!E49","v":55242},{"$f":"NSIP!C50","v":36107},{"$f":"'Original ABG Allocation'!G49+'Revision No. 1'!G49","v":10000},{"$f":"'Original ABG Allocation'!H49+'Revision No. 1'!H49","v":8569},{"$f":"'Original ABG Allocation'!I49+'Revision No. 1'!I49","v":21935},1447990]
["45",{"$f":"+'Original ABG Allocation'!B50","v":"ARMSTRONG"},{"$f":"'Original ABG Allocation'!C50+'Revision No. 1'!C50","v":1994604},{"$f":"'Original ABG Allocation'!D50+'Revision No. 1'!D50","v":75493},{"$f":"'Original ABG Allocation'!E50+'Revision No. 1'!E50","v":62026},{"$f":"NSIP!C51","v":71631},{"$f":"'Original ABG Allocation'!G50+'Revision No. 1'!G50","v":10719},{"$f":"'Original ABG Allocation'!H50+'Revision No. 1'!H50","v":12115},{"$f":"'Original ABG Allocation'!I50+'Revision No. 1'!I50","v":26308},2252896]
["46",{"$f":"+'Original ABG Allocation'!B51","v":"LAWRENCE"},{"$f":"'Original ABG Allocation'!C51+'Revision No. 1'!C51","v":2116483},{"$f":"'Original ABG Allocation'!D51+'Revision No. 1'!D51","v":79407},{"$f":"'Original ABG Allocation'!E51+'Revision No. 1'!E51","v":65793},{"$f":"NSIP!C52","v":43055},{"$f":"'Original ABG Allocation'!G51+'Revision No. 1'!G51","v":10341},{"$f":"'Original ABG Allocation'!H51+'Revision No. 1'!H51","v":12981},{"$f":"'Original ABG Allocation'!I51+'Revision No. 1'!I51","v":26446},2354506]
["47",{"$f":"+'Original ABG Allocation'!B52","v":"MERCER"},{"$f":"'Original ABG Allocation'!C52+'Revision No. 1'!C52","v":2322893},{"$f":"'Original ABG Allocation'!D52+'Revision No. 1'!D52","v":80316},{"$f":"'Original ABG Allocation'!E52+'Revision No. 1'!E52","v":77331},{"$f":"NSIP!C53","v":41143},{"$f":"'Original ABG Allocation'!G52+'Revision No. 1'!G52","v":13302},{"$f":"'Original ABG Allocation'!H52+'Revision No. 1'!H52","v":14661},{"$f":"'Original ABG Allocation'!I52+'Revision No. 1'!I52","v":31299},2580945]
["48",{"$f":"+'Original ABG Allocation'!B53","v":"MONROE"},{"$f":"'Original ABG Allocation'!C53+'Revision No. 1'!C53","v":1655963},{"$f":"'Original ABG Allocation'!D53+'Revision No. 1'!D53","v":46961},{"$f":"'Original ABG Allocation'!E53+'Revision No. 1'!E53","v":65227},{"$f":"NSIP!C54","v":37809},{"$f":"'Original ABG Allocation'!G53+'Revision No. 1'!G53","v":13317},{"$f":"'Original ABG Allocation'!H53+'Revision No. 1'!H53","v":8435},{"$f":"'Original ABG Allocation'!I53+'Revision No. 1'!I53","v":42174},1869886]
["49",{"$f":"+'Original ABG Allocation'!B54","v":"CLARION"},{"$f":"'Original ABG Allocation'!C54+'Revision No. 1'!C54","v":954686},{"$f":"'Original ABG Allocation'!D54+'Revision No. 1'!D54","v":32868},{"$f":"'Original ABG Allocation'!E54+'Revision No. 1'!E54","v":43252},{"$f":"NSIP!C55","v":29696},{"$f":"'Original ABG Allocation'!G54+'Revision No. 1'!G54","v":10000},{"$f":"'Original ABG Allocation'!H54+'Revision No. 1'!H54","v":7961},{"$f":"'Original ABG Allocation'!I54+'Revision No. 1'!I54","v":18749},1097212]
["50",{"$f":"+'Original ABG Allocation'!B55","v":"BUTLER"},{"$f":"'Original ABG Allocation'!C55+'Revision No. 1'!C55","v":2546870},{"$f":"'Original ABG Allocation'!D55+'Revision No. 1'!D55","v":104331},{"$f":"'Original ABG Allocation'!E55+'Revision No. 1'!E55","v":112372},{"$f":"NSIP!C56","v":40783},{"$f":"'Original ABG Allocation'!G55+'Revision No. 1'!G55","v":16742},{"$f":"'Original ABG Allocation'!H55+'Revision No. 1'!H55","v":14150},{"$f":"'Original ABG Allocation'!I55+'Revision No. 1'!I55","v":38611},2873859]
["51",{"$f":"+'Original ABG Allocation'!B56","v":"POTTER"},{"$f":"'Original ABG Allocation'!C56+'Revision No. 1'!C56","v":589962},{"$f":"'Original ABG Allocation'!D56+'Revision No. 1'!D56","v":25400},{"$f":"'Original ABG Allocation'!E56+'Revision No. 1'!E56","v":20017},{"$f":"NSIP!C57","v":14811},{"$f":"'Original ABG Allocation'!G56+'Revision No. 1'!G56","v":10000},{"$f":"'Original ABG Allocation'!H56+'Revision No. 1'!H56","v":7905},{"$f":"'Original ABG Allocation'!I56+'Revision No. 1'!I56","v":13351},681446]
["52",{"$f":"+'Original ABG Allocation'!B57","v":"WAYNE"},{"$f":"'Original ABG Allocation'!C57+'Revision No. 1'!C57","v":1178872},{"$f":"'Original ABG Allocation'!D57+'Revision No. 1'!D57","v":35500},{"$f":"'Original ABG Allocation'!E57+'Revision No. 1'!E57","v":38682},{"$f":"NSIP!C58","v":55047},{"$f":"'Original ABG Allocation'!G57+'Revision No. 1'!G57","v":10000},{"$f":"'Original ABG Allocation'!H57+'Revision No. 1'!H57","v":8635},{"$f":"'Original ABG Allocation'!I57+'Revision No. 1'!I57","v":22788},1349524]
[null,"     TOTALS",{"$f":"SUM(C6:C57)","v":251275475},8761000,9009971,4963443,1078348,1412033,2576957,279077227]
[]
[]
[null,null,null,null,null,null,null,null,null," "]
[null,null,null,null,null,null,null,null,null," "]
[null,null,null,null,null,null,null,null,null," "]
[null,null,null,null,null,null,null,null,null," "]
[null,null,null,null,null,null,null,null,null," "]
[null,null,null,null,null,null,null,null,null," "]
[null,null,null,null,null,null,null,null,null," "]

{"sheet":"Revision No. 2","index":3,"n_rows":58,"n_cols":10,"rows_kept":58,"cut":false,"hidden":true,"merged":[]}
["CHANGE 2 "]
["BLOCK GRANT ALLOCATION"]
[{"$f":"+'Original ABG Allocation'!A3","v":"FY 2022-23"},null,{"$f":"+'Original ABG Allocation'!C3","v":"(1)"},{"$f":"+'Original ABG Allocation'!D3","v":"(2)"},{"$f":"+'Original ABG Allocation'!E3","v":"(3)"},{"$f":"+'Original ABG Allocation'!F3","v":"(4)"},{"$f":"+'Original ABG Allocation'!G3","v":"(5)"},{"$f":"+'Original ABG Allocation'!H3","v":"(6)"},{"$f":"+'Original ABG Allocation'!I3","v":"(7)"},{"$f":"+'Original ABG Allocation'!J3","v":"(8)"}]
[null,null,{"$f":"+'Original ABG Allocation'!C4","v":"REGULAR"},{"$f":"+'Original ABG Allocation'!D4","v":"CAREGIVER"},{"$f":"+'Original ABG Allocation'!E4","v":"FED. CAREGIVER"},null,null,{"$f":"+'Original ABG Allocation'!H4","v":"HEALTH"},null,{"$f":"+'Original ABG Allocation'!J4","v":"TOTAL ALL"}]
[null,null,{"$f":"+'Original ABG Allocation'!C5","v":"BLOCK GRANT"},{"$f":"+'Original ABG Allocation'!D5","v":"SUPPORT "},{"$f":"+'Original ABG Allocation'!E5","v":"SUPPORT "},{"$f":"+'Original ABG Allocation'!F5","v":"NSIP"},{"$f":"+'Original ABG Allocation'!G5","v":"APPRISE"},{"$f":"+'Original ABG Allocation'!H5","v":"PROMOTION"},"OTHER",{"$f":"+'Original ABG Allocation'!J5","v":"FUNDS"}]
["01",{"$f":"+'Original ABG Allocation'!B6","v":"ERIE"},{"$f":"+'Regular BG'!T7","v":0},{"$f":"+'Caregiver Support'!H7","v":0},{"$f":"+'Federal Caregiver Support'!Q7","v":0},{"$f":"+NSIP!J7","v":0},{"$f":"+'PA MEDI'!H7","v":0},{"$f":"'Health Promotion'!O7","v":0},{"$f":"'Other Funds-Revision No. 2'!AM6","v":0},{"$f":"SUM(C6:I6)","v":0}]
["02",{"$f":"+'Original ABG Allocation'!B7","v":"CRAWFORD"},{"$f":"+'Regular BG'!T8","v":0},{"$f":"+'Caregiver Support'!H8","v":0},{"$f":"+'Federal Caregiver Support'!Q8","v":0},{"$f":"+NSIP!J8","v":0},{"$f":"+'PA MEDI'!H8","v":0},{"$f":"'Health Promotion'!O8","v":0},{"$f":"'Other Funds-Revision No. 2'!AM7","v":0},{"$f":"SUM(C7:I7)","v":0}]
["03",{"$f":"+'Original ABG Allocation'!B8","v":"CAM/ELK/MCKEAN"},{"$f":"+'Regular BG'!T9","v":0},{"$f":"+'Caregiver Support'!H9","v":0},{"$f":"+'Federal Caregiver Support'!Q9","v":0},{"$f":"+NSIP!J9","v":0},{"$f":"+'PA MEDI'!H9","v":0},{"$f":"'Health Promotion'!O9","v":0},{"$f":"'Other Funds-Revision No. 2'!AM8","v":0},0]
["04",{"$f":"+'Original ABG Allocation'!B9","v":"BEAVER"},{"$f":"+'Regular BG'!T10","v":0},{"$f":"+'Caregiver Support'!H10","v":0},{"$f":"+'Federal Caregiver Support'!Q10","v":0},{"$f":"+NSIP!J10","v":0},{"$f":"+'PA MEDI'!H10","v":0},{"$f":"'Health Promotion'!O10","v":0},{"$f":"'Other Funds-Revision No. 2'!AM9","v":0},0]
["05",{"$f":"+'Original ABG Allocation'!B10","v":"INDIANA"},{"$f":"+'Regular BG'!T11","v":0},{"$f":"+'Caregiver Support'!H11","v":0},{"$f":"+'Federal Caregiver Support'!Q11","v":0},{"$f":"+NSIP!J11","v":0},{"$f":"+'PA MEDI'!H11","v":0},{"$f":"'Health Promotion'!O11","v":0},{"$f":"'Other Funds-Revision No. 2'!AM10","v":0},0]
["06",{"$f":"+'Original ABG Allocation'!B11","v":"ALLEGHENY"},{"$f":"+'Regular BG'!T12","v":0},{"$f":"+'Caregiver Support'!H12","v":0},{"$f":"+'Federal Caregiver Support'!Q12","v":0},{"$f":"+NSIP!J12","v":0},{"$f":"+'PA MEDI'!H12","v":0},{"$f":"'Health Promotion'!O12","v":0},{"$f":"'Other Funds-Revision No. 2'!AM11","v":0},0]
["07",{"$f":"+'Original ABG Allocation'!B12","v":"WESTMORELAND"},{"$f":"+'Regular BG'!T13","v":0},{"$f":"+'Caregiver Support'!H13","v":0},{"$f":"+'Federal Caregiver Support'!Q13","v":0},{"$f":"+NSIP!J13","v":0},{"$f":"+'PA MEDI'!H13","v":0},{"$f":"'Health Promotion'!O13","v":0},{"$f":"'Other Funds-Revision No. 2'!AM12","v":0},0]
["08",{"$f":"+'Original ABG Allocation'!B13","v":"WASH/FAY/GREENE"},{"$f":"+'Regular BG'!T14","v":0},{"$f":"+'Caregiver Support'!H14","v":0},{"$f":"+'Federal Caregiver Support'!Q14","v":0},{"$f":"+NSIP!J14","v":0},{"$f":"+'PA MEDI'!H14","v":0},{"$f":"'Health Promotion'!O14","v":0},{"$f":"'Other Funds-Revision No. 2'!AM13","v":0},0]
["09",{"$f":"+'Original ABG Allocation'!B14","v":"SOMERSET"},{"$f":"+'Regular BG'!T15","v":0},{"$f":"+'Caregiver Support'!H15","v":0},{"$f":"+'Federal Caregiver Support'!Q15","v":0},{"$f":"+NSIP!J15","v":0},{"$f":"+'PA MEDI'!H15","v":0},{"$f":"'Health Promotion'!O15","v":0},{"$f":"'Other Funds-Revision No. 2'!AM14","v":0},0]
["10",{"$f":"+'Original ABG Allocation'!B15","v":"CAMBRIA"},{"$f":"+'Regular BG'!T16","v":0},{"$f":"+'Caregiver Support'!H16","v":0},{"$f":"+'Federal Caregiver Support'!Q16","v":0},{"$f":"+NSIP!J16","v":0},{"$f":"+'PA MEDI'!H16","v":0},{"$f":"'Health Promotion'!O16","v":0},{"$f":"'Other Funds-Revision No. 2'!AM15","v":0},0]
["11",{"$f":"+'Original ABG Allocation'!B16","v":"BLAIR"},{"$f":"+'Regular BG'!T17","v":0},{"$f":"+'Caregiver Support'!H17","v":0},{"$f":"+'Federal Caregiver Support'!Q17","v":0},{"$f":"+NSIP!J17","v":0},{"$f":"+'PA MEDI'!H17","v":0},{"$f":"'Health Promotion'!O17","v":0},{"$f":"'Other Funds-Revision No. 2'!AM16","v":0},0]
["12",{"$f":"+'Original ABG Allocation'!B17","v":"BED/FULT/HUNT"},{"$f":"+'Regular BG'!T18","v":0},{"$f":"+'Caregiver Support'!H18","v":0},{"$f":"+'Federal Caregiver Support'!Q18","v":0},{"$f":"+NSIP!J18","v":0},{"$f":"+'PA MEDI'!H18","v":0},{"$f":"'Health Promotion'!O18","v":0},{"$f":"'Other Funds-Revision No. 2'!AM17","v":0},0]
["13",{"$f":"+'Original ABG Allocation'!B18","v":"CENTRE"},{"$f":"+'Regular BG'!T19","v":0},{"$f":"+'Caregiver Support'!H19","v":0},{"$f":"+'Federal Caregiver Support'!Q19","v":0},{"$f":"+NSIP!J19","v":0},{"$f":"+'PA MEDI'!H19","v":0},{"$f":"'Health Promotion'!O19","v":0},{"$f":"'Other Funds-Revision No. 2'!AM18","v":0},0]
["14",{"$f":"+'Original ABG Allocation'!B19","v":"LYCOM/CLINTON"},{"$f":"+'Regular BG'!T20","v":0},{"$f":"+'Caregiver Support'!H20","v":0},{"$f":"+'Federal Caregiver Support'!Q20","v":0},{"$f":"+NSIP!J20","v":0},{"$f":"+'PA MEDI'!H20","v":0},{"$f":"'Health Promotion'!O20","v":0},{"$f":"'Other Funds-Revision No. 2'!AM19","v":0},0]
["15",{"$f":"+'Original ABG Allocation'!B20","v":"COLUM/MONT"},{"$f":"+'Regular BG'!T21","v":0},{"$f":"+'Caregiver Support'!H21","v":0},{"$f":"+'Federal Caregiver Support'!Q21","v":0},{"$f":"+NSIP!J21","v":0},{"$f":"+'PA MEDI'!H21","v":0},{"$f":"'Health Promotion'!O21","v":0},{"$f":"'Other Funds-Revision No. 2'!AM20","v":0},0]
["16",{"$f":"+'Original ABG Allocation'!B21","v":"NORTHUMBERLND"},{"$f":"+'Regular BG'!T22","v":0},{"$f":"+'Caregiver Support'!H22","v":0},{"$f":"+'Federal Caregiver Support'!Q22","v":0},{"$f":"+NSIP!J22","v":0},{"$f":"+'PA MEDI'!H22","v":0},{"$f":"'Health Promotion'!O22","v":0},{"$f":"'Other Funds-Revision No. 2'!AM21","v":0},0]
["17",{"$f":"+'Original ABG Allocation'!B22","v":"UNION/SNYDER"},{"$f":"+'Regular BG'!T23","v":0},{"$f":"+'Caregiver Support'!H23","v":0},{"$f":"+'Federal Caregiver Support'!Q23","v":0},{"$f":"+NSIP!J23","v":0},{"$f":"+'PA MEDI'!H23","v":0},{"$f":"'Health Promotion'!O23","v":0},{"$f":"'Other Funds-Revision No. 2'!AM22","v":0},0]
["18",{"$f":"+'Original ABG Allocation'!B23","v":"MIFF/JUNIATA"},{"$f":"+'Regular BG'!T24","v":0},{"$f":"+'Caregiver Support'!H24","v":0},{"$f":"+'Federal Caregiver Support'!Q24","v":0},{"$f":"+NSIP!J24","v":0},{"$f":"+'PA MEDI'!H24","v":0},{"$f":"'Health Promotion'!O24","v":0},{"$f":"'Other Funds-Revision No. 2'!AM23","v":0},0]
["19",{"$f":"+'Original ABG Allocation'!B24","v":"FRANKLIN"},{"$f":"+'Regular BG'!T25","v":0},{"$f":"+'Caregiver Support'!H25","v":0},{"$f":"+'Federal Caregiver Support'!Q25","v":0},{"$f":"+NSIP!J25","v":0},{"$f":"+'PA MEDI'!H25","v":0},{"$f":"'Health Promotion'!O25","v":0},{"$f":"'Other Funds-Revision No. 2'!AM24","v":0},0]
["20",{"$f":"+'Original ABG Allocation'!B25","v":"ADAMS"},{"$f":"+'Regular BG'!T26","v":0},{"$f":"+'Caregiver Support'!H26","v":0},{"$f":"+'Federal Caregiver Support'!Q26","v":0},{"$f":"+NSIP!J26","v":0},{"$f":"+'PA MEDI'!H26","v":0},{"$f":"'Health Promotion'!O26","v":0},{"$f":"'Other Funds-Revision No. 2'!AM25","v":0},0]
["21",{"$f":"+'Original ABG Allocation'!B26","v":"CUMBERLAND"},{"$f":"+'Regular BG'!T27","v":0},{"$f":"+'Caregiver Support'!H27","v":0},{"$f":"+'Federal Caregiver Support'!Q27","v":0},{"$f":"+NSIP!J27","v":0},{"$f":"+'PA MEDI'!H27","v":0},{"$f":"'Health Promotion'!O27","v":0},{"$f":"'Other Funds-Revision No. 2'!AM26","v":0},0]
["22",{"$f":"+'Original ABG Allocation'!B27","v":"PERRY"},{"$f":"+'Regular BG'!T28","v":0},{"$f":"+'Caregiver Support'!H28","v":0},{"$f":"+'Federal Caregiver Support'!Q28","v":0},{"$f":"+NSIP!J28","v":0},{"$f":"+'PA MEDI'!H28","v":0},{"$f":"'Health Promotion'!O28","v":0},{"$f":"'Other Funds-Revision No. 2'!AM27","v":0},0]
["23",{"$f":"+'Original ABG Allocation'!B28","v":"DAUPHIN"},{"$f":"+'Regular BG'!T29","v":0},{"$f":"+'Caregiver Support'!H29","v":0},{"$f":"+'Federal Caregiver Support'!Q29","v":0},{"$f":"+NSIP!J29","v":0},{"$f":"+'PA MEDI'!H29","v":0},{"$f":"'Health Promotion'!O29","v":0},{"$f":"'Other Funds-Revision No. 2'!AM28","v":0},0]
["24",{"$f":"+'Original ABG Allocation'!B29","v":"LEBANON"},{"$f":"+'Regular BG'!T30","v":0},{"$f":"+'Caregiver Support'!H30","v":0},{"$f":"+'Federal Caregiver Support'!Q30","v":0},{"$f":"+NSIP!J30","v":0},{"$f":"+'PA MEDI'!H30","v":0},{"$f":"'Health Promotion'!O30","v":0},{"$f":"'Other Funds-Revision No. 2'!AM29","v":0},0]
["25",{"$f":"+'Original ABG Allocation'!B30","v":"YORK"},{"$f":"+'Regular BG'!T31","v":0},{"$f":"+'Caregiver Support'!H31","v":0},{"$f":"+'Federal Caregiver Support'!Q31","v":0},{"$f":"+NSIP!J31","v":0},{"$f":"+'PA MEDI'!H31","v":0},{"$f":"'Health Promotion'!O31","v":0},{"$f":"'Other Funds-Revision No. 2'!AM30","v":0},0]
["26",{"$f":"+'Original ABG Allocation'!B31","v":"LANCASTER"},{"$f":"+'Regular BG'!T32","v":0},{"$f":"+'Caregiver Support'!H32","v":0},{"$f":"+'Federal Caregiver Support'!Q32","v":0},{"$f":"+NSIP!J32","v":0},{"$f":"+'PA MEDI'!H32","v":0},{"$f":"'Health Promotion'!O32","v":0},{"$f":"'Other Funds-Revision No. 2'!AM31","v":0},0]
["27",{"$f":"+'Original ABG Allocation'!B32","v":"CHESTER"},{"$f":"+'Regular BG'!T33","v":0},{"$f":"+'Caregiver Support'!H33","v":0},{"$f":"+'Federal Caregiver Support'!Q33","v":0},{"$f":"+NSIP!J33","v":0},{"$f":"+'PA MEDI'!H33","v":0},{"$f":"'Health Promotion'!O33","v":0},{"$f":"'Other Funds-Revision No. 2'!AM32","v":0},0]
["28",{"$f":"+'Original ABG Allocation'!B33","v":"MONTGOMERY"},{"$f":"+'Regular BG'!T34","v":0},{"$f":"+'Caregiver Support'!H34","v":0},{"$f":"+'Federal Caregiver Support'!Q34","v":0},{"$f":"+NSIP!J34","v":0},{"$f":"+'PA MEDI'!H34","v":0},{"$f":"'Health Promotion'!O34","v":0},{"$f":"'Other Funds-Revision No. 2'!AM33","v":0},0]
["29",{"$f":"+'Original ABG Allocation'!B34","v":"BUCKS"},{"$f":"+'Regular BG'!T35","v":0},{"$f":"+'Caregiver Support'!H35","v":0},{"$f":"+'Federal Caregiver Support'!Q35","v":0},{"$f":"+NSIP!J35","v":0},{"$f":"+'PA MEDI'!H35","v":0},{"$f":"'Health Promotion'!O35","v":0},{"$f":"'Other Funds-Revision No. 2'!AM34","v":0},0]
["30",{"$f":"+'Original ABG Allocation'!B35","v":"DELAWARE"},{"$f":"+'Regular BG'!T36","v":0},{"$f":"+'Caregiver Support'!H36","v":0},{"$f":"+'Federal Caregiver Support'!Q36","v":0},{"$f":"+NSIP!J36","v":0},{"$f":"+'PA MEDI'!H36","v":0},{"$f":"'Health Promotion'!O36","v":0},{"$f":"'Other Funds-Revision No. 2'!AM35","v":0},0]
["31",{"$f":"+'Original ABG Allocation'!B36","v":"PHILADELPHIA"},{"$f":"+'Regular BG'!T37","v":0},{"$f":"+'Caregiver Support'!H37","v":0},{"$f":"+'Federal Caregiver Support'!Q37","v":0},{"$f":"+NSIP!J37","v":0},{"$f":"+'PA MEDI'!H37","v":0},{"$f":"'Health Promotion'!O37","v":0},{"$f":"'Other Funds-Revision No. 2'!AM36","v":0},0]
["32",{"$f":"+'Original ABG Allocation'!B37","v":"BERKS"},{"$f":"+'Regular BG'!T38","v":0},{"$f":"+'Caregiver Support'!H38","v":0},{"$f":"+'Federal Caregiver Support'!Q38","v":0},{"$f":"+NSIP!J38","v":0},{"$f":"+'PA MEDI'!H38","v":0},{"$f":"'Health Promotion'!O38","v":0},{"$f":"'Other Funds-Revision No. 2'!AM37","v":0},0]
["33",{"$f":"+'Original ABG Allocation'!B38","v":"LEHIGH"},{"$f":"+'Regular BG'!T39","v":0},{"$f":"+'Caregiver Support'!H39","v":0},{"$f":"+'Federal Caregiver Support'!Q39","v":0},{"$f":"+NSIP!J39","v":0},{"$f":"+'PA MEDI'!H39","v":0},{"$f":"'Health Promotion'!O39","v":0},{"$f":"'Other Funds-Revision No. 2'!AM38","v":0},{"$f":"SUM(C38:I38)","v":0}]
["34",{"$f":"+'Original ABG Allocation'!B39","v":"NORTHAMPTON"},{"$f":"+'Regular BG'!T40","v":0},{"$f":"+'Caregiver Support'!H40","v":0},{"$f":"+'Federal Caregiver Support'!Q40","v":0},{"$f":"+NSIP!J40","v":0},{"$f":"+'PA MEDI'!H40","v":0},{"$f":"'Health Promotion'!O40","v":0},{"$f":"'Other Funds-Revision No. 2'!AM39","v":0},0]
["35",{"$f":"+'Original ABG Allocation'!B40","v":"PIKE"},{"$f":"+'Regular BG'!T41","v":0},{"$f":"+'Caregiver Support'!H41","v":0},{"$f":"+'Federal Caregiver Support'!Q41","v":0},{"$f":"+NSIP!J41","v":0},{"$f":"+'PA MEDI'!H41","v":0},{"$f":"'Health Promotion'!O41","v":0},{"$f":"'Other Funds-Revision No. 2'!AM40","v":0},0]
["36",{"$f":"+'Original ABG Allocation'!B41","v":"B/S/S/T"},{"$f":"+'Regular BG'!T42","v":0},{"$f":"+'Caregiver Support'!H42","v":0},{"$f":"+'Federal Caregiver Support'!Q42","v":0},{"$f":"+NSIP!J42","v":0},{"$f":"+'PA MEDI'!H42","v":0},{"$f":"'Health Promotion'!O42","v":0},{"$f":"'Other Funds-Revision No. 2'!AM41","v":0},0]
["37",{"$f":"+'Original ABG Allocation'!B42","v":"LUZERNE/WYOMING"},{"$f":"+'Regular BG'!T43","v":0},{"$f":"+'Caregiver Support'!H43","v":0},{"$f":"+'Federal Caregiver Support'!Q43","v":0},{"$f":"+NSIP!J43","v":0},{"$f":"+'PA MEDI'!H43","v":0},{"$f":"'Health Promotion'!O43","v":0},{"$f":"'Other Funds-Revision No. 2'!AM42","v":0},0]
["38",{"$f":"+'Original ABG Allocation'!B43","v":"LACKAWANNA"},{"$f":"+'Regular BG'!T44","v":0},{"$f":"+'Caregiver Support'!H44","v":0},{"$f":"+'Federal Caregiver Support'!Q44","v":0},{"$f":"+NSIP!J44","v":0},{"$f":"+'PA MEDI'!H44","v":0},{"$f":"'Health Promotion'!O44","v":0},{"$f":"'Other Funds-Revision No. 2'!AM43","v":0},0]
["39",{"$f":"+'Original ABG Allocation'!B44","v":"CARBON"},{"$f":"+'Regular BG'!T45","v":0},{"$f":"+'Caregiver Support'!H45","v":0},{"$f":"+'Federal Caregiver Support'!Q45","v":0},{"$f":"+NSIP!J45","v":0},{"$f":"+'PA MEDI'!H45","v":0},{"$f":"'Health Promotion'!O45","v":0},{"$f":"'Other Funds-Revision No. 2'!AM44","v":0},0]
["40",{"$f":"+'Original ABG Allocation'!B45","v":"SCHUYLKILL"},{"$f":"+'Regular BG'!T46","v":0},{"$f":"+'Caregiver Support'!H46","v":0},{"$f":"+'Federal Caregiver Support'!Q46","v":0},{"$f":"+NSIP!J46","v":0},{"$f":"+'PA MEDI'!H46","v":0},{"$f":"'Health Promotion'!O46","v":0},{"$f":"'Other Funds-Revision No. 2'!AM45","v":0},0]
["41",{"$f":"+'Original ABG Allocation'!B46","v":"CLEARFIELD"},{"$f":"+'Regular BG'!T47","v":0},{"$f":"+'Caregiver Support'!H47","v":0},{"$f":"+'Federal Caregiver Support'!Q47","v":0},{"$f":"+NSIP!J47","v":0},{"$f":"+'PA MEDI'!H47","v":0},{"$f":"'Health Promotion'!O47","v":0},{"$f":"'Other Funds-Revision No. 2'!AM46","v":0},0]
["42",{"$f":"+'Original ABG Allocation'!B47","v":"JEFFERSON"},{"$f":"+'Regular BG'!T48","v":0},{"$f":"+'Caregiver Support'!H48","v":0},{"$f":"+'Federal Caregiver Support'!Q48","v":0},{"$f":"+NSIP!J48","v":0},{"$f":"+'PA MEDI'!H48","v":0},{"$f":"'Health Promotion'!O48","v":0},{"$f":"'Other Funds-Revision No. 2'!AM47","v":0},0]
["43",{"$f":"+'Original ABG Allocation'!B48","v":"FOREST/WARREN"},{"$f":"+'Regular BG'!T49","v":0},{"$f":"+'Caregiver Support'!H49","v":0},{"$f":"+'Federal Caregiver Support'!Q49","v":0},{"$f":"+NSIP!J49","v":0},{"$f":"+'PA MEDI'!H49","v":0},{"$f":"'Health Promotion'!O49","v":0},{"$f":"'Other Funds-Revision No. 2'!AM48","v":0},0]
["44",{"$f":"+'Original ABG Allocation'!B49","v":"VENANGO"},{"$f":"+'Regular BG'!T50","v":0},{"$f":"+'Caregiver Support'!H50","v":0},{"$f":"+'Federal Caregiver Support'!Q50","v":0},{"$f":"+NSIP!J50","v":0},{"$f":"+'PA MEDI'!H50","v":0},{"$f":"'Health Promotion'!O50","v":0},{"$f":"'Other Funds-Revision No. 2'!AM49","v":0},0]
["45",{"$f":"+'Original ABG Allocation'!B50","v":"ARMSTRONG"},{"$f":"+'Regular BG'!T51","v":0},{"$f":"+'Caregiver Support'!H51","v":0},{"$f":"+'Federal Caregiver Support'!Q51","v":0},{"$f":"+NSIP!J51","v":0},{"$f":"+'PA MEDI'!H51","v":0},{"$f":"'Health Promotion'!O51","v":0},{"$f":"'Other Funds-Revision No. 2'!AM50","v":0},0]
["46",{"$f":"+'Original ABG Allocation'!B51","v":"LAWRENCE"},{"$f":"+'Regular BG'!T52","v":0},{"$f":"+'Caregiver Support'!H52","v":0},{"$f":"+'Federal Caregiver Support'!Q52","v":0},{"$f":"+NSIP!J52","v":0},{"$f":"+'PA MEDI'!H52","v":0},{"$f":"'Health Promotion'!O52","v":0},{"$f":"'Other Funds-Revision No. 2'!AM51","v":0},0]
["47",{"$f":"+'Original ABG Allocation'!B52","v":"MERCER"},{"$f":"+'Regular BG'!T53","v":0},{"$f":"+'Caregiver Support'!H53","v":0},{"$f":"+'Federal Caregiver Support'!Q53","v":0},{"$f":"+NSIP!J53","v":0},{"$f":"+'PA MEDI'!H53","v":0},{"$f":"'Health Promotion'!O53","v":0},{"$f":"'Other Funds-Revision No. 2'!AM52","v":0},0]
["48",{"$f":"+'Original ABG Allocation'!B53","v":"MONROE"},{"$f":"+'Regular BG'!T54","v":0},{"$f":"+'Caregiver Support'!H54","v":0},{"$f":"+'Federal Caregiver Support'!Q54","v":0},{"$f":"+NSIP!J54","v":0},{"$f":"+'PA MEDI'!H54","v":0},{"$f":"'Health Promotion'!O54","v":0},{"$f":"'Other Funds-Revision No. 2'!AM53","v":0},0]
["49",{"$f":"+'Original ABG Allocation'!B54","v":"CLARION"},{"$f":"+'Regular BG'!T55","v":0},{"$f":"+'Caregiver Support'!H55","v":0},{"$f":"+'Federal Caregiver Support'!Q55","v":0},{"$f":"+NSIP!J55","v":0},{"$f":"+'PA MEDI'!H55","v":0},{"$f":"'Health Promotion'!O55","v":0},{"$f":"'Other Funds-Revision No. 2'!AM54","v":0},0]
["50",{"$f":"+'Original ABG Allocation'!B55","v":"BUTLER"},{"$f":"+'Regular BG'!T56","v":0},{"$f":"+'Caregiver Support'!H56","v":0},{"$f":"+'Federal Caregiver Support'!Q56","v":0},{"$f":"+NSIP!J56","v":0},{"$f":"+'PA MEDI'!H56","v":0},{"$f":"'Health Promotion'!O56","v":0},{"$f":"'Other Funds-Revision No. 2'!AM55","v":0},0]
["51",{"$f":"+'Original ABG Allocation'!B56","v":"POTTER"},{"$f":"+'Regular BG'!T57","v":0},{"$f":"+'Caregiver Support'!H57","v":0},{"$f":"+'Federal Caregiver Support'!Q57","v":0},{"$f":"+NSIP!J57","v":0},{"$f":"+'PA MEDI'!H57","v":0},{"$f":"'Health Promotion'!O57","v":0},{"$f":"'Other Funds-Revision No. 2'!AM56","v":0},0]
["52",{"$f":"+'Original ABG Allocation'!B57","v":"WAYNE"},{"$f":"+'Regular BG'!T58","v":0},{"$f":"+'Caregiver Support'!H58","v":0},{"$f":"+'Federal Caregiver Support'!Q58","v":0},{"$f":"+NSIP!J58","v":0},{"$f":"+'PA MEDI'!H58","v":0},{"$f":"'Health Promotion'!O58","v":0},{"$f":"'Other Funds-Revision No. 2'!AM57","v":0},0]
[null,"     TOTALS",{"$f":"SUM(C6:C57)","v":0},0,0,0,0,0,{"$f":"SUM(I6:I57)","v":0},{"$f":"SUM(J6:J57)","v":0}]

{"sheet":"Amended ABG Allocation No. 2","index":4,"n_rows":58,"n_cols":10,"rows_kept":58,"cut":false,"hidden":true,"merged":[]}
["AMENDMENT #2"]
["BLOCK GRANT ALLOCATION"]
[{"$f":"+'Original ABG Allocation'!A3","v":"FY 2022-23"},null,{"$f":"+'Original ABG Allocation'!C3","v":"(1)"},{"$f":"+'Original ABG Allocation'!D3","v":"(2)"},{"$f":"+'Original ABG Allocation'!E3","v":"(3)"},{"$f":"+'Original ABG Allocation'!F3","v":"(4)"},{"$f":"+'Original ABG Allocation'!G3","v":"(5)"},{"$f":"+'Original ABG Allocation'!H3","v":"(6)"},{"$f":"+'Original ABG Allocation'!I3","v":"(7)"},{"$f":"+'Original ABG Allocation'!J3","v":"(8)"}]
[null,null,{"$f":"+'Original ABG Allocation'!C4","v":"REGULAR"},{"$f":"+'Original ABG Allocation'!D4","v":"CAREGIVER"},{"$f":"+'Original ABG Allocation'!E4","v":"FED. CAREGIVER"},null,null,{"$f":"+'Original ABG Allocation'!H4","v":"HEALTH"},null,{"$f":"+'Original ABG Allocation'!J4","v":"TOTAL ALL"}]
[null,null,{"$f":"+'Original ABG Allocation'!C5","v":"BLOCK GRANT"},{"$f":"+'Original ABG Allocation'!D5","v":"SUPPORT "},{"$f":"+'Original ABG Allocation'!E5","v":"SUPPORT "},{"$f":"+'Original ABG Allocation'!F5","v":"NSIP"},{"$f":"+'Original ABG Allocation'!G5","v":"APPRISE"},{"$f":"+'Original ABG Allocation'!H5","v":"PROMOTION"},{"$f":"+'Original ABG Allocation'!I5","v":"OTHER"},{"$f":"+'Original ABG Allocation'!J5","v":"FUNDS"}]
["01",{"$f":"+'Original ABG Allocation'!B6","v":"ERIE"},{"$f":"'Amended ABG Allocation No. 1 '!C6+'Revision No. 2'!C6","v":4411598},{"$f":"'Amended ABG Allocation No. 1 '!D6+'Revision No. 2'!D6","v":156011},{"$f":"'Amended ABG Allocation No. 1 '!E6+'Revision No. 2'!E6","v":134766},{"$f":"'Amended ABG Allocation No. 1 '!F6+'Revision No. 2'!F6","v":66325},{"$f":"'Amended ABG Allocation No. 1 '!G6+'Revision No. 2'!G6","v":20097},{"$f":"'Amended ABG Allocation No. 1 '!H6+'Revision No. 2'!H6","v":25670},{"$f":"'Amended ABG Allocation No. 1 '!I6+'Revision No. 2'!I6","v":50754},{"$f":"SUM(C6:I6)","v":4865221}]
["02",{"$f":"+'Original ABG Allocation'!B7","v":"CRAWFORD"},{"$f":"'Amended ABG Allocation No. 1 '!C7+'Revision No. 2'!C7","v":2137845},{"$f":"'Amended ABG Allocation No. 1 '!D7+'Revision No. 2'!D7","v":94962},{"$f":"'Amended ABG Allocation No. 1 '!E7+'Revision No. 2'!E7","v":55648},{"$f":"'Amended ABG Allocation No. 1 '!F7+'Revision No. 2'!F7","v":47328},{"$f":"'Amended ABG Allocation No. 1 '!G7+'Revision No. 2'!G7","v":10676},{"$f":"'Amended ABG Allocation No. 1 '!H7+'Revision No. 2'!H7","v":12253},{"$f":"'Amended ABG Allocation No. 1 '!I7+'Revision No. 2'!I7","v":27952},2386664]
["03",{"$f":"+'Original ABG Allocation'!B8","v":"CAM/ELK/MCKEAN"},{"$f":"'Amended ABG Allocation No. 1 '!C8+'Revision No. 2'!C8","v":2104494},{"$f":"'Amended ABG Allocation No. 1 '!D8+'Revision No. 2'!D8","v":104392},{"$f":"'Amended ABG Allocation No. 1 '!E8+'Revision No. 2'!E8","v":69557},{"$f":"'Amended ABG Allocation No. 1 '!F8+'Revision No. 2'!F8","v":35588},{"$f":"'Amended ABG Allocation No. 1 '!G8+'Revision No. 2'!G8","v":11237},{"$f":"'Amended ABG Allocation No. 1 '!H8+'Revision No. 2'!H8","v":13477},{"$f":"'Amended ABG Allocation No. 1 '!I8+'Revision No. 2'!I8","v":26526},2365271]
["04",{"$f":"+'Original ABG Allocation'!B9","v":"BEAVER"},{"$f":"'Amended ABG Allocation No. 1 '!C9+'Revision No. 2'!C9","v":3472650},{"$f":"'Amended ABG Allocation No. 1 '!D9+'Revision No. 2'!D9","v":120693},{"$f":"'Amended ABG Allocation No. 1 '!E9+'Revision No. 2'!E9","v":115200},{"$f":"'Amended ABG Allocation No. 1 '!F9+'Revision No. 2'!F9","v":23968},{"$f":"'Amended ABG Allocation No. 1 '!G9+'Revision No. 2'!G9","v":15815},{"$f":"'Amended ABG Allocation No. 1 '!H9+'Revision No. 2'!H9","v":22039},{"$f":"'Amended ABG Allocation No. 1 '!I9+'Revision No. 2'!I9","v":37277},3807642]
["05",{"$f":"+'Original ABG Allocation'!B10","v":"INDIANA"},{"$f":"'Amended ABG Allocation No. 1 '!C10+'Revision No. 2'!C10","v":1949787},{"$f":"'Amended ABG Allocation No. 1 '!D10+'Revision No. 2'!D10","v":72332},{"$f":"'Amended ABG Allocation No. 1 '!E10+'Revision No. 2'!E10","v":65877},{"$f":"'Amended ABG Allocation No. 1 '!F10+'Revision No. 2'!F10","v":51905},{"$f":"'Amended ABG Allocation No. 1 '!G10+'Revision No. 2'!G10","v":10185},{"$f":"'Amended ABG Allocation No. 1 '!H10+'Revision No. 2'!H10","v":12618},{"$f":"'Amended ABG Allocation No. 1 '!I10+'Revision No. 2'!I10","v":26503},2189207]
["06",{"$f":"+'Original ABG Allocation'!B11","v":"ALLEGHENY"},{"$f":"'Amended ABG Allocation No. 1 '!C11+'Revision No. 2'!C11","v":29841874},{"$f":"'Amended ABG Allocation No. 1 '!D11+'Revision No. 2'!D11","v":1024598},{"$f":"'Amended ABG Allocation No. 1 '!E11+'Revision No. 2'!E11","v":1027359},{"$f":"'Amended ABG Allocation No. 1 '!F11+'Revision No. 2'!F11","v":419219},{"$f":"'Amended ABG Allocation No. 1 '!G11+'Revision No. 2'!G11","v":107007},{"$f":"'Amended ABG Allocation No. 1 '!H11+'Revision No. 2'!H11","v":158619},{"$f":"'Amended ABG Allocation No. 1 '!I11+'Revision No. 2'!I11","v":189804},32768480]
["07",{"$f":"+'Original ABG Allocation'!B12","v":"WESTMORELAND"},{"$f":"'Amended ABG Allocation No. 1 '!C12+'Revision No. 2'!C12","v":7750368},{"$f":"'Amended ABG Allocation No. 1 '!D12+'Revision No. 2'!D12","v":279704},{"$f":"'Amended ABG Allocation No. 1 '!E12+'Revision No. 2'!E12","v":249205},{"$f":"'Amended ABG Allocation No. 1 '!F12+'Revision No. 2'!F12","v":123773},{"$f":"'Amended ABG Allocation No. 1 '!G12+'Revision No. 2'!G12","v":33328},{"$f":"'Amended ABG Allocation No. 1 '!H12+'Revision No. 2'!H12","v":47027},{"$f":"'Amended ABG Allocation No. 1 '!I12+'Revision No. 2'!I12","v":66831},8550236]
["08",{"$f":"+'Original ABG Allocation'!B13","v":"WASH/FAY/GREENE"},{"$f":"'Amended ABG Allocation No. 1 '!C13+'Revision No. 2'!C13","v":10511355},{"$f":"'Amended ABG Allocation No. 1 '!D13+'Revision No. 2'!D13","v":393598},{"$f":"'Amended ABG Allocation No. 1 '!E13+'Revision No. 2'!E13","v":534972},{"$f":"'Amended ABG Allocation No. 1 '!F13+'Revision No. 2'!F13","v":354500},{"$f":"'Amended ABG Allocation No. 1 '!G13+'Revision No. 2'!G13","v":39938},{"$f":"'Amended ABG Allocation No. 1 '!H13+'Revision No. 2'!H13","v":68098},{"$f":"'Amended ABG Allocation No. 1 '!I13+'Revision No. 2'!I13","v":80930},11983391]
["09",{"$f":"+'Original ABG Allocation'!B14","v":"SOMERSET"},{"$f":"'Amended ABG Allocation No. 1 '!C14+'Revision No. 2'!C14","v":2326690},{"$f":"'Amended ABG Allocation No. 1 '!D14+'Revision No. 2'!D14","v":81631},{"$f":"'Amended ABG Allocation No. 1 '!E14+'Revision No. 2'!E14","v":93246},{"$f":"'Amended ABG Allocation No. 1 '!F14+'Revision No. 2'!F14","v":72579},{"$f":"'Amended ABG Allocation No. 1 '!G14+'Revision No. 2'!G14","v":11799},{"$f":"'Amended ABG Allocation No. 1 '!H14+'Revision No. 2'!H14","v":14877},{"$f":"'Amended ABG Allocation No. 1 '!I14+'Revision No. 2'!I14","v":27562},2628384]
["10",{"$f":"+'Original ABG Allocation'!B15","v":"CAMBRIA"},{"$f":"'Amended ABG Allocation No. 1 '!C15+'Revision No. 2'!C15","v":4034624},{"$f":"'Amended ABG Allocation No. 1 '!D15+'Revision No. 2'!D15","v":140343},{"$f":"'Amended ABG Allocation No. 1 '!E15+'Revision No. 2'!E15","v":133780},{"$f":"'Amended ABG Allocation No. 1 '!F15+'Revision No. 2'!F15","v":178185},{"$f":"'Amended ABG Allocation No. 1 '!G15+'Revision No. 2'!G15","v":17087},{"$f":"'Amended ABG Allocation No. 1 '!H15+'Revision No. 2'!H15","v":25081},{"$f":"'Amended ABG Allocation No. 1 '!I15+'Revision No. 2'!I15","v":37762},4566862]
["11",{"$f":"+'Original ABG Allocation'!B16","v":"BLAIR"},{"$f":"'Amended ABG Allocation No. 1 '!C16+'Revision No. 2'!C16","v":2763377},{"$f":"'Amended ABG Allocation No. 1 '!D16+'Revision No. 2'!D16","v":114081},{"$f":"'Amended ABG Allocation No. 1 '!E16+'Revision No. 2'!E16","v":109683},{"$f":"'Amended ABG Allocation No. 1 '!F16+'Revision No. 2'!F16","v":118873},{"$f":"'Amended ABG Allocation No. 1 '!G16+'Revision No. 2'!G16","v":11735},{"$f":"'Amended ABG Allocation No. 1 '!H16+'Revision No. 2'!H16","v":17034},{"$f":"'Amended ABG Allocation No. 1 '!I16+'Revision No. 2'!I16","v":30296},3165079]
["12",{"$f":"+'Original ABG Allocation'!B17","v":"BED/FULT/HUNT"},{"$f":"'Amended ABG Allocation No. 1 '!C17+'Revision No. 2'!C17","v":3121983},{"$f":"'Amended ABG Allocation No. 1 '!D17+'Revision No. 2'!D17","v":120022},{"$f":"'Amended ABG Allocation No. 1 '!E17+'Revision No. 2'!E17","v":106084},{"$f":"'Amended ABG Allocation No. 1 '!F17+'Revision No. 2'!F17","v":66409},{"$f":"'Amended ABG Allocation No. 1 '!G17+'Revision No. 2'!G17","v":14807},{"$f":"'Amended ABG Allocation No. 1 '!H17+'Revision No. 2'!H17","v":19221},{"$f":"'Amended ABG Allocation No. 1 '!I17+'Revision No. 2'!I17","v":37342},3485868]
["13",{"$f":"+'Original ABG Allocation'!B18","v":"CENTRE"},{"$f":"'Amended ABG Allocation No. 1 '!C18+'Revision No. 2'!C18","v":1381274},{"$f":"'Amended ABG Allocation No. 1 '!D18+'Revision No. 2'!D18","v":45132},{"$f":"'Amended ABG Allocation No. 1 '!E18+'Revision No. 2'!E18","v":36131},{"$f":"'Amended ABG Allocation No. 1 '!F18+'Revision No. 2'!F18","v":42135},{"$f":"'Amended ABG Allocation No. 1 '!G18+'Revision No. 2'!G18","v":10000},{"$f":"'Amended ABG Allocation No. 1 '!H18+'Revision No. 2'!H18","v":8909},{"$f":"'Amended ABG Allocation No. 1 '!I18+'Revision No. 2'!I18","v":27428},1551009]
["14",{"$f":"+'Original ABG Allocation'!B19","v":"LYCOM/CLINTON"},{"$f":"'Amended ABG Allocation No. 1 '!C19+'Revision No. 2'!C19","v":3159609},{"$f":"'Amended ABG Allocation No. 1 '!D19+'Revision No. 2'!D19","v":117392},{"$f":"'Amended ABG Allocation No. 1 '!E19+'Revision No. 2'!E19","v":98452},{"$f":"'Amended ABG Allocation No. 1 '!F19+'Revision No. 2'!F19","v":80903},{"$f":"'Amended ABG Allocation No. 1 '!G19+'Revision No. 2'!G19","v":16355},{"$f":"'Amended ABG Allocation No. 1 '!H19+'Revision No. 2'!H19","v":18458},{"$f":"'Amended ABG Allocation No. 1 '!I19+'Revision No. 2'!I19","v":38012},3529181]
["15",{"$f":"+'Original ABG Allocation'!B20","v":"COLUM/MONT"},{"$f":"'Amended ABG Allocation No. 1 '!C20+'Revision No. 2'!C20","v":1789613},{"$f":"'Amended ABG Allocation No. 1 '!D20+'Revision No. 2'!D20","v":66474},{"$f":"'Amended ABG Allocation No. 1 '!E20+'Revision No. 2'!E20","v":53326},{"$f":"'Amended ABG Allocation No. 1 '!F20+'Revision No. 2'!F20","v":26259},{"$f":"'Amended ABG Allocation No. 1 '!G20+'Revision No. 2'!G20","v":10000},{"$f":"'Amended ABG Allocation No. 1 '!H20+'Revision No. 2'!H20","v":10126},{"$f":"'Amended ABG Allocation No. 1 '!I20+'Revision No. 2'!I20","v":25338},1981136]
["16",{"$f":"+'Original ABG Allocation'!B21","v":"NORTHUMBERLND"},{"$f":"'Amended ABG Allocation No. 1 '!C21+'Revision No. 2'!C21","v":2955045},{"$f":"'Amended ABG Allocation No. 1 '!D21+'Revision No. 2'!D21","v":122953},{"$f":"'Amended ABG Allocation No. 1 '!E21+'Revision No. 2'!E21","v":109123},{"$f":"'Amended ABG Allocation No. 1 '!F21+'Revision No. 2'!F21","v":38517},{"$f":"'Amended ABG Allocation No. 1 '!G21+'Revision No. 2'!G21","v":11327},{"$f":"'Amended ABG Allocation No. 1 '!H21+'Revision No. 2'!H21","v":17718},{"$f":"'Amended ABG Allocation No. 1 '!I21+'Revision No. 2'!I21","v":27835},3282518]
["17",{"$f":"+'Original ABG Allocation'!B22","v":"UNION/SNYDER"},{"$f":"'Amended ABG Allocation No. 1 '!C22+'Revision No. 2'!C22","v":1295880},{"$f":"'Amended ABG Allocation No. 1 '!D22+'Revision No. 2'!D22","v":41818},{"$f":"'Amended ABG Allocation No. 1 '!E22+'Revision No. 2'!E22","v":38788},{"$f":"'Amended ABG Allocation No. 1 '!F22+'Revision No. 2'!F22","v":16745},{"$f":"'Amended ABG Allocation No. 1 '!G22+'Revision No. 2'!G22","v":10000},{"$f":"'Amended ABG Allocation No. 1 '!H22+'Revision No. 2'!H22","v":8635},{"$f":"'Amended ABG Allocation No. 1 '!I22+'Revision No. 2'!I22","v":25178},1437044]
["18",{"$f":"+'Original ABG Allocation'!B23","v":"MIFF/JUNIATA"},{"$f":"'Amended ABG Allocation No. 1 '!C23+'Revision No. 2'!C23","v":1827966},{"$f":"'Amended ABG Allocation No. 1 '!D23+'Revision No. 2'!D23","v":64859},{"$f":"'Amended ABG Allocation No. 1 '!E23+'Revision No. 2'!E23","v":74111},{"$f":"'Amended ABG Allocation No. 1 '!F23+'Revision No. 2'!F23","v":44916},{"$f":"'Amended ABG Allocation No. 1 '!G23+'Revision No. 2'!G23","v":10222},{"$f":"'Amended ABG Allocation No. 1 '!H23+'Revision No. 2'!H23","v":11964},{"$f":"'Amended ABG Allocation No. 1 '!I23+'Revision No. 2'!I23","v":25974},2060012]
["19",{"$f":"+'Original ABG Allocation'!B24","v":"FRANKLIN"},{"$f":"'Amended ABG Allocation No. 1 '!C24+'Revision No. 2'!C24","v":2436382},{"$f":"'Amended ABG Allocation No. 1 '!D24+'Revision No. 2'!D24","v":83393},{"$f":"'Amended ABG Allocation No. 1 '!E24+'Revision No. 2'!E24","v":78131},{"$f":"'Amended ABG Allocation No. 1 '!F24+'Revision No. 2'!F24","v":66539},{"$f":"'Amended ABG Allocation No. 1 '!G24+'Revision No. 2'!G24","v":15528},{"$f":"'Amended ABG Allocation No. 1 '!H24+'Revision No. 2'!H24","v":14543},{"$f":"'Amended ABG Allocation No. 1 '!I24+'Revision No. 2'!I24","v":31873},2726389]
["20",{"$f":"+'Original ABG Allocation'!B25","v":"ADAMS"},{"$f":"'Amended ABG Allocation No. 1 '!C25+'Revision No. 2'!C25","v":1263446},{"$f":"'Amended ABG Allocation No. 1 '!D25+'Revision No. 2'!D25","v":39383},{"$f":"'Amended ABG Allocation No. 1 '!E25+'Revision No. 2'!E25","v":32448},{"$f":"'Amended ABG Allocation No. 1 '!F25+'Revision No. 2'!F25","v":29737},{"$f":"'Amended ABG Allocation No. 1 '!G25+'Revision No. 2'!G25","v":10175},{"$f":"'Amended ABG Allocation No. 1 '!H25+'Revision No. 2'!H25","v":7955},{"$f":"'Amended ABG Allocation No. 1 '!I25+'Revision No. 2'!I25","v":29100},1412244]
["21",{"$f":"+'Original ABG Allocation'!B26","v":"CUMBERLAND"},{"$f":"'Amended ABG Allocation No. 1 '!C26+'Revision No. 2'!C26","v":2273659},{"$f":"'Amended ABG Allocation No. 1 '!D26+'Revision No. 2'!D26","v":80733},{"$f":"'Amended ABG Allocation No. 1 '!E26+'Revision No. 2'!E26","v":57284},{"$f":"'Amended ABG Allocation No. 1 '!F26+'Revision No. 2'!F26","v":21248},{"$f":"'Amended ABG Allocation No. 1 '!G26+'Revision No. 2'!G26","v":17010},{"$f":"'Amended ABG Allocation No. 1 '!H26+'Revision No. 2'!H26","v":9223},{"$f":"'Amended ABG Allocation No. 1 '!I26+'Revision No. 2'!I26","v":38546},2497703]
["22",{"$f":"+'Original ABG Allocation'!B27","v":"PERRY"},{"$f":"'Amended ABG Allocation No. 1 '!C27+'Revision No. 2'!C27","v":767004},{"$f":"'Amended ABG Allocation No. 1 '!D27+'Revision No. 2'!D27","v":25396},{"$f":"'Amended ABG Allocation No. 1 '!E27+'Revision No. 2'!E27","v":23988},{"$f":"'Amended ABG Allocation No. 1 '!F27+'Revision No. 2'!F27","v":28967},{"$f":"'Amended ABG Allocation No. 1 '!G27+'Revision No. 2'!G27","v":10000},{"$f":"'Amended ABG Allocation No. 1 '!H27+'Revision No. 2'!H27","v":7923},{"$f":"'Amended ABG Allocation No. 1 '!I27+'Revision No. 2'!I27","v":19102},882380]
["23",{"$f":"+'Original ABG Allocation'!B28","v":"DAUPHIN"},{"$f":"'Amended ABG Allocation No. 1 '!C28+'Revision No. 2'!C28","v":4488392},{"$f":"'Amended ABG Allocation No. 1 '!D28+'Revision No. 2'!D28","v":171730},{"$f":"'Amended ABG Allocation No. 1 '!E28+'Revision No. 2'!E28","v":127675},{"$f":"'Amended ABG Allocation No. 1 '!F28+'Revision No. 2'!F28","v":76056},{"$f":"'Amended ABG Allocation No. 1 '!G28+'Revision No. 2'!G28","v":18822},{"$f":"'Amended ABG Allocation No. 1 '!H28+'Revision No. 2'!H28","v":23922},{"$f":"'Amended ABG Allocation No. 1 '!I28+'Revision No. 2'!I28","v":49986},4956583]
["24",{"$f":"+'Original ABG Allocation'!B29","v":"LEBANON"},{"$f":"'Amended ABG Allocation No. 1 '!C29+'Revision No. 2'!C29","v":1934714},{"$f":"'Amended ABG Allocation No. 1 '!D29+'Revision No. 2'!D29","v":68543},{"$f":"'Amended ABG Allocation No. 1 '!E29+'Revision No. 2'!E29","v":56539},{"$f":"'Amended ABG Allocation No. 1 '!F29+'Revision No. 2'!F29","v":40188},{"$f":"'Amended ABG Allocation No. 1 '!G29+'Revision No. 2'!G29","v":11419},{"$f":"'Amended ABG Allocation No. 1 '!H29+'Revision No. 2'!H29","v":9146},{"$f":"'Amended ABG Allocation No. 1 '!I29+'Revision No. 2'!I29","v":28558},2149107]
["25",{"$f":"+'Original ABG Allocation'!B30","v":"YORK"},{"$f":"'Amended ABG Allocation No. 1 '!C30+'Revision No. 2'!C30","v":5364017},{"$f":"'Amended ABG Allocation No. 1 '!D30+'Revision No. 2'!D30","v":199228},{"$f":"'Amended ABG Allocation No. 1 '!E30+'Revision No. 2'!E30","v":133054},{"$f":"'Amended ABG Allocation No. 1 '!F30+'Revision No. 2'!F30","v":204767},{"$f":"'Amended ABG Allocation No. 1 '!G30+'Revision No. 2'!G30","v":27448},{"$f":"'Amended ABG Allocation No. 1 '!H30+'Revision No. 2'!H30","v":25017},{"$f":"'Amended ABG Allocation No. 1 '!I30+'Revision No. 2'!I30","v":69151},6022682]
["26",{"$f":"+'Original ABG Allocation'!B31","v":"LANCASTER"},{"$f":"'Amended ABG Allocation No. 1 '!C31+'Revision No. 2'!C31","v":5609386},{"$f":"'Amended ABG Allocation No. 1 '!D31+'Revision No. 2'!D31","v":198436},{"$f":"'Amended ABG Allocation No. 1 '!E31+'Revision No. 2'!E31","v":164965},{"$f":"'Amended ABG Allocation No. 1 '!F31+'Revision No. 2'!F31","v":60963},{"$f":"'Amended ABG Allocation No. 1 '!G31+'Revision No. 2'!G31","v":33008},{"$f":"'Amended ABG Allocation No. 1 '!H31+'Revision No. 2'!H31","v":30859},{"$f":"'Amended ABG Allocation No. 1 '!I31+'Revision No. 2'!I31","v":77387},6175004]
["27",{"$f":"+'Original ABG Allocation'!B32","v":"CHESTER"},{"$f":"'Amended ABG Allocation No. 1 '!C32+'Revision No. 2'!C32","v":3766491},{"$f":"'Amended ABG Allocation No. 1 '!D32+'Revision No. 2'!D32","v":114753},{"$f":"'Amended ABG Allocation No. 1 '!E32+'Revision No. 2'!E32","v":74312},{"$f":"'Amended ABG Allocation No. 1 '!F32+'Revision No. 2'!F32","v":65735},{"$f":"'Amended ABG Allocation No. 1 '!G32+'Revision No. 2'!G32","v":25091},{"$f":"'Amended ABG Allocation No. 1 '!H32+'Revision No. 2'!H32","v":14330},{"$f":"'Amended ABG Allocation No. 1 '!I32+'Revision No. 2'!I32","v":59974},4120686]
["28",{"$f":"+'Original ABG Allocation'!B33","v":"MONTGOMERY"},{"$f":"'Amended ABG Allocation No. 1 '!C33+'Revision No. 2'!C33","v":8212898},{"$f":"'Amended ABG Allocation No. 1 '!D33+'Revision No. 2'!D33","v":236029},{"$f":"'Amended ABG Allocation No. 1 '!E33+'Revision No. 2'!E33","v":238996},{"$f":"'Amended ABG Allocation No. 1 '!F33+'Revision No. 2'!F33","v":222009},{"$f":"'Amended ABG Allocation No. 1 '!G33+'Revision No. 2'!G33","v":47311},{"$f":"'Amended ABG Allocation No. 1 '!H33+'Revision No. 2'!H33","v":27365},{"$f":"'Amended ABG Allocation No. 1 '!I33+'Revision No. 2'!I33","v":101434},9086042]
["29",{"$f":"+'Original ABG Allocation'!B34","v":"BUCKS"},{"$f":"'Amended ABG Allocation No. 1 '!C34+'Revision No. 2'!C34","v":5247058},{"$f":"'Amended ABG Allocation No. 1 '!D34+'Revision No. 2'!D34","v":206856},{"$f":"'Amended ABG Allocation No. 1 '!E34+'Revision No. 2'!E34","v":197793},{"$f":"'Amended ABG Allocation No. 1 '!F34+'Revision No. 2'!F34","v":80421},{"$f":"'Amended ABG Allocation No. 1 '!G34+'Revision No. 2'!G34","v":33291},{"$f":"'Amended ABG Allocation No. 1 '!H34+'Revision No. 2'!H34","v":24480},{"$f":"'Amended ABG Allocation No. 1 '!I34+'Revision No. 2'!I34","v":76281},5866180]
["30",{"$f":"+'Original ABG Allocation'!B35","v":"DELAWARE"},{"$f":"'Amended ABG Allocation No. 1 '!C35+'Revision No. 2'!C35","v":8091925},{"$f":"'Amended ABG Allocation No. 1 '!D35+'Revision No. 2'!D35","v":278240},{"$f":"'Amended ABG Allocation No. 1 '!E35+'Revision No. 2'!E35","v":230814},{"$f":"'Amended ABG Allocation No. 1 '!F35+'Revision No. 2'!F35","v":92075},{"$f":"'Amended ABG Allocation No. 1 '!G35+'Revision No. 2'!G35","v":35954},{"$f":"'Amended ABG Allocation No. 1 '!H35+'Revision No. 2'!H35","v":44239},{"$f":"'Amended ABG Allocation No. 1 '!I35+'Revision No. 2'!I35","v":82487},8855734]
["31",{"$f":"+'Original ABG Allocation'!B36","v":"PHILADELPHIA"},{"$f":"'Amended ABG Allocation No. 1 '!C36+'Revision No. 2'!C36","v":56025883},{"$f":"'Amended ABG Allocation No. 1 '!D36+'Revision No. 2'!D36","v":1702584},{"$f":"'Amended ABG Allocation No. 1 '!E36+'Revision No. 2'!E36","v":2431642},{"$f":"'Amended ABG Allocation No. 1 '!F36+'Revision No. 2'!F36","v":803599},{"$f":"'Amended ABG Allocation No. 1 '!G36+'Revision No. 2'!G36","v":107007},{"$f":"'Amended ABG Allocation No. 1 '!H36+'Revision No. 2'!H36","v":307815},{"$f":"'Amended ABG Allocation No. 1 '!I36+'Revision No. 2'!I36","v":375238},61753768]
["32",{"$f":"+'Original ABG Allocation'!B37","v":"BERKS"},{"$f":"'Amended ABG Allocation No. 1 '!C37+'Revision No. 2'!C37","v":6004484},{"$f":"'Amended ABG Allocation No. 1 '!D37+'Revision No. 2'!D37","v":235166},{"$f":"'Amended ABG Allocation No. 1 '!E37+'Revision No. 2'!E37","v":262043},{"$f":"'Amended ABG Allocation No. 1 '!F37+'Revision No. 2'!F37","v":158821},{"$f":"'Amended ABG Allocation No. 1 '!G37+'Revision No. 2'!G37","v":29191},{"$f":"'Amended ABG Allocation No. 1 '!H37+'Revision No. 2'!H37","v":32781},{"$f":"'Amended ABG Allocation No. 1 '!I37+'Revision No. 2'!I37","v":70382},6792868]
["33",{"$f":"+'Original ABG Allocation'!B38","v":"LEHIGH"},{"$f":"'Amended ABG Allocation No. 1 '!C38+'Revision No. 2'!C38","v":4654532},{"$f":"'Amended ABG Allocation No. 1 '!D38+'Revision No. 2'!D38","v":172458},{"$f":"'Amended ABG Allocation No. 1 '!E38+'Revision No. 2'!E38","v":119971},{"$f":"'Amended ABG Allocation No. 1 '!F38+'Revision No. 2'!F38","v":42793},{"$f":"'Amended ABG Allocation No. 1 '!G38+'Revision No. 2'!G38","v":21310},{"$f":"'Amended ABG Allocation No. 1 '!H38+'Revision No. 2'!H38","v":17348},{"$f":"'Amended ABG Allocation No. 1 '!I38+'Revision No. 2'!I38","v":57889},{"$f":"SUM(C38:I38)","v":5086301}]
["34",{"$f":"+'Original ABG Allocation'!B39","v":"NORTHAMPTON"},{"$f":"'Amended ABG Allocation No. 1 '!C39+'Revision No. 2'!C39","v":4087354},{"$f":"'Amended ABG Allocation No. 1 '!D39+'Revision No. 2'!D39","v":153486},{"$f":"'Amended ABG Allocation No. 1 '!E39+'Revision No. 2'!E39","v":102099},{"$f":"'Amended ABG Allocation No. 1 '!F39+'Revision No. 2'!F39","v":73789},{"$f":"'Amended ABG Allocation No. 1 '!G39+'Revision No. 2'!G39","v":19506},{"$f":"'Amended ABG Allocation No. 1 '!H39+'Revision No. 2'!H39","v":19316},{"$f":"'Amended ABG Allocation No. 1 '!I39+'Revision No. 2'!I39","v":46413},4501963]
["35",{"$f":"+'Original ABG Allocation'!B40","v":"PIKE"},{"$f":"'Amended ABG Allocation No. 1 '!C40+'Revision No. 2'!C40","v":714453},{"$f":"'Amended ABG Allocation No. 1 '!D40+'Revision No. 2'!D40","v":25399},{"$f":"'Amended ABG Allocation No. 1 '!E40+'Revision No. 2'!E40","v":20229},{"$f":"'Amended ABG Allocation No. 1 '!F40+'Revision No. 2'!F40","v":20687},{"$f":"'Amended ABG Allocation No. 1 '!G40+'Revision No. 2'!G40","v":10000},{"$f":"'Amended ABG Allocation No. 1 '!H40+'Revision No. 2'!H40","v":7908},{"$f":"'Amended ABG Allocation No. 1 '!I40+'Revision No. 2'!I40","v":24546},823222]
["36",{"$f":"+'Original ABG Allocation'!B41","v":"B/S/S/T"},{"$f":"'Amended ABG Allocation No. 1 '!C41+'Revision No. 2'!C41","v":3993199},{"$f":"'Amended ABG Allocation No. 1 '!D41+'Revision No. 2'!D41","v":141181},{"$f":"'Amended ABG Allocation No. 1 '!E41+'Revision No. 2'!E41","v":136248},{"$f":"'Amended ABG Allocation No. 1 '!F41+'Revision No. 2'!F41","v":98527},{"$f":"'Amended ABG Allocation No. 1 '!G41+'Revision No. 2'!G41","v":20201},{"$f":"'Amended ABG Allocation No. 1 '!H41+'Revision No. 2'!H41","v":24698},{"$f":"'Amended ABG Allocation No. 1 '!I41+'Revision No. 2'!I41","v":48433},4462487]
["37",{"$f":"+'Original ABG Allocation'!B42","v":"LUZERNE/WYOMING"},{"$f":"'Amended ABG Allocation No. 1 '!C42+'Revision No. 2'!C42","v":9360224},{"$f":"'Amended ABG Allocation No. 1 '!D42+'Revision No. 2'!D42","v":343992},{"$f":"'Amended ABG Allocation No. 1 '!E42+'Revision No. 2'!E42","v":282547},{"$f":"'Amended ABG Allocation No. 1 '!F42+'Revision No. 2'!F42","v":219979},{"$f":"'Amended ABG Allocation No. 1 '!G42+'Revision No. 2'!G42","v":31720},{"$f":"'Amended ABG Allocation No. 1 '!H42+'Revision No. 2'!H42","v":54157},{"$f":"'Amended ABG Allocation No. 1 '!I42+'Revision No. 2'!I42","v":62651},10355270]
["38",{"$f":"+'Original ABG Allocation'!B43","v":"LACKAWANNA"},{"$f":"'Amended ABG Allocation No. 1 '!C43+'Revision No. 2'!C43","v":5223495},{"$f":"'Amended ABG Allocation No. 1 '!D43+'Revision No. 2'!D43","v":202907},{"$f":"'Amended ABG Allocation No. 1 '!E43+'Revision No. 2'!E43","v":231866},{"$f":"'Amended ABG Allocation No. 1 '!F43+'Revision No. 2'!F43","v":124839},{"$f":"'Amended ABG Allocation No. 1 '!G43+'Revision No. 2'!G43","v":18501},{"$f":"'Amended ABG Allocation No. 1 '!H43+'Revision No. 2'!H43","v":33436},{"$f":"'Amended ABG Allocation No. 1 '!I43+'Revision No. 2'!I43","v":42257},5877301]
["39",{"$f":"+'Original ABG Allocation'!B44","v":"CARBON"},{"$f":"'Amended ABG Allocation No. 1 '!C44+'Revision No. 2'!C44","v":1185509},{"$f":"'Amended ABG Allocation No. 1 '!D44+'Revision No. 2'!D44","v":44213},{"$f":"'Amended ABG Allocation No. 1 '!E44+'Revision No. 2'!E44","v":39403},{"$f":"'Amended ABG Allocation No. 1 '!F44+'Revision No. 2'!F44","v":30903},{"$f":"'Amended ABG Allocation No. 1 '!G44+'Revision No. 2'!G44","v":10000},{"$f":"'Amended ABG Allocation No. 1 '!H44+'Revision No. 2'!H44","v":7982},{"$f":"'Amended ABG Allocation No. 1 '!I44+'Revision No. 2'!I44","v":23256},1341266]
["40",{"$f":"+'Original ABG Allocation'!B45","v":"SCHUYLKILL"},{"$f":"'Amended ABG Allocation No. 1 '!C45+'Revision No. 2'!C45","v":4568989},{"$f":"'Amended ABG Allocation No. 1 '!D45+'Revision No. 2'!D45","v":181495},{"$f":"'Amended ABG Allocation No. 1 '!E45+'Revision No. 2'!E45","v":156510},{"$f":"'Amended ABG Allocation No. 1 '!F45+'Revision No. 2'!F45","v":56511},{"$f":"'Amended ABG Allocation No. 1 '!G45+'Revision No. 2'!G45","v":18478},{"$f":"'Amended ABG Allocation No. 1 '!H45+'Revision No. 2'!H45","v":29322},{"$f":"'Amended ABG Allocation No. 1 '!I45+'Revision No. 2'!I45","v":42433},5053738]
["41",{"$f":"+'Original ABG Allocation'!B46","v":"CLEARFIELD"},{"$f":"'Amended ABG Allocation No. 1 '!C46+'Revision No. 2'!C46","v":2229583},{"$f":"'Amended ABG Allocation No. 1 '!D46+'Revision No. 2'!D46","v":79676},{"$f":"'Amended ABG Allocation No. 1 '!E46+'Revision No. 2'!E46","v":76522},{"$f":"'Amended ABG Allocation No. 1 '!F46+'Revision No. 2'!F46","v":110249},{"$f":"'Amended ABG Allocation No. 1 '!G46+'Revision No. 2'!G46","v":11341},{"$f":"'Amended ABG Allocation No. 1 '!H46+'Revision No. 2'!H46","v":14212},{"$f":"'Amended ABG Allocation No. 1 '!I46+'Revision No. 2'!I46","v":28506},2550089]
["42",{"$f":"+'Original ABG Allocation'!B47","v":"JEFFERSON"},{"$f":"'Amended ABG Allocation No. 1 '!C47+'Revision No. 2'!C47","v":1281851},{"$f":"'Amended ABG Allocation No. 1 '!D47+'Revision No. 2'!D47","v":51609},{"$f":"'Amended ABG Allocation No. 1 '!E47+'Revision No. 2'!E47","v":59466},{"$f":"'Amended ABG Allocation No. 1 '!F47+'Revision No. 2'!F47","v":28079},{"$f":"'Amended ABG Allocation No. 1 '!G47+'Revision No. 2'!G47","v":10000},{"$f":"'Amended ABG Allocation No. 1 '!H47+'Revision No. 2'!H47","v":8874},{"$f":"'Amended ABG Allocation No. 1 '!I47+'Revision No. 2'!I47","v":19041},{"$f":"SUM(C47:I47)","v":1458920}]
["43",{"$f":"+'Original ABG Allocation'!B48","v":"FOREST/WARREN"},{"$f":"'Amended ABG Allocation No. 1 '!C48+'Revision No. 2'!C48","v":1026619},{"$f":"'Amended ABG Allocation No. 1 '!D48+'Revision No. 2'!D48","v":34269},{"$f":"'Amended ABG Allocation No. 1 '!E48+'Revision No. 2'!E48","v":30176},{"$f":"'Amended ABG Allocation No. 1 '!F48+'Revision No. 2'!F48","v":27753},{"$f":"'Amended ABG Allocation No. 1 '!G48+'Revision No. 2'!G48","v":10000},{"$f":"'Amended ABG Allocation No. 1 '!H48+'Revision No. 2'!H48","v":7946},{"$f":"'Amended ABG Allocation No. 1 '!I48+'Revision No. 2'!I48","v":21068},1157831]
["44",{"$f":"+'Original ABG Allocation'!B49","v":"VENANGO"},{"$f":"'Amended ABG Allocation No. 1 '!C49+'Revision No. 2'!C49","v":1267563},{"$f":"'Amended ABG Allocation No. 1 '!D49+'Revision No. 2'!D49","v":48574},{"$f":"'Amended ABG Allocation No. 1 '!E49+'Revision No. 2'!E49","v":55242},{"$f":"'Amended ABG Allocation No. 1 '!F49+'Revision No. 2'!F49","v":36107},{"$f":"'Amended ABG Allocation No. 1 '!G49+'Revision No. 2'!G49","v":10000},{"$f":"'Amended ABG Allocation No. 1 '!H49+'Revision No. 2'!H49","v":8569},{"$f":"'Amended ABG Allocation No. 1 '!I49+'Revision No. 2'!I49","v":21935},1447990]
["45",{"$f":"+'Original ABG Allocation'!B50","v":"ARMSTRONG"},{"$f":"'Amended ABG Allocation No. 1 '!C50+'Revision No. 2'!C50","v":1994604},{"$f":"'Amended ABG Allocation No. 1 '!D50+'Revision No. 2'!D50","v":75493},{"$f":"'Amended ABG Allocation No. 1 '!E50+'Revision No. 2'!E50","v":62026},{"$f":"'Amended ABG Allocation No. 1 '!F50+'Revision No. 2'!F50","v":71631},{"$f":"'Amended ABG Allocation No. 1 '!G50+'Revision No. 2'!G50","v":10719},{"$f":"'Amended ABG Allocation No. 1 '!H50+'Revision No. 2'!H50","v":12115},{"$f":"'Amended ABG Allocation No. 1 '!I50+'Revision No. 2'!I50","v":26308},2252896]
["46",{"$f":"+'Original ABG Allocation'!B51","v":"LAWRENCE"},{"$f":"'Amended ABG Allocation No. 1 '!C51+'Revision No. 2'!C51","v":2116483},{"$f":"'Amended ABG Allocation No. 1 '!D51+'Revision No. 2'!D51","v":79407},{"$f":"'Amended ABG Allocation No. 1 '!E51+'Revision No. 2'!E51","v":65793},{"$f":"'Amended ABG Allocation No. 1 '!F51+'Revision No. 2'!F51","v":43055},{"$f":"'Amended ABG Allocation No. 1 '!G51+'Revision No. 2'!G51","v":10341},{"$f":"'Amended ABG Allocation No. 1 '!H51+'Revision No. 2'!H51","v":12981},{"$f":"'Amended ABG Allocation No. 1 '!I51+'Revision No. 2'!I51","v":26446},2354506]
["47",{"$f":"+'Original ABG Allocation'!B52","v":"MERCER"},{"$f":"'Amended ABG Allocation No. 1 '!C52+'Revision No. 2'!C52","v":2322893},{"$f":"'Amended ABG Allocation No. 1 '!D52+'Revision No. 2'!D52","v":80316},{"$f":"'Amended ABG Allocation No. 1 '!E52+'Revision No. 2'!E52","v":77331},{"$f":"'Amended ABG Allocation No. 1 '!F52+'Revision No. 2'!F52","v":41143},{"$f":"'Amended ABG Allocation No. 1 '!G52+'Revision No. 2'!G52","v":13302},{"$f":"'Amended ABG Allocation No. 1 '!H52+'Revision No. 2'!H52","v":14661},{"$f":"'Amended ABG Allocation No. 1 '!I52+'Revision No. 2'!I52","v":31299},2580945]
["48",{"$f":"+'Original ABG Allocation'!B53","v":"MONROE"},{"$f":"'Amended ABG Allocation No. 1 '!C53+'Revision No. 2'!C53","v":1655963},{"$f":"'Amended ABG Allocation No. 1 '!D53+'Revision No. 2'!D53","v":46961},{"$f":"'Amended ABG Allocation No. 1 '!E53+'Revision No. 2'!E53","v":65227},{"$f":"'Amended ABG Allocation No. 1 '!F53+'Revision No. 2'!F53","v":37809},{"$f":"'Amended ABG Allocation No. 1 '!G53+'Revision No. 2'!G53","v":13317},{"$f":"'Amended ABG Allocation No. 1 '!H53+'Revision No. 2'!H53","v":8435},{"$f":"'Amended ABG Allocation No. 1 '!I53+'Revision No. 2'!I53","v":42174},1869886]
["49",{"$f":"+'Original ABG Allocation'!B54","v":"CLARION"},{"$f":"'Amended ABG Allocation No. 1 '!C54+'Revision No. 2'!C54","v":954686},{"$f":"'Amended ABG Allocation No. 1 '!D54+'Revision No. 2'!D54","v":32868},{"$f":"'Amended ABG Allocation No. 1 '!E54+'Revision No. 2'!E54","v":43252},{"$f":"'Amended ABG Allocation No. 1 '!F54+'Revision No. 2'!F54","v":29696},{"$f":"'Amended ABG Allocation No. 1 '!G54+'Revision No. 2'!G54","v":10000},{"$f":"'Amended ABG Allocation No. 1 '!H54+'Revision No. 2'!H54","v":7961},{"$f":"'Amended ABG Allocation No. 1 '!I54+'Revision No. 2'!I54","v":18749},1097212]
["50",{"$f":"+'Original ABG Allocation'!B55","v":"BUTLER"},{"$f":"'Amended ABG Allocation No. 1 '!C55+'Revision No. 2'!C55","v":2546870},{"$f":"'Amended ABG Allocation No. 1 '!D55+'Revision No. 2'!D55","v":104331},{"$f":"'Amended ABG Allocation No. 1 '!E55+'Revision No. 2'!E55","v":112372},{"$f":"'Amended ABG Allocation No. 1 '!F55+'Revision No. 2'!F55","v":40783},{"$f":"'Amended ABG Allocation No. 1 '!G55+'Revision No. 2'!G55","v":16742},{"$f":"'Amended ABG Allocation No. 1 '!H55+'Revision No. 2'!H55","v":14150},{"$f":"'Amended ABG Allocation No. 1 '!I55+'Revision No. 2'!I55","v":38611},2873859]
["51",{"$f":"+'Original ABG Allocation'!B56","v":"POTTER"},{"$f":"'Amended ABG Allocation No. 1 '!C56+'Revision No. 2'!C56","v":589962},{"$f":"'Amended ABG Allocation No. 1 '!D56+'Revision No. 2'!D56","v":25400},{"$f":"'Amended ABG Allocation No. 1 '!E56+'Revision No. 2'!E56","v":20017},{"$f":"'Amended ABG Allocation No. 1 '!F56+'Revision No. 2'!F56","v":14811},{"$f":"'Amended ABG Allocation No. 1 '!G56+'Revision No. 2'!G56","v":10000},{"$f":"'Amended ABG Allocation No. 1 '!H56+'Revision No. 2'!H56","v":7905},{"$f":"'Amended ABG Allocation No. 1 '!I56+'Revision No. 2'!I56","v":13351},681446]
["52",{"$f":"+'Original ABG Allocation'!B57","v":"WAYNE"},{"$f":"'Amended ABG Allocation No. 1 '!C57+'Revision No. 2'!C57","v":1178872},{"$f":"'Amended ABG Allocation No. 1 '!D57+'Revision No. 2'!D57","v":35500},{"$f":"'Amended ABG Allocation No. 1 '!E57+'Revision No. 2'!E57","v":38682},{"$f":"'Amended ABG Allocation No. 1 '!F57+'Revision No. 2'!F57","v":55047},{"$f":"'Amended ABG Allocation No. 1 '!G57+'Revision No. 2'!G57","v":10000},{"$f":"'Amended ABG Allocation No. 1 '!H57+'Revision No. 2'!H57","v":8635},{"$f":"'Amended ABG Allocation No. 1 '!I57+'Revision No. 2'!I57","v":22788},1349524]
[null,"     TOTALS",{"$f":"SUM(C6:C57)","v":251275475},8761000,9009971,4963443,1078348,1412033,2576957,279077227]

{"sheet":"Revision No. 3","index":5,"n_rows":58,"n_cols":10,"rows_kept":58,"cut":false,"hidden":true,"merged":[]}
["CHANGE 3 "]
["BLOCK GRANT ALLOCATION"]
[{"$f":"+'Original ABG Allocation'!A3","v":"FY 2022-23"},null,{"$f":"+'Original ABG Allocation'!C3","v":"(1)"},{"$f":"+'Original ABG Allocation'!D3","v":"(2)"},{"$f":"+'Original ABG Allocation'!E3","v":"(3)"},{"$f":"+'Original ABG Allocation'!F3","v":"(4)"},{"$f":"+'Original ABG Allocation'!G3","v":"(5)"},{"$f":"+'Original ABG Allocation'!H3","v":"(6)"},{"$f":"+'Original ABG Allocation'!I3","v":"(7)"},{"$f":"+'Original ABG Allocation'!J3","v":"(8)"}]
[null,null,{"$f":"+'Original ABG Allocation'!C4","v":"REGULAR"},{"$f":"+'Original ABG Allocation'!D4","v":"CAREGIVER"},{"$f":"+'Original ABG Allocation'!E4","v":"FED. CAREGIVER"},null,null,{"$f":"+'Original ABG Allocation'!H4","v":"HEALTH"},null,{"$f":"+'Original ABG Allocation'!J4","v":"TOTAL ALL"}]
[null,null,{"$f":"+'Original ABG Allocation'!C5","v":"BLOCK GRANT"},{"$f":"+'Original ABG Allocation'!D5","v":"SUPPORT "},{"$f":"+'Original ABG Allocation'!E5","v":"SUPPORT "},{"$f":"+'Original ABG Allocation'!F5","v":"NSIP"},{"$f":"+'Original ABG Allocation'!G5","v":"APPRISE"},{"$f":"+'Original ABG Allocation'!H5","v":"PROMOTION"},{"$f":"+'Original ABG Allocation'!I5","v":"OTHER"},{"$f":"+'Original ABG Allocation'!J5","v":"FUNDS"}]
["01",{"$f":"+'Original ABG Allocation'!B6","v":"ERIE"},{"$f":"+'Regular BG'!AA7","v":0},{"$f":"+'Caregiver Support'!K7","v":0},{"$f":"+'Federal Caregiver Support'!X7","v":0},{"$f":"+NSIP!M7","v":0},{"$f":"+'PA MEDI'!K7","v":0},{"$f":"'Health Promotion'!T7","v":0},{"$f":"'Other Funds-Revision No. 3'!AM6","v":0},{"$f":"SUM(C6:I6)","v":0}]
["02",{"$f":"+'Original ABG Allocation'!B7","v":"CRAWFORD"},{"$f":"+'Regular BG'!AA8","v":0},{"$f":"+'Caregiver Support'!K8","v":0},{"$f":"+'Federal Caregiver Support'!X8","v":0},{"$f":"+NSIP!M8","v":0},{"$f":"+'PA MEDI'!K8","v":0},{"$f":"'Health Promotion'!T8","v":0},{"$f":"'Other Funds-Revision No. 3'!AM7","v":0},0]
["03",{"$f":"+'Original ABG Allocation'!B8","v":"CAM/ELK/MCKEAN"},{"$f":"+'Regular BG'!AA9","v":0},{"$f":"+'Caregiver Support'!K9","v":0},{"$f":"+'Federal Caregiver Support'!X9","v":0},{"$f":"+NSIP!M9","v":0},{"$f":"+'PA MEDI'!K9","v":0},{"$f":"'Health Promotion'!T9","v":0},{"$f":"'Other Funds-Revision No. 3'!AM8","v":0},0]
["04",{"$f":"+'Original ABG Allocation'!B9","v":"BEAVER"},{"$f":"+'Regular BG'!AA10","v":0},{"$f":"+'Caregiver Support'!K10","v":0},{"$f":"+'Federal Caregiver Support'!X10","v":0},{"$f":"+NSIP!M10","v":0},{"$f":"+'PA MEDI'!K10","v":0},{"$f":"'Health Promotion'!T10","v":0},{"$f":"'Other Funds-Revision No. 3'!AM9","v":0},0]
["05",{"$f":"+'Original ABG Allocation'!B10","v":"INDIANA"},{"$f":"+'Regular BG'!AA11","v":0},{"$f":"+'Caregiver Support'!K11","v":0},{"$f":"+'Federal Caregiver Support'!X11","v":0},{"$f":"+NSIP!M11","v":0},{"$f":"+'PA MEDI'!K11","v":0},{"$f":"'Health Promotion'!T11","v":0},{"$f":"'Other Funds-Revision No. 3'!AM10","v":0},0]
["06",{"$f":"+'Original ABG Allocation'!B11","v":"ALLEGHENY"},{"$f":"+'Regular BG'!AA12","v":0},{"$f":"+'Caregiver Support'!K12","v":0},{"$f":"+'Federal Caregiver Support'!X12","v":0},{"$f":"+NSIP!M12","v":0},{"$f":"+'PA MEDI'!K12","v":0},{"$f":"'Health Promotion'!T12","v":0},{"$f":"'Other Funds-Revision No. 3'!AM11","v":0},0]
["07",{"$f":"+'Original ABG Allocation'!B12","v":"WESTMORELAND"},{"$f":"+'Regular BG'!AA13","v":0},{"$f":"+'Caregiver Support'!K13","v":0},{"$f":"+'Federal Caregiver Support'!X13","v":0},{"$f":"+NSIP!M13","v":0},{"$f":"+'PA MEDI'!K13","v":0},{"$f":"'Health Promotion'!T13","v":0},{"$f":"'Other Funds-Revision No. 3'!AM12","v":0},0]
["08",{"$f":"+'Original ABG Allocation'!B13","v":"WASH/FAY/GREENE"},{"$f":"+'Regular BG'!AA14","v":0},{"$f":"+'Caregiver Support'!K14","v":0},{"$f":"+'Federal Caregiver Support'!X14","v":0},{"$f":"+NSIP!M14","v":0},{"$f":"+'PA MEDI'!K14","v":0},{"$f":"'Health Promotion'!T14","v":0},{"$f":"'Other Funds-Revision No. 3'!AM13","v":0},0]
["09",{"$f":"+'Original ABG Allocation'!B14","v":"SOMERSET"},{"$f":"+'Regular BG'!AA15","v":0},{"$f":"+'Caregiver Support'!K15","v":0},{"$f":"+'Federal Caregiver Support'!X15","v":0},{"$f":"+NSIP!M15","v":0},{"$f":"+'PA MEDI'!K15","v":0},{"$f":"'Health Promotion'!T15","v":0},{"$f":"'Other Funds-Revision No. 3'!AM14","v":0},0]
["10",{"$f":"+'Original ABG Allocation'!B15","v":"CAMBRIA"},{"$f":"+'Regular BG'!AA16","v":0},{"$f":"+'Caregiver Support'!K16","v":0},{"$f":"+'Federal Caregiver Support'!X16","v":0},{"$f":"+NSIP!M16","v":0},{"$f":"+'PA MEDI'!K16","v":0},{"$f":"'Health Promotion'!T16","v":0},{"$f":"'Other Funds-Revision No. 3'!AM15","v":0},0]
["11",{"$f":"+'Original ABG Allocation'!B16","v":"BLAIR"},{"$f":"+'Regular BG'!AA17","v":0},{"$f":"+'Caregiver Support'!K17","v":0},{"$f":"+'Federal Caregiver Support'!X17","v":0},{"$f":"+NSIP!M17","v":0},{"$f":"+'PA MEDI'!K17","v":0},{"$f":"'Health Promotion'!T17","v":0},{"$f":"'Other Funds-Revision No. 3'!AM16","v":0},0]
["12",{"$f":"+'Original ABG Allocation'!B17","v":"BED/FULT/HUNT"},{"$f":"+'Regular BG'!AA18","v":0},0,{"$f":"+'Federal Caregiver Support'!X18","v":0},{"$f":"+NSIP!M18","v":0},{"$f":"+'PA MEDI'!K18","v":0},{"$f":"'Health Promotion'!T18","v":0},{"$f":"'Other Funds-Revision No. 3'!AM17","v":0},0]
["13",{"$f":"+'Original ABG Allocation'!B18","v":"CENTRE"},{"$f":"+'Regular BG'!AA19","v":0},0,{"$f":"+'Federal Caregiver Support'!X19","v":0},{"$f":"+NSIP!M19","v":0},{"$f":"+'PA MEDI'!K19","v":0},{"$f":"'Health Promotion'!T19","v":0},{"$f":"'Other Funds-Revision No. 3'!AM18","v":0},0]
["14",{"$f":"+'Original ABG Allocation'!B19","v":"LYCOM/CLINTON"},{"$f":"+'Regular BG'!AA20","v":0},{"$f":"+'Caregiver Support'!K20","v":0},{"$f":"+'Federal Caregiver Support'!X20","v":0},{"$f":"+NSIP!M20","v":0},{"$f":"+'PA MEDI'!K20","v":0},{"$f":"'Health Promotion'!T20","v":0},{"$f":"'Other Funds-Revision No. 3'!AM19","v":0},0]
["15",{"$f":"+'Original ABG Allocation'!B20","v":"COLUM/MONT"},{"$f":"+'Regular BG'!AA21","v":0},{"$f":"+'Caregiver Support'!K21","v":0},{"$f":"+'Federal Caregiver Support'!X21","v":0},{"$f":"+NSIP!M21","v":0},{"$f":"+'PA MEDI'!K21","v":0},{"$f":"'Health Promotion'!T21","v":0},{"$f":"'Other Funds-Revision No. 3'!AM20","v":0},0]
["16",{"$f":"+'Original ABG Allocation'!B21","v":"NORTHUMBERLND"},{"$f":"+'Regular BG'!AA22","v":0},{"$f":"+'Caregiver Support'!K22","v":0},{"$f":"+'Federal Caregiver Support'!X22","v":0},{"$f":"+NSIP!M22","v":0},{"$f":"+'PA MEDI'!K22","v":0},{"$f":"'Health Promotion'!T22","v":0},{"$f":"'Other Funds-Revision No. 3'!AM21","v":0},0]
["17",{"$f":"+'Original ABG Allocation'!B22","v":"UNION/SNYDER"},{"$f":"+'Regular BG'!AA23","v":0},{"$f":"+'Caregiver Support'!K23","v":0},{"$f":"+'Federal Caregiver Support'!X23","v":0},{"$f":"+NSIP!M23","v":0},{"$f":"+'PA MEDI'!K23","v":0},{"$f":"'Health Promotion'!T23","v":0},{"$f":"'Other Funds-Revision No. 3'!AM22","v":0},0]
["18",{"$f":"+'Original ABG Allocation'!B23","v":"MIFF/JUNIATA"},{"$f":"+'Regular BG'!AA24","v":0},{"$f":"+'Caregiver Support'!K24","v":0},{"$f":"+'Federal Caregiver Support'!X24","v":0},{"$f":"+NSIP!M24","v":0},{"$f":"+'PA MEDI'!K24","v":0},{"$f":"'Health Promotion'!T24","v":0},{"$f":"'Other Funds-Revision No. 3'!AM23","v":0},0]
["19",{"$f":"+'Original ABG Allocation'!B24","v":"FRANKLIN"},{"$f":"+'Regular BG'!AA25","v":0},{"$f":"+'Caregiver Support'!K25","v":0},{"$f":"+'Federal Caregiver Support'!X25","v":0},{"$f":"+NSIP!M25","v":0},{"$f":"+'PA MEDI'!K25","v":0},{"$f":"'Health Promotion'!T25","v":0},{"$f":"'Other Funds-Revision No. 3'!AM24","v":0},0]
["20",{"$f":"+'Original ABG Allocation'!B25","v":"ADAMS"},{"$f":"+'Regular BG'!AA26","v":0},{"$f":"+'Caregiver Support'!K26","v":0},{"$f":"+'Federal Caregiver Support'!X26","v":0},{"$f":"+NSIP!M26","v":0},{"$f":"+'PA MEDI'!K26","v":0},{"$f":"'Health Promotion'!T26","v":0},{"$f":"'Other Funds-Revision No. 3'!AM25","v":0},0]
["21",{"$f":"+'Original ABG Allocation'!B26","v":"CUMBERLAND"},{"$f":"+'Regular BG'!AA27","v":0},{"$f":"+'Caregiver Support'!K27","v":0},0,{"$f":"+NSIP!M27","v":0},{"$f":"+'PA MEDI'!K27","v":0},{"$f":"'Health Promotion'!T27","v":0},{"$f":"'Other Funds-Revision No. 3'!AM26","v":0},0]
["22",{"$f":"+'Original ABG Allocation'!B27","v":"PERRY"},{"$f":"+'Regular BG'!AA28","v":0},{"$f":"+'Caregiver Support'!K28","v":0},0,{"$f":"+NSIP!M28","v":0},{"$f":"+'PA MEDI'!K28","v":0},0,{"$f":"'Other Funds-Revision No. 3'!AM27","v":0},0]
["23",{"$f":"+'Original ABG Allocation'!B28","v":"DAUPHIN"},{"$f":"+'Regular BG'!AA29","v":0},{"$f":"+'Caregiver Support'!K29","v":0},{"$f":"+'Federal Caregiver Support'!X29","v":0},{"$f":"+NSIP!M29","v":0},{"$f":"+'PA MEDI'!K29","v":0},0,{"$f":"'Other Funds-Revision No. 3'!AM28","v":0},0]
["24",{"$f":"+'Original ABG Allocation'!B29","v":"LEBANON"},{"$f":"+'Regular BG'!AA30","v":0},{"$f":"+'Caregiver Support'!K30","v":0},{"$f":"+'Federal Caregiver Support'!X30","v":0},{"$f":"+NSIP!M30","v":0},{"$f":"+'PA MEDI'!K30","v":0},{"$f":"'Health Promotion'!T30","v":0},{"$f":"'Other Funds-Revision No. 3'!AM29","v":0},0]
["25",{"$f":"+'Original ABG Allocation'!B30","v":"YORK"},{"$f":"+'Regular BG'!AA31","v":0},{"$f":"+'Caregiver Support'!K31","v":0},{"$f":"+'Federal Caregiver Support'!X31","v":0},{"$f":"+NSIP!M31","v":0},{"$f":"+'PA MEDI'!K31","v":0},{"$f":"'Health Promotion'!T31","v":0},{"$f":"'Other Funds-Revision No. 3'!AM30","v":0},0]
["26",{"$f":"+'Original ABG Allocation'!B31","v":"LANCASTER"},{"$f":"+'Regular BG'!AA32","v":0},{"$f":"+'Caregiver Support'!K32","v":0},{"$f":"+'Federal Caregiver Support'!X32","v":0},{"$f":"+NSIP!M32","v":0},{"$f":"+'PA MEDI'!K32","v":0},{"$f":"'Health Promotion'!T32","v":0},{"$f":"'Other Funds-Revision No. 3'!AM31","v":0},0]
["27",{"$f":"+'Original ABG Allocation'!B32","v":"CHESTER"},{"$f":"+'Regular BG'!AA33","v":0},{"$f":"+'Caregiver Support'!K33","v":0},{"$f":"+'Federal Caregiver Support'!X33","v":0},{"$f":"+NSIP!M33","v":0},{"$f":"+'PA MEDI'!K33","v":0},{"$f":"'Health Promotion'!T33","v":0},{"$f":"'Other Funds-Revision No. 3'!AM32","v":0},0]
["28",{"$f":"+'Original ABG Allocation'!B33","v":"MONTGOMERY"},{"$f":"+'Regular BG'!AA34","v":0},{"$f":"+'Caregiver Support'!K34","v":0},{"$f":"+'Federal Caregiver Support'!X34","v":0},{"$f":"+NSIP!M34","v":0},{"$f":"+'PA MEDI'!K34","v":0},{"$f":"'Health Promotion'!T34","v":0},{"$f":"'Other Funds-Revision No. 3'!AM33","v":0},0]
["29",{"$f":"+'Original ABG Allocation'!B34","v":"BUCKS"},{"$f":"+'Regular BG'!AA35","v":0},{"$f":"+'Caregiver Support'!K35","v":0},{"$f":"+'Federal Caregiver Support'!X35","v":0},{"$f":"+NSIP!M35","v":0},{"$f":"+'PA MEDI'!K35","v":0},{"$f":"'Health Promotion'!T35","v":0},{"$f":"'Other Funds-Revision No. 3'!AM34","v":0},0]
["30",{"$f":"+'Original ABG Allocation'!B35","v":"DELAWARE"},{"$f":"+'Regular BG'!AA36","v":0},{"$f":"+'Caregiver Support'!K36","v":0},{"$f":"+'Federal Caregiver Support'!X36","v":0},{"$f":"+NSIP!M36","v":0},{"$f":"+'PA MEDI'!K36","v":0},{"$f":"'Health Promotion'!T36","v":0},{"$f":"'Other Funds-Revision No. 3'!AM35","v":0},0]
["31",{"$f":"+'Original ABG Allocation'!B36","v":"PHILADELPHIA"},{"$f":"+'Regular BG'!AA37","v":0},{"$f":"+'Caregiver Support'!K37","v":0},{"$f":"+'Federal Caregiver Support'!X37","v":0},{"$f":"+NSIP!M37","v":0},{"$f":"+'PA MEDI'!K37","v":0},{"$f":"'Health Promotion'!T37","v":0},{"$f":"'Other Funds-Revision No. 3'!AM36","v":0},0]
["32",{"$f":"+'Original ABG Allocation'!B37","v":"BERKS"},{"$f":"+'Regular BG'!AA38","v":0},{"$f":"+'Caregiver Support'!K38","v":0},{"$f":"+'Federal Caregiver Support'!X38","v":0},{"$f":"+NSIP!M38","v":0},{"$f":"+'PA MEDI'!K38","v":0},{"$f":"'Health Promotion'!T38","v":0},{"$f":"'Other Funds-Revision No. 3'!AM37","v":0},0]
["33",{"$f":"+'Original ABG Allocation'!B38","v":"LEHIGH"},{"$f":"+'Regular BG'!AA39","v":0},{"$f":"+'Caregiver Support'!K39","v":0},{"$f":"+'Federal Caregiver Support'!X39","v":0},{"$f":"+NSIP!M39","v":0},{"$f":"+'PA MEDI'!K39","v":0},{"$f":"'Health Promotion'!T39","v":0},{"$f":"'Other Funds-Revision No. 3'!AM38","v":0},{"$f":"SUM(C38:I38)","v":0}]
["34",{"$f":"+'Original ABG Allocation'!B39","v":"NORTHAMPTON"},{"$f":"+'Regular BG'!AA40","v":0},{"$f":"+'Caregiver Support'!K40","v":0},{"$f":"+'Federal Caregiver Support'!X40","v":0},{"$f":"+NSIP!M40","v":0},{"$f":"+'PA MEDI'!K40","v":0},{"$f":"'Health Promotion'!T40","v":0},{"$f":"'Other Funds-Revision No. 3'!AM39","v":0},0]
["35",{"$f":"+'Original ABG Allocation'!B40","v":"PIKE"},{"$f":"+'Regular BG'!AA41","v":0},{"$f":"+'Caregiver Support'!K41","v":0},{"$f":"+'Federal Caregiver Support'!X41","v":0},{"$f":"+NSIP!M41","v":0},{"$f":"+'PA MEDI'!K41","v":0},{"$f":"'Health Promotion'!T41","v":0},{"$f":"'Other Funds-Revision No. 3'!AM40","v":0},0]
["36",{"$f":"+'Original ABG Allocation'!B41","v":"B/S/S/T"},{"$f":"+'Regular BG'!AA42","v":0},{"$f":"+'Caregiver Support'!K42","v":0},{"$f":"+'Federal Caregiver Support'!X42","v":0},{"$f":"+NSIP!M42","v":0},{"$f":"+'PA MEDI'!K42","v":0},{"$f":"'Health Promotion'!T42","v":0},{"$f":"'Other Funds-Revision No. 3'!AM41","v":0},0]
["37",{"$f":"+'Original ABG Allocation'!B42","v":"LUZERNE/WYOMING"},{"$f":"+'Regular BG'!AA43","v":0},{"$f":"+'Caregiver Support'!K43","v":0},{"$f":"+'Federal Caregiver Support'!X43","v":0},{"$f":"+NSIP!M43","v":0},{"$f":"+'PA MEDI'!K43","v":0},{"$f":"'Health Promotion'!T43","v":0},{"$f":"'Other Funds-Revision No. 3'!AM42","v":0},0]
["38",{"$f":"+'Original ABG Allocation'!B43","v":"LACKAWANNA"},{"$f":"+'Regular BG'!AA44","v":0},{"$f":"+'Caregiver Support'!K44","v":0},{"$f":"+'Federal Caregiver Support'!X44","v":0},{"$f":"+NSIP!M44","v":0},{"$f":"+'PA MEDI'!K44","v":0},{"$f":"'Health Promotion'!T44","v":0},{"$f":"'Other Funds-Revision No. 3'!AM43","v":0},0]
["39",{"$f":"+'Original ABG Allocation'!B44","v":"CARBON"},{"$f":"+'Regular BG'!AA45","v":0},{"$f":"+'Caregiver Support'!K45","v":0},{"$f":"+'Federal Caregiver Support'!X45","v":0},{"$f":"+NSIP!M45","v":0},{"$f":"+'PA MEDI'!K45","v":0},{"$f":"'Health Promotion'!T45","v":0},{"$f":"'Other Funds-Revision No. 3'!AM44","v":0},0]
["40",{"$f":"+'Original ABG Allocation'!B45","v":"SCHUYLKILL"},{"$f":"+'Regular BG'!AA46","v":0},{"$f":"+'Caregiver Support'!K46","v":0},{"$f":"+'Federal Caregiver Support'!X46","v":0},{"$f":"+NSIP!M46","v":0},{"$f":"+'PA MEDI'!K46","v":0},{"$f":"'Health Promotion'!T46","v":0},{"$f":"'Other Funds-Revision No. 3'!AM45","v":0},0]
["41",{"$f":"+'Original ABG Allocation'!B46","v":"CLEARFIELD"},{"$f":"+'Regular BG'!AA47","v":0},{"$f":"+'Caregiver Support'!K47","v":0},{"$f":"+'Federal Caregiver Support'!X47","v":0},{"$f":"+NSIP!M47","v":0},{"$f":"+'PA MEDI'!K47","v":0},{"$f":"'Health Promotion'!T47","v":0},{"$f":"'Other Funds-Revision No. 3'!AM46","v":0},0]
["42",{"$f":"+'Original ABG Allocation'!B47","v":"JEFFERSON"},{"$f":"+'Regular BG'!AA48","v":0},{"$f":"+'Caregiver Support'!K48","v":0},{"$f":"+'Federal Caregiver Support'!X48","v":0},{"$f":"+NSIP!M48","v":0},{"$f":"+'PA MEDI'!K48","v":0},{"$f":"'Health Promotion'!T48","v":0},{"$f":"'Other Funds-Revision No. 3'!AM47","v":0},0]
["43",{"$f":"+'Original ABG Allocation'!B48","v":"FOREST/WARREN"},{"$f":"+'Regular BG'!AA49","v":0},{"$f":"+'Caregiver Support'!K49","v":0},{"$f":"+'Federal Caregiver Support'!X49","v":0},{"$f":"+NSIP!M49","v":0},{"$f":"+'PA MEDI'!K49","v":0},{"$f":"'Health Promotion'!T49","v":0},{"$f":"'Other Funds-Revision No. 3'!AM48","v":0},0]
["44",{"$f":"+'Original ABG Allocation'!B49","v":"VENANGO"},{"$f":"+'Regular BG'!AA50","v":0},{"$f":"+'Caregiver Support'!K50","v":0},{"$f":"+'Federal Caregiver Support'!X50","v":0},{"$f":"+NSIP!M50","v":0},{"$f":"+'PA MEDI'!K50","v":0},{"$f":"'Health Promotion'!T50","v":0},{"$f":"'Other Funds-Revision No. 3'!AM49","v":0},0]
["45",{"$f":"+'Original ABG Allocation'!B50","v":"ARMSTRONG"},{"$f":"+'Regular BG'!AA51","v":0},{"$f":"+'Caregiver Support'!K51","v":0},{"$f":"+'Federal Caregiver Support'!X51","v":0},{"$f":"+NSIP!M51","v":0},{"$f":"+'PA MEDI'!K51","v":0},{"$f":"'Health Promotion'!T51","v":0},{"$f":"'Other Funds-Revision No. 3'!AM50","v":0},0]
["46",{"$f":"+'Original ABG Allocation'!B51","v":"LAWRENCE"},{"$f":"+'Regular BG'!AA52","v":0},{"$f":"+'Caregiver Support'!K52","v":0},{"$f":"+'Federal Caregiver Support'!X52","v":0},{"$f":"+NSIP!M52","v":0},{"$f":"+'PA MEDI'!K52","v":0},{"$f":"'Health Promotion'!T52","v":0},{"$f":"'Other Funds-Revision No. 3'!AM51","v":0},0]
["47",{"$f":"+'Original ABG Allocation'!B52","v":"MERCER"},{"$f":"+'Regular BG'!AA53","v":0},{"$f":"+'Caregiver Support'!K53","v":0},{"$f":"+'Federal Caregiver Support'!X53","v":0},{"$f":"+NSIP!M53","v":0},{"$f":"+'PA MEDI'!K53","v":0},{"$f":"'Health Promotion'!T53","v":0},{"$f":"'Other Funds-Revision No. 3'!AM52","v":0},0]
["48",{"$f":"+'Original ABG Allocation'!B53","v":"MONROE"},{"$f":"+'Regular BG'!AA54","v":0},{"$f":"+'Caregiver Support'!K54","v":0},{"$f":"+'Federal Caregiver Support'!X54","v":0},{"$f":"+NSIP!M54","v":0},{"$f":"+'PA MEDI'!K54","v":0},{"$f":"'Health Promotion'!T54","v":0},{"$f":"'Other Funds-Revision No. 3'!AM53","v":0},0]
["49",{"$f":"+'Original ABG Allocation'!B54","v":"CLARION"},{"$f":"+'Regular BG'!AA55","v":0},{"$f":"+'Caregiver Support'!K55","v":0},{"$f":"+'Federal Caregiver Support'!X55","v":0},{"$f":"+NSIP!M55","v":0},{"$f":"+'PA MEDI'!K55","v":0},{"$f":"'Health Promotion'!T55","v":0},{"$f":"'Other Funds-Revision No. 3'!AM54","v":0},0]
["50",{"$f":"+'Original ABG Allocation'!B55","v":"BUTLER"},{"$f":"+'Regular BG'!AA56","v":0},{"$f":"+'Caregiver Support'!K56","v":0},{"$f":"+'Federal Caregiver Support'!X56","v":0},{"$f":"+NSIP!M56","v":0},{"$f":"+'PA MEDI'!K56","v":0},{"$f":"'Health Promotion'!T56","v":0},{"$f":"'Other Funds-Revision No. 3'!AM55","v":0},0]
["51",{"$f":"+'Original ABG Allocation'!B56","v":"POTTER"},{"$f":"+'Regular BG'!AA57","v":0},{"$f":"+'Caregiver Support'!K57","v":0},{"$f":"+'Federal Caregiver Support'!X57","v":0},{"$f":"+NSIP!M57","v":0},{"$f":"+'PA MEDI'!K57","v":0},{"$f":"'Health Promotion'!T57","v":0},{"$f":"'Other Funds-Revision No. 3'!AM56","v":0},0]
["52",{"$f":"+'Original ABG Allocation'!B57","v":"WAYNE"},{"$f":"+'Regular BG'!AA58","v":0},{"$f":"+'Caregiver Support'!K58","v":0},{"$f":"+'Federal Caregiver Support'!X58","v":0},{"$f":"+NSIP!M58","v":0},{"$f":"+'PA MEDI'!K58","v":0},{"$f":"'Health Promotion'!T58","v":0},{"$f":"'Other Funds-Revision No. 3'!AM57","v":0},0]
[null,"     TOTALS",{"$f":"SUM(C6:C57)","v":0},0,0,0,0,0,0,0]

{"sheet":"Amended ABG Allocation No. 3","index":6,"n_rows":58,"n_cols":10,"rows_kept":58,"cut":false,"hidden":true,"merged":[]}
["AMENDMENT #3"]
["BLOCK GRANT ALLOCATION"]
[{"$f":"+'Original ABG Allocation'!A3","v":"FY 2022-23"},null,{"$f":"+'Original ABG Allocation'!C3","v":"(1)"},{"$f":"+'Original ABG Allocation'!D3","v":"(2)"},{"$f":"+'Original ABG Allocation'!E3","v":"(3)"},{"$f":"+'Original ABG Allocation'!F3","v":"(4)"},{"$f":"+'Original ABG Allocation'!G3","v":"(5)"},{"$f":"+'Original ABG Allocation'!H3","v":"(6)"},{"$f":"+'Original ABG Allocation'!I3","v":"(7)"},{"$f":"+'Original ABG Allocation'!J3","v":"(8)"}]
[null,null,{"$f":"+'Original ABG Allocation'!C4","v":"REGULAR"},{"$f":"+'Original ABG Allocation'!D4","v":"CAREGIVER"},{"$f":"+'Original ABG Allocation'!E4","v":"FED. CAREGIVER"},null,"PA MEDI",{"$f":"+'Original ABG Allocation'!H4","v":"HEALTH"},null,{"$f":"+'Original ABG Allocation'!J4","v":"TOTAL ALL"}]
[null,null,{"$f":"+'Original ABG Allocation'!C5","v":"BLOCK GRANT"},{"$f":"+'Original ABG Allocation'!D5","v":"SUPPORT "},{"$f":"+'Original ABG Allocation'!E5","v":"SUPPORT "},{"$f":"+'Original ABG Allocation'!F5","v":"NSIP"},"APPRISE",{"$f":"+'Original ABG Allocation'!H5","v":"PROMOTION"},{"$f":"+'Original ABG Allocation'!I5","v":"OTHER"},{"$f":"+'Original ABG Allocation'!J5","v":"FUNDS"}]
["01",{"$f":"+'Original ABG Allocation'!B6","v":"ERIE"},{"$f":"'Amended ABG Allocation No. 1 '!C6+'Revision No. 2'!C6+'Revision No. 3'!C6","v":4411598},{"$f":"'Amended ABG Allocation No. 1 '!D6+'Revision No. 2'!D6+'Revision No. 3'!D6","v":156011},{"$f":"'Original ABG Allocation'!E6+'Revision No. 1'!E6+'Revision No. 2'!E6+'Revision No. 3'!E6","v":134766},{"$f":"'Amended ABG Allocation No. 1 '!F6+'Revision No. 2'!F6+'Revision No. 3'!F6","v":66325},{"$f":"'Amended ABG Allocation No. 1 '!G6+'Revision No. 2'!G6+'Revision No. 3'!G6","v":20097},{"$f":"'Amended ABG Allocation No. 1 '!H6+'Revision No. 2'!H6+'Revision No. 3'!H6","v":25670},{"$f":"'Amended ABG Allocation No. 1 '!I6+'Revision No. 2'!I6+'Revision No. 3'!I6","v":50754},{"$f":"SUM(C6:I6)","v":4865221}]
["02",{"$f":"+'Original ABG Allocation'!B7","v":"CRAWFORD"},{"$f":"'Amended ABG Allocation No. 1 '!C7+'Revision No. 2'!C7+'Revision No. 3'!C7","v":2137845},{"$f":"'Amended ABG Allocation No. 1 '!D7+'Revision No. 2'!D7+'Revision No. 3'!D7","v":94962},{"$f":"'Original ABG Allocation'!E7+'Revision No. 1'!E7+'Revision No. 2'!E7+'Revision No. 3'!E7","v":55648},{"$f":"'Amended ABG Allocation No. 1 '!F7+'Revision No. 2'!F7+'Revision No. 3'!F7","v":47328},{"$f":"'Amended ABG Allocation No. 1 '!G7+'Revision No. 2'!G7+'Revision No. 3'!G7","v":10676},{"$f":"'Amended ABG Allocation No. 1 '!H7+'Revision No. 2'!H7+'Revision No. 3'!H7","v":12253},{"$f":"'Amended ABG Allocation No. 1 '!I7+'Revision No. 2'!I7+'Revision No. 3'!I7","v":27952},2386664]
["03",{"$f":"+'Original ABG Allocation'!B8","v":"CAM/ELK/MCKEAN"},{"$f":"'Amended ABG Allocation No. 1 '!C8+'Revision No. 2'!C8+'Revision No. 3'!C8","v":2104494},{"$f":"'Amended ABG Allocation No. 1 '!D8+'Revision No. 2'!D8+'Revision No. 3'!D8","v":104392},{"$f":"'Original ABG Allocation'!E8+'Revision No. 1'!E8+'Revision No. 2'!E8+'Revision No. 3'!E8","v":69557},{"$f":"'Amended ABG Allocation No. 1 '!F8+'Revision No. 2'!F8+'Revision No. 3'!F8","v":35588},{"$f":"'Amended ABG Allocation No. 1 '!G8+'Revision No. 2'!G8+'Revision No. 3'!G8","v":11237},{"$f":"'Amended ABG Allocation No. 1 '!H8+'Revision No. 2'!H8+'Revision No. 3'!H8","v":13477},{"$f":"'Amended ABG Allocation No. 1 '!I8+'Revision No. 2'!I8+'Revision No. 3'!I8","v":26526},2365271]
["04",{"$f":"+'Original ABG Allocation'!B9","v":"BEAVER"},{"$f":"'Amended ABG Allocation No. 1 '!C9+'Revision No. 2'!C9+'Revision No. 3'!C9","v":3472650},{"$f":"'Amended ABG Allocation No. 1 '!D9+'Revision No. 2'!D9+'Revision No. 3'!D9","v":120693},{"$f":"'Original ABG Allocation'!E9+'Revision No. 1'!E9+'Revision No. 2'!E9+'Revision No. 3'!E9","v":115200},{"$f":"'Amended ABG Allocation No. 1 '!F9+'Revision No. 2'!F9+'Revision No. 3'!F9","v":23968},{"$f":"'Amended ABG Allocation No. 1 '!G9+'Revision No. 2'!G9+'Revision No. 3'!G9","v":15815},{"$f":"'Amended ABG Allocation No. 1 '!H9+'Revision No. 2'!H9+'Revision No. 3'!H9","v":22039},{"$f":"'Amended ABG Allocation No. 1 '!I9+'Revision No. 2'!I9+'Revision No. 3'!I9","v":37277},3807642]
["05",{"$f":"+'Original ABG Allocation'!B10","v":"INDIANA"},{"$f":"'Amended ABG Allocation No. 1 '!C10+'Revision No. 2'!C10+'Revision No. 3'!C10","v":1949787},{"$f":"'Amended ABG Allocation No. 1 '!D10+'Revision No. 2'!D10+'Revision No. 3'!D10","v":72332},{"$f":"'Original ABG Allocation'!E10+'Revision No. 1'!E10+'Revision No. 2'!E10+'Revision No. 3'!E10","v":65877},{"$f":"'Amended ABG Allocation No. 1 '!F10+'Revision No. 2'!F10+'Revision No. 3'!F10","v":51905},{"$f":"'Amended ABG Allocation No. 1 '!G10+'Revision No. 2'!G10+'Revision No. 3'!G10","v":10185},{"$f":"'Amended ABG Allocation No. 1 '!H10+'Revision No. 2'!H10+'Revision No. 3'!H10","v":12618},{"$f":"'Amended ABG Allocation No. 1 '!I10+'Revision No. 2'!I10+'Revision No. 3'!I10","v":26503},2189207]
["06",{"$f":"+'Original ABG Allocation'!B11","v":"ALLEGHENY"},{"$f":"'Amended ABG Allocation No. 1 '!C11+'Revision No. 2'!C11+'Revision No. 3'!C11","v":29841874},{"$f":"'Amended ABG Allocation No. 1 '!D11+'Revision No. 2'!D11+'Revision No. 3'!D11","v":1024598},{"$f":"'Original ABG Allocation'!E11+'Revision No. 1'!E11+'Revision No. 2'!E11+'Revision No. 3'!E11","v":1027359},{"$f":"'Amended ABG Allocation No. 1 '!F11+'Revision No. 2'!F11+'Revision No. 3'!F11","v":419219},{"$f":"'Amended ABG Allocation No. 1 '!G11+'Revision No. 2'!G11+'Revision No. 3'!G11","v":107007},{"$f":"'Amended ABG Allocation No. 1 '!H11+'Revision No. 2'!H11+'Revision No. 3'!H11","v":158619},{"$f":"'Amended ABG Allocation No. 1 '!I11+'Revision No. 2'!I11+'Revision No. 3'!I11","v":189804},32768480]
["07",{"$f":"+'Original ABG Allocation'!B12","v":"WESTMORELAND"},{"$f":"'Amended ABG Allocation No. 1 '!C12+'Revision No. 2'!C12+'Revision No. 3'!C12","v":7750368},{"$f":"'Amended ABG Allocation No. 1 '!D12+'Revision No. 2'!D12+'Revision No. 3'!D12","v":279704},{"$f":"'Original ABG Allocation'!E12+'Revision No. 1'!E12+'Revision No. 2'!E12+'Revision No. 3'!E12","v":249205},{"$f":"'Amended ABG Allocation No. 1 '!F12+'Revision No. 2'!F12+'Revision No. 3'!F12","v":123773},{"$f":"'Amended ABG Allocation No. 1 '!G12+'Revision No. 2'!G12+'Revision No. 3'!G12","v":33328},{"$f":"'Amended ABG Allocation No. 1 '!H12+'Revision No. 2'!H12+'Revision No. 3'!H12","v":47027},{"$f":"'Amended ABG Allocation No. 1 '!I12+'Revision No. 2'!I12+'Revision No. 3'!I12","v":66831},8550236]
["08",{"$f":"+'Original ABG Allocation'!B13","v":"WASH/FAY/GREENE"},{"$f":"'Amended ABG Allocation No. 1 '!C13+'Revision No. 2'!C13+'Revision No. 3'!C13","v":10511355},{"$f":"'Amended ABG Allocation No. 1 '!D13+'Revision No. 2'!D13+'Revision No. 3'!D13","v":393598},{"$f":"'Original ABG Allocation'!E13+'Revision No. 1'!E13+'Revision No. 2'!E13+'Revision No. 3'!E13","v":534972},{"$f":"'Amended ABG Allocation No. 1 '!F13+'Revision No. 2'!F13+'Revision No. 3'!F13","v":354500},{"$f":"'Amended ABG Allocation No. 1 '!G13+'Revision No. 2'!G13+'Revision No. 3'!G13","v":39938},{"$f":"'Amended ABG Allocation No. 1 '!H13+'Revision No. 2'!H13+'Revision No. 3'!H13","v":68098},{"$f":"'Amended ABG Allocation No. 1 '!I13+'Revision No. 2'!I13+'Revision No. 3'!I13","v":80930},11983391]
["09",{"$f":"+'Original ABG Allocation'!B14","v":"SOMERSET"},{"$f":"'Amended ABG Allocation No. 1 '!C14+'Revision No. 2'!C14+'Revision No. 3'!C14","v":2326690},{"$f":"'Amended ABG Allocation No. 1 '!D14+'Revision No. 2'!D14+'Revision No. 3'!D14","v":81631},{"$f":"'Original ABG Allocation'!E14+'Revision No. 1'!E14+'Revision No. 2'!E14+'Revision No. 3'!E14","v":93246},{"$f":"'Amended ABG Allocation No. 1 '!F14+'Revision No. 2'!F14+'Revision No. 3'!F14","v":72579},{"$f":"'Amended ABG Allocation No. 1 '!G14+'Revision No. 2'!G14+'Revision No. 3'!G14","v":11799},{"$f":"'Amended ABG Allocation No. 1 '!H14+'Revision No. 2'!H14+'Revision No. 3'!H14","v":14877},{"$f":"'Amended ABG Allocation No. 1 '!I14+'Revision No. 2'!I14+'Revision No. 3'!I14","v":27562},2628384]
["10",{"$f":"+'Original ABG Allocation'!B15","v":"CAMBRIA"},{"$f":"'Amended ABG Allocation No. 1 '!C15+'Revision No. 2'!C15+'Revision No. 3'!C15","v":4034624},{"$f":"'Amended ABG Allocation No. 1 '!D15+'Revision No. 2'!D15+'Revision No. 3'!D15","v":140343},{"$f":"'Original ABG Allocation'!E15+'Revision No. 1'!E15+'Revision No. 2'!E15+'Revision No. 3'!E15","v":133780},{"$f":"'Amended ABG Allocation No. 1 '!F15+'Revision No. 2'!F15+'Revision No. 3'!F15","v":178185},{"$f":"'Amended ABG Allocation No. 1 '!G15+'Revision No. 2'!G15+'Revision No. 3'!G15","v":17087},{"$f":"'Amended ABG Allocation No. 1 '!H15+'Revision No. 2'!H15+'Revision No. 3'!H15","v":25081},{"$f":"'Amended ABG Allocation No. 1 '!I15+'Revision No. 2'!I15+'Revision No. 3'!I15","v":37762},4566862]
["11",{"$f":"+'Original ABG Allocation'!B16","v":"BLAIR"},{"$f":"'Amended ABG Allocation No. 1 '!C16+'Revision No. 2'!C16+'Revision No. 3'!C16","v":2763377},{"$f":"'Amended ABG Allocation No. 1 '!D16+'Revision No. 2'!D16+'Revision No. 3'!D16","v":114081},{"$f":"'Original ABG Allocation'!E16+'Revision No. 1'!E16+'Revision No. 2'!E16+'Revision No. 3'!E16","v":109683},{"$f":"'Amended ABG Allocation No. 1 '!F16+'Revision No. 2'!F16+'Revision No. 3'!F16","v":118873},{"$f":"'Amended ABG Allocation No. 1 '!G16+'Revision No. 2'!G16+'Revision No. 3'!G16","v":11735},{"$f":"'Amended ABG Allocation No. 1 '!H16+'Revision No. 2'!H16+'Revision No. 3'!H16","v":17034},{"$f":"'Amended ABG Allocation No. 1 '!I16+'Revision No. 2'!I16+'Revision No. 3'!I16","v":30296},3165079]
["12",{"$f":"+'Original ABG Allocation'!B17","v":"BED/FULT/HUNT"},{"$f":"'Amended ABG Allocation No. 1 '!C17+'Revision No. 2'!C17+'Revision No. 3'!C17","v":3121983},{"$f":"'Amended ABG Allocation No. 1 '!D17+'Revision No. 2'!D17+'Revision No. 3'!D17","v":120022},{"$f":"'Original ABG Allocation'!E17+'Revision No. 1'!E17+'Revision No. 2'!E17+'Revision No. 3'!E17","v":106084},{"$f":"'Amended ABG Allocation No. 1 '!F17+'Revision No. 2'!F17+'Revision No. 3'!F17","v":66409},{"$f":"'Amended ABG Allocation No. 1 '!G17+'Revision No. 2'!G17+'Revision No. 3'!G17","v":14807},{"$f":"'Amended ABG Allocation No. 1 '!H17+'Revision No. 2'!H17+'Revision No. 3'!H17","v":19221},{"$f":"'Amended ABG Allocation No. 1 '!I17+'Revision No. 2'!I17+'Revision No. 3'!I17","v":37342},3485868]
["13",{"$f":"+'Original ABG Allocation'!B18","v":"CENTRE"},{"$f":"'Amended ABG Allocation No. 1 '!C18+'Revision No. 2'!C18+'Revision No. 3'!C18","v":1381274},{"$f":"'Amended ABG Allocation No. 1 '!D18+'Revision No. 2'!D18+'Revision No. 3'!D18","v":45132},{"$f":"'Original ABG Allocation'!E18+'Revision No. 1'!E18+'Revision No. 2'!E18+'Revision No. 3'!E18","v":36131},{"$f":"'Amended ABG Allocation No. 1 '!F18+'Revision No. 2'!F18+'Revision No. 3'!F18","v":42135},{"$f":"'Amended ABG Allocation No. 1 '!G18+'Revision No. 2'!G18+'Revision No. 3'!G18","v":10000},{"$f":"'Amended ABG Allocation No. 1 '!H18+'Revision No. 2'!H18+'Revision No. 3'!H18","v":8909},{"$f":"'Amended ABG Allocation No. 1 '!I18+'Revision No. 2'!I18+'Revision No. 3'!I18","v":27428},1551009]
["14",{"$f":"+'Original ABG Allocation'!B19","v":"LYCOM/CLINTON"},{"$f":"'Amended ABG Allocation No. 1 '!C19+'Revision No. 2'!C19+'Revision No. 3'!C19","v":3159609},{"$f":"'Amended ABG Allocation No. 1 '!D19+'Revision No. 2'!D19+'Revision No. 3'!D19","v":117392},{"$f":"'Original ABG Allocation'!E19+'Revision No. 1'!E19+'Revision No. 2'!E19+'Revision No. 3'!E19","v":98452},{"$f":"'Amended ABG Allocation No. 1 '!F19+'Revision No. 2'!F19+'Revision No. 3'!F19","v":80903},{"$f":"'Amended ABG Allocation No. 1 '!G19+'Revision No. 2'!G19+'Revision No. 3'!G19","v":16355},{"$f":"'Amended ABG Allocation No. 1 '!H19+'Revision No. 2'!H19+'Revision No. 3'!H19","v":18458},{"$f":"'Amended ABG Allocation No. 1 '!I19+'Revision No. 2'!I19+'Revision No. 3'!I19","v":38012},3529181]
["15",{"$f":"+'Original ABG Allocation'!B20","v":"COLUM/MONT"},{"$f":"'Amended ABG Allocation No. 1 '!C20+'Revision No. 2'!C20+'Revision No. 3'!C20","v":1789613},{"$f":"'Amended ABG Allocation No. 1 '!D20+'Revision No. 2'!D20+'Revision No. 3'!D20","v":66474},{"$f":"'Original ABG Allocation'!E20+'Revision No. 1'!E20+'Revision No. 2'!E20+'Revision No. 3'!E20","v":53326},{"$f":"'Amended ABG Allocation No. 1 '!F20+'Revision No. 2'!F20+'Revision No. 3'!F20","v":26259},{"$f":"'Amended ABG Allocation No. 1 '!G20+'Revision No. 2'!G20+'Revision No. 3'!G20","v":10000},{"$f":"'Amended ABG Allocation No. 1 '!H20+'Revision No. 2'!H20+'Revision No. 3'!H20","v":10126},{"$f":"'Amended ABG Allocation No. 1 '!I20+'Revision No. 2'!I20+'Revision No. 3'!I20","v":25338},1981136]
["16",{"$f":"+'Original ABG Allocation'!B21","v":"NORTHUMBERLND"},{"$f":"'Amended ABG Allocation No. 1 '!C21+'Revision No. 2'!C21+'Revision No. 3'!C21","v":2955045},{"$f":"'Amended ABG Allocation No. 1 '!D21+'Revision No. 2'!D21+'Revision No. 3'!D21","v":122953},{"$f":"'Original ABG Allocation'!E21+'Revision No. 1'!E21+'Revision No. 2'!E21+'Revision No. 3'!E21","v":109123},{"$f":"'Amended ABG Allocation No. 1 '!F21+'Revision No. 2'!F21+'Revision No. 3'!F21","v":38517},{"$f":"'Amended ABG Allocation No. 1 '!G21+'Revision No. 2'!G21+'Revision No. 3'!G21","v":11327},{"$f":"'Amended ABG Allocation No. 1 '!H21+'Revision No. 2'!H21+'Revision No. 3'!H21","v":17718},{"$f":"'Amended ABG Allocation No. 1 '!I21+'Revision No. 2'!I21+'Revision No. 3'!I21","v":27835},3282518]
["17",{"$f":"+'Original ABG Allocation'!B22","v":"UNION/SNYDER"},{"$f":"'Amended ABG Allocation No. 1 '!C22+'Revision No. 2'!C22+'Revision No. 3'!C22","v":1295880},{"$f":"'Amended ABG Allocation No. 1 '!D22+'Revision No. 2'!D22+'Revision No. 3'!D22","v":41818},{"$f":"'Original ABG Allocation'!E22+'Revision No. 1'!E22+'Revision No. 2'!E22+'Revision No. 3'!E22","v":38788},{"$f":"'Amended ABG Allocation No. 1 '!F22+'Revision No. 2'!F22+'Revision No. 3'!F22","v":16745},{"$f":"'Amended ABG Allocation No. 1 '!G22+'Revision No. 2'!G22+'Revision No. 3'!G22","v":10000},{"$f":"'Amended ABG Allocation No. 1 '!H22+'Revision No. 2'!H22+'Revision No. 3'!H22","v":8635},{"$f":"'Amended ABG Allocation No. 1 '!I22+'Revision No. 2'!I22+'Revision No. 3'!I22","v":25178},1437044]
["18",{"$f":"+'Original ABG Allocation'!B23","v":"MIFF/JUNIATA"},{"$f":"'Amended ABG Allocation No. 1 '!C23+'Revision No. 2'!C23+'Revision No. 3'!C23","v":1827966},{"$f":"'Amended ABG Allocation No. 1 '!D23+'Revision No. 2'!D23+'Revision No. 3'!D23","v":64859},{"$f":"'Original ABG Allocation'!E23+'Revision No. 1'!E23+'Revision No. 2'!E23+'Revision No. 3'!E23","v":74111},{"$f":"'Amended ABG Allocation No. 1 '!F23+'Revision No. 2'!F23+'Revision No. 3'!F23","v":44916},{"$f":"'Amended ABG Allocation No. 1 '!G23+'Revision No. 2'!G23+'Revision No. 3'!G23","v":10222},{"$f":"'Amended ABG Allocation No. 1 '!H23+'Revision No. 2'!H23+'Revision No. 3'!H23","v":11964},{"$f":"'Amended ABG Allocation No. 1 '!I23+'Revision No. 2'!I23+'Revision No. 3'!I23","v":25974},2060012]
["19",{"$f":"+'Original ABG Allocation'!B24","v":"FRANKLIN"},{"$f":"'Amended ABG Allocation No. 1 '!C24+'Revision No. 2'!C24+'Revision No. 3'!C24","v":2436382},{"$f":"'Amended ABG Allocation No. 1 '!D24+'Revision No. 2'!D24+'Revision No. 3'!D24","v":83393},{"$f":"'Original ABG Allocation'!E24+'Revision No. 1'!E24+'Revision No. 2'!E24+'Revision No. 3'!E24","v":78131},{"$f":"'Amended ABG Allocation No. 1 '!F24+'Revision No. 2'!F24+'Revision No. 3'!F24","v":66539},{"$f":"'Amended ABG Allocation No. 1 '!G24+'Revision No. 2'!G24+'Revision No. 3'!G24","v":15528},{"$f":"'Amended ABG Allocation No. 1 '!H24+'Revision No. 2'!H24+'Revision No. 3'!H24","v":14543},{"$f":"'Amended ABG Allocation No. 1 '!I24+'Revision No. 2'!I24+'Revision No. 3'!I24","v":31873},2726389]
["20",{"$f":"+'Original ABG Allocation'!B25","v":"ADAMS"},{"$f":"'Amended ABG Allocation No. 1 '!C25+'Revision No. 2'!C25+'Revision No. 3'!C25","v":1263446},{"$f":"'Amended ABG Allocation No. 1 '!D25+'Revision No. 2'!D25+'Revision No. 3'!D25","v":39383},{"$f":"'Original ABG Allocation'!E25+'Revision No. 1'!E25+'Revision No. 2'!E25+'Revision No. 3'!E25","v":32448},{"$f":"'Amended ABG Allocation No. 1 '!F25+'Revision No. 2'!F25+'Revision No. 3'!F25","v":29737},{"$f":"'Amended ABG Allocation No. 1 '!G25+'Revision No. 2'!G25+'Revision No. 3'!G25","v":10175},{"$f":"'Amended ABG Allocation No. 1 '!H25+'Revision No. 2'!H25+'Revision No. 3'!H25","v":7955},{"$f":"'Amended ABG Allocation No. 1 '!I25+'Revision No. 2'!I25+'Revision No. 3'!I25","v":29100},1412244]
["21",{"$f":"+'Original ABG Allocation'!B26","v":"CUMBERLAND"},{"$f":"'Amended ABG Allocation No. 1 '!C26+'Revision No. 2'!C26+'Revision No. 3'!C26","v":2273659},{"$f":"'Amended ABG Allocation No. 1 '!D26+'Revision No. 2'!D26+'Revision No. 3'!D26","v":80733},{"$f":"'Original ABG Allocation'!E26+'Revision No. 1'!E26+'Revision No. 2'!E26+'Revision No. 3'!E26","v":57284},{"$f":"'Amended ABG Allocation No. 1 '!F26+'Revision No. 2'!F26+'Revision No. 3'!F26","v":21248},{"$f":"'Amended ABG Allocation No. 1 '!G26+'Revision No. 2'!G26+'Revision No. 3'!G26","v":17010},{"$f":"'Amended ABG Allocation No. 1 '!H26+'Revision No. 2'!H26+'Revision No. 3'!H26","v":9223},{"$f":"'Amended ABG Allocation No. 1 '!I26+'Revision No. 2'!I26+'Revision No. 3'!I26","v":38546},2497703]
["22",{"$f":"+'Original ABG Allocation'!B27","v":"PERRY"},{"$f":"'Amended ABG Allocation No. 1 '!C27+'Revision No. 2'!C27+'Revision No. 3'!C27","v":767004},{"$f":"'Amended ABG Allocation No. 1 '!D27+'Revision No. 2'!D27+'Revision No. 3'!D27","v":25396},{"$f":"'Original ABG Allocation'!E27+'Revision No. 1'!E27+'Revision No. 2'!E27+'Revision No. 3'!E27","v":23988},{"$f":"'Amended ABG Allocation No. 1 '!F27+'Revision No. 2'!F27+'Revision No. 3'!F27","v":28967},{"$f":"'Amended ABG Allocation No. 1 '!G27+'Revision No. 2'!G27+'Revision No. 3'!G27","v":10000},{"$f":"'Amended ABG Allocation No. 1 '!H27+'Revision No. 2'!H27+'Revision No. 3'!H27","v":7923},{"$f":"'Amended ABG Allocation No. 1 '!I27+'Revision No. 2'!I27+'Revision No. 3'!I27","v":19102},882380]
["23",{"$f":"+'Original ABG Allocation'!B28","v":"DAUPHIN"},{"$f":"'Amended ABG Allocation No. 1 '!C28+'Revision No. 2'!C28+'Revision No. 3'!C28","v":4488392},{"$f":"'Amended ABG Allocation No. 1 '!D28+'Revision No. 2'!D28+'Revision No. 3'!D28","v":171730},{"$f":"'Original ABG Allocation'!E28+'Revision No. 1'!E28+'Revision No. 2'!E28+'Revision No. 3'!E28","v":127675},{"$f":"'Amended ABG Allocation No. 1 '!F28+'Revision No. 2'!F28+'Revision No. 3'!F28","v":76056},{"$f":"'Amended ABG Allocation No. 1 '!G28+'Revision No. 2'!G28+'Revision No. 3'!G28","v":18822},{"$f":"'Amended ABG Allocation No. 1 '!H28+'Revision No. 2'!H28+'Revision No. 3'!H28","v":23922},{"$f":"'Amended ABG Allocation No. 1 '!I28+'Revision No. 2'!I28+'Revision No. 3'!I28","v":49986},4956583]
["24",{"$f":"+'Original ABG Allocation'!B29","v":"LEBANON"},{"$f":"'Amended ABG Allocation No. 1 '!C29+'Revision No. 2'!C29+'Revision No. 3'!C29","v":1934714},{"$f":"'Amended ABG Allocation No. 1 '!D29+'Revision No. 2'!D29+'Revision No. 3'!D29","v":68543},{"$f":"'Original ABG Allocation'!E29+'Revision No. 1'!E29+'Revision No. 2'!E29+'Revision No. 3'!E29","v":56539},{"$f":"'Amended ABG Allocation No. 1 '!F29+'Revision No. 2'!F29+'Revision No. 3'!F29","v":40188},{"$f":"'Amended ABG Allocation No. 1 '!G29+'Revision No. 2'!G29+'Revision No. 3'!G29","v":11419},{"$f":"'Amended ABG Allocation No. 1 '!H29+'Revision No. 2'!H29+'Revision No. 3'!H29","v":9146},{"$f":"'Amended ABG Allocation No. 1 '!I29+'Revision No. 2'!I29+'Revision No. 3'!I29","v":28558},2149107]
["25",{"$f":"+'Original ABG Allocation'!B30","v":"YORK"},{"$f":"'Amended ABG Allocation No. 1 '!C30+'Revision No. 2'!C30+'Revision No. 3'!C30","v":5364017},{"$f":"'Amended ABG Allocation No. 1 '!D30+'Revision No. 2'!D30+'Revision No. 3'!D30","v":199228},{"$f":"'Original ABG Allocation'!E30+'Revision No. 1'!E30+'Revision No. 2'!E30+'Revision No. 3'!E30","v":133054},{"$f":"'Amended ABG Allocation No. 1 '!F30+'Revision No. 2'!F30+'Revision No. 3'!F30","v":204767},{"$f":"'Amended ABG Allocation No. 1 '!G30+'Revision No. 2'!G30+'Revision No. 3'!G30","v":27448},{"$f":"'Amended ABG Allocation No. 1 '!H30+'Revision No. 2'!H30+'Revision No. 3'!H30","v":25017},{"$f":"'Amended ABG Allocation No. 1 '!I30+'Revision No. 2'!I30+'Revision No. 3'!I30","v":69151},6022682]
["26",{"$f":"+'Original ABG Allocation'!B31","v":"LANCASTER"},{"$f":"'Amended ABG Allocation No. 1 '!C31+'Revision No. 2'!C31+'Revision No. 3'!C31","v":5609386},{"$f":"'Amended ABG Allocation No. 1 '!D31+'Revision No. 2'!D31+'Revision No. 3'!D31","v":198436},{"$f":"'Original ABG Allocation'!E31+'Revision No. 1'!E31+'Revision No. 2'!E31+'Revision No. 3'!E31","v":164965},{"$f":"'Amended ABG Allocation No. 1 '!F31+'Revision No. 2'!F31+'Revision No. 3'!F31","v":60963},{"$f":"'Amended ABG Allocation No. 1 '!G31+'Revision No. 2'!G31+'Revision No. 3'!G31","v":33008},{"$f":"'Amended ABG Allocation No. 1 '!H31+'Revision No. 2'!H31+'Revision No. 3'!H31","v":30859},{"$f":"'Amended ABG Allocation No. 1 '!I31+'Revision No. 2'!I31+'Revision No. 3'!I31","v":77387},6175004]
["27",{"$f":"+'Original ABG Allocation'!B32","v":"CHESTER"},{"$f":"'Amended ABG Allocation No. 1 '!C32+'Revision No. 2'!C32+'Revision No. 3'!C32","v":3766491},{"$f":"'Amended ABG Allocation No. 1 '!D32+'Revision No. 2'!D32+'Revision No. 3'!D32","v":114753},{"$f":"'Original ABG Allocation'!E32+'Revision No. 1'!E32+'Revision No. 2'!E32+'Revision No. 3'!E32","v":74312},{"$f":"'Amended ABG Allocation No. 1 '!F32+'Revision No. 2'!F32+'Revision No. 3'!F32","v":65735},{"$f":"'Amended ABG Allocation No. 1 '!G32+'Revision No. 2'!G32+'Revision No. 3'!G32","v":25091},{"$f":"'Amended ABG Allocation No. 1 '!H32+'Revision No. 2'!H32+'Revision No. 3'!H32","v":14330},{"$f":"'Amended ABG Allocation No. 1 '!I32+'Revision No. 2'!I32+'Revision No. 3'!I32","v":59974},4120686]
["28",{"$f":"+'Original ABG Allocation'!B33","v":"MONTGOMERY"},{"$f":"'Amended ABG Allocation No. 1 '!C33+'Revision No. 2'!C33+'Revision No. 3'!C33","v":8212898},{"$f":"'Amended ABG Allocation No. 1 '!D33+'Revision No. 2'!D33+'Revision No. 3'!D33","v":236029},{"$f":"'Original ABG Allocation'!E33+'Revision No. 1'!E33+'Revision No. 2'!E33+'Revision No. 3'!E33","v":238996},{"$f":"'Amended ABG Allocation No. 1 '!F33+'Revision No. 2'!F33+'Revision No. 3'!F33","v":222009},{"$f":"'Amended ABG Allocation No. 1 '!G33+'Revision No. 2'!G33+'Revision No. 3'!G33","v":47311},{"$f":"'Amended ABG Allocation No. 1 '!H33+'Revision No. 2'!H33+'Revision No. 3'!H33","v":27365},{"$f":"'Amended ABG Allocation No. 1 '!I33+'Revision No. 2'!I33+'Revision No. 3'!I33","v":101434},9086042]
["29",{"$f":"+'Original ABG Allocation'!B34","v":"BUCKS"},{"$f":"'Amended ABG Allocation No. 1 '!C34+'Revision No. 2'!C34+'Revision No. 3'!C34","v":5247058},{"$f":"'Amended ABG Allocation No. 1 '!D34+'Revision No. 2'!D34+'Revision No. 3'!D34","v":206856},{"$f":"'Original ABG Allocation'!E34+'Revision No. 1'!E34+'Revision No. 2'!E34+'Revision No. 3'!E34","v":197793},{"$f":"'Amended ABG Allocation No. 1 '!F34+'Revision No. 2'!F34+'Revision No. 3'!F34","v":80421},{"$f":"'Amended ABG Allocation No. 1 '!G34+'Revision No. 2'!G34+'Revision No. 3'!G34","v":33291},{"$f":"'Amended ABG Allocation No. 1 '!H34+'Revision No. 2'!H34+'Revision No. 3'!H34","v":24480},{"$f":"'Amended ABG Allocation No. 1 '!I34+'Revision No. 2'!I34+'Revision No. 3'!I34","v":76281},5866180]
["30",{"$f":"+'Original ABG Allocation'!B35","v":"DELAWARE"},{"$f":"'Amended ABG Allocation No. 1 '!C35+'Revision No. 2'!C35+'Revision No. 3'!C35","v":8091925},{"$f":"'Amended ABG Allocation No. 1 '!D35+'Revision No. 2'!D35+'Revision No. 3'!D35","v":278240},{"$f":"'Original ABG Allocation'!E35+'Revision No. 1'!E35+'Revision No. 2'!E35+'Revision No. 3'!E35","v":230814},{"$f":"'Amended ABG Allocation No. 1 '!F35+'Revision No. 2'!F35+'Revision No. 3'!F35","v":92075},{"$f":"'Amended ABG Allocation No. 1 '!G35+'Revision No. 2'!G35+'Revision No. 3'!G35","v":35954},{"$f":"'Amended ABG Allocation No. 1 '!H35+'Revision No. 2'!H35+'Revision No. 3'!H35","v":44239},{"$f":"'Amended ABG Allocation No. 1 '!I35+'Revision No. 2'!I35+'Revision No. 3'!I35","v":82487},8855734]
["31",{"$f":"+'Original ABG Allocation'!B36","v":"PHILADELPHIA"},{"$f":"'Amended ABG Allocation No. 1 '!C36+'Revision No. 2'!C36+'Revision No. 3'!C36","v":56025883},{"$f":"'Amended ABG Allocation No. 1 '!D36+'Revision No. 2'!D36+'Revision No. 3'!D36","v":1702584},{"$f":"'Original ABG Allocation'!E36+'Revision No. 1'!E36+'Revision No. 2'!E36+'Revision No. 3'!E36","v":2431642},{"$f":"'Amended ABG Allocation No. 1 '!F36+'Revision No. 2'!F36+'Revision No. 3'!F36","v":803599},{"$f":"'Amended ABG Allocation No. 1 '!G36+'Revision No. 2'!G36+'Revision No. 3'!G36","v":107007},{"$f":"'Amended ABG Allocation No. 1 '!H36+'Revision No. 2'!H36+'Revision No. 3'!H36","v":307815},{"$f":"'Amended ABG Allocation No. 1 '!I36+'Revision No. 2'!I36+'Revision No. 3'!I36","v":375238},61753768]
["32",{"$f":"+'Original ABG Allocation'!B37","v":"BERKS"},{"$f":"'Amended ABG Allocation No. 1 '!C37+'Revision No. 2'!C37+'Revision No. 3'!C37","v":6004484},{"$f":"'Amended ABG Allocation No. 1 '!D37+'Revision No. 2'!D37+'Revision No. 3'!D37","v":235166},{"$f":"'Original ABG Allocation'!E37+'Revision No. 1'!E37+'Revision No. 2'!E37+'Revision No. 3'!E37","v":262043},{"$f":"'Amended ABG Allocation No. 1 '!F37+'Revision No. 2'!F37+'Revision No. 3'!F37","v":158821},{"$f":"'Amended ABG Allocation No. 1 '!G37+'Revision No. 2'!G37+'Revision No. 3'!G37","v":29191},{"$f":"'Amended ABG Allocation No. 1 '!H37+'Revision No. 2'!H37+'Revision No. 3'!H37","v":32781},{"$f":"'Amended ABG Allocation No. 1 '!I37+'Revision No. 2'!I37+'Revision No. 3'!I37","v":70382},6792868]
["33",{"$f":"+'Original ABG Allocation'!B38","v":"LEHIGH"},{"$f":"'Amended ABG Allocation No. 1 '!C38+'Revision No. 2'!C38+'Revision No. 3'!C38","v":4654532},{"$f":"'Amended ABG Allocation No. 1 '!D38+'Revision No. 2'!D38+'Revision No. 3'!D38","v":172458},{"$f":"'Original ABG Allocation'!E38+'Revision No. 1'!E38+'Revision No. 2'!E38+'Revision No. 3'!E38","v":119971},{"$f":"'Amended ABG Allocation No. 1 '!F38+'Revision No. 2'!F38+'Revision No. 3'!F38","v":42793},{"$f":"'Amended ABG Allocation No. 1 '!G38+'Revision No. 2'!G38+'Revision No. 3'!G38","v":21310},{"$f":"'Amended ABG Allocation No. 1 '!H38+'Revision No. 2'!H38+'Revision No. 3'!H38","v":17348},{"$f":"'Amended ABG Allocation No. 1 '!I38+'Revision No. 2'!I38+'Revision No. 3'!I38","v":57889},{"$f":"SUM(C38:I38)","v":5086301}]
["34",{"$f":"+'Original ABG Allocation'!B39","v":"NORTHAMPTON"},{"$f":"'Amended ABG Allocation No. 1 '!C39+'Revision No. 2'!C39+'Revision No. 3'!C39","v":4087354},{"$f":"'Amended ABG Allocation No. 1 '!D39+'Revision No. 2'!D39+'Revision No. 3'!D39","v":153486},{"$f":"'Original ABG Allocation'!E39+'Revision No. 1'!E39+'Revision No. 2'!E39+'Revision No. 3'!E39","v":102099},{"$f":"'Amended ABG Allocation No. 1 '!F39+'Revision No. 2'!F39+'Revision No. 3'!F39","v":73789},{"$f":"'Amended ABG Allocation No. 1 '!G39+'Revision No. 2'!G39+'Revision No. 3'!G39","v":19506},{"$f":"'Amended ABG Allocation No. 1 '!H39+'Revision No. 2'!H39+'Revision No. 3'!H39","v":19316},{"$f":"'Amended ABG Allocation No. 1 '!I39+'Revision No. 2'!I39+'Revision No. 3'!I39","v":46413},4501963]
["35",{"$f":"+'Original ABG Allocation'!B40","v":"PIKE"},{"$f":"'Amended ABG Allocation No. 1 '!C40+'Revision No. 2'!C40+'Revision No. 3'!C40","v":714453},{"$f":"'Amended ABG Allocation No. 1 '!D40+'Revision No. 2'!D40+'Revision No. 3'!D40","v":25399},{"$f":"'Original ABG Allocation'!E40+'Revision No. 1'!E40+'Revision No. 2'!E40+'Revision No. 3'!E40","v":20229},{"$f":"'Amended ABG Allocation No. 1 '!F40+'Revision No. 2'!F40+'Revision No. 3'!F40","v":20687},{"$f":"'Amended ABG Allocation No. 1 '!G40+'Revision No. 2'!G40+'Revision No. 3'!G40","v":10000},{"$f":"'Amended ABG Allocation No. 1 '!H40+'Revision No. 2'!H40+'Revision No. 3'!H40","v":7908},{"$f":"'Amended ABG Allocation No. 1 '!I40+'Revision No. 2'!I40+'Revision No. 3'!I40","v":24546},823222]
["36",{"$f":"+'Original ABG Allocation'!B41","v":"B/S/S/T"},{"$f":"'Amended ABG Allocation No. 1 '!C41+'Revision No. 2'!C41+'Revision No. 3'!C41","v":3993199},{"$f":"'Amended ABG Allocation No. 1 '!D41+'Revision No. 2'!D41+'Revision No. 3'!D41","v":141181},{"$f":"'Original ABG Allocation'!E41+'Revision No. 1'!E41+'Revision No. 2'!E41+'Revision No. 3'!E41","v":136248},{"$f":"'Amended ABG Allocation No. 1 '!F41+'Revision No. 2'!F41+'Revision No. 3'!F41","v":98527},{"$f":"'Amended ABG Allocation No. 1 '!G41+'Revision No. 2'!G41+'Revision No. 3'!G41","v":20201},{"$f":"'Amended ABG Allocation No. 1 '!H41+'Revision No. 2'!H41+'Revision No. 3'!H41","v":24698},{"$f":"'Amended ABG Allocation No. 1 '!I41+'Revision No. 2'!I41+'Revision No. 3'!I41","v":48433},4462487]
["37",{"$f":"+'Original ABG Allocation'!B42","v":"LUZERNE/WYOMING"},{"$f":"'Amended ABG Allocation No. 1 '!C42+'Revision No. 2'!C42+'Revision No. 3'!C42","v":9360224},{"$f":"'Amended ABG Allocation No. 1 '!D42+'Revision No. 2'!D42+'Revision No. 3'!D42","v":343992},{"$f":"'Original ABG Allocation'!E42+'Revision No. 1'!E42+'Revision No. 2'!E42+'Revision No. 3'!E42","v":282547},{"$f":"'Amended ABG Allocation No. 1 '!F42+'Revision No. 2'!F42+'Revision No. 3'!F42","v":219979},{"$f":"'Amended ABG Allocation No. 1 '!G42+'Revision No. 2'!G42+'Revision No. 3'!G42","v":31720},{"$f":"'Amended ABG Allocation No. 1 '!H42+'Revision No. 2'!H42+'Revision No. 3'!H42","v":54157},{"$f":"'Amended ABG Allocation No. 1 '!I42+'Revision No. 2'!I42+'Revision No. 3'!I42","v":62651},10355270]
["38",{"$f":"+'Original ABG Allocation'!B43","v":"LACKAWANNA"},{"$f":"'Amended ABG Allocation No. 1 '!C43+'Revision No. 2'!C43+'Revision No. 3'!C43","v":5223495},{"$f":"'Amended ABG Allocation No. 1 '!D43+'Revision No. 2'!D43+'Revision No. 3'!D43","v":202907},{"$f":"'Original ABG Allocation'!E43+'Revision No. 1'!E43+'Revision No. 2'!E43+'Revision No. 3'!E43","v":231866},{"$f":"'Amended ABG Allocation No. 1 '!F43+'Revision No. 2'!F43+'Revision No. 3'!F43","v":124839},{"$f":"'Amended ABG Allocation No. 1 '!G43+'Revision No. 2'!G43+'Revision No. 3'!G43","v":18501},{"$f":"'Amended ABG Allocation No. 1 '!H43+'Revision No. 2'!H43+'Revision No. 3'!H43","v":33436},{"$f":"'Amended ABG Allocation No. 1 '!I43+'Revision No. 2'!I43+'Revision No. 3'!I43","v":42257},5877301]
["39",{"$f":"+'Original ABG Allocation'!B44","v":"CARBON"},{"$f":"'Amended ABG Allocation No. 1 '!C44+'Revision No. 2'!C44+'Revision No. 3'!C44","v":1185509},{"$f":"'Amended ABG Allocation No. 1 '!D44+'Revision No. 2'!D44+'Revision No. 3'!D44","v":44213},{"$f":"'Original ABG Allocation'!E44+'Revision No. 1'!E44+'Revision No. 2'!E44+'Revision No. 3'!E44","v":39403},{"$f":"'Amended ABG Allocation No. 1 '!F44+'Revision No. 2'!F44+'Revision No. 3'!F44","v":30903},{"$f":"'Amended ABG Allocation No. 1 '!G44+'Revision No. 2'!G44+'Revision No. 3'!G44","v":10000},{"$f":"'Amended ABG Allocation No. 1 '!H44+'Revision No. 2'!H44+'Revision No. 3'!H44","v":7982},{"$f":"'Amended ABG Allocation No. 1 '!I44+'Revision No. 2'!I44+'Revision No. 3'!I44","v":23256},1341266]
["40",{"$f":"+'Original ABG Allocation'!B45","v":"SCHUYLKILL"},{"$f":"'Amended ABG Allocation No. 1 '!C45+'Revision No. 2'!C45+'Revision No. 3'!C45","v":4568989},{"$f":"'Amended ABG Allocation No. 1 '!D45+'Revision No. 2'!D45+'Revision No. 3'!D45","v":181495},{"$f":"'Original ABG Allocation'!E45+'Revision No. 1'!E45+'Revision No. 2'!E45+'Revision No. 3'!E45","v":156510},{"$f":"'Amended ABG Allocation No. 1 '!F45+'Revision No. 2'!F45+'Revision No. 3'!F45","v":56511},{"$f":"'Amended ABG Allocation No. 1 '!G45+'Revision No. 2'!G45+'Revision No. 3'!G45","v":18478},{"$f":"'Amended ABG Allocation No. 1 '!H45+'Revision No. 2'!H45+'Revision No. 3'!H45","v":29322},{"$f":"'Amended ABG Allocation No. 1 '!I45+'Revision No. 2'!I45+'Revision No. 3'!I45","v":42433},5053738]
["41",{"$f":"+'Original ABG Allocation'!B46","v":"CLEARFIELD"},{"$f":"'Amended ABG Allocation No. 1 '!C46+'Revision No. 2'!C46+'Revision No. 3'!C46","v":2229583},{"$f":"'Amended ABG Allocation No. 1 '!D46+'Revision No. 2'!D46+'Revision No. 3'!D46","v":79676},{"$f":"'Original ABG Allocation'!E46+'Revision No. 1'!E46+'Revision No. 2'!E46+'Revision No. 3'!E46","v":76522},{"$f":"'Amended ABG Allocation No. 1 '!F46+'Revision No. 2'!F46+'Revision No. 3'!F46","v":110249},{"$f":"'Amended ABG Allocation No. 1 '!G46+'Revision No. 2'!G46+'Revision No. 3'!G46","v":11341},{"$f":"'Amended ABG Allocation No. 1 '!H46+'Revision No. 2'!H46+'Revision No. 3'!H46","v":14212},{"$f":"'Amended ABG Allocation No. 1 '!I46+'Revision No. 2'!I46+'Revision No. 3'!I46","v":28506},2550089]
["42",{"$f":"+'Original ABG Allocation'!B47","v":"JEFFERSON"},{"$f":"'Amended ABG Allocation No. 1 '!C47+'Revision No. 2'!C47+'Revision No. 3'!C47","v":1281851},{"$f":"'Amended ABG Allocation No. 1 '!D47+'Revision No. 2'!D47+'Revision No. 3'!D47","v":51609},{"$f":"'Original ABG Allocation'!E47+'Revision No. 1'!E47+'Revision No. 2'!E47+'Revision No. 3'!E47","v":59466},{"$f":"'Amended ABG Allocation No. 1 '!F47+'Revision No. 2'!F47+'Revision No. 3'!F47","v":28079},{"$f":"'Amended ABG Allocation No. 1 '!G47+'Revision No. 2'!G47+'Revision No. 3'!G47","v":10000},{"$f":"'Amended ABG Allocation No. 1 '!H47+'Revision No. 2'!H47+'Revision No. 3'!H47","v":8874},{"$f":"'Amended ABG Allocation No. 1 '!I47+'Revision No. 2'!I47+'Revision No. 3'!I47","v":19041},1458920]
["43",{"$f":"+'Original ABG Allocation'!B48","v":"FOREST/WARREN"},{"$f":"'Amended ABG Allocation No. 1 '!C48+'Revision No. 2'!C48+'Revision No. 3'!C48","v":1026619},{"$f":"'Amended ABG Allocation No. 1 '!D48+'Revision No. 2'!D48+'Revision No. 3'!D48","v":34269},{"$f":"'Original ABG Allocation'!E48+'Revision No. 1'!E48+'Revision No. 2'!E48+'Revision No. 3'!E48","v":30176},{"$f":"'Amended ABG Allocation No. 1 '!F48+'Revision No. 2'!F48+'Revision No. 3'!F48","v":27753},{"$f":"'Amended ABG Allocation No. 1 '!G48+'Revision No. 2'!G48+'Revision No. 3'!G48","v":10000},{"$f":"'Amended ABG Allocation No. 1 '!H48+'Revision No. 2'!H48+'Revision No. 3'!H48","v":7946},{"$f":"'Amended ABG Allocation No. 1 '!I48+'Revision No. 2'!I48+'Revision No. 3'!I48","v":21068},1157831]
["44",{"$f":"+'Original ABG Allocation'!B49","v":"VENANGO"},{"$f":"'Amended ABG Allocation No. 1 '!C49+'Revision No. 2'!C49+'Revision No. 3'!C49","v":1267563},{"$f":"'Amended ABG Allocation No. 1 '!D49+'Revision No. 2'!D49+'Revision No. 3'!D49","v":48574},{"$f":"'Original ABG Allocation'!E49+'Revision No. 1'!E49+'Revision No. 2'!E49+'Revision No. 3'!E49","v":55242},{"$f":"'Amended ABG Allocation No. 1 '!F49+'Revision No. 2'!F49+'Revision No. 3'!F49","v":36107},{"$f":"'Amended ABG Allocation No. 1 '!G49+'Revision No. 2'!G49+'Revision No. 3'!G49","v":10000},{"$f":"'Amended ABG Allocation No. 1 '!H49+'Revision No. 2'!H49+'Revision No. 3'!H49","v":8569},{"$f":"'Amended ABG Allocation No. 1 '!I49+'Revision No. 2'!I49+'Revision No. 3'!I49","v":21935},1447990]
["45",{"$f":"+'Original ABG Allocation'!B50","v":"ARMSTRONG"},{"$f":"'Amended ABG Allocation No. 1 '!C50+'Revision No. 2'!C50+'Revision No. 3'!C50","v":1994604},{"$f":"'Amended ABG Allocation No. 1 '!D50+'Revision No. 2'!D50+'Revision No. 3'!D50","v":75493},{"$f":"'Original ABG Allocation'!E50+'Revision No. 1'!E50+'Revision No. 2'!E50+'Revision No. 3'!E50","v":62026},{"$f":"'Amended ABG Allocation No. 1 '!F50+'Revision No. 2'!F50+'Revision No. 3'!F50","v":71631},{"$f":"'Amended ABG Allocation No. 1 '!G50+'Revision No. 2'!G50+'Revision No. 3'!G50","v":10719},{"$f":"'Amended ABG Allocation No. 1 '!H50+'Revision No. 2'!H50+'Revision No. 3'!H50","v":12115},{"$f":"'Amended ABG Allocation No. 1 '!I50+'Revision No. 2'!I50+'Revision No. 3'!I50","v":26308},2252896]
["46",{"$f":"+'Original ABG Allocation'!B51","v":"LAWRENCE"},{"$f":"'Amended ABG Allocation No. 1 '!C51+'Revision No. 2'!C51+'Revision No. 3'!C51","v":2116483},{"$f":"'Amended ABG Allocation No. 1 '!D51+'Revision No. 2'!D51+'Revision No. 3'!D51","v":79407},{"$f":"'Original ABG Allocation'!E51+'Revision No. 1'!E51+'Revision No. 2'!E51+'Revision No. 3'!E51","v":65793},{"$f":"'Amended ABG Allocation No. 1 '!F51+'Revision No. 2'!F51+'Revision No. 3'!F51","v":43055},{"$f":"'Amended ABG Allocation No. 1 '!G51+'Revision No. 2'!G51+'Revision No. 3'!G51","v":10341},{"$f":"'Amended ABG Allocation No. 1 '!H51+'Revision No. 2'!H51+'Revision No. 3'!H51","v":12981},{"$f":"'Amended ABG Allocation No. 1 '!I51+'Revision No. 2'!I51+'Revision No. 3'!I51","v":26446},2354506]
["47",{"$f":"+'Original ABG Allocation'!B52","v":"MERCER"},{"$f":"'Amended ABG Allocation No. 1 '!C52+'Revision No. 2'!C52+'Revision No. 3'!C52","v":2322893},{"$f":"'Amended ABG Allocation No. 1 '!D52+'Revision No. 2'!D52+'Revision No. 3'!D52","v":80316},{"$f":"'Original ABG Allocation'!E52+'Revision No. 1'!E52+'Revision No. 2'!E52+'Revision No. 3'!E52","v":77331},{"$f":"'Amended ABG Allocation No. 1 '!F52+'Revision No. 2'!F52+'Revision No. 3'!F52","v":41143},{"$f":"'Amended ABG Allocation No. 1 '!G52+'Revision No. 2'!G52+'Revision No. 3'!G52","v":13302},{"$f":"'Amended ABG Allocation No. 1 '!H52+'Revision No. 2'!H52+'Revision No. 3'!H52","v":14661},{"$f":"'Amended ABG Allocation No. 1 '!I52+'Revision No. 2'!I52+'Revision No. 3'!I52","v":31299},2580945]
["48",{"$f":"+'Original ABG Allocation'!B53","v":"MONROE"},{"$f":"'Amended ABG Allocation No. 1 '!C53+'Revision No. 2'!C53+'Revision No. 3'!C53","v":1655963},{"$f":"'Amended ABG Allocation No. 1 '!D53+'Revision No. 2'!D53+'Revision No. 3'!D53","v":46961},{"$f":"'Original ABG Allocation'!E53+'Revision No. 1'!E53+'Revision No. 2'!E53+'Revision No. 3'!E53","v":65227},{"$f":"'Amended ABG Allocation No. 1 '!F53+'Revision No. 2'!F53+'Revision No. 3'!F53","v":37809},{"$f":"'Amended ABG Allocation No. 1 '!G53+'Revision No. 2'!G53+'Revision No. 3'!G53","v":13317},{"$f":"'Amended ABG Allocation No. 1 '!H53+'Revision No. 2'!H53+'Revision No. 3'!H53","v":8435},{"$f":"'Amended ABG Allocation No. 1 '!I53+'Revision No. 2'!I53+'Revision No. 3'!I53","v":42174},1869886]
["49",{"$f":"+'Original ABG Allocation'!B54","v":"CLARION"},{"$f":"'Amended ABG Allocation No. 1 '!C54+'Revision No. 2'!C54+'Revision No. 3'!C54","v":954686},{"$f":"'Amended ABG Allocation No. 1 '!D54+'Revision No. 2'!D54+'Revision No. 3'!D54","v":32868},{"$f":"'Original ABG Allocation'!E54+'Revision No. 1'!E54+'Revision No. 2'!E54+'Revision No. 3'!E54","v":43252},{"$f":"'Amended ABG Allocation No. 1 '!F54+'Revision No. 2'!F54+'Revision No. 3'!F54","v":29696},{"$f":"'Amended ABG Allocation No. 1 '!G54+'Revision No. 2'!G54+'Revision No. 3'!G54","v":10000},{"$f":"'Amended ABG Allocation No. 1 '!H54+'Revision No. 2'!H54+'Revision No. 3'!H54","v":7961},{"$f":"'Amended ABG Allocation No. 1 '!I54+'Revision No. 2'!I54+'Revision No. 3'!I54","v":18749},1097212]
["50",{"$f":"+'Original ABG Allocation'!B55","v":"BUTLER"},{"$f":"'Amended ABG Allocation No. 1 '!C55+'Revision No. 2'!C55+'Revision No. 3'!C55","v":2546870},{"$f":"'Amended ABG Allocation No. 1 '!D55+'Revision No. 2'!D55+'Revision No. 3'!D55","v":104331},{"$f":"'Original ABG Allocation'!E55+'Revision No. 1'!E55+'Revision No. 2'!E55+'Revision No. 3'!E55","v":112372},{"$f":"'Amended ABG Allocation No. 1 '!F55+'Revision No. 2'!F55+'Revision No. 3'!F55","v":40783},{"$f":"'Amended ABG Allocation No. 1 '!G55+'Revision No. 2'!G55+'Revision No. 3'!G55","v":16742},{"$f":"'Amended ABG Allocation No. 1 '!H55+'Revision No. 2'!H55+'Revision No. 3'!H55","v":14150},{"$f":"'Amended ABG Allocation No. 1 '!I55+'Revision No. 2'!I55+'Revision No. 3'!I55","v":38611},2873859]
["51",{"$f":"+'Original ABG Allocation'!B56","v":"POTTER"},{"$f":"'Amended ABG Allocation No. 1 '!C56+'Revision No. 2'!C56+'Revision No. 3'!C56","v":589962},{"$f":"'Amended ABG Allocation No. 1 '!D56+'Revision No. 2'!D56+'Revision No. 3'!D56","v":25400},{"$f":"'Original ABG Allocation'!E56+'Revision No. 1'!E56+'Revision No. 2'!E56+'Revision No. 3'!E56","v":20017},{"$f":"'Amended ABG Allocation No. 1 '!F56+'Revision No. 2'!F56+'Revision No. 3'!F56","v":14811},{"$f":"'Amended ABG Allocation No. 1 '!G56+'Revision No. 2'!G56+'Revision No. 3'!G56","v":10000},{"$f":"'Amended ABG Allocation No. 1 '!H56+'Revision No. 2'!H56+'Revision No. 3'!H56","v":7905},{"$f":"'Amended ABG Allocation No. 1 '!I56+'Revision No. 2'!I56+'Revision No. 3'!I56","v":13351},681446]
["52",{"$f":"+'Original ABG Allocation'!B57","v":"WAYNE"},{"$f":"'Amended ABG Allocation No. 1 '!C57+'Revision No. 2'!C57+'Revision No. 3'!C57","v":1178872},{"$f":"'Amended ABG Allocation No. 1 '!D57+'Revision No. 2'!D57+'Revision No. 3'!D57","v":35500},{"$f":"'Original ABG Allocation'!E57+'Revision No. 1'!E57+'Revision No. 2'!E57+'Revision No. 3'!E57","v":38682},{"$f":"'Amended ABG Allocation No. 1 '!F57+'Revision No. 2'!F57+'Revision No. 3'!F57","v":55047},{"$f":"'Amended ABG Allocation No. 1 '!G57+'Revision No. 2'!G57+'Revision No. 3'!G57","v":10000},{"$f":"'Amended ABG Allocation No. 1 '!H57+'Revision No. 2'!H57+'Revision No. 3'!H57","v":8635},{"$f":"'Amended ABG Allocation No. 1 '!I57+'Revision No. 2'!I57+'Revision No. 3'!I57","v":22788},1349524]
[null,"     TOTALS",{"$f":"SUM(C6:C57)","v":251275475},8761000,9009971,4963443,1078348,1412033,2576957,279077227]

{"sheet":"Regular BG","index":7,"n_rows":59,"n_cols":27,"rows_kept":59,"cut":false,"hidden":false,"merged":[[3,2,3,6],[3,8,3,13],[3,14,3,19],[3,21,3,26]]}
["PDA Allocation Model-"]
[{"$f":"+'Original ABG Allocation'!A3","v":"FY 2022-23"}]
[]
[null,null,"COOPERATIVE AGREEMENT",null,null,null,null,null,"CHANGE NO. 1",null,null,null,null,null,"CHANGE NO. 2",null,null,null,null,null,null,"CHANGE NO. 3"]
[null,null,null,null,null,"Protective",null,null,null,null,null,"Protective","Increase/",null,null,null,null,"Protection",null,"increase/",null,null,null,null,"PROTECTIVE",null,"INCREASE/"]
[null,null,"PENNCARE","Title III","Title VII","Services","TOTAL",null,"PENNCARE","Title III","Title VII","Services","(Decrease)","TOTAL","PENNCARE","TITLE III","TITLE VII","Services","TOTAL","(Decrease)",null,"PENNCARE","TITLE III","TITLE VII","SERVICES","TOTAL","(DECREASE)"]
[{"$f":"+'Original ABG Allocation'!A6","v":"01"},{"$f":"+'Original ABG Allocation'!B6","v":"ERIE"},3689745,683888,12390,25575,{"$f":"SUM(C7:F7)","v":4411598},null,0,null,null,0,{"$f":"SUM(I7:L7)","v":0},{"$f":"G7+I7+J7+K7+L7","v":4411598},0,0,0,0,{"$f":"N7+O7+P7+R7","v":4411598},{"$f":"S7-N7","v":0},null,0,0,0,0,{"$f":"S7+V7+W7+Y7","v":4411598},{"$f":"Z7-S7","v":0}]
[{"$f":"+'Original ABG Allocation'!A7","v":"02"},{"$f":"+'Original ABG Allocation'!B7","v":"CRAWFORD"},1612477,516039,5950,3379,2137845,null,0,null,null,0,{"$f":"SUM(I8:L8)","v":0},{"$f":"G8+I8+J8+K8+L8","v":2137845},0,0,0,0,2137845,0,null,0,0,0,0,{"$f":"S8+V8+W8+Y8","v":2137845},{"$f":"Z8-S8","v":0}]
[{"$f":"+'Original ABG Allocation'!A8","v":"03"},{"$f":"+'Original ABG Allocation'!B8","v":"CAM/ELK/MCKEAN"},1641941,446186,5880,10487,2104494,null,0,null,null,0,0,2104494,0,0,0,0,2104494,0,null,0,0,0,0,2104494,0]
[{"$f":"+'Original ABG Allocation'!A9","v":"04"},{"$f":"+'Original ABG Allocation'!B9","v":"BEAVER"},2831877,610351,9730,20692,3472650,null,0,null,null,0,0,3472650,0,0,0,0,3472650,0,null,0,0,0,0,3472650,0]
[{"$f":"+'Original ABG Allocation'!A10","v":"05"},{"$f":"+'Original ABG Allocation'!B10","v":"INDIANA"},1563651,375848,5390,4898,1949787,null,0,null,null,0,0,1949787,0,0,0,0,1949787,0,null,0,0,0,0,1949787,0]
[{"$f":"+'Original ABG Allocation'!A11","v":"06"},{"$f":"+'Original ABG Allocation'!B11","v":"ALLEGHENY"},23886143,5775469,82180,98082,29841874,null,0,null,null,0,0,29841874,0,0,0,0,29841874,0,null,0,0,0,0,29841874,0]
[{"$f":"+'Original ABG Allocation'!A12","v":"07"},{"$f":"+'Original ABG Allocation'!B12","v":"WESTMORELAND"},6524763,1176238,21630,27737,7750368,null,0,null,null,0,0,7750368,0,0,0,0,7750368,0,null,0,0,0,0,7750368,0]
[{"$f":"+'Original ABG Allocation'!A13","v":"08"},{"$f":"+'Original ABG Allocation'!B13","v":"WASH/FAY/GREENE"},7606759,2859784,29120,15692,10511355,null,0,null,null,0,0,10511355,0,0,0,0,10511355,0,null,0,0,0,0,10511355,0]
[{"$f":"+'Original ABG Allocation'!A14","v":"09"},{"$f":"+'Original ABG Allocation'!B14","v":"SOMERSET"},1959125,356088,6440,5037,2326690,null,0,null,null,0,0,2326690,0,0,0,0,2326690,0,null,0,0,0,0,2326690,0]
[{"$f":"+'Original ABG Allocation'!A15","v":"10"},{"$f":"+'Original ABG Allocation'!B15","v":"CAMBRIA"},3341165,677422,11060,4977,4034624,null,0,null,null,0,0,4034624,0,0,0,0,4034624,0,null,0,0,0,0,4034624,0]
[{"$f":"+'Original ABG Allocation'!A16","v":"11"},{"$f":"+'Original ABG Allocation'!B16","v":"BLAIR"},2253680,490258,8120,11319,2763377,null,0,null,null,0,0,2763377,0,0,0,0,2763377,0,null,0,0,0,0,2763377,0]
[{"$f":"+'Original ABG Allocation'!A17","v":"12"},{"$f":"+'Original ABG Allocation'!B17","v":"BED/FULT/HUNT"},2447032,660953,8750,5248,3121983,null,0,null,null,0,0,3121983,0,0,0,0,3121983,0,null,0,0,0,0,3121983,0]
[{"$f":"+'Original ABG Allocation'!A18","v":"13"},{"$f":"+'Original ABG Allocation'!B18","v":"CENTRE"},1139242,230313,3850,7869,1381274,null,0,null,null,0,0,1381274,0,0,0,0,1381274,0,null,0,0,0,0,1381274,0]
[{"$f":"+'Original ABG Allocation'!A19","v":"14"},{"$f":"+'Original ABG Allocation'!B19","v":"LYCOM/CLINTON"},2510419,630821,8890,9479,3159609,null,0,null,null,0,0,3159609,0,0,0,0,3159609,0,null,0,0,0,0,3159609,0]
[{"$f":"+'Original ABG Allocation'!A20","v":"15"},{"$f":"+'Original ABG Allocation'!B20","v":"COLUM/MONT"},1377171,389299,4900,18243,1789613,null,0,null,null,0,0,1789613,0,0,0,0,1789613,0,null,0,0,0,0,1789613,0]
[{"$f":"+'Original ABG Allocation'!A21","v":"16"},{"$f":"+'Original ABG Allocation'!B21","v":"NORTHUMBERLND"},2380291,553009,8260,13485,2955045,null,0,null,null,0,0,2955045,0,0,0,0,2955045,0,null,0,0,0,0,2955045,0]
[{"$f":"+'Original ABG Allocation'!A22","v":"17"},{"$f":"+'Original ABG Allocation'!B22","v":"UNION/SNYDER"},1072616,210552,3570,9142,1295880,null,0,null,null,0,0,1295880,0,0,0,0,1295880,0,null,0,0,0,0,1295880,0]
[{"$f":"+'Original ABG Allocation'!A23","v":"18"},{"$f":"+'Original ABG Allocation'!B23","v":"MIFF/JUNIATA"},1475983,342740,5040,4203,1827966,null,0,null,null,0,0,1827966,0,0,0,0,1827966,0,null,0,0,0,0,1827966,0]
[{"$f":"+'Original ABG Allocation'!A24","v":"19"},{"$f":"+'Original ABG Allocation'!B24","v":"FRANKLIN"},1803481,614172,6860,11869,2436382,null,0,null,null,0,0,2436382,0,0,0,0,2436382,0,null,0,0,0,0,2436382,0]
[{"$f":"+'Original ABG Allocation'!A25","v":"20"},{"$f":"+'Original ABG Allocation'!B25","v":"ADAMS"},1114136,144146,3500,1664,1263446,null,0,null,null,0,0,1263446,0,0,0,0,1263446,0,null,0,0,0,0,1263446,0]
[{"$f":"+'Original ABG Allocation'!A26","v":"21"},{"$f":"+'Original ABG Allocation'!B26","v":"CUMBERLAND"},1922188,335073,6720,9678,2273659,null,0,null,null,0,0,2273659,0,0,0,0,2273659,0,null,0,0,0,0,2273659,0]
[{"$f":"+'Original ABG Allocation'!A27","v":"22"},{"$f":"+'Original ABG Allocation'!B27","v":"PERRY"},618436,141620,2100,4848,767004,null,0,null,null,0,0,767004,0,0,0,0,767004,0,null,0,0,0,0,767004,0]
[{"$f":"+'Original ABG Allocation'!A28","v":"23"},{"$f":"+'Original ABG Allocation'!B28","v":"DAUPHIN"},3841158,611424,12250,23560,4488392,null,0,null,null,0,0,4488392,0,0,0,0,4488392,0,null,0,0,0,0,4488392,0]
[{"$f":"+'Original ABG Allocation'!A29","v":"24"},{"$f":"+'Original ABG Allocation'!B29","v":"LEBANON"},1583674,338272,5460,7308,1934714,null,0,null,null,0,0,1934714,0,0,0,0,1934714,0,null,0,0,0,0,1934714,0]
[{"$f":"+'Original ABG Allocation'!A30","v":"25"},{"$f":"+'Original ABG Allocation'!B30","v":"YORK"},4426279,898415,14980,24343,5364017,null,0,null,null,0,0,5364017,0,0,0,0,5364017,0,null,0,0,0,0,5364017,0]
[{"$f":"+'Original ABG Allocation'!A31","v":"26"},{"$f":"+'Original ABG Allocation'!B31","v":"LANCASTER"},4730805,803880,15750,58951,5609386,null,0,null,null,0,0,5609386,0,0,0,0,5609386,0,null,0,0,0,0,5609386,0]
[{"$f":"+'Original ABG Allocation'!A32","v":"27"},{"$f":"+'Original ABG Allocation'!B32","v":"CHESTER"},2858046,883017,10640,14788,3766491,null,0,null,null,0,0,3766491,0,0,0,0,3766491,0,null,0,0,0,0,3766491,0]
[{"$f":"+'Original ABG Allocation'!A33","v":"28"},{"$f":"+'Original ABG Allocation'!B33","v":"MONTGOMERY"},7002364,1173613,22400,14521,8212898,null,0,null,null,0,0,8212898,0,0,0,0,8212898,0,null,0,0,0,0,8212898,0]
[{"$f":"+'Original ABG Allocation'!A34","v":"29"},{"$f":"+'Original ABG Allocation'!B34","v":"BUCKS"},4353749,871268,14560,7481,5247058,null,0,null,null,0,0,5247058,0,0,0,0,5247058,0,null,0,0,0,0,5247058,0]
[{"$f":"+'Original ABG Allocation'!A35","v":"30"},{"$f":"+'Original ABG Allocation'!B35","v":"DELAWARE"},7018365,1022367,22260,28933,8091925,null,0,null,null,0,0,8091925,0,0,0,0,8091925,0,null,0,0,0,0,8091925,0]
[{"$f":"+'Original ABG Allocation'!A36","v":"31"},{"$f":"+'Original ABG Allocation'!B36","v":"PHILADELPHIA"},45352171,10343419,155820,174473,{"$f":"SUM(C37:F37)","v":56025883},null,0,null,null,0,0,56025883,0,0,0,0,56025883,0,null,0,0,0,0,56025883,0]
[{"$f":"+'Original ABG Allocation'!A37","v":"32"},{"$f":"+'Original ABG Allocation'!B37","v":"BERKS"},4995757,965143,17080,26504,6004484,null,0,null,null,0,0,6004484,0,0,0,0,6004484,0,null,0,0,0,0,6004484,0]
[{"$f":"+'Original ABG Allocation'!A38","v":"33"},{"$f":"+'Original ABG Allocation'!B38","v":"LEHIGH"},3530748,1100277,13090,10417,{"$f":"SUM(C39:F39)","v":4654532},null,0,null,null,0,0,4654532,0,0,0,0,{"$f":"N39+O39+P39+R39","v":4654532},{"$f":"S39-N39","v":0},null,0,0,0,0,4654532,0]
[{"$f":"+'Original ABG Allocation'!A39","v":"34"},{"$f":"+'Original ABG Allocation'!B39","v":"NORTHAMPTON"},3301882,760926,11340,13206,4087354,null,0,null,null,0,0,4087354,0,0,0,0,4087354,0,null,0,0,0,0,4087354,0]
[{"$f":"+'Original ABG Allocation'!A40","v":"35"},{"$f":"+'Original ABG Allocation'!B40","v":"PIKE"},612432,96819,2030,3172,714453,null,0,null,null,0,0,714453,0,0,0,0,714453,0,null,0,0,0,0,714453,0]
[{"$f":"+'Original ABG Allocation'!A41","v":"36"},{"$f":"+'Original ABG Allocation'!B41","v":"B/S/S/T"},3343412,623035,11130,15622,3993199,null,0,null,null,0,0,3993199,0,0,0,0,3993199,0,null,0,0,0,0,3993199,0]
[{"$f":"+'Original ABG Allocation'!A42","v":"37"},{"$f":"+'Original ABG Allocation'!B42","v":"LUZERNE/WYOMING"},7460274,1838800,25970,35180,9360224,null,0,null,null,0,0,9360224,0,0,0,0,9360224,0,null,0,0,0,0,9360224,0]
[{"$f":"+'Original ABG Allocation'!A43","v":"38"},{"$f":"+'Original ABG Allocation'!B43","v":"LACKAWANNA"},4248720,948576,14630,11569,5223495,null,0,null,null,0,0,5223495,0,0,0,0,5223495,0,null,0,0,0,0,5223495,0]
[{"$f":"+'Original ABG Allocation'!A44","v":"39"},{"$f":"+'Original ABG Allocation'!B44","v":"CARBON"},1000905,179642,3290,1672,1185509,null,0,null,null,0,0,1185509,0,0,0,0,1185509,0,null,0,0,0,0,1185509,0]
[{"$f":"+'Original ABG Allocation'!A45","v":"40"},{"$f":"+'Original ABG Allocation'!B45","v":"SCHUYLKILL"},4036510,512432,12950,7097,4568989,null,0,null,null,0,0,4568989,0,0,0,0,4568989,0,null,0,0,0,0,4568989,0]
[{"$f":"+'Original ABG Allocation'!A46","v":"41"},{"$f":"+'Original ABG Allocation'!B46","v":"CLEARFIELD"},1870070,348823,6160,4530,2229583,null,0,null,null,0,0,2229583,0,0,0,0,2229583,0,null,0,0,0,0,2229583,0]
[{"$f":"+'Original ABG Allocation'!A47","v":"42"},{"$f":"+'Original ABG Allocation'!B47","v":"JEFFERSON"},972219,301880,3710,4042,1281851,null,0,null,null,0,0,1281851,0,0,0,0,1281851,0,null,0,0,0,0,1281851,0]
[{"$f":"+'Original ABG Allocation'!A48","v":"43"},{"$f":"+'Original ABG Allocation'!B48","v":"FOREST/WARREN"},753191,266716,2940,3772,1026619,null,0,null,null,0,0,1026619,0,0,0,0,1026619,0,null,0,0,0,0,1026619,0]
[{"$f":"+'Original ABG Allocation'!A49","v":"44"},{"$f":"+'Original ABG Allocation'!B49","v":"VENANGO"},1079472,178955,3500,5636,1267563,null,0,null,null,0,0,1267563,0,0,0,0,1267563,0,null,0,0,0,0,1267563,0]
[{"$f":"+'Original ABG Allocation'!A50","v":"45"},{"$f":"+'Original ABG Allocation'!B50","v":"ARMSTRONG"},1577423,402842,5670,8669,1994604,null,0,null,null,0,0,1994604,0,0,0,0,1994604,0,null,0,0,0,0,1994604,0]
[{"$f":"+'Original ABG Allocation'!A51","v":"46"},{"$f":"+'Original ABG Allocation'!B51","v":"LAWRENCE"},1631216,475163,5950,4154,2116483,null,0,null,null,0,0,2116483,0,0,0,0,2116483,0,null,0,0,0,0,2116483,0]
[{"$f":"+'Original ABG Allocation'!A52","v":"47"},{"$f":"+'Original ABG Allocation'!B52","v":"MERCER"},1843078,468578,6510,4727,2322893,null,0,null,null,0,0,2322893,0,0,0,0,2322893,0,null,0,0,0,0,2322893,0]
[{"$f":"+'Original ABG Allocation'!A53","v":"48"},{"$f":"+'Original ABG Allocation'!B53","v":"MONROE"},1319721,327059,4760,4423,1655963,null,0,null,null,0,0,1655963,0,0,0,0,1655963,0,null,0,0,0,0,1655963,0]
[{"$f":"+'Original ABG Allocation'!A54","v":"49"},{"$f":"+'Original ABG Allocation'!B54","v":"CLARION"},734688,213617,2730,3651,954686,null,0,null,null,0,0,954686,0,0,0,0,954686,0,null,0,0,0,0,954686,0]
[{"$f":"+'Original ABG Allocation'!A55","v":"50"},{"$f":"+'Original ABG Allocation'!B55","v":"BUTLER"},1940067,590967,7140,8696,2546870,null,0,null,null,0,0,2546870,0,0,0,0,2546870,0,null,null,0,0,0,2546870,0]
[{"$f":"+'Original ABG Allocation'!A56","v":"51"},{"$f":"+'Original ABG Allocation'!B56","v":"POTTER"},445802,133993,1680,8487,589962,null,0,null,null,0,0,589962,0,0,0,0,589962,0,null,0,0,0,0,589962,0]
[{"$f":"+'Original ABG Allocation'!A57","v":"52"},{"$f":"+'Original ABG Allocation'!B57","v":"WAYNE"},996956,174813,3290,3813,1178872,null,0,null,null,0,0,1178872,0,0,0,0,1178872,0,null,0,0,0,0,1178872,0]
[null,"     TOTALS",{"$f":"SUM(C7:C58)","v":203633475},{"$f":"SUM(D7:D58)","v":46075000},{"$f":"SUM(E7:E58)","v":700000},{"$f":"SUM(F7:F58)","v":867000},{"$f":"SUM(G7:G58)","v":251275475},null,{"$f":"SUM(I7:I58)","v":0},{"$f":"SUM(J7:J58)","v":0},{"$f":"SUM(K7:K58)","v":0},0,{"$f":"SUM(M7:M58)","v":0},251275475,0,{"$f":"SUM(P7:P58)","v":0},null,0,251275475,0,null,{"$f":"SUM(V7:V58)","v":0},0,0,0,251275475,0]

{"sheet":"Caregiver Support","index":8,"n_rows":59,"n_cols":12,"rows_kept":59,"cut":false,"hidden":false,"merged":[[3,7,3,8],[3,10,3,11],[3,4,3,5]]}
["PDA Allocation Model-",null,"Caregiver Support"]
[{"$f":"+'Original ABG Allocation'!A3","v":"FY 2022-23"}]
[]
[null,null,"COOPERATIVE ",null,"CHANGE NO. 1",null,null,"CHANGE NO. 2",null,null,"CHANGE NO. 3"]
[null,null,"AGREEMENT",null,"Increase/"]
[null,null,null,null,"(Decrease","TOTAL",null,"Increase/","Revised",null,"INCREASE/","REVISED"]
[{"$f":"+'Original ABG Allocation'!A6","v":"01"},{"$f":"+'Original ABG Allocation'!B6","v":"ERIE"},{"$f":"+'Original ABG Allocation'!D6","v":156011},null,0,0,null,0,{"$f":"F7+H7","v":0},null,0,{"$f":"I7+K7","v":0}]
[{"$f":"+'Original ABG Allocation'!A7","v":"02"},{"$f":"+'Original ABG Allocation'!B7","v":"CRAWFORD"},{"$f":"+'Original ABG Allocation'!D7","v":94962},null,0,0,null,0,{"$f":"F8+H8","v":0},null,0,0]
[{"$f":"+'Original ABG Allocation'!A8","v":"03"},{"$f":"+'Original ABG Allocation'!B8","v":"CAM/ELK/MCKEAN"},{"$f":"+'Original ABG Allocation'!D8","v":104392},null,0,0,null,0,0,null,0,0]
[{"$f":"+'Original ABG Allocation'!A9","v":"04"},{"$f":"+'Original ABG Allocation'!B9","v":"BEAVER"},{"$f":"+'Original ABG Allocation'!D9","v":120693},null,0,0,null,0,0,null,0,0]
[{"$f":"+'Original ABG Allocation'!A10","v":"05"},{"$f":"+'Original ABG Allocation'!B10","v":"INDIANA"},{"$f":"+'Original ABG Allocation'!D10","v":72332},null,0,0,null,0,0,null,0,0]
[{"$f":"+'Original ABG Allocation'!A11","v":"06"},{"$f":"+'Original ABG Allocation'!B11","v":"ALLEGHENY"},{"$f":"+'Original ABG Allocation'!D11","v":1024598},null,0,0,null,0,0,null,0,0]
[{"$f":"+'Original ABG Allocation'!A12","v":"07"},{"$f":"+'Original ABG Allocation'!B12","v":"WESTMORELAND"},{"$f":"+'Original ABG Allocation'!D12","v":279704},null,0,0,null,0,0,null,0,0]
[{"$f":"+'Original ABG Allocation'!A13","v":"08"},{"$f":"+'Original ABG Allocation'!B13","v":"WASH/FAY/GREENE"},{"$f":"+'Original ABG Allocation'!D13","v":393598},null,0,0,null,0,0,null,0,0]
[{"$f":"+'Original ABG Allocation'!A14","v":"09"},{"$f":"+'Original ABG Allocation'!B14","v":"SOMERSET"},{"$f":"+'Original ABG Allocation'!D14","v":81631},null,0,0,null,0,0,null,0,0]
[{"$f":"+'Original ABG Allocation'!A15","v":"10"},{"$f":"+'Original ABG Allocation'!B15","v":"CAMBRIA"},{"$f":"+'Original ABG Allocation'!D15","v":140343},null,0,0,null,0,0,null,0,0]
[{"$f":"+'Original ABG Allocation'!A16","v":"11"},{"$f":"+'Original ABG Allocation'!B16","v":"BLAIR"},{"$f":"+'Original ABG Allocation'!D16","v":114081},null,0,0,null,0,0,null,0,0]
[{"$f":"+'Original ABG Allocation'!A17","v":"12"},{"$f":"+'Original ABG Allocation'!B17","v":"BED/FULT/HUNT"},{"$f":"+'Original ABG Allocation'!D17","v":120022},null,0,0,null,0,0,null,0,0]
[{"$f":"+'Original ABG Allocation'!A18","v":"13"},{"$f":"+'Original ABG Allocation'!B18","v":"CENTRE"},{"$f":"+'Original ABG Allocation'!D18","v":45132},null,0,0,null,0,0,null,0,0]
[{"$f":"+'Original ABG Allocation'!A19","v":"14"},{"$f":"+'Original ABG Allocation'!B19","v":"LYCOM/CLINTON"},{"$f":"+'Original ABG Allocation'!D19","v":117392},null,0,0,null,0,0,null,0,0]
[{"$f":"+'Original ABG Allocation'!A20","v":"15"},{"$f":"+'Original ABG Allocation'!B20","v":"COLUM/MONT"},{"$f":"+'Original ABG Allocation'!D20","v":66474},null,0,0,null,0,0,null,0,0]
[{"$f":"+'Original ABG Allocation'!A21","v":"16"},{"$f":"+'Original ABG Allocation'!B21","v":"NORTHUMBERLND"},{"$f":"+'Original ABG Allocation'!D21","v":122953},null,0,0,null,0,0,null,0,0]
[{"$f":"+'Original ABG Allocation'!A22","v":"17"},{"$f":"+'Original ABG Allocation'!B22","v":"UNION/SNYDER"},{"$f":"+'Original ABG Allocation'!D22","v":41818},null,0,0,null,0,0,null,0,0]
[{"$f":"+'Original ABG Allocation'!A23","v":"18"},{"$f":"+'Original ABG Allocation'!B23","v":"MIFF/JUNIATA"},{"$f":"+'Original ABG Allocation'!D23","v":64859},null,0,0,null,0,0,null,0,0]
[{"$f":"+'Original ABG Allocation'!A24","v":"19"},{"$f":"+'Original ABG Allocation'!B24","v":"FRANKLIN"},{"$f":"+'Original ABG Allocation'!D24","v":83393},null,0,0,null,0,0,null,0,0]
[{"$f":"+'Original ABG Allocation'!A25","v":"20"},{"$f":"+'Original ABG Allocation'!B25","v":"ADAMS"},{"$f":"+'Original ABG Allocation'!D25","v":39383},null,0,0,null,0,0,null,0,0]
[{"$f":"+'Original ABG Allocation'!A26","v":"21"},{"$f":"+'Original ABG Allocation'!B26","v":"CUMBERLAND"},{"$f":"+'Original ABG Allocation'!D26","v":80733},null,0,0,null,0,0,null,0,0]
[{"$f":"+'Original ABG Allocation'!A27","v":"22"},{"$f":"+'Original ABG Allocation'!B27","v":"PERRY"},{"$f":"+'Original ABG Allocation'!D27","v":25396},null,0,0,null,0,0,null,0,0]
[{"$f":"+'Original ABG Allocation'!A28","v":"23"},{"$f":"+'Original ABG Allocation'!B28","v":"DAUPHIN"},{"$f":"+'Original ABG Allocation'!D28","v":171730},null,0,0,null,0,0,null,0,0]
[{"$f":"+'Original ABG Allocation'!A29","v":"24"},{"$f":"+'Original ABG Allocation'!B29","v":"LEBANON"},{"$f":"+'Original ABG Allocation'!D29","v":68543},null,0,0,null,0,0,null,0,0]
[{"$f":"+'Original ABG Allocation'!A30","v":"25"},{"$f":"+'Original ABG Allocation'!B30","v":"YORK"},{"$f":"+'Original ABG Allocation'!D30","v":199228},null,0,0,null,0,0,null,0,0]
[{"$f":"+'Original ABG Allocation'!A31","v":"26"},{"$f":"+'Original ABG Allocation'!B31","v":"LANCASTER"},{"$f":"+'Original ABG Allocation'!D31","v":198436},null,0,0,null,0,0,null,0,0]
[{"$f":"+'Original ABG Allocation'!A32","v":"27"},{"$f":"+'Original ABG Allocation'!B32","v":"CHESTER"},{"$f":"+'Original ABG Allocation'!D32","v":114753},null,0,0,null,0,0,null,0,0]
[{"$f":"+'Original ABG Allocation'!A33","v":"28"},{"$f":"+'Original ABG Allocation'!B33","v":"MONTGOMERY"},{"$f":"+'Original ABG Allocation'!D33","v":236029},null,0,0,null,0,0,null,0,0]
[{"$f":"+'Original ABG Allocation'!A34","v":"29"},{"$f":"+'Original ABG Allocation'!B34","v":"BUCKS"},{"$f":"+'Original ABG Allocation'!D34","v":206856},null,0,0,null,0,0,null,0,0]
[{"$f":"+'Original ABG Allocation'!A35","v":"30"},{"$f":"+'Original ABG Allocation'!B35","v":"DELAWARE"},{"$f":"+'Original ABG Allocation'!D35","v":278240},null,0,0,null,0,0,null,0,0]
[{"$f":"+'Original ABG Allocation'!A36","v":"31"},{"$f":"+'Original ABG Allocation'!B36","v":"PHILADELPHIA"},{"$f":"+'Original ABG Allocation'!D36","v":1702584},null,0,0,null,0,0,null,0,0]
[{"$f":"+'Original ABG Allocation'!A37","v":"32"},{"$f":"+'Original ABG Allocation'!B37","v":"BERKS"},{"$f":"+'Original ABG Allocation'!D37","v":235166},null,0,0,null,0,0,null,0,0]
[{"$f":"+'Original ABG Allocation'!A38","v":"33"},{"$f":"+'Original ABG Allocation'!B38","v":"LEHIGH"},{"$f":"+'Original ABG Allocation'!D38","v":172458},null,0,0,null,0,0,null,0,0]
[{"$f":"+'Original ABG Allocation'!A39","v":"34"},{"$f":"+'Original ABG Allocation'!B39","v":"NORTHAMPTON"},{"$f":"+'Original ABG Allocation'!D39","v":153486},null,0,0,null,0,0,null,0,0]
[{"$f":"+'Original ABG Allocation'!A40","v":"35"},{"$f":"+'Original ABG Allocation'!B40","v":"PIKE"},{"$f":"+'Original ABG Allocation'!D40","v":25399},null,0,0,null,0,0,null,0,0]
[{"$f":"+'Original ABG Allocation'!A41","v":"36"},{"$f":"+'Original ABG Allocation'!B41","v":"B/S/S/T"},{"$f":"+'Original ABG Allocation'!D41","v":141181},null,0,0,null,0,0,null,0,0]
[{"$f":"+'Original ABG Allocation'!A42","v":"37"},{"$f":"+'Original ABG Allocation'!B42","v":"LUZERNE/WYOMING"},{"$f":"+'Original ABG Allocation'!D42","v":343992},null,0,0,null,0,0,null,0,0]
[{"$f":"+'Original ABG Allocation'!A43","v":"38"},{"$f":"+'Original ABG Allocation'!B43","v":"LACKAWANNA"},{"$f":"+'Original ABG Allocation'!D43","v":202907},null,0,0,null,0,0,null,0,0]
[{"$f":"+'Original ABG Allocation'!A44","v":"39"},{"$f":"+'Original ABG Allocation'!B44","v":"CARBON"},{"$f":"+'Original ABG Allocation'!D44","v":44213},null,0,0,null,0,0,null,0,0]
[{"$f":"+'Original ABG Allocation'!A45","v":"40"},{"$f":"+'Original ABG Allocation'!B45","v":"SCHUYLKILL"},{"$f":"+'Original ABG Allocation'!D45","v":181495},null,0,0,null,0,0,null,0,0]
[{"$f":"+'Original ABG Allocation'!A46","v":"41"},{"$f":"+'Original ABG Allocation'!B46","v":"CLEARFIELD"},{"$f":"+'Original ABG Allocation'!D46","v":79676},null,0,0,null,0,0,null,0,0]
[{"$f":"+'Original ABG Allocation'!A47","v":"42"},{"$f":"+'Original ABG Allocation'!B47","v":"JEFFERSON"},{"$f":"+'Original ABG Allocation'!D47","v":51609},null,0,0,null,0,0,null,0,0]
[{"$f":"+'Original ABG Allocation'!A48","v":"43"},{"$f":"+'Original ABG Allocation'!B48","v":"FOREST/WARREN"},{"$f":"+'Original ABG Allocation'!D48","v":34269},null,0,0,null,0,0,null,0,0]
[{"$f":"+'Original ABG Allocation'!A49","v":"44"},{"$f":"+'Original ABG Allocation'!B49","v":"VENANGO"},{"$f":"+'Original ABG Allocation'!D49","v":48574},null,0,0,null,0,0,null,0,0]
[{"$f":"+'Original ABG Allocation'!A50","v":"45"},{"$f":"+'Original ABG Allocation'!B50","v":"ARMSTRONG"},{"$f":"+'Original ABG Allocation'!D50","v":75493},null,0,0,null,0,0,null,0,0]
[{"$f":"+'Original ABG Allocation'!A51","v":"46"},{"$f":"+'Original ABG Allocation'!B51","v":"LAWRENCE"},{"$f":"+'Original ABG Allocation'!D51","v":79407},null,0,0,null,0,0,null,0,0]
[{"$f":"+'Original ABG Allocation'!A52","v":"47"},{"$f":"+'Original ABG Allocation'!B52","v":"MERCER"},{"$f":"+'Original ABG Allocation'!D52","v":80316},null,0,0,null,0,0,null,0,0]
[{"$f":"+'Original ABG Allocation'!A53","v":"48"},{"$f":"+'Original ABG Allocation'!B53","v":"MONROE"},{"$f":"+'Original ABG Allocation'!D53","v":46961},null,0,0,null,0,0,null,0,0]
[{"$f":"+'Original ABG Allocation'!A54","v":"49"},{"$f":"+'Original ABG Allocation'!B54","v":"CLARION"},{"$f":"+'Original ABG Allocation'!D54","v":32868},null,0,0,null,0,0,null,0,0]
[{"$f":"+'Original ABG Allocation'!A55","v":"50"},{"$f":"+'Original ABG Allocation'!B55","v":"BUTLER"},{"$f":"+'Original ABG Allocation'!D55","v":104331},null,0,0,null,0,0,null,0,0]
[{"$f":"+'Original ABG Allocation'!A56","v":"51"},{"$f":"+'Original ABG Allocation'!B56","v":"POTTER"},{"$f":"+'Original ABG Allocation'!D56","v":25400},null,0,0,null,0,0,null,0,0]
[{"$f":"+'Original ABG Allocation'!A57","v":"52"},{"$f":"+'Original ABG Allocation'!B57","v":"WAYNE"},{"$f":"+'Original ABG Allocation'!D57","v":35500},null,0,0,null,0,0,null,0,0]
[null,"     TOTALS",{"$f":"SUM(C7:C58)","v":8761000},null,{"$f":"SUM(E7:E58)","v":0},{"$f":"SUM(F7:F58)","v":0},null,{"$f":"SUM(H7:H58)","v":0},{"$f":"SUM(I7:I58)","v":0},null,{"$f":"SUM(K7:K58)","v":0},{"$f":"SUM(L7:L58)","v":0}]

{"sheet":"Federal Caregiver Support","index":9,"n_rows":61,"n_cols":27,"rows_kept":61,"cut":false,"hidden":false,"merged":[[0,2,0,5],[2,2,2,4],[2,6,2,11],[2,14,2,19],[2,21,2,26]]}
["PDA Allocation Model-",null,"Federal Caregiver Support"]
[{"$f":"+'Original ABG Allocation'!A3","v":"FY 2022-23"}]
[null,null,"Cooperative Agreement",null,null,null,"CHANGE NO. 1",null,null,null,null,null,null,null,"CHANGE NO. 2",null,null,null,null,null,null,"CHANGE NO. 3"]
[null,null,"Federal ","State"," ",null,"Federal","State Match","Total","Federal ","State",null,null,null,"FEDERAL","MATCH","TOTAL","FEDERAL","FAMILY"," ",null,"FEDERAL","MATCH","TOTAL","FEDERAL","FAMILY"," "]
[null,null,"Caregiver","Caregiver"," ",null,"Increase/","Increase/","Increase/","Caregiver","Caregiver",null,null,null,"INCREASE/","INCREASE/","INCREASE/","FAMILY","CAREGIVER"," ",null,"INCREASE/","INCREASE/","INCREASE/","FAMILY","CAREGIVER"," "]
[null,null,"Support","Match","TOTAL",null,"Decrease ","Decrease","Decrease","Support","Match","TOTAL",null,null,"(DECREASE)","(DECREASE)","(DECREASE)","CAREGIVER","MATCH","TOTAL",null,"(DECREASE)","(DECREASE)","(DECREASE)","CAREGIVER","MATCH","TOTAL"]
[{"$f":"+'Original ABG Allocation'!A6","v":"01"},{"$f":"+'Original ABG Allocation'!B6","v":"ERIE"},{"$f":"E7-D7","v":101075},{"$f":"ROUND((E7*0.25),0)-1","v":33691},{"$f":"+'Original ABG Allocation'!E6","v":134766},null,0,0,{"$f":"SUM(G7:H7)","v":0},{"$f":"C7+G7","v":101075},{"$f":"D7+H7","v":33691},{"$f":"E7+I7","v":134766},null,null,0,0,{"$f":"SUM(O7:P7)","v":0},0,0,{"$f":"+L7+O7+P7+Q7+R7+S7","v":134766},null,0,0,{"$f":"SUM(V7:W7)","v":0},{"$f":"R7+V7","v":0},{"$f":"S7+W7","v":0},{"$f":"Y7+Z7","v":0}]
[{"$f":"+'Original ABG Allocation'!A7","v":"02"},{"$f":"+'Original ABG Allocation'!B7","v":"CRAWFORD"},{"$f":"E8-D8","v":41736},{"$f":"ROUND((E8*0.25),0)","v":13912},{"$f":"+'Original ABG Allocation'!E7","v":55648},null,0,0,0,{"$f":"C8+G8","v":41736},{"$f":"D8+H8","v":13912},{"$f":"E8+I8","v":55648},null,null,0,0,0,0,0,{"$f":"+L8+O8+P8+Q8+R8+S8","v":55648},null,0,0,0,{"$f":"R8+V8","v":0},{"$f":"S8+W8","v":0},{"$f":"Y8+Z8","v":0}]
[{"$f":"+'Original ABG Allocation'!A8","v":"03"},{"$f":"+'Original ABG Allocation'!B8","v":"CAM/ELK/MCKEAN"},{"$f":"E9-D9","v":52168},17389,{"$f":"+'Original ABG Allocation'!E8","v":69557},null,0,0,0,52168,{"$f":"D9+H9","v":17389},69557,null,null,0,0,0,0,0,69557,null,0,0,0,{"$f":"R9+V9","v":0},{"$f":"S9+W9","v":0},0]
[{"$f":"+'Original ABG Allocation'!A9","v":"04"},{"$f":"+'Original ABG Allocation'!B9","v":"BEAVER"},86400,28800,{"$f":"+'Original ABG Allocation'!E9","v":115200},null,0,0,0,86400,{"$f":"D10+H10","v":28800},115200,null,null,0,0,0,0,0,115200,null,0,0,0,0,0,0]
[{"$f":"+'Original ABG Allocation'!A10","v":"05"},{"$f":"+'Original ABG Allocation'!B10","v":"INDIANA"},49408,16469,{"$f":"+'Original ABG Allocation'!E10","v":65877},null,0,0,0,49408,{"$f":"D11+H11","v":16469},65877,null,null,0,0,0,0,0,65877,null,0,0,0,0,0,0]
[{"$f":"+'Original ABG Allocation'!A11","v":"06"},{"$f":"+'Original ABG Allocation'!B11","v":"ALLEGHENY"},770519,256840,{"$f":"+'Original ABG Allocation'!E11","v":1027359},null,0,0,0,770519,{"$f":"D12+H12","v":256840},1027359,null,null,0,0,0,0,0,1027359,null,0,0,0,0,0,0]
[{"$f":"+'Original ABG Allocation'!A12","v":"07"},{"$f":"+'Original ABG Allocation'!B12","v":"WESTMORELAND"},186904,62301,{"$f":"+'Original ABG Allocation'!E12","v":249205},null,0,0,0,{"$f":"C13+G13","v":186904},{"$f":"D13+H13","v":62301},249205,null,null,0,0,0,0,0,249205,null,0,0,0,0,0,0]
[{"$f":"+'Original ABG Allocation'!A13","v":"08"},{"$f":"+'Original ABG Allocation'!B13","v":"WASH/FAY/GREENE"},401229,133743,{"$f":"+'Original ABG Allocation'!E13","v":534972},null,0,0,0,401229,133743,534972,null,null,0,0,0,0,0,534972,null,0,0,0,0,0,0]
[{"$f":"+'Original ABG Allocation'!A14","v":"09"},{"$f":"+'Original ABG Allocation'!B14","v":"SOMERSET"},69935,{"$f":"ROUND((E15*0.25),0)-1","v":23311},{"$f":"+'Original ABG Allocation'!E14","v":93246},null,0,0,0,69935,23311,93246,null,null,0,0,0,0,0,93246,null,0,0,0,0,0,0]
[{"$f":"+'Original ABG Allocation'!A15","v":"10"},{"$f":"+'Original ABG Allocation'!B15","v":"CAMBRIA"},100335,33445,{"$f":"+'Original ABG Allocation'!E15","v":133780},null,0,0,0,100335,33445,133780,null,null,0,0,0,0,0,133780,null,0,0,0,0,0,0]
[{"$f":"+'Original ABG Allocation'!A16","v":"11"},{"$f":"+'Original ABG Allocation'!B16","v":"BLAIR"},82263,{"$f":"ROUND((E17*0.25),0)-1","v":27420},{"$f":"+'Original ABG Allocation'!E16","v":109683},null,0,0,0,82263,27420,109683,null,null,0,0,0,0,0,109683,null,0,0,0,0,0,0]
[{"$f":"+'Original ABG Allocation'!A17","v":"12"},{"$f":"+'Original ABG Allocation'!B17","v":"BED/FULT/HUNT"},79563,26521,{"$f":"+'Original ABG Allocation'!E17","v":106084},null,0,0,0,79563,26521,106084,null,null,0,0,0,0,0,106084,null,0,0,0,0,0,0]
[{"$f":"+'Original ABG Allocation'!A18","v":"13"},{"$f":"+'Original ABG Allocation'!B18","v":"CENTRE"},27099,{"$f":"ROUND((E19*0.25),0)-1","v":9032},{"$f":"+'Original ABG Allocation'!E18","v":36131},null,0,0,0,27099,9032,36131,null,null,0,0,0,0,0,36131,null,0,0,0,0,0,0]
[{"$f":"+'Original ABG Allocation'!A19","v":"14"},{"$f":"+'Original ABG Allocation'!B19","v":"LYCOM/CLINTON"},73839,24613,{"$f":"+'Original ABG Allocation'!E19","v":98452},null,0,0,0,73839,24613,98452,null,null,0,0,{"$f":"SUM(O20:P20)","v":0},0,0,98452,null,0,0,{"$f":"SUM(V20:W20)","v":0},0,0,0]
[{"$f":"+'Original ABG Allocation'!A20","v":"15"},{"$f":"+'Original ABG Allocation'!B20","v":"COLUM/MONT"},39995,{"$f":"ROUND((E21*0.25),0)-1","v":13331},{"$f":"+'Original ABG Allocation'!E20","v":53326},null,0,0,0,39995,13331,53326,null,null,0,0,{"$f":"SUM(O21:P21)","v":0},0,0,53326,null,0,0,{"$f":"SUM(V21:W21)","v":0},0,0,0]
[{"$f":"+'Original ABG Allocation'!A21","v":"16"},{"$f":"+'Original ABG Allocation'!B21","v":"NORTHUMBERLND"},81843,{"$f":"ROUND((E22*0.25),0)-1","v":27280},{"$f":"+'Original ABG Allocation'!E21","v":109123},null,0,0,0,81843,27280,109123,null,null,0,0,0,0,0,109123,null,0,0,0,0,0,0]
[{"$f":"+'Original ABG Allocation'!A22","v":"17"},{"$f":"+'Original ABG Allocation'!B22","v":"UNION/SNYDER"},29091,9697,{"$f":"+'Original ABG Allocation'!E22","v":38788},null,0,0,0,29091,9697,38788,null,null,0,0,0,0,0,38788,null,0,0,0,0,0,0]
[{"$f":"+'Original ABG Allocation'!A23","v":"18"},{"$f":"+'Original ABG Allocation'!B23","v":"MIFF/JUNIATA"},55583,18528,{"$f":"+'Original ABG Allocation'!E23","v":74111},null,0,0,0,55583,18528,74111,null,null,0,0,0,0,0,74111,null,0,0,0,0,0,0]
[{"$f":"+'Original ABG Allocation'!A24","v":"19"},{"$f":"+'Original ABG Allocation'!B24","v":"FRANKLIN"},58599,{"$f":"ROUND((E25*0.25),0)-1","v":19532},{"$f":"+'Original ABG Allocation'!E24","v":78131},null,0,0,0,58599,19532,78131,null,null,0,0,0,0,0,78131,null,0,0,0,0,0,0]
[{"$f":"+'Original ABG Allocation'!A25","v":"20"},{"$f":"+'Original ABG Allocation'!B25","v":"ADAMS"},24336,8112,{"$f":"+'Original ABG Allocation'!E25","v":32448},null,0,0,0,24336,8112,32448,null,null,0,0,0,0,0,32448,null,0,0,0,0,0,0]
[{"$f":"+'Original ABG Allocation'!A26","v":"21"},{"$f":"+'Original ABG Allocation'!B26","v":"CUMBERLAND"},42963,14321,{"$f":"+'Original ABG Allocation'!E26","v":57284},null,0,0,0,42963,14321,57284,null,null,0,0,0,0,0,57284,null,0,0,0,0,0,0]
[{"$f":"+'Original ABG Allocation'!A27","v":"22"},{"$f":"+'Original ABG Allocation'!B27","v":"PERRY"},17991,5997,{"$f":"+'Original ABG Allocation'!E27","v":23988},null,0,0,0,17991,5997,23988,null,null,0,0,0,0,0,23988,null,0,0,0,0,0,0]
[{"$f":"+'Original ABG Allocation'!A28","v":"23"},{"$f":"+'Original ABG Allocation'!B28","v":"DAUPHIN"},95756,31919,{"$f":"+'Original ABG Allocation'!E28","v":127675},null,0,0,0,95756,31919,127675,null,null,0,0,0,0,0,127675,null,0,0,0,0,0,0]
[{"$f":"+'Original ABG Allocation'!A29","v":"24"},{"$f":"+'Original ABG Allocation'!B29","v":"LEBANON"},42405,{"$f":"ROUND((E30*0.25),0)-1","v":14134},{"$f":"+'Original ABG Allocation'!E29","v":56539},null,0,0,0,42405,14134,56539,null,null,0,0,0,0,0,56539,null,0,0,0,0,0,0]
[{"$f":"+'Original ABG Allocation'!A30","v":"25"},{"$f":"+'Original ABG Allocation'!B30","v":"YORK"},99791,{"$f":"ROUND((E31*0.25),0)-1","v":33263},{"$f":"+'Original ABG Allocation'!E30","v":133054},null,0,0,0,99791,33263,133054,null,null,0,0,0,0,0,133054,null,0,0,0,0,0,0]
[{"$f":"+'Original ABG Allocation'!A31","v":"26"},{"$f":"+'Original ABG Allocation'!B31","v":"LANCASTER"},123724,41241,{"$f":"+'Original ABG Allocation'!E31","v":164965},null,0,0,0,123724,41241,164965,null,null,0,0,0,0,0,164965,null,0,0,0,0,0,0]
[{"$f":"+'Original ABG Allocation'!A32","v":"27"},{"$f":"+'Original ABG Allocation'!B32","v":"CHESTER"},55734,18578,{"$f":"+'Original ABG Allocation'!E32","v":74312},null,0,0,0,55734,18578,74312,null,null,0,0,0,0,0,74312,null,0,0,0,0,0,0]
[{"$f":"+'Original ABG Allocation'!A33","v":"28"},{"$f":"+'Original ABG Allocation'!B33","v":"MONTGOMERY"},179247,59749,{"$f":"+'Original ABG Allocation'!E33","v":238996},null,0,0,0,179247,59749,238996,null,null,0,0,0,0,0,238996,null,0,0,0,0,0,0]
[{"$f":"+'Original ABG Allocation'!A34","v":"29"},{"$f":"+'Original ABG Allocation'!B34","v":"BUCKS"},148345,49448,{"$f":"+'Original ABG Allocation'!E34","v":197793},null,0,0,0,148345,49448,197793,null,null,0,0,0,0,0,197793,null,0,0,0,0,0,0]
[{"$f":"+'Original ABG Allocation'!A35","v":"30"},{"$f":"+'Original ABG Allocation'!B35","v":"DELAWARE"},173110,57704,{"$f":"+'Original ABG Allocation'!E35","v":230814},null,0,0,0,173110,57704,230814,null,null,0,0,0,0,0,230814,null,0,0,0,0,0,0]
[{"$f":"+'Original ABG Allocation'!A36","v":"31"},{"$f":"+'Original ABG Allocation'!B36","v":"PHILADELPHIA"},1823731,607911,{"$f":"+'Original ABG Allocation'!E36","v":2431642},null,0,0,0,1823731,607911,2431642,null,null,0,0,0,0,0,2431642,null,0,0,0,0,0,0]
[{"$f":"+'Original ABG Allocation'!A37","v":"32"},{"$f":"+'Original ABG Allocation'!B37","v":"BERKS"},196533,{"$f":"ROUND((E38*0.25),0)-1","v":65510},{"$f":"+'Original ABG Allocation'!E37","v":262043},null,0,0,0,196533,65510,262043,null,null,0,0,0,0,0,262043,null,0,0,0,0,0,0]
[{"$f":"+'Original ABG Allocation'!A38","v":"33"},{"$f":"+'Original ABG Allocation'!B38","v":"LEHIGH"},89979,{"$f":"ROUND((E39*0.25),0)-1","v":29992},{"$f":"+'Original ABG Allocation'!E38","v":119971},null,0,0,0,89979,29992,119971,null,null,0,0,0,0,0,119971,null,0,0,0,0,0,0]
[{"$f":"+'Original ABG Allocation'!A39","v":"34"},{"$f":"+'Original ABG Allocation'!B39","v":"NORTHAMPTON"},76575,{"$f":"ROUND((E40*0.25),0)-1","v":25524},{"$f":"+'Original ABG Allocation'!E39","v":102099},null,0,0,0,76575,25524,102099,null,null,0,0,0,0,0,102099,null,0,0,0,0,0,0]
[{"$f":"+'Original ABG Allocation'!A40","v":"35"},{"$f":"+'Original ABG Allocation'!B40","v":"PIKE"},15172,5057,{"$f":"+'Original ABG Allocation'!E40","v":20229},null,0,0,0,15172,5057,20229,null,null,0,0,0,0,0,20229,null,0,0,0,0,0,0]
[{"$f":"+'Original ABG Allocation'!A41","v":"36"},{"$f":"+'Original ABG Allocation'!B41","v":"B/S/S/T"},102186,34062,{"$f":"+'Original ABG Allocation'!E41","v":136248},null,0,0,0,102186,34062,136248,null,null,0,0,0,0,0,136248,null,0,0,0,0,0,0]
[{"$f":"+'Original ABG Allocation'!A42","v":"37"},{"$f":"+'Original ABG Allocation'!B42","v":"LUZERNE/WYOMING"},211911,{"$f":"ROUND((E43*0.25),0)-1","v":70636},{"$f":"+'Original ABG Allocation'!E42","v":282547},null,0,0,0,211911,70636,282547,null,null,0,0,0,0,0,282547,null,0,0,0,0,0,0]
[{"$f":"+'Original ABG Allocation'!A43","v":"38"},{"$f":"+'Original ABG Allocation'!B43","v":"LACKAWANNA"},173899,57967,{"$f":"+'Original ABG Allocation'!E43","v":231866},null,0,0,0,173899,57967,231866,null,null,0,0,0,0,0,231866,null,0,0,0,0,0,0]
[{"$f":"+'Original ABG Allocation'!A44","v":"39"},{"$f":"+'Original ABG Allocation'!B44","v":"CARBON"},29553,{"$f":"ROUND((E45*0.25),0)-1","v":9850},{"$f":"+'Original ABG Allocation'!E44","v":39403},null,0,0,0,29553,9850,39403,null,null,0,0,0,0,0,39403,null,0,0,0,0,0,0]
[{"$f":"+'Original ABG Allocation'!A45","v":"40"},{"$f":"+'Original ABG Allocation'!B45","v":"SCHUYLKILL"},117383,{"$f":"ROUND((E46*0.25),0)-1","v":39127},{"$f":"+'Original ABG Allocation'!E45","v":156510},null,0,0,0,117383,39127,156510,null,null,0,0,0,0,0,156510,null,0,0,0,0,0,0]
[{"$f":"+'Original ABG Allocation'!A46","v":"41"},{"$f":"+'Original ABG Allocation'!B46","v":"CLEARFIELD"},57391,19131,{"$f":"+'Original ABG Allocation'!E46","v":76522},null,0,0,0,57391,19131,76522,null,null,0,0,0,0,0,76522,null,0,0,0,0,0,0]
[{"$f":"+'Original ABG Allocation'!A47","v":"42"},{"$f":"+'Original ABG Allocation'!B47","v":"JEFFERSON"},44599,14867,{"$f":"+'Original ABG Allocation'!E47","v":59466},null,0,0,0,44599,14867,59466,null,null,0,0,0,0,0,59466,null,0,0,0,0,0,0]
[{"$f":"+'Original ABG Allocation'!A48","v":"43"},{"$f":"+'Original ABG Allocation'!B48","v":"FOREST/WARREN"},22632,7544,{"$f":"+'Original ABG Allocation'!E48","v":30176},null,0,0,0,22632,7544,30176,null,null,0,0,0,0,0,30176,null,0,0,0,0,0,0]
[{"$f":"+'Original ABG Allocation'!A49","v":"44"},{"$f":"+'Original ABG Allocation'!B49","v":"VENANGO"},41431,13811,{"$f":"+'Original ABG Allocation'!E49","v":55242},null,0,0,0,41431,13811,55242,null,null,0,0,0,0,0,55242,null,0,0,0,0,0,0]
[{"$f":"+'Original ABG Allocation'!A50","v":"45"},{"$f":"+'Original ABG Allocation'!B50","v":"ARMSTRONG"},46519,15507,{"$f":"+'Original ABG Allocation'!E50","v":62026},null,0,0,0,46519,15507,62026,null,null,0,0,0,0,0,62026,null,0,0,0,0,0,0]
[{"$f":"+'Original ABG Allocation'!A51","v":"46"},{"$f":"+'Original ABG Allocation'!B51","v":"LAWRENCE"},49345,16448,{"$f":"+'Original ABG Allocation'!E51","v":65793},null,0,0,0,49345,16448,65793,null,null,0,0,0,0,0,65793,null,0,0,0,0,0,0]
[{"$f":"+'Original ABG Allocation'!A52","v":"47"},{"$f":"+'Original ABG Allocation'!B52","v":"MERCER"},57999,{"$f":"ROUND((E53*0.25),0)-1","v":19332},{"$f":"+'Original ABG Allocation'!E52","v":77331},null,0,0,0,57999,19332,77331,null,null,0,0,0,0,0,77331,null,0,0,0,0,0,0]
[{"$f":"+'Original ABG Allocation'!A53","v":"48"},{"$f":"+'Original ABG Allocation'!B53","v":"MONROE"},48920,16307,{"$f":"+'Original ABG Allocation'!E53","v":65227},null,0,0,0,48920,16307,65227,null,null,0,0,0,0,0,65227,null,0,0,0,0,0,0]
[{"$f":"+'Original ABG Allocation'!A54","v":"49"},{"$f":"+'Original ABG Allocation'!B54","v":"CLARION"},32439,10813,{"$f":"+'Original ABG Allocation'!E54","v":43252},null,0,0,0,32439,10813,43252,null,null,0,0,0,0,0,43252,null,0,0,0,0,0,0]
[{"$f":"+'Original ABG Allocation'!A55","v":"50"},{"$f":"+'Original ABG Allocation'!B55","v":"BUTLER"},84279,28093,{"$f":"+'Original ABG Allocation'!E55","v":112372},null,0,0,0,84279,28093,112372,null,null,0,0,0,0,0,112372,null,0,0,0,0,0,0]
[{"$f":"+'Original ABG Allocation'!A56","v":"51"},{"$f":"+'Original ABG Allocation'!B56","v":"POTTER"},15013,5004,{"$f":"+'Original ABG Allocation'!E56","v":20017},null,0,0,0,15013,5004,20017,null,null,0,0,0,0,0,20017,null,0,0,0,0,0,0]
[{"$f":"+'Original ABG Allocation'!A57","v":"52"},{"$f":"+'Original ABG Allocation'!B57","v":"WAYNE"},29011,9671,{"$f":"+'Original ABG Allocation'!E57","v":38682},null,0,0,0,29011,9671,38682,null,null,0,0,0,0,0,38682,null,0,0,0,0,0,0]
[null,"     TOTALS",{"$f":"SUM(C7:C58)","v":6757486},{"$f":"SUM(D7:D58)","v":2252485},{"$f":"SUM(E7:E58)","v":9009971},null,{"$f":"SUM(G7:G58)","v":0},0,0,6757486,2252485,9009971,null,null,{"$f":"SUM(O7:O58)","v":0},0,0,0,0,9009971,null,{"$f":"SUM(V7:V58)","v":0},0,0,0,0,0]
[]
[null,null,{"$f":"C59/0.75","v":9009981.333333334}]

{"sheet":"NSIP","index":10,"n_rows":61,"n_cols":14,"rows_kept":61,"cut":false,"hidden":false,"merged":[[3,9,3,10],[2,12,2,13],[3,6,3,7]]}
["PDA Allocation Model-",null,"NSIP"]
[{"$f":"+'Original ABG Allocation'!A3","v":"FY 2022-23"},null,null,null,"FY 2019-20"]
[null,null,"COOPERATIVE ",null,"NSIP MEAL",null,null,null,null,null,null,null,"CHANGE NO. 3"]
[null,null,"AGREEMENT",null,"COUNT",null,"CHANGE NO. 1",null,null,"CHANGE NO. 2",null,null,"INCREASE/"]
[null,null,null,null,null,null,"Increase/",null,null,"Increase/",null,null,"(DECREASE)","TOTAL"]
[null,null,null,null,null,null,"(Decrease)","TOTAL",null,"(Decrease)","TOTAL"]
[{"$f":"+'Original ABG Allocation'!A6","v":"01"},{"$f":"+'Original ABG Allocation'!B6","v":"ERIE"},{"$f":"+'Original ABG Allocation'!F6","v":66325},null,113784.01,null,0,{"$f":"+ROUND(((E7/$E$59)*$E$61),0)","v":73422},null,0,{"$f":"H7+J7","v":73422},null,0,{"$f":"K7+M7","v":73422}]
[{"$f":"+'Original ABG Allocation'!A7","v":"02"},{"$f":"+'Original ABG Allocation'!B7","v":"CRAWFORD"},{"$f":"+'Original ABG Allocation'!F7","v":47328},null,123632,null,0,{"$f":"ROUND(((E8/$E$59)*$E$61),0)","v":79777},null,0,79777,null,0,79777]
[{"$f":"+'Original ABG Allocation'!A8","v":"03"},{"$f":"+'Original ABG Allocation'!B8","v":"CAM/ELK/MCKEAN"},{"$f":"+'Original ABG Allocation'!F8","v":35588},null,48781,null,0,{"$f":"ROUND(((E9/$E$59)*$E$61),0)","v":31477},null,0,31477,null,0,31477]
[{"$f":"+'Original ABG Allocation'!A9","v":"04"},{"$f":"+'Original ABG Allocation'!B9","v":"BEAVER"},{"$f":"+'Original ABG Allocation'!F9","v":23968},null,21079,null,0,13602,null,0,13602,null,0,13602]
[{"$f":"+'Original ABG Allocation'!A10","v":"05"},{"$f":"+'Original ABG Allocation'!B10","v":"INDIANA"},{"$f":"+'Original ABG Allocation'!F10","v":51905},null,75462,null,0,48694,null,0,48694,null,0,48694]
[{"$f":"+'Original ABG Allocation'!A11","v":"06"},{"$f":"+'Original ABG Allocation'!B11","v":"ALLEGHENY"},{"$f":"+'Original ABG Allocation'!F11","v":419219},null,750042,null,0,483986,null,0,483986,null,0,483986]
[{"$f":"+'Original ABG Allocation'!A12","v":"07"},{"$f":"+'Original ABG Allocation'!B12","v":"WESTMORELAND"},{"$f":"+'Original ABG Allocation'!F12","v":123773},null,158973,null,0,102582,null,0,102582,null,0,102582]
[{"$f":"+'Original ABG Allocation'!A13","v":"08"},{"$f":"+'Original ABG Allocation'!B13","v":"WASH/FAY/GREENE"},{"$f":"+'Original ABG Allocation'!F13","v":354500},null,698879.5,null,0,450972,null,0,450972,null,0,450972]
[{"$f":"+'Original ABG Allocation'!A14","v":"09"},{"$f":"+'Original ABG Allocation'!B14","v":"SOMERSET"},{"$f":"+'Original ABG Allocation'!F14","v":72579},null,271768,null,0,175366,null,0,175366,null,0,175366]
[{"$f":"+'Original ABG Allocation'!A15","v":"10"},{"$f":"+'Original ABG Allocation'!B15","v":"CAMBRIA"},{"$f":"+'Original ABG Allocation'!F15","v":178185},null,297415,null,0,191915,null,0,191915,null,0,191915]
[{"$f":"+'Original ABG Allocation'!A16","v":"11"},{"$f":"+'Original ABG Allocation'!B16","v":"BLAIR"},{"$f":"+'Original ABG Allocation'!F16","v":118873},null,153817,null,0,99255,null,0,99255,null,0,99255]
[{"$f":"+'Original ABG Allocation'!A17","v":"12"},{"$f":"+'Original ABG Allocation'!B17","v":"BED/FULT/HUNT"},{"$f":"+'Original ABG Allocation'!F17","v":66409},null,77543,null,0,50037,null,0,50037,null,0,50037]
[{"$f":"+'Original ABG Allocation'!A18","v":"13"},{"$f":"+'Original ABG Allocation'!B18","v":"CENTRE"},{"$f":"+'Original ABG Allocation'!F18","v":42135},null,77657,null,0,50110,null,0,50110,null,0,50110]
[{"$f":"+'Original ABG Allocation'!A19","v":"14"},{"$f":"+'Original ABG Allocation'!B19","v":"LYCOM/CLINTON"},{"$f":"+'Original ABG Allocation'!F19","v":80903},null,131073,null,0,84579,null,0,84579,null,0,84579]
[{"$f":"+'Original ABG Allocation'!A20","v":"15"},{"$f":"+'Original ABG Allocation'!B20","v":"COLUM/MONT"},{"$f":"+'Original ABG Allocation'!F20","v":26259},null,47875,null,0,30893,null,0,30893,null,0,30893]
[{"$f":"+'Original ABG Allocation'!A21","v":"16"},{"$f":"+'Original ABG Allocation'!B21","v":"NORTHUMBERLND"},{"$f":"+'Original ABG Allocation'!F21","v":38517},null,111061,null,0,71665,null,0,71665,null,0,71665]
[{"$f":"+'Original ABG Allocation'!A22","v":"17"},{"$f":"+'Original ABG Allocation'!B22","v":"UNION/SNYDER"},{"$f":"+'Original ABG Allocation'!F22","v":16745},null,53354,null,0,34428,null,0,34428,null,0,34428]
[{"$f":"+'Original ABG Allocation'!A23","v":"18"},{"$f":"+'Original ABG Allocation'!B23","v":"MIFF/JUNIATA"},{"$f":"+'Original ABG Allocation'!F23","v":44916},null,86389.2,null,0,55745,null,0,55745,null,0,55745]
[{"$f":"+'Original ABG Allocation'!A24","v":"19"},{"$f":"+'Original ABG Allocation'!B24","v":"FRANKLIN"},{"$f":"+'Original ABG Allocation'!F24","v":66539},null,79456.75,null,0,51272,null,0,51272,null,0,51272]
[{"$f":"+'Original ABG Allocation'!A25","v":"20"},{"$f":"+'Original ABG Allocation'!B25","v":"ADAMS"},{"$f":"+'Original ABG Allocation'!F25","v":29737},null,51662,null,0,33336,null,0,33336,null,0,33336]
[{"$f":"+'Original ABG Allocation'!A26","v":"21"},{"$f":"+'Original ABG Allocation'!B26","v":"CUMBERLAND"},{"$f":"+'Original ABG Allocation'!F26","v":21248},null,48061,null,0,31013,null,0,31013,null,0,31013]
[{"$f":"+'Original ABG Allocation'!A27","v":"22"},{"$f":"+'Original ABG Allocation'!B27","v":"PERRY"},{"$f":"+'Original ABG Allocation'!F27","v":28967},null,31084,null,0,20058,null,0,20058,null,0,20058]
[{"$f":"+'Original ABG Allocation'!A28","v":"23"},{"$f":"+'Original ABG Allocation'!B28","v":"DAUPHIN"},{"$f":"+'Original ABG Allocation'!F28","v":76056},null,211983,null,0,136788,null,0,136788,null,0,136788]
[{"$f":"+'Original ABG Allocation'!A29","v":"24"},{"$f":"+'Original ABG Allocation'!B29","v":"LEBANON"},{"$f":"+'Original ABG Allocation'!F29","v":40188},null,91190.25,null,0,58843,null,0,58843,null,0,58843]
[{"$f":"+'Original ABG Allocation'!A30","v":"25"},{"$f":"+'Original ABG Allocation'!B30","v":"YORK"},{"$f":"+'Original ABG Allocation'!F30","v":204767},null,434881,null,0,280619,null,0,280619,null,0,280619]
[{"$f":"+'Original ABG Allocation'!A31","v":"26"},{"$f":"+'Original ABG Allocation'!B31","v":"LANCASTER"},{"$f":"+'Original ABG Allocation'!F31","v":60963},null,142732,null,0,92102,null,0,92102,null,0,92102]
[{"$f":"+'Original ABG Allocation'!A32","v":"27"},{"$f":"+'Original ABG Allocation'!B32","v":"CHESTER"},{"$f":"+'Original ABG Allocation'!F32","v":65735},null,75744.5,null,0,48876,null,0,48876,null,0,48876]
[{"$f":"+'Original ABG Allocation'!A33","v":"28"},{"$f":"+'Original ABG Allocation'!B33","v":"MONTGOMERY"},{"$f":"+'Original ABG Allocation'!F33","v":222009},null,416961,null,0,269056,null,0,269056,null,0,269056]
[{"$f":"+'Original ABG Allocation'!A34","v":"29"},{"$f":"+'Original ABG Allocation'!B34","v":"BUCKS"},{"$f":"+'Original ABG Allocation'!F34","v":80421},null,179328,null,0,115716,null,0,115716,null,0,115716]
[{"$f":"+'Original ABG Allocation'!A35","v":"30"},{"$f":"+'Original ABG Allocation'!B35","v":"DELAWARE"},{"$f":"+'Original ABG Allocation'!F35","v":92075},null,187523,null,0,121005,null,0,121005,null,0,121005]
[{"$f":"+'Original ABG Allocation'!A36","v":"31"},{"$f":"+'Original ABG Allocation'!B36","v":"PHILADELPHIA"},{"$f":"+'Original ABG Allocation'!F36","v":803599},null,1533329,null,0,{"$f":"ROUND(((E37/$E$59)*$E$61),0)","v":989424},null,0,989424,null,0,989424]
[{"$f":"+'Original ABG Allocation'!A37","v":"32"},{"$f":"+'Original ABG Allocation'!B37","v":"BERKS"},{"$f":"+'Original ABG Allocation'!F37","v":158821},null,279511,null,0,180362,null,0,180362,null,0,180362]
[{"$f":"+'Original ABG Allocation'!A38","v":"33"},{"$f":"+'Original ABG Allocation'!B38","v":"LEHIGH"},{"$f":"+'Original ABG Allocation'!F38","v":42793},null,84805.51,null,0,54723,null,0,{"$f":"H39+J39","v":54723},null,0,54723]
[{"$f":"+'Original ABG Allocation'!A39","v":"34"},{"$f":"+'Original ABG Allocation'!B39","v":"NORTHAMPTON"},{"$f":"+'Original ABG Allocation'!F39","v":73789},null,157748,null,0,101791,null,0,101791,null,0,101791]
[{"$f":"+'Original ABG Allocation'!A40","v":"35"},{"$f":"+'Original ABG Allocation'!B40","v":"PIKE"},{"$f":"+'Original ABG Allocation'!F40","v":20687},null,32828.01,null,0,21183,null,0,21183,null,0,21183]
[{"$f":"+'Original ABG Allocation'!A41","v":"36"},{"$f":"+'Original ABG Allocation'!B41","v":"B/S/S/T"},{"$f":"+'Original ABG Allocation'!F41","v":98527},null,185113,null,0,119449,null,0,119449,null,0,119449]
[{"$f":"+'Original ABG Allocation'!A42","v":"37"},{"$f":"+'Original ABG Allocation'!B42","v":"LUZERNE/WYOMING"},{"$f":"+'Original ABG Allocation'!F42","v":219979},null,311705,null,0,201136,null,0,201136,null,0,201136]
[{"$f":"+'Original ABG Allocation'!A43","v":"38"},{"$f":"+'Original ABG Allocation'!B43","v":"LACKAWANNA"},{"$f":"+'Original ABG Allocation'!F43","v":124839},null,244348,null,0,157672,null,0,157672,null,0,157672]
[{"$f":"+'Original ABG Allocation'!A44","v":"39"},{"$f":"+'Original ABG Allocation'!B44","v":"CARBON"},{"$f":"+'Original ABG Allocation'!F44","v":30903},null,56092,null,0,36195,null,0,36195,null,0,36195]
[{"$f":"+'Original ABG Allocation'!A45","v":"40"},{"$f":"+'Original ABG Allocation'!B45","v":"SCHUYLKILL"},{"$f":"+'Original ABG Allocation'!F45","v":56511},null,104608,null,0,67501,null,0,67501,null,0,67501]
[{"$f":"+'Original ABG Allocation'!A46","v":"41"},{"$f":"+'Original ABG Allocation'!B46","v":"CLEARFIELD"},{"$f":"+'Original ABG Allocation'!F46","v":110249},null,183800,null,0,118602,null,0,118602,null,0,118602]
[{"$f":"+'Original ABG Allocation'!A47","v":"42"},{"$f":"+'Original ABG Allocation'!B47","v":"JEFFERSON"},{"$f":"+'Original ABG Allocation'!F47","v":28079},null,54040,null,0,34871,null,0,34871,null,0,34871]
[{"$f":"+'Original ABG Allocation'!A48","v":"43"},{"$f":"+'Original ABG Allocation'!B48","v":"FOREST/WARREN"},{"$f":"+'Original ABG Allocation'!F48","v":27753},null,47222,null,0,30471,null,0,30471,null,0,30471]
[{"$f":"+'Original ABG Allocation'!A49","v":"44"},{"$f":"+'Original ABG Allocation'!B49","v":"VENANGO"},{"$f":"+'Original ABG Allocation'!F49","v":36107},null,73393.75,null,0,47359,null,0,47359,null,0,47359]
[{"$f":"+'Original ABG Allocation'!A50","v":"45"},{"$f":"+'Original ABG Allocation'!B50","v":"ARMSTRONG"},{"$f":"+'Original ABG Allocation'!F50","v":71631},null,141946,null,0,91595,null,0,91595,null,0,91595]
[{"$f":"+'Original ABG Allocation'!A51","v":"46"},{"$f":"+'Original ABG Allocation'!B51","v":"LAWRENCE"},{"$f":"+'Original ABG Allocation'!F51","v":43055},null,82121,null,0,52991,null,0,52991,null,0,52991]
[{"$f":"+'Original ABG Allocation'!A52","v":"47"},{"$f":"+'Original ABG Allocation'!B52","v":"MERCER"},{"$f":"+'Original ABG Allocation'!F52","v":41143},null,103936,null,0,67068,null,0,67068,null,0,67068]
[{"$f":"+'Original ABG Allocation'!A53","v":"48"},{"$f":"+'Original ABG Allocation'!B53","v":"MONROE"},{"$f":"+'Original ABG Allocation'!F53","v":37809},null,119306,null,0,76986,null,0,76986,null,0,76986]
[{"$f":"+'Original ABG Allocation'!A54","v":"49"},{"$f":"+'Original ABG Allocation'!B54","v":"CLARION"},{"$f":"+'Original ABG Allocation'!F54","v":29696},null,49983,null,0,32253,null,0,32253,null,0,32253]
[{"$f":"+'Original ABG Allocation'!A55","v":"50"},{"$f":"+'Original ABG Allocation'!B55","v":"BUTLER"},{"$f":"+'Original ABG Allocation'!F55","v":40783},null,81896,null,0,52846,null,0,52846,null,0,52846]
[{"$f":"+'Original ABG Allocation'!A56","v":"51"},{"$f":"+'Original ABG Allocation'!B56","v":"POTTER"},{"$f":"+'Original ABG Allocation'!F56","v":14811},null,22290,null,0,14383,null,0,14383,null,0,14383]
[{"$f":"+'Original ABG Allocation'!A57","v":"52"},{"$f":"+'Original ABG Allocation'!B57","v":"WAYNE"},{"$f":"+'Original ABG Allocation'!F57","v":55047},null,99100.25,null,0,{"$f":"ROUND(((E58/$E$59)*$E$61),0)+3","v":63950},null,0,63950,null,0,63950]
[null,"     TOTALS",{"$f":"SUM(C7:C58)","v":4963443},null,{"$f":"SUM(E7:E58)","v":9298312.7300000004},null,{"$f":"SUM(G7:G58)","v":0},{"$f":"SUM(H7:H58)","v":6000000},null,{"$f":"SUM(J7:J58)","v":0},{"$f":"SUM(K7:K58)","v":6000000},null,{"$f":"SUM(M7:M58)","v":0},{"$f":"SUM(N7:N58)","v":6000000}]
[]
["Available Federal Funding",null,null,null,6000000]

{"sheet":"PA MEDI","index":11,"n_rows":59,"n_cols":12,"rows_kept":59,"cut":false,"hidden":false,"merged":[[3,7,3,8],[2,10,2,11],[3,4,3,5]]}
["PDA Allocation Model-",null,"PA MEDI"]
[{"$f":"+'Original ABG Allocation'!A3","v":"FY 2022-23"}]
[null,null,"COOPERATIVE",null,null,null,null,null,null,null,"CHANGE NO.3"]
[null,null,"AGREEMENT",null,"CHANGE NO. 1",null,null,"CHANGE NO.2",null,null,"INCREASE/","REVISED"]
[null,null,null,null,"Increase/",null,null,"INCREASE/","REVISED"]
[null,null,null,null,"(Decrease)","TOTAL",null,"DECREASE","AMOUNT",null,"DECREASE","AMOUNT"]
[{"$f":"+'Original ABG Allocation'!A6","v":"01"},{"$f":"+'Original ABG Allocation'!B6","v":"ERIE"},{"$f":"+'Original ABG Allocation'!G6","v":20097},null,0,{"$f":"C7+E7","v":20097},null,0,{"$f":"F7+H7","v":20097},null,0,{"$f":"I7+K7","v":20097}]
[{"$f":"+'Original ABG Allocation'!A7","v":"02"},{"$f":"+'Original ABG Allocation'!B7","v":"CRAWFORD"},{"$f":"+'Original ABG Allocation'!G7","v":10676},null,0,10676,null,0,10676,null,0,10676]
[{"$f":"+'Original ABG Allocation'!A8","v":"03"},{"$f":"+'Original ABG Allocation'!B8","v":"CAM/ELK/MCKEAN"},{"$f":"+'Original ABG Allocation'!G8","v":11237},null,0,11237,null,0,11237,null,0,11237]
[{"$f":"+'Original ABG Allocation'!A9","v":"04"},{"$f":"+'Original ABG Allocation'!B9","v":"BEAVER"},{"$f":"+'Original ABG Allocation'!G9","v":15815},null,0,15815,null,0,15815,null,0,15815]
[{"$f":"+'Original ABG Allocation'!A10","v":"05"},{"$f":"+'Original ABG Allocation'!B10","v":"INDIANA"},{"$f":"+'Original ABG Allocation'!G10","v":10185},null,0,10185,null,0,10185,null,0,10185]
[{"$f":"+'Original ABG Allocation'!A11","v":"06"},{"$f":"+'Original ABG Allocation'!B11","v":"ALLEGHENY"},{"$f":"+'Original ABG Allocation'!G11","v":107007},null,0,107007,null,0,107007,null,0,107007]
[{"$f":"+'Original ABG Allocation'!A12","v":"07"},{"$f":"+'Original ABG Allocation'!B12","v":"WESTMORELAND"},{"$f":"+'Original ABG Allocation'!G12","v":33328},null,0,33328,null,0,33328,null,0,33328]
[{"$f":"+'Original ABG Allocation'!A13","v":"08"},{"$f":"+'Original ABG Allocation'!B13","v":"WASH/FAY/GREENE"},{"$f":"+'Original ABG Allocation'!G13","v":39938},null,0,39938,null,0,39938,null,0,39938]
[{"$f":"+'Original ABG Allocation'!A14","v":"09"},{"$f":"+'Original ABG Allocation'!B14","v":"SOMERSET"},{"$f":"+'Original ABG Allocation'!G14","v":11799},null,0,11799,null,0,11799,null,0,11799]
[{"$f":"+'Original ABG Allocation'!A15","v":"10"},{"$f":"+'Original ABG Allocation'!B15","v":"CAMBRIA"},{"$f":"+'Original ABG Allocation'!G15","v":17087},null,0,17087,null,0,17087,null,0,17087]
[{"$f":"+'Original ABG Allocation'!A16","v":"11"},{"$f":"+'Original ABG Allocation'!B16","v":"BLAIR"},{"$f":"+'Original ABG Allocation'!G16","v":11735},null,0,11735,null,0,11735,null,0,11735]
[{"$f":"+'Original ABG Allocation'!A17","v":"12"},{"$f":"+'Original ABG Allocation'!B17","v":"BED/FULT/HUNT"},{"$f":"+'Original ABG Allocation'!G17","v":14807},null,0,14807,null,0,14807,null,0,14807]
[{"$f":"+'Original ABG Allocation'!A18","v":"13"},{"$f":"+'Original ABG Allocation'!B18","v":"CENTRE"},{"$f":"+'Original ABG Allocation'!G18","v":10000},null,0,10000,null,0,10000,null,0,10000]
[{"$f":"+'Original ABG Allocation'!A19","v":"14"},{"$f":"+'Original ABG Allocation'!B19","v":"LYCOM/CLINTON"},{"$f":"+'Original ABG Allocation'!G19","v":16355},null,0,16355,null,0,16355,null,0,16355]
[{"$f":"+'Original ABG Allocation'!A20","v":"15"},{"$f":"+'Original ABG Allocation'!B20","v":"COLUM/MONT"},{"$f":"+'Original ABG Allocation'!G20","v":10000},null,0,10000,null,0,10000,null,0,10000]
[{"$f":"+'Original ABG Allocation'!A21","v":"16"},{"$f":"+'Original ABG Allocation'!B21","v":"NORTHUMBERLND"},{"$f":"+'Original ABG Allocation'!G21","v":11327},null,0,11327,null,0,11327,null,0,11327]
[{"$f":"+'Original ABG Allocation'!A22","v":"17"},{"$f":"+'Original ABG Allocation'!B22","v":"UNION/SNYDER"},{"$f":"+'Original ABG Allocation'!G22","v":10000},null,0,10000,null,0,10000,null,0,10000]
[{"$f":"+'Original ABG Allocation'!A23","v":"18"},{"$f":"+'Original ABG Allocation'!B23","v":"MIFF/JUNIATA"},{"$f":"+'Original ABG Allocation'!G23","v":10222},null,0,10222,null,0,10222,null,0,10222]
[{"$f":"+'Original ABG Allocation'!A24","v":"19"},{"$f":"+'Original ABG Allocation'!B24","v":"FRANKLIN"},{"$f":"+'Original ABG Allocation'!G24","v":15528},null,0,15528,null,0,15528,null,0,15528]
[{"$f":"+'Original ABG Allocation'!A25","v":"20"},{"$f":"+'Original ABG Allocation'!B25","v":"ADAMS"},{"$f":"+'Original ABG Allocation'!G25","v":10175},null,0,10175,null,0,10175,null,0,10175]
[{"$f":"+'Original ABG Allocation'!A26","v":"21"},{"$f":"+'Original ABG Allocation'!B26","v":"CUMBERLAND"},{"$f":"+'Original ABG Allocation'!G26","v":17010},null,0,17010,null,0,17010,null,0,17010]
[{"$f":"+'Original ABG Allocation'!A27","v":"22"},{"$f":"+'Original ABG Allocation'!B27","v":"PERRY"},{"$f":"+'Original ABG Allocation'!G27","v":10000},null,0,10000,null,0,10000,null,0,10000]
[{"$f":"+'Original ABG Allocation'!A28","v":"23"},{"$f":"+'Original ABG Allocation'!B28","v":"DAUPHIN"},{"$f":"+'Original ABG Allocation'!G28","v":18822},null,0,18822,null,0,18822,null,0,18822]
[{"$f":"+'Original ABG Allocation'!A29","v":"24"},{"$f":"+'Original ABG Allocation'!B29","v":"LEBANON"},{"$f":"+'Original ABG Allocation'!G29","v":11419},null,0,11419,null,0,11419,null,0,11419]
[{"$f":"+'Original ABG Allocation'!A30","v":"25"},{"$f":"+'Original ABG Allocation'!B30","v":"YORK"},{"$f":"+'Original ABG Allocation'!G30","v":27448},null,0,27448,null,0,27448,null,0,27448]
[{"$f":"+'Original ABG Allocation'!A31","v":"26"},{"$f":"+'Original ABG Allocation'!B31","v":"LANCASTER"},{"$f":"+'Original ABG Allocation'!G31","v":33008},null,0,33008,null,0,33008,null,0,33008]
[{"$f":"+'Original ABG Allocation'!A32","v":"27"},{"$f":"+'Original ABG Allocation'!B32","v":"CHESTER"},{"$f":"+'Original ABG Allocation'!G32","v":25091},null,0,25091,null,0,25091,null,0,25091]
[{"$f":"+'Original ABG Allocation'!A33","v":"28"},{"$f":"+'Original ABG Allocation'!B33","v":"MONTGOMERY"},{"$f":"+'Original ABG Allocation'!G33","v":47311},null,0,47311,null,0,47311,null,0,47311]
[{"$f":"+'Original ABG Allocation'!A34","v":"29"},{"$f":"+'Original ABG Allocation'!B34","v":"BUCKS"},{"$f":"+'Original ABG Allocation'!G34","v":33291},null,0,33291,null,0,33291,null,0,33291]
[{"$f":"+'Original ABG Allocation'!A35","v":"30"},{"$f":"+'Original ABG Allocation'!B35","v":"DELAWARE"},{"$f":"+'Original ABG Allocation'!G35","v":35954},null,0,35954,null,0,35954,null,0,35954]
[{"$f":"+'Original ABG Allocation'!A36","v":"31"},{"$f":"+'Original ABG Allocation'!B36","v":"PHILADELPHIA"},{"$f":"+'Original ABG Allocation'!G36","v":107007},null,0,107007,null,0,107007,null,0,107007]
[{"$f":"+'Original ABG Allocation'!A37","v":"32"},{"$f":"+'Original ABG Allocation'!B37","v":"BERKS"},{"$f":"+'Original ABG Allocation'!G37","v":29191},null,0,29191,null,0,29191,null,0,29191]
[{"$f":"+'Original ABG Allocation'!A38","v":"33"},{"$f":"+'Original ABG Allocation'!B38","v":"LEHIGH"},{"$f":"+'Original ABG Allocation'!G38","v":21310},null,0,{"$f":"C39+E39","v":21310},null,0,{"$f":"F39+H39","v":21310},null,0,21310]
[{"$f":"+'Original ABG Allocation'!A39","v":"34"},{"$f":"+'Original ABG Allocation'!B39","v":"NORTHAMPTON"},{"$f":"+'Original ABG Allocation'!G39","v":19506},null,0,19506,null,0,19506,null,0,19506]
[{"$f":"+'Original ABG Allocation'!A40","v":"35"},{"$f":"+'Original ABG Allocation'!B40","v":"PIKE"},{"$f":"+'Original ABG Allocation'!G40","v":10000},null,0,10000,null,0,10000,null,0,10000]
[{"$f":"+'Original ABG Allocation'!A41","v":"36"},{"$f":"+'Original ABG Allocation'!B41","v":"B/S/S/T"},{"$f":"+'Original ABG Allocation'!G41","v":20201},null,0,20201,null,0,20201,null,0,20201]
[{"$f":"+'Original ABG Allocation'!A42","v":"37"},{"$f":"+'Original ABG Allocation'!B42","v":"LUZERNE/WYOMING"},{"$f":"+'Original ABG Allocation'!G42","v":31720},null,0,31720,null,0,31720,null,0,31720]
[{"$f":"+'Original ABG Allocation'!A43","v":"38"},{"$f":"+'Original ABG Allocation'!B43","v":"LACKAWANNA"},{"$f":"+'Original ABG Allocation'!G43","v":18501},null,0,18501,null,0,18501,null,0,18501]
[{"$f":"+'Original ABG Allocation'!A44","v":"39"},{"$f":"+'Original ABG Allocation'!B44","v":"CARBON"},{"$f":"+'Original ABG Allocation'!G44","v":10000},null,0,10000,null,0,10000,null,0,10000]
[{"$f":"+'Original ABG Allocation'!A45","v":"40"},{"$f":"+'Original ABG Allocation'!B45","v":"SCHUYLKILL"},{"$f":"+'Original ABG Allocation'!G45","v":18478},null,0,18478,null,0,18478,null,0,18478]
[{"$f":"+'Original ABG Allocation'!A46","v":"41"},{"$f":"+'Original ABG Allocation'!B46","v":"CLEARFIELD"},{"$f":"+'Original ABG Allocation'!G46","v":11341},null,0,11341,null,0,11341,null,0,11341]
[{"$f":"+'Original ABG Allocation'!A47","v":"42"},{"$f":"+'Original ABG Allocation'!B47","v":"JEFFERSON"},{"$f":"+'Original ABG Allocation'!G47","v":10000},null,0,10000,null,0,10000,null,0,10000]
[{"$f":"+'Original ABG Allocation'!A48","v":"43"},{"$f":"+'Original ABG Allocation'!B48","v":"FOREST/WARREN"},{"$f":"+'Original ABG Allocation'!G48","v":10000},null,0,10000,null,0,10000,null,0,10000]
[{"$f":"+'Original ABG Allocation'!A49","v":"44"},{"$f":"+'Original ABG Allocation'!B49","v":"VENANGO"},{"$f":"+'Original ABG Allocation'!G49","v":10000},null,0,10000,null,0,10000,null,0,10000]
[{"$f":"+'Original ABG Allocation'!A50","v":"45"},{"$f":"+'Original ABG Allocation'!B50","v":"ARMSTRONG"},{"$f":"+'Original ABG Allocation'!G50","v":10719},null,0,10719,null,0,10719,null,0,10719]
[{"$f":"+'Original ABG Allocation'!A51","v":"46"},{"$f":"+'Original ABG Allocation'!B51","v":"LAWRENCE"},{"$f":"+'Original ABG Allocation'!G51","v":10341},null,0,10341,null,0,10341,null,0,10341]
[{"$f":"+'Original ABG Allocation'!A52","v":"47"},{"$f":"+'Original ABG Allocation'!B52","v":"MERCER"},{"$f":"+'Original ABG Allocation'!G52","v":13302},null,0,13302,null,0,13302,null,0,13302]
[{"$f":"+'Original ABG Allocation'!A53","v":"48"},{"$f":"+'Original ABG Allocation'!B53","v":"MONROE"},{"$f":"+'Original ABG Allocation'!G53","v":13317},null,0,13317,null,0,13317,null,0,13317]
[{"$f":"+'Original ABG Allocation'!A54","v":"49"},{"$f":"+'Original ABG Allocation'!B54","v":"CLARION"},{"$f":"+'Original ABG Allocation'!G54","v":10000},null,0,10000,null,0,10000,null,0,10000]
[{"$f":"+'Original ABG Allocation'!A55","v":"50"},{"$f":"+'Original ABG Allocation'!B55","v":"BUTLER"},{"$f":"+'Original ABG Allocation'!G55","v":16742},null,0,16742,null,0,16742,null,0,16742]
[{"$f":"+'Original ABG Allocation'!A56","v":"51"},{"$f":"+'Original ABG Allocation'!B56","v":"POTTER"},{"$f":"+'Original ABG Allocation'!G56","v":10000},null,0,10000,null,0,10000,null,0,10000]
[{"$f":"+'Original ABG Allocation'!A57","v":"52"},{"$f":"+'Original ABG Allocation'!B57","v":"WAYNE"},{"$f":"+'Original ABG Allocation'!G57","v":10000},null,0,10000,null,0,10000,null,0,10000]
[null,"     TOTALS",{"$f":"SUM(C7:C58)","v":1078348},null,{"$f":"SUM(E7:E58)","v":0},{"$f":"SUM(F7:F58)","v":1078348},null,{"$f":"SUM(H7:H58)","v":0},{"$f":"SUM(I7:I58)","v":1078348},null,{"$f":"SUM(K7:K58)","v":0},{"$f":"SUM(L7:L58)","v":1078348}]

{"sheet":"Health Promotion","index":12,"n_rows":59,"n_cols":22,"rows_kept":59,"cut":false,"hidden":false,"merged":[[2,19,2,21],[3,14,3,17],[3,19,3,20],[4,14,4,16],[2,2,2,5],[3,2,3,5],[2,7,2,12]]}
["PDA Allocation Model-",null,"Health Promotion"]
[{"$f":"+'Original ABG Allocation'!A3","v":"FY 2022-23"}]
[null,null,"FY 2020-21",null,null,null,null,"Change No. 1",null,null,null,null,null,null,null,null,null,null,null,"CHANGE NO.3"]
[null,null,"COOPERATIVE AGREEMENT",null,null,null,null,"Federal","State Match","Total","Federal ","State",null,null,"CHANGE NO.2",null,null,null,null,"INCREASE/(DECREASE)",null,"REVISED"]
[null,null,null,null,null,null,null,"Increase/","Increase/","Increase/","Caregiver","Caregiver",null,null,"Increase/(Decrease)",null,null,"Revised",null,"Federal ","State","AMOUNT"]
[null,null,"Federal","State","Total","Total",null,"Decrease ","Decrease","Decrease","Support","Match","TOTAL",null,"Federal ","State","Revised","AMOUNT"]
[{"$f":"+'Original ABG Allocation'!A6","v":"01"},{"$f":"+'Original ABG Allocation'!B6","v":"ERIE"},17483,8187,{"$f":"C7+D7","v":25670},{"$f":"+'Original ABG Allocation'!H6","v":25670},null,0,0,{"$f":"SUM(H7:I7)","v":0},{"$f":"C7+H7","v":17483},{"$f":"D7+I7","v":8187},{"$f":"K7+L7","v":25670},null,0,null,0,{"$f":"M7+O7+P7+Q7","v":25670},null,0,0,{"$f":"+R7+T7+U7","v":25670}]
[{"$f":"+'Original ABG Allocation'!A7","v":"02"},{"$f":"+'Original ABG Allocation'!B7","v":"CRAWFORD"},8312,3941,12253,{"$f":"+'Original ABG Allocation'!H7","v":12253},null,0,0,{"$f":"SUM(H8:I8)","v":0},{"$f":"C8+H8","v":8312},{"$f":"D8+I8","v":3941},{"$f":"K8+L8","v":12253},null,0,null,0,{"$f":"M8+O8+P8+Q8","v":12253},null,0,0,{"$f":"+R8+T8+U8","v":12253}]
[{"$f":"+'Original ABG Allocation'!A8","v":"03"},{"$f":"+'Original ABG Allocation'!B8","v":"CAM/ELK/MCKEAN"},8877,4600,13477,{"$f":"+'Original ABG Allocation'!H8","v":13477},null,0,0,0,8877,4600,13477,null,0,null,0,13477,null,0,0,13477]
[{"$f":"+'Original ABG Allocation'!A9","v":"04"},{"$f":"+'Original ABG Allocation'!B9","v":"BEAVER"},14489,7550,22039,{"$f":"+'Original ABG Allocation'!H9","v":22039},null,0,0,0,14489,7550,22039,null,0,null,0,22039,null,0,0,22039]
[{"$f":"+'Original ABG Allocation'!A10","v":"05"},{"$f":"+'Original ABG Allocation'!B10","v":"INDIANA"},8245,4373,12618,{"$f":"+'Original ABG Allocation'!H10","v":12618},null,0,0,0,8245,4373,12618,null,0,null,0,12618,null,0,0,12618]
[{"$f":"+'Original ABG Allocation'!A11","v":"06"},{"$f":"+'Original ABG Allocation'!B11","v":"ALLEGHENY"},105042,53577,158619,{"$f":"+'Original ABG Allocation'!H11","v":158619},null,0,0,0,105042,53577,158619,null,0,null,0,158619,null,0,0,158619]
[{"$f":"+'Original ABG Allocation'!A12","v":"07"},{"$f":"+'Original ABG Allocation'!B12","v":"WESTMORELAND"},29806,17221,47027,{"$f":"+'Original ABG Allocation'!H12","v":47027},null,0,0,0,29806,17221,47027,null,0,null,0,47027,null,0,0,47027]
[{"$f":"+'Original ABG Allocation'!A13","v":"08"},{"$f":"+'Original ABG Allocation'!B13","v":"WASH/FAY/GREENE"},43251,24847,68098,{"$f":"+'Original ABG Allocation'!H13","v":68098},null,0,0,0,43251,24847,68098,null,0,null,0,68098,null,0,0,68098]
[{"$f":"+'Original ABG Allocation'!A14","v":"09"},{"$f":"+'Original ABG Allocation'!B14","v":"SOMERSET"},9571,5306,14877,{"$f":"+'Original ABG Allocation'!H14","v":14877},null,0,0,0,9571,5306,14877,null,0,null,0,14877,null,0,0,14877]
[{"$f":"+'Original ABG Allocation'!A15","v":"10"},{"$f":"+'Original ABG Allocation'!B15","v":"CAMBRIA"},16052,9029,25081,{"$f":"+'Original ABG Allocation'!H15","v":25081},null,0,0,0,16052,9029,25081,null,0,null,0,25081,null,0,0,25081]
[{"$f":"+'Original ABG Allocation'!A16","v":"11"},{"$f":"+'Original ABG Allocation'!B16","v":"BLAIR"},11153,5881,17034,{"$f":"+'Original ABG Allocation'!H16","v":17034},null,0,0,0,11153,5881,17034,null,0,null,0,17034,null,0,0,17034]
[{"$f":"+'Original ABG Allocation'!A17","v":"12"},{"$f":"+'Original ABG Allocation'!B17","v":"BED/FULT/HUNT"},12421,6800,19221,{"$f":"+'Original ABG Allocation'!H17","v":19221},null,0,0,0,12421,6800,19221,null,0,null,0,19221,null,0,0,19221]
[{"$f":"+'Original ABG Allocation'!A18","v":"13"},{"$f":"+'Original ABG Allocation'!B18","v":"CENTRE"},3920,4989,8909,{"$f":"+'Original ABG Allocation'!H18","v":8909},null,0,0,0,3920,4989,8909,null,0,null,0,8909,null,0,0,8909]
[{"$f":"+'Original ABG Allocation'!A19","v":"14"},{"$f":"+'Original ABG Allocation'!B19","v":"LYCOM/CLINTON"},11862,6596,18458,{"$f":"+'Original ABG Allocation'!H19","v":18458},null,0,0,0,11862,6596,18458,null,0,null,0,18458,null,0,0,18458]
[{"$f":"+'Original ABG Allocation'!A20","v":"15"},{"$f":"+'Original ABG Allocation'!B20","v":"COLUM/MONT"},8688,1438,10126,{"$f":"+'Original ABG Allocation'!H20","v":10126},null,0,0,0,8688,1438,10126,null,0,null,0,10126,null,0,0,10126]
[{"$f":"+'Original ABG Allocation'!A21","v":"16"},{"$f":"+'Original ABG Allocation'!B21","v":"NORTHUMBERLND"},11653,6065,17718,{"$f":"+'Original ABG Allocation'!H21","v":17718},null,0,0,0,11653,6065,17718,null,0,null,0,17718,null,0,0,17718]
[{"$f":"+'Original ABG Allocation'!A22","v":"17"},{"$f":"+'Original ABG Allocation'!B22","v":"UNION/SNYDER"},5657,2978,8635,{"$f":"+'Original ABG Allocation'!H22","v":8635},null,0,0,0,5657,2978,8635,null,0,null,0,8635,null,0,0,8635]
[{"$f":"+'Original ABG Allocation'!A23","v":"18"},{"$f":"+'Original ABG Allocation'!B23","v":"MIFF/JUNIATA"},7765,4199,11964,{"$f":"+'Original ABG Allocation'!H23","v":11964},null,0,0,0,7765,4199,11964,null,0,null,0,11964,null,0,0,11964]
[{"$f":"+'Original ABG Allocation'!A24","v":"19"},{"$f":"+'Original ABG Allocation'!B24","v":"FRANKLIN"},9659,4884,14543,{"$f":"+'Original ABG Allocation'!H24","v":14543},null,0,0,0,9659,4884,14543,null,0,null,0,14543,null,0,0,14543]
[{"$f":"+'Original ABG Allocation'!A25","v":"20"},{"$f":"+'Original ABG Allocation'!B25","v":"ADAMS"},5157,2798,7955,{"$f":"+'Original ABG Allocation'!H25","v":7955},null,0,0,0,5157,2798,7955,null,0,null,0,7955,null,0,0,7955]
[{"$f":"+'Original ABG Allocation'!A26","v":"21"},{"$f":"+'Original ABG Allocation'!B26","v":"CUMBERLAND"},6087,3136,9223,{"$f":"+'Original ABG Allocation'!H26","v":9223},null,0,0,0,6087,3136,9223,null,0,null,0,9223,null,0,0,9223]
[{"$f":"+'Original ABG Allocation'!A27","v":"22"},{"$f":"+'Original ABG Allocation'!B27","v":"PERRY"},5134,2789,7923,{"$f":"+'Original ABG Allocation'!H27","v":7923},null,0,0,0,5134,2789,7923,null,0,null,0,7923,null,0,0,7923]
[{"$f":"+'Original ABG Allocation'!A28","v":"23"},{"$f":"+'Original ABG Allocation'!B28","v":"DAUPHIN"},15202,8720,23922,{"$f":"+'Original ABG Allocation'!H28","v":23922},null,0,0,0,15202,8720,23922,null,0,null,0,23922,null,0,0,23922]
[{"$f":"+'Original ABG Allocation'!A29","v":"24"},{"$f":"+'Original ABG Allocation'!B29","v":"LEBANON"},6030,3116,9146,{"$f":"+'Original ABG Allocation'!H29","v":9146},null,0,0,0,6030,3116,9146,null,0,null,0,9146,null,0,0,9146]
[{"$f":"+'Original ABG Allocation'!A30","v":"25"},{"$f":"+'Original ABG Allocation'!B30","v":"YORK"},16004,9013,25017,{"$f":"+'Original ABG Allocation'!H30","v":25017},null,0,0,0,16004,9013,25017,null,0,null,0,25017,null,0,0,25017]
[{"$f":"+'Original ABG Allocation'!A31","v":"26"},{"$f":"+'Original ABG Allocation'!B31","v":"LANCASTER"},19619,11240,30859,{"$f":"+'Original ABG Allocation'!H31","v":30859},null,0,0,0,19619,11240,30859,null,0,null,0,30859,null,0,0,30859]
[{"$f":"+'Original ABG Allocation'!A32","v":"27"},{"$f":"+'Original ABG Allocation'!B32","v":"CHESTER"},9499,4831,14330,{"$f":"+'Original ABG Allocation'!H32","v":14330},null,0,0,0,9499,4831,14330,null,0,null,0,14330,null,0,0,14330]
[{"$f":"+'Original ABG Allocation'!A33","v":"28"},{"$f":"+'Original ABG Allocation'!B33","v":"MONTGOMERY"},17383,9982,27365,{"$f":"+'Original ABG Allocation'!H33","v":27365},null,0,0,0,17383,9982,27365,null,0,null,0,27365,null,0,0,27365]
[{"$f":"+'Original ABG Allocation'!A34","v":"29"},{"$f":"+'Original ABG Allocation'!B34","v":"BUCKS"},15611,8869,24480,{"$f":"+'Original ABG Allocation'!H34","v":24480},null,0,0,0,15611,8869,24480,null,0,null,0,24480,null,0,0,24480]
[{"$f":"+'Original ABG Allocation'!A35","v":"30"},{"$f":"+'Original ABG Allocation'!B35","v":"DELAWARE"},28096,16143,44239,{"$f":"+'Original ABG Allocation'!H35","v":44239},null,0,0,0,28096,16143,44239,null,0,null,0,44239,null,0,0,44239]
[{"$f":"+'Original ABG Allocation'!A36","v":"31"},{"$f":"+'Original ABG Allocation'!B36","v":"PHILADELPHIA"},211643,96172,307815,{"$f":"+'Original ABG Allocation'!H36","v":307815},null,0,0,0,211643,96172,307815,null,0,null,0,307815,null,0,0,307815]
[{"$f":"+'Original ABG Allocation'!A37","v":"32"},{"$f":"+'Original ABG Allocation'!B37","v":"BERKS"},20696,12085,32781,{"$f":"+'Original ABG Allocation'!H37","v":32781},null,0,0,0,20696,12085,32781,null,0,null,0,32781,null,0,0,32781]
[{"$f":"+'Original ABG Allocation'!A38","v":"33"},{"$f":"+'Original ABG Allocation'!B38","v":"LEHIGH"},11376,5972,{"$f":"C39+D39","v":17348},{"$f":"+'Original ABG Allocation'!H38","v":17348},null,0,0,0,11376,5972,17348,null,0,null,0,17348,null,0,0,17348]
[{"$f":"+'Original ABG Allocation'!A39","v":"34"},{"$f":"+'Original ABG Allocation'!B39","v":"NORTHAMPTON"},12389,6927,19316,{"$f":"+'Original ABG Allocation'!H39","v":19316},null,0,0,0,12389,6927,19316,null,0,null,0,19316,null,0,0,19316]
[{"$f":"+'Original ABG Allocation'!A40","v":"35"},{"$f":"+'Original ABG Allocation'!B40","v":"PIKE"},5789,2119,7908,{"$f":"+'Original ABG Allocation'!H40","v":7908},null,0,0,0,5789,2119,7908,null,0,null,0,7908,null,0,0,7908]
[{"$f":"+'Original ABG Allocation'!A41","v":"36"},{"$f":"+'Original ABG Allocation'!B41","v":"B/S/S/T"},15770,8928,24698,{"$f":"+'Original ABG Allocation'!H41","v":24698},null,0,0,0,15770,8928,24698,null,0,null,0,24698,null,0,0,24698]
[{"$f":"+'Original ABG Allocation'!A42","v":"37"},{"$f":"+'Original ABG Allocation'!B42","v":"LUZERNE/WYOMING"},30703,23454,54157,{"$f":"+'Original ABG Allocation'!H42","v":54157},null,0,0,0,30703,23454,54157,null,0,null,0,54157,null,0,0,54157]
[{"$f":"+'Original ABG Allocation'!A43","v":"38"},{"$f":"+'Original ABG Allocation'!B43","v":"LACKAWANNA"},21177,12259,33436,{"$f":"+'Original ABG Allocation'!H43","v":33436},null,0,0,0,21177,12259,33436,null,0,null,0,33436,null,0,0,33436]
[{"$f":"+'Original ABG Allocation'!A44","v":"39"},{"$f":"+'Original ABG Allocation'!B44","v":"CARBON"},5177,2805,7982,{"$f":"+'Original ABG Allocation'!H44","v":7982},null,0,0,0,5177,2805,7982,null,0,null,0,7982,null,0,0,7982]
[{"$f":"+'Original ABG Allocation'!A45","v":"40"},{"$f":"+'Original ABG Allocation'!B45","v":"SCHUYLKILL"},18827,10495,29322,{"$f":"+'Original ABG Allocation'!H45","v":29322},null,0,0,0,18827,10495,29322,null,0,null,0,29322,null,0,0,29322]
[{"$f":"+'Original ABG Allocation'!A46","v":"41"},{"$f":"+'Original ABG Allocation'!B46","v":"CLEARFIELD"},9415,4797,14212,{"$f":"+'Original ABG Allocation'!H46","v":14212},null,0,0,0,9415,4797,14212,null,0,null,0,14212,null,0,0,14212]
[{"$f":"+'Original ABG Allocation'!A47","v":"42"},{"$f":"+'Original ABG Allocation'!B47","v":"JEFFERSON"},5831,3043,8874,{"$f":"+'Original ABG Allocation'!H47","v":8874},null,0,0,0,5831,3043,8874,null,0,null,0,8874,null,0,0,8874]
[{"$f":"+'Original ABG Allocation'!A48","v":"43"},{"$f":"+'Original ABG Allocation'!B48","v":"FOREST/WARREN"},5151,2795,7946,{"$f":"+'Original ABG Allocation'!H48","v":7946},null,0,0,0,5151,2795,7946,null,0,null,0,7946,null,0,0,7946]
[{"$f":"+'Original ABG Allocation'!A49","v":"44"},{"$f":"+'Original ABG Allocation'!B49","v":"VENANGO"},5607,2962,8569,{"$f":"+'Original ABG Allocation'!H49","v":8569},null,0,0,0,5607,2962,8569,null,0,null,0,8569,null,0,0,8569]
[{"$f":"+'Original ABG Allocation'!A50","v":"45"},{"$f":"+'Original ABG Allocation'!B50","v":"ARMSTRONG"},7877,4238,12115,{"$f":"+'Original ABG Allocation'!H50","v":12115},null,0,0,0,7877,4238,12115,null,0,null,0,12115,null,0,0,12115]
[{"$f":"+'Original ABG Allocation'!A51","v":"46"},{"$f":"+'Original ABG Allocation'!B51","v":"LAWRENCE"},8512,4469,12981,{"$f":"+'Original ABG Allocation'!H51","v":12981},null,0,0,0,8512,4469,12981,null,0,null,0,12981,null,0,0,12981]
[{"$f":"+'Original ABG Allocation'!A52","v":"47"},{"$f":"+'Original ABG Allocation'!B52","v":"MERCER"},9412,5249,14661,{"$f":"+'Original ABG Allocation'!H52","v":14661},null,0,0,0,9412,5249,14661,null,0,null,0,14661,null,0,0,14661]
[{"$f":"+'Original ABG Allocation'!A53","v":"48"},{"$f":"+'Original ABG Allocation'!B53","v":"MONROE"},5510,2925,8435,{"$f":"+'Original ABG Allocation'!H53","v":8435},null,0,0,0,5510,2925,8435,null,0,null,0,8435,null,0,0,8435]
[{"$f":"+'Original ABG Allocation'!A54","v":"49"},{"$f":"+'Original ABG Allocation'!B54","v":"CLARION"},5162,2799,7961,{"$f":"+'Original ABG Allocation'!H54","v":7961},null,0,0,0,5162,2799,7961,null,0,null,0,7961,null,0,0,7961]
[{"$f":"+'Original ABG Allocation'!A55","v":"50"},{"$f":"+'Original ABG Allocation'!B55","v":"BUTLER"},9369,4781,14150,{"$f":"+'Original ABG Allocation'!H55","v":14150},null,0,0,0,9369,4781,14150,null,0,null,0,14150,null,0,0,14150]
[{"$f":"+'Original ABG Allocation'!A56","v":"51"},{"$f":"+'Original ABG Allocation'!B56","v":"POTTER"},5121,2784,7905,{"$f":"+'Original ABG Allocation'!H56","v":7905},null,0,0,0,5121,2784,7905,null,0,null,0,7905,null,0,0,7905]
[{"$f":"+'Original ABG Allocation'!A57","v":"52"},{"$f":"+'Original ABG Allocation'!B57","v":"WAYNE"},5657,2978,8635,{"$f":"+'Original ABG Allocation'!H57","v":8635},null,0,0,0,5657,2978,8635,null,0,null,0,8635,null,0,0,8635]
[null,"     TOTALS",{"$f":"SUM(C7:C58)","v":923899},488134,1412033,1412033,null,0,0,0,923899,488134,1412033,null,{"$f":"SUM(O7:O58)","v":0},{"$f":"SUM(P7:P58)","v":0},{"$f":"SUM(Q7:Q58)","v":0},{"$f":"SUM(R7:R58)","v":1412033},null,{"$f":"SUM(T7:T58)","v":0},{"$f":"SUM(U7:U58)","v":0},{"$f":"SUM(V7:V58)","v":1412033}]

{"sheet":"Other Funds Summary","index":13,"n_rows":58,"n_cols":39,"rows_kept":58,"cut":false,"hidden":false,"merged":[]}
[]
["OTHER FUNDS"]
[{"$f":"+'Original ABG Allocation'!A3","v":"FY 2022-23"},null,"(1)","(2)","(3)","(3)","(4)","(5)","(6)","(7)","(8)","(9)","(10)","(11)","(12)","(13)","(14)","(15)","(16)","(17)","(18)","(19)","(20)","(21)","(22)","(23)","(24)","(25)","(26)","(27)","(28)","(29)","(30)","(31)","(32)","(33)","(34)","(35)"]
[null,null,"Ombudsman","Ombudsman","Ombudsman","Ombudsman","PA MEDI","PA MEDI","PA MEDI","PA MEDI","PA MEDI","OPTIONS","Block Grant",null,"Protective","PS","OPTIONS","Block Grant","ARPA ","ARPA","ARPA","ARPA","ARPA","ADRC","FFCRA","FFCRA ","CARES","CARES","CARES","PS Reserve Staff","Senior Center","MIPPA-AAA","MIPPA-ADRC","MIPPA-SHIP","MIPPA-SHIP","MIPPA-SHIP","ADRC","Covid Vaccine ","TOTAL"]
[null,null,"ROC","Volunteers","Fed Care Act ","Fed Addl Care Act","Reg. Staff","Helpline","Telecenter ","Base","PHLP","Services","Supplement","SNHT","Services","Personnel","Services (2)","Supplement (2)","Suppt Svs","HD Meals","Cong Meals","Prev Health","Family Caregiver","Vaccine Suppt ","HDMs","CMs","Services","Meals","Caregiver","Grant","Grant","Priority 2","Priority 3","BDT","PHLP","Performance","Award","Access","OTHER"]
[{"$f":"+'Original ABG Allocation'!A6","v":"01"},{"$f":"+'Original ABG Allocation'!B6","v":"ERIE"},0,0,0,0,0,0,0,0,0,0,0,0,0,0,0,0,0,0,0,0,0,0,0,0,0,0,0,0,0,0,0,0,0,0,0,null,{"$f":"SUM(C6:AL6)","v":0}]
[{"$f":"+'Original ABG Allocation'!A7","v":"02"},{"$f":"+'Original ABG Allocation'!B7","v":"CRAWFORD"},0,0,0,0,0,0,0,0,0,0,0,0,0,0,0,0,0,0,0,0,0,0,0,0,0,0,0,0,0,0,0,0,0,0,0,null,{"$f":"SUM(C7:AL7)","v":0}]
[{"$f":"+'Original ABG Allocation'!A8","v":"03"},{"$f":"+'Original ABG Allocation'!B8","v":"CAM/ELK/MCKEAN"},0,0,0,0,0,0,0,0,0,0,0,0,0,0,0,0,0,0,0,0,0,0,0,0,0,0,0,0,0,0,0,0,0,0,0,null,{"$f":"SUM(C8:AL8)","v":0}]
[{"$f":"+'Original ABG Allocation'!A9","v":"04"},{"$f":"+'Original ABG Allocation'!B9","v":"BEAVER"},0,0,0,0,0,0,0,0,0,0,0,0,0,0,0,0,0,0,0,0,0,0,0,0,0,0,0,0,0,0,0,0,0,0,0,null,0]
[{"$f":"+'Original ABG Allocation'!A10","v":"05"},{"$f":"+'Original ABG Allocation'!B10","v":"INDIANA"},0,0,0,0,0,0,0,0,0,0,0,0,0,0,0,0,0,0,0,0,0,0,0,0,0,0,0,0,0,0,0,0,0,0,0,null,0]
[{"$f":"+'Original ABG Allocation'!A11","v":"06"},{"$f":"+'Original ABG Allocation'!B11","v":"ALLEGHENY"},0,0,0,0,0,0,0,0,0,0,0,0,0,0,0,0,0,0,0,0,0,0,0,0,0,0,0,0,0,0,0,0,0,0,0,null,0]
[{"$f":"+'Original ABG Allocation'!A12","v":"07"},{"$f":"+'Original ABG Allocation'!B12","v":"WESTMORELAND"},0,0,0,0,0,0,0,0,0,0,0,0,0,0,0,0,0,0,0,0,0,0,0,0,0,0,0,0,0,0,0,0,0,0,0,null,0]
[{"$f":"+'Original ABG Allocation'!A13","v":"08"},{"$f":"+'Original ABG Allocation'!B13","v":"WASH/FAY/GREENE"},0,0,0,0,0,0,0,0,0,0,0,0,0,0,0,0,0,0,0,0,0,0,0,0,0,0,0,0,0,0,0,0,0,0,0,null,0]
[{"$f":"+'Original ABG Allocation'!A14","v":"09"},{"$f":"+'Original ABG Allocation'!B14","v":"SOMERSET"},0,0,0,0,0,0,0,0,0,0,0,0,0,0,0,0,0,0,0,0,0,0,0,0,0,0,0,0,0,0,0,0,0,0,0,null,0]
[{"$f":"+'Original ABG Allocation'!A15","v":"10"},{"$f":"+'Original ABG Allocation'!B15","v":"CAMBRIA"},0,0,0,0,0,0,0,0,0,0,0,0,0,0,0,0,0,0,0,0,0,0,0,0,0,0,0,0,0,0,0,0,0,0,0,null,0]
[{"$f":"+'Original ABG Allocation'!A16","v":"11"},{"$f":"+'Original ABG Allocation'!B16","v":"BLAIR"},0,0,0,0,0,0,0,0,0,0,0,0,0,0,0,0,0,0,0,0,0,0,0,0,0,0,0,0,0,0,0,0,0,0,0,null,0]
[{"$f":"+'Original ABG Allocation'!A17","v":"12"},{"$f":"+'Original ABG Allocation'!B17","v":"BED/FULT/HUNT"},0,0,0,0,0,0,0,0,0,0,0,0,0,0,0,0,0,0,0,0,0,0,0,0,0,0,0,0,0,0,0,0,0,0,0,null,0]
[{"$f":"+'Original ABG Allocation'!A18","v":"13"},{"$f":"+'Original ABG Allocation'!B18","v":"CENTRE"},0,0,0,0,0,0,0,0,0,0,0,0,0,0,0,0,0,0,0,0,0,0,0,0,0,0,0,0,0,0,0,0,0,0,0,null,0]
[{"$f":"+'Original ABG Allocation'!A19","v":"14"},{"$f":"+'Original ABG Allocation'!B19","v":"LYCOM/CLINTON"},0,0,0,0,0,0,0,0,0,0,0,0,0,0,0,0,0,0,0,0,0,0,0,0,0,0,0,0,0,0,0,0,0,0,0,null,0]
[{"$f":"+'Original ABG Allocation'!A20","v":"15"},{"$f":"+'Original ABG Allocation'!B20","v":"COLUM/MONT"},0,0,0,0,0,0,0,0,0,0,0,0,0,0,0,0,0,0,0,0,0,0,0,0,0,0,0,0,0,0,0,0,0,0,0,null,0]
[{"$f":"+'Original ABG Allocation'!A21","v":"16"},{"$f":"+'Original ABG Allocation'!B21","v":"NORTHUMBERLND"},0,0,0,0,0,0,0,0,0,0,0,0,0,0,0,0,0,0,0,0,0,0,0,0,0,0,0,0,0,0,0,0,0,0,0,null,0]
[{"$f":"+'Original ABG Allocation'!A22","v":"17"},{"$f":"+'Original ABG Allocation'!B22","v":"UNION/SNYDER"},0,0,0,0,0,0,0,0,0,0,0,0,0,0,0,0,0,0,0,0,0,0,0,0,0,0,0,0,0,0,0,0,0,0,0,null,0]
[{"$f":"+'Original ABG Allocation'!A23","v":"18"},{"$f":"+'Original ABG Allocation'!B23","v":"MIFF/JUNIATA"},0,0,0,0,0,0,0,0,0,0,0,0,0,0,0,0,0,0,0,0,0,0,0,0,0,0,0,0,0,0,0,0,0,0,0,null,0]
[{"$f":"+'Original ABG Allocation'!A24","v":"19"},{"$f":"+'Original ABG Allocation'!B24","v":"FRANKLIN"},0,0,0,0,0,0,0,0,0,0,0,0,0,0,0,0,0,0,0,0,0,0,0,0,0,0,0,0,0,0,0,0,0,0,0,null,0]
[{"$f":"+'Original ABG Allocation'!A25","v":"20"},{"$f":"+'Original ABG Allocation'!B25","v":"ADAMS"},0,0,0,0,0,0,0,0,0,0,0,0,0,0,0,0,0,0,0,0,0,0,0,0,0,0,0,0,0,0,0,0,0,0,0,null,0]
[{"$f":"+'Original ABG Allocation'!A26","v":"21"},{"$f":"+'Original ABG Allocation'!B26","v":"CUMBERLAND"},0,0,0,0,0,0,0,0,0,0,0,0,0,0,0,0,0,0,0,0,0,0,0,0,0,0,0,0,0,0,0,0,0,0,0,null,0]
[{"$f":"+'Original ABG Allocation'!A27","v":"22"},{"$f":"+'Original ABG Allocation'!B27","v":"PERRY"},0,0,0,0,0,0,0,0,0,0,0,0,0,0,0,0,0,0,0,0,0,0,0,0,0,0,0,0,0,0,0,0,0,0,0,null,0]
[{"$f":"+'Original ABG Allocation'!A28","v":"23"},{"$f":"+'Original ABG Allocation'!B28","v":"DAUPHIN"},0,0,0,0,0,0,0,0,0,0,0,0,0,0,0,0,0,0,0,0,0,0,0,0,0,0,0,0,0,0,0,0,0,0,0,null,0]
[{"$f":"+'Original ABG Allocation'!A29","v":"24"},{"$f":"+'Original ABG Allocation'!B29","v":"LEBANON"},0,0,0,0,0,0,0,0,0,0,0,0,0,0,0,0,0,0,0,0,0,0,0,0,0,0,0,0,0,0,0,0,0,0,0,null,0]
[{"$f":"+'Original ABG Allocation'!A30","v":"25"},{"$f":"+'Original ABG Allocation'!B30","v":"YORK"},0,0,0,0,0,0,0,0,0,0,0,0,0,0,0,0,0,0,0,0,0,0,0,0,0,0,0,0,0,0,0,0,0,0,0,null,0]
[{"$f":"+'Original ABG Allocation'!A31","v":"26"},{"$f":"+'Original ABG Allocation'!B31","v":"LANCASTER"},0,0,0,0,0,0,0,0,0,0,0,0,0,0,0,0,0,0,0,0,0,0,0,0,0,0,0,0,0,0,0,0,0,0,0,null,0]
[{"$f":"+'Original ABG Allocation'!A32","v":"27"},{"$f":"+'Original ABG Allocation'!B32","v":"CHESTER"},0,0,0,0,0,0,0,0,0,0,0,0,0,0,0,0,0,0,0,0,0,0,0,0,0,0,0,0,0,0,0,0,0,0,0,null,0]
[{"$f":"+'Original ABG Allocation'!A33","v":"28"},{"$f":"+'Original ABG Allocation'!B33","v":"MONTGOMERY"},0,0,0,0,0,0,0,0,0,0,0,0,0,0,0,0,0,0,0,0,0,0,0,0,0,0,0,0,0,0,0,0,0,0,0,null,0]
[{"$f":"+'Original ABG Allocation'!A34","v":"29"},{"$f":"+'Original ABG Allocation'!B34","v":"BUCKS"},0,0,0,0,0,0,0,0,0,0,0,0,0,0,0,0,0,0,0,0,0,0,0,0,0,0,0,0,0,0,0,0,0,0,0,null,0]
[{"$f":"+'Original ABG Allocation'!A35","v":"30"},{"$f":"+'Original ABG Allocation'!B35","v":"DELAWARE"},0,0,0,0,0,0,0,0,0,0,0,0,0,0,0,0,0,0,0,0,0,0,0,0,0,0,0,0,0,0,0,0,0,0,0,null,0]
[{"$f":"+'Original ABG Allocation'!A36","v":"31"},{"$f":"+'Original ABG Allocation'!B36","v":"PHILADELPHIA"},0,0,0,0,0,0,0,0,0,0,0,0,0,0,0,0,0,0,0,0,0,0,0,0,0,0,0,0,0,0,0,0,0,0,0,null,0]
[{"$f":"+'Original ABG Allocation'!A37","v":"32"},{"$f":"+'Original ABG Allocation'!B37","v":"BERKS"},0,0,0,0,0,0,0,0,0,0,0,0,0,0,0,0,0,0,0,0,0,0,0,0,0,0,0,0,0,0,0,0,0,0,0,null,0]
[{"$f":"+'Original ABG Allocation'!A38","v":"33"},{"$f":"+'Original ABG Allocation'!B38","v":"LEHIGH"},0,0,0,0,0,0,0,0,0,0,0,0,0,0,0,0,0,0,0,0,0,0,0,0,0,0,0,0,0,0,0,0,0,0,0,null,0]
[{"$f":"+'Original ABG Allocation'!A39","v":"34"},{"$f":"+'Original ABG Allocation'!B39","v":"NORTHAMPTON"},0,0,0,0,0,0,0,0,0,0,0,0,0,0,0,0,0,0,0,0,0,0,0,0,0,0,0,0,0,0,0,0,0,0,0,null,0]
[{"$f":"+'Original ABG Allocation'!A40","v":"35"},{"$f":"+'Original ABG Allocation'!B40","v":"PIKE"},0,0,0,0,0,0,0,0,0,0,0,0,0,0,0,0,0,0,0,0,0,0,0,0,0,0,0,0,0,0,0,0,0,0,0,null,0]
[{"$f":"+'Original ABG Allocation'!A41","v":"36"},{"$f":"+'Original ABG Allocation'!B41","v":"B/S/S/T"},0,0,0,0,0,0,0,0,0,0,0,0,0,0,0,0,0,0,0,0,0,0,0,0,0,0,0,0,0,0,0,0,0,0,0,null,0]
[{"$f":"+'Original ABG Allocation'!A42","v":"37"},{"$f":"+'Original ABG Allocation'!B42","v":"LUZERNE/WYOMING"},0,0,0,0,0,0,0,0,0,0,0,0,0,0,0,0,0,0,0,0,0,0,0,0,0,0,0,0,0,0,0,0,0,0,0,null,0]
[{"$f":"+'Original ABG Allocation'!A43","v":"38"},{"$f":"+'Original ABG Allocation'!B43","v":"LACKAWANNA"},0,0,0,0,0,0,0,0,0,0,0,0,0,0,0,0,0,0,0,0,0,0,0,0,0,0,0,0,0,0,0,0,0,0,0,null,0]
[{"$f":"+'Original ABG Allocation'!A44","v":"39"},{"$f":"+'Original ABG Allocation'!B44","v":"CARBON"},0,0,0,0,0,0,0,0,0,0,0,0,0,0,0,0,0,0,0,0,0,0,0,0,0,0,0,0,0,0,0,0,0,0,0,null,0]
[{"$f":"+'Original ABG Allocation'!A45","v":"40"},{"$f":"+'Original ABG Allocation'!B45","v":"SCHUYLKILL"},0,0,0,0,0,0,0,0,0,0,0,0,0,0,0,0,0,0,0,0,0,0,0,0,0,0,0,0,0,0,0,0,0,0,0,null,0]
[{"$f":"+'Original ABG Allocation'!A46","v":"41"},{"$f":"+'Original ABG Allocation'!B46","v":"CLEARFIELD"},0,0,0,0,0,0,0,0,0,0,0,0,0,0,0,0,0,0,0,0,0,0,0,0,0,0,0,0,0,0,0,0,0,0,0,null,0]
[{"$f":"+'Original ABG Allocation'!A47","v":"42"},{"$f":"+'Original ABG Allocation'!B47","v":"JEFFERSON"},0,0,0,0,0,0,0,0,0,0,0,0,0,0,0,0,0,0,0,0,0,0,0,0,0,0,0,0,0,0,0,0,0,0,0,null,0]
[{"$f":"+'Original ABG Allocation'!A48","v":"43"},{"$f":"+'Original ABG Allocation'!B48","v":"FOREST/WARREN"},0,0,0,0,0,0,0,0,0,0,0,0,0,0,0,0,0,0,0,0,0,0,0,0,0,0,0,0,0,0,0,0,0,0,0,null,0]
[{"$f":"+'Original ABG Allocation'!A49","v":"44"},{"$f":"+'Original ABG Allocation'!B49","v":"VENANGO"},0,0,0,0,0,0,0,0,0,0,0,0,0,0,0,0,0,0,0,0,0,0,0,0,0,0,0,0,0,0,0,0,0,0,0,null,0]
[{"$f":"+'Original ABG Allocation'!A50","v":"45"},{"$f":"+'Original ABG Allocation'!B50","v":"ARMSTRONG"},0,0,0,0,0,0,0,0,0,0,0,0,0,0,0,0,0,0,0,0,0,0,0,0,0,0,0,0,0,0,0,0,0,0,0,null,0]
[{"$f":"+'Original ABG Allocation'!A51","v":"46"},{"$f":"+'Original ABG Allocation'!B51","v":"LAWRENCE"},0,0,0,0,0,0,0,0,0,0,0,0,0,0,0,0,0,0,0,0,0,0,0,0,0,0,0,0,0,0,0,0,0,0,0,null,0]
[{"$f":"+'Original ABG Allocation'!A52","v":"47"},{"$f":"+'Original ABG Allocation'!B52","v":"MERCER"},0,0,0,0,0,0,0,0,0,0,0,0,0,0,0,0,0,0,0,0,0,0,0,0,0,0,0,0,0,0,0,0,0,0,0,null,0]
[{"$f":"+'Original ABG Allocation'!A53","v":"48"},{"$f":"+'Original ABG Allocation'!B53","v":"MONROE"},0,0,0,0,0,0,0,0,0,0,0,0,0,0,0,0,0,0,0,0,0,0,0,0,0,0,0,0,0,0,0,0,0,0,0,null,0]
[{"$f":"+'Original ABG Allocation'!A54","v":"49"},{"$f":"+'Original ABG Allocation'!B54","v":"CLARION"},0,0,0,0,0,0,0,0,0,0,0,0,0,0,0,0,0,0,0,0,0,0,0,0,0,0,0,0,0,0,0,0,0,0,0,null,0]
[{"$f":"+'Original ABG Allocation'!A55","v":"50"},{"$f":"+'Original ABG Allocation'!B55","v":"BUTLER"},0,0,0,0,0,0,0,0,0,0,0,0,0,0,0,0,0,0,0,0,0,0,0,0,0,0,0,0,0,0,0,0,0,0,0,null,0]
[{"$f":"+'Original ABG Allocation'!A56","v":"51"},{"$f":"+'Original ABG Allocation'!B56","v":"POTTER"},0,0,0,0,0,0,0,0,0,0,0,0,0,0,0,0,0,0,0,0,0,0,0,0,0,0,0,0,0,0,0,0,0,0,0,null,0]
[{"$f":"+'Original ABG Allocation'!A57","v":"52"},{"$f":"+'Original ABG Allocation'!B57","v":"WAYNE"},0,0,0,0,0,0,0,0,0,0,0,0,0,0,0,0,0,0,0,0,0,0,0,0,0,0,0,0,0,0,0,0,0,0,0,null,{"$f":"SUM(C7:AL57)","v":0}]
[null,"     TOTALS",{"$f":"SUM(C6:C57)","v":0},{"$f":"SUM(D6:D57)","v":0},null,null,{"$f":"SUM(G6:G57)","v":0},0,0,0,0,0,0,0,0,0,0,0,{"$f":"SUM(S6:S57)","v":0},0,0,0,0,0,null,null,{"$f":"SUM(AA6:AA57)","v":0},{"$f":"SUM(AB6:AB57)","v":0},0,null,null,null,null,null,null,null,null,null,{"$f":"SUM(AK6:AM57)","v":0}]

{"sheet":"Other Funds-Revision No. 1","index":14,"n_rows":58,"n_cols":39,"rows_kept":58,"cut":false,"hidden":false,"merged":[]}
["CHANGE NO. 1"]
["OTHER FUNDS"]
[{"$f":"+'Original ABG Allocation'!A3","v":"FY 2022-23"},null,{"$f":"+'Other Funds Summary'!C3","v":"(1)"},{"$f":"+'Other Funds Summary'!D3","v":"(2)"},{"$f":"+'Other Funds Summary'!E3","v":"(3)"},{"$f":"+'Other Funds Summary'!F3","v":"(3)"},{"$f":"+'Other Funds Summary'!G3","v":"(4)"},{"$f":"+'Other Funds Summary'!H3","v":"(5)"},{"$f":"+'Other Funds Summary'!I3","v":"(6)"},{"$f":"+'Other Funds Summary'!J3","v":"(7)"},{"$f":"+'Other Funds Summary'!K3","v":"(8)"},{"$f":"+'Other Funds Summary'!L3","v":"(9)"},{"$f":"+'Other Funds Summary'!M3","v":"(10)"},{"$f":"+'Other Funds Summary'!N3","v":"(11)"},{"$f":"+'Other Funds Summary'!O3","v":"(12)"},{"$f":"+'Other Funds Summary'!P3","v":"(13)"},{"$f":"+'Other Funds Summary'!Q3","v":"(14)"},{"$f":"+'Other Funds Summary'!R3","v":"(15)"},{"$f":"+'Other Funds Summary'!S3","v":"(16)"},{"$f":"+'Other Funds Summary'!T3","v":"(17)"},{"$f":"+'Other Funds Summary'!U3","v":"(18)"},{"$f":"+'Other Funds Summary'!V3","v":"(19)"},{"$f":"+'Other Funds Summary'!W3","v":"(20)"},{"$f":"+'Other Funds Summary'!X3","v":"(21)"},{"$f":"+'Other Funds Summary'!Y3","v":"(22)"},{"$f":"+'Other Funds Summary'!Z3","v":"(23)"},{"$f":"+'Other Funds Summary'!AA3","v":"(24)"},{"$f":"+'Other Funds Summary'!AB3","v":"(25)"},{"$f":"+'Other Funds Summary'!AC3","v":"(26)"},{"$f":"+'Other Funds Summary'!AD3","v":"(27)"},{"$f":"+'Other Funds Summary'!AE3","v":"(28)"},{"$f":"+'Other Funds Summary'!AF3","v":"(29)"},{"$f":"+'Other Funds Summary'!AG3","v":"(30)"},{"$f":"+'Other Funds Summary'!AH3","v":"(31)"},{"$f":"+'Other Funds Summary'!AI3","v":"(32)"},{"$f":"+'Other Funds Summary'!AJ3","v":"(33)"},{"$f":"+'Other Funds Summary'!AK3","v":"(34)"},{"$f":"+'Other Funds Summary'!AL3","v":"(35)"}]
[null,null,{"$f":"+'Other Funds Summary'!C4","v":"Ombudsman"},{"$f":"+'Other Funds Summary'!D4","v":"Ombudsman"},"Ombudsman","Ombudsman",{"$f":"+'Other Funds Summary'!G4","v":"PA MEDI"},{"$f":"+'Other Funds Summary'!H4","v":"PA MEDI"},{"$f":"+'Other Funds Summary'!I4","v":"PA MEDI"},{"$f":"+'Other Funds Summary'!J4","v":"PA MEDI"},{"$f":"+'Other Funds Summary'!K4","v":"PA MEDI"},{"$f":"+'Other Funds Summary'!L4","v":"OPTIONS"},{"$f":"+'Other Funds Summary'!M4","v":"Block Grant"},null,{"$f":"+'Other Funds Summary'!O4","v":"Protective"},{"$f":"+'Other Funds Summary'!P4","v":"PS"},{"$f":"+'Other Funds Summary'!Q4","v":"OPTIONS"},{"$f":"+'Other Funds Summary'!R4","v":"Block Grant"},{"$f":"+'Other Funds Summary'!S4","v":"ARPA "},{"$f":"+'Other Funds Summary'!T4","v":"ARPA"},{"$f":"+'Other Funds Summary'!U4","v":"ARPA"},{"$f":"+'Other Funds Summary'!V4","v":"ARPA"},{"$f":"+'Other Funds Summary'!W4","v":"ARPA"},"ADRC",{"$f":"'Other Funds Summary'!Y4","v":"FFCRA"},{"$f":"'Other Funds Summary'!Z4","v":"FFCRA "},{"$f":"'Other Funds Summary'!AA4","v":"CARES"},{"$f":"'Other Funds Summary'!AB4","v":"CARES"},{"$f":"'Other Funds Summary'!AC4","v":"CARES"},{"$f":"'Other Funds Summary'!AD4","v":"PS Reserve Staff"},{"$f":"'Other Funds Summary'!AE4","v":"Senior Center"},{"$f":"'Other Funds Summary'!AF4","v":"MIPPA-AAA"},{"$f":"'Other Funds Summary'!AG4","v":"MIPPA-ADRC"},{"$f":"'Other Funds Summary'!AH4","v":"MIPPA-SHIP"},{"$f":"'Other Funds Summary'!AI4","v":"MIPPA-SHIP"},{"$f":"'Other Funds Summary'!AJ4","v":"MIPPA-SHIP"},{"$f":"'Other Funds Summary'!AK4","v":"ADRC"},{"$f":"'Other Funds Summary'!AL4","v":"Covid Vaccine "},"TOTAL"]
[null,null,{"$f":"+'Other Funds Summary'!C5","v":"ROC"},{"$f":"+'Other Funds Summary'!D5","v":"Volunteers"},"Fed Care Act",{"$f":"+'Other Funds Summary'!F5","v":"Fed Addl Care Act"},{"$f":"+'Other Funds Summary'!G5","v":"Reg. Staff"},{"$f":"+'Other Funds Summary'!H5","v":"Helpline"},{"$f":"+'Other Funds Summary'!I5","v":"Telecenter "},{"$f":"+'Other Funds Summary'!J5","v":"Base"},{"$f":"+'Other Funds Summary'!K5","v":"PHLP"},{"$f":"+'Other Funds Summary'!L5","v":"Services"},{"$f":"+'Other Funds Summary'!M5","v":"Supplement"},{"$f":"+'Other Funds Summary'!N5","v":"SNHT"},{"$f":"+'Other Funds Summary'!O5","v":"Services"},{"$f":"+'Other Funds Summary'!P5","v":"Personnel"},{"$f":"+'Other Funds Summary'!Q5","v":"Services (2)"},{"$f":"+'Other Funds Summary'!R5","v":"Supplement (2)"},{"$f":"+'Other Funds Summary'!S5","v":"Suppt Svs"},{"$f":"+'Other Funds Summary'!T5","v":"HD Meals"},{"$f":"+'Other Funds Summary'!U5","v":"Cong Meals"},{"$f":"+'Other Funds Summary'!V5","v":"Prev Health"},{"$f":"+'Other Funds Summary'!W5","v":"Family Caregiver"},{"$f":"+'Other Funds Summary'!X5","v":"Vaccine Suppt "},{"$f":"+'Other Funds Summary'!Y5","v":"HDMs"},{"$f":"+'Other Funds Summary'!Z5","v":"CMs"},{"$f":"+'Other Funds Summary'!AA5","v":"Services"},{"$f":"+'Other Funds Summary'!AB5","v":"Meals"},{"$f":"+'Other Funds Summary'!AC5","v":"Caregiver"},{"$f":"+'Other Funds Summary'!AD5","v":"Grant"},{"$f":"'Other Funds Summary'!AE5","v":"Grant"},{"$f":"'Other Funds Summary'!AF5","v":"Priority 2"},{"$f":"'Other Funds Summary'!AG5","v":"Priority 3"},{"$f":"'Other Funds Summary'!AH5","v":"BDT"},{"$f":"'Other Funds Summary'!AI5","v":"PHLP"},{"$f":"'Other Funds Summary'!AJ5","v":"Performance"},{"$f":"'Other Funds Summary'!AK5","v":"Award"},{"$f":"'Other Funds Summary'!AL5","v":"Access"},"OTHER"]
[{"$f":"+'Original ABG Allocation'!A6","v":"01"},{"$f":"+'Original ABG Allocation'!B6","v":"ERIE"},0,0,8840,0,0,0,0,0,0,0,0,0,0,0,0,0,0,0,0,0,0,0,0,0,0,0,0,0,0,0,0,0,0,0,0,41914,{"$f":"SUM(C6:AL6)","v":50754}]
[{"$f":"+'Original ABG Allocation'!A7","v":"02"},{"$f":"+'Original ABG Allocation'!B7","v":"CRAWFORD"},0,0,8840,0,0,0,0,0,0,0,0,0,0,0,0,0,0,0,0,0,0,0,0,0,0,0,0,0,0,0,0,0,0,0,0,19112,{"$f":"SUM(C7:AL7)","v":27952}]
[{"$f":"+'Original ABG Allocation'!A8","v":"03"},{"$f":"+'Original ABG Allocation'!B8","v":"CAM/ELK/MCKEAN"},0,0,8840,0,0,0,0,0,0,0,0,0,0,0,0,0,0,0,0,0,0,0,0,0,0,0,0,0,0,0,0,0,0,0,0,17686,26526]
[{"$f":"+'Original ABG Allocation'!A9","v":"04"},{"$f":"+'Original ABG Allocation'!B9","v":"BEAVER"},0,0,8840,0,0,0,0,0,0,0,0,0,0,0,0,0,0,0,0,0,0,0,0,0,0,0,0,0,0,0,0,0,0,0,0,28437,37277]
[{"$f":"+'Original ABG Allocation'!A10","v":"05"},{"$f":"+'Original ABG Allocation'!B10","v":"INDIANA"},0,0,8840,0,0,0,0,0,0,0,0,0,0,0,0,0,0,0,0,0,0,0,0,0,0,0,0,0,0,0,0,0,0,0,0,17663,26503]
[{"$f":"+'Original ABG Allocation'!A11","v":"06"},{"$f":"+'Original ABG Allocation'!B11","v":"ALLEGHENY"},0,0,8840,0,0,0,0,0,0,0,0,0,0,0,0,0,0,0,0,0,0,0,0,0,0,0,0,0,0,0,0,0,0,0,0,180964,189804]
[{"$f":"+'Original ABG Allocation'!A12","v":"07"},{"$f":"+'Original ABG Allocation'!B12","v":"WESTMORELAND"},0,0,8840,0,0,0,0,0,0,0,0,0,0,0,0,0,0,0,0,0,0,0,0,0,0,0,0,0,0,0,0,0,0,0,0,57991,66831]
[{"$f":"+'Original ABG Allocation'!A13","v":"08"},{"$f":"+'Original ABG Allocation'!B13","v":"WASH/FAY/GREENE"},0,0,8840,0,0,0,0,0,0,0,0,0,0,0,0,0,0,0,0,0,0,0,0,0,0,0,0,0,0,0,0,0,0,0,0,72090,80930]
[{"$f":"+'Original ABG Allocation'!A14","v":"09"},{"$f":"+'Original ABG Allocation'!B14","v":"SOMERSET"},0,0,8840,0,0,0,0,0,0,0,0,0,0,0,0,0,0,0,0,0,0,0,0,0,0,0,0,0,0,0,0,0,0,0,0,18722,27562]
[{"$f":"+'Original ABG Allocation'!A15","v":"10"},{"$f":"+'Original ABG Allocation'!B15","v":"CAMBRIA"},0,0,8840,0,0,0,0,0,0,0,0,0,0,0,0,0,0,0,0,0,0,0,0,0,0,0,0,0,0,0,0,0,0,0,0,28922,37762]
[{"$f":"+'Original ABG Allocation'!A16","v":"11"},{"$f":"+'Original ABG Allocation'!B16","v":"BLAIR"},0,0,8840,0,0,0,0,0,0,0,0,0,0,0,0,0,0,0,0,0,0,0,0,0,0,0,0,0,0,0,0,0,0,0,0,21456,30296]
[{"$f":"+'Original ABG Allocation'!A17","v":"12"},{"$f":"+'Original ABG Allocation'!B17","v":"BED/FULT/HUNT"},0,0,8840,0,0,0,0,0,0,0,0,0,0,0,0,0,0,0,0,0,0,0,0,0,0,0,0,0,0,0,0,0,0,0,0,28502,37342]
[{"$f":"+'Original ABG Allocation'!A18","v":"13"},{"$f":"+'Original ABG Allocation'!B18","v":"CENTRE"},0,0,8840,0,0,0,0,0,0,0,0,0,0,0,0,0,0,0,0,0,0,0,0,0,0,0,0,0,0,0,0,0,0,0,0,18588,27428]
[{"$f":"+'Original ABG Allocation'!A19","v":"14"},{"$f":"+'Original ABG Allocation'!B19","v":"LYCOM/CLINTON"},0,0,8840,0,0,0,0,0,0,0,0,0,0,0,0,0,0,0,0,0,0,0,0,0,0,0,0,0,0,0,0,0,0,0,0,29172,38012]
[{"$f":"+'Original ABG Allocation'!A20","v":"15"},{"$f":"+'Original ABG Allocation'!B20","v":"COLUM/MONT"},0,0,8840,0,0,0,0,0,0,0,0,0,0,0,0,0,0,0,0,0,0,0,0,0,0,0,0,0,0,0,0,0,0,0,0,16498,25338]
[{"$f":"+'Original ABG Allocation'!A21","v":"16"},{"$f":"+'Original ABG Allocation'!B21","v":"NORTHUMBERLND"},0,0,8840,0,0,0,0,0,0,0,0,0,0,0,0,0,0,0,0,0,0,0,0,0,0,0,0,0,0,0,0,0,0,0,0,18995,27835]
[{"$f":"+'Original ABG Allocation'!A22","v":"17"},{"$f":"+'Original ABG Allocation'!B22","v":"UNION/SNYDER"},0,0,8840,0,0,0,0,0,0,0,0,0,0,0,0,0,0,0,0,0,0,0,0,0,0,0,0,0,0,0,0,0,0,0,0,16338,25178]
[{"$f":"+'Original ABG Allocation'!A23","v":"18"},{"$f":"+'Original ABG Allocation'!B23","v":"MIFF/JUNIATA"},0,0,8840,0,0,0,0,0,0,0,0,0,0,0,0,0,0,0,0,0,0,0,0,0,0,0,0,0,0,0,0,0,0,0,0,17134,25974]
[{"$f":"+'Original ABG Allocation'!A24","v":"19"},{"$f":"+'Original ABG Allocation'!B24","v":"FRANKLIN"},0,0,8840,0,0,0,0,0,0,0,0,0,0,0,0,0,0,0,0,0,0,0,0,0,0,0,0,0,0,0,0,0,0,0,0,23033,31873]
[{"$f":"+'Original ABG Allocation'!A25","v":"20"},{"$f":"+'Original ABG Allocation'!B25","v":"ADAMS"},0,0,8840,0,0,0,0,0,0,0,0,0,0,0,0,0,0,0,0,0,0,0,0,0,0,0,0,0,0,0,0,0,0,0,0,20260,29100]
[{"$f":"+'Original ABG Allocation'!A26","v":"21"},{"$f":"+'Original ABG Allocation'!B26","v":"CUMBERLAND"},0,0,8840,0,0,0,0,0,0,0,0,0,0,0,0,0,0,0,0,0,0,0,0,0,0,0,0,0,0,0,0,0,0,0,0,29706,38546]
[{"$f":"+'Original ABG Allocation'!A27","v":"22"},{"$f":"+'Original ABG Allocation'!B27","v":"PERRY"},0,0,8840,0,0,0,0,0,0,0,0,0,0,0,0,0,0,0,0,0,0,0,0,0,0,0,0,0,0,0,0,0,0,0,0,10262,19102]
[{"$f":"+'Original ABG Allocation'!A28","v":"23"},{"$f":"+'Original ABG Allocation'!B28","v":"DAUPHIN"},0,0,8840,0,0,0,0,0,0,0,0,0,0,0,0,0,0,0,0,0,0,0,0,0,0,0,0,0,0,0,0,0,0,0,0,41146,49986]
[{"$f":"+'Original ABG Allocation'!A29","v":"24"},{"$f":"+'Original ABG Allocation'!B29","v":"LEBANON"},0,0,9215,0,0,0,0,0,0,0,0,0,0,0,0,0,0,0,0,0,0,0,0,0,0,0,0,0,0,0,0,0,0,0,0,19343,28558]
[{"$f":"+'Original ABG Allocation'!A30","v":"25"},{"$f":"+'Original ABG Allocation'!B30","v":"YORK"},0,0,8840,0,0,0,0,0,0,0,0,0,0,0,0,0,0,0,0,0,0,0,0,0,0,0,0,0,0,0,0,0,0,0,0,60311,69151]
[{"$f":"+'Original ABG Allocation'!A31","v":"26"},{"$f":"+'Original ABG Allocation'!B31","v":"LANCASTER"},0,0,8840,0,0,0,0,0,0,0,0,0,0,0,0,0,0,0,0,0,0,0,0,0,0,0,0,0,0,0,0,0,0,0,0,68547,77387]
[{"$f":"+'Original ABG Allocation'!A32","v":"27"},{"$f":"+'Original ABG Allocation'!B32","v":"CHESTER"},0,0,8840,0,0,0,0,0,0,0,0,0,0,0,0,0,0,0,0,0,0,0,0,0,0,0,0,0,0,0,0,0,0,0,0,51134,59974]
[{"$f":"+'Original ABG Allocation'!A33","v":"28"},{"$f":"+'Original ABG Allocation'!B33","v":"MONTGOMERY"},0,0,8840,0,0,0,0,0,0,0,0,0,0,0,0,0,0,0,0,0,0,0,0,0,0,0,0,0,0,0,0,0,0,0,0,92594,101434]
[{"$f":"+'Original ABG Allocation'!A34","v":"29"},{"$f":"+'Original ABG Allocation'!B34","v":"BUCKS"},0,0,8840,0,0,0,0,0,0,0,0,0,0,0,0,0,0,0,0,0,0,0,0,0,0,0,0,0,0,0,0,0,0,0,0,67441,76281]
[{"$f":"+'Original ABG Allocation'!A35","v":"30"},{"$f":"+'Original ABG Allocation'!B35","v":"DELAWARE"},0,0,8840,0,0,0,0,0,0,0,0,0,0,0,0,0,0,0,0,0,0,0,0,0,0,0,0,0,0,0,0,0,0,0,0,73647,82487]
[{"$f":"+'Original ABG Allocation'!A36","v":"31"},{"$f":"+'Original ABG Allocation'!B36","v":"PHILADELPHIA"},0,0,10140,0,0,0,0,0,0,0,0,0,0,0,0,0,0,0,0,0,0,0,0,0,0,0,0,0,0,0,0,0,0,0,0,365098,375238]
[{"$f":"+'Original ABG Allocation'!A37","v":"32"},{"$f":"+'Original ABG Allocation'!B37","v":"BERKS"},0,0,8840,0,0,0,0,0,0,0,0,0,0,0,0,0,0,0,0,0,0,0,0,0,0,0,0,0,0,0,0,0,0,0,0,61542,70382]
[{"$f":"+'Original ABG Allocation'!A38","v":"33"},{"$f":"+'Original ABG Allocation'!B38","v":"LEHIGH"},0,0,8840,0,0,0,0,0,0,0,0,0,0,0,0,0,0,0,0,0,0,0,0,0,0,0,0,0,0,0,0,0,0,0,0,49049,57889]
[{"$f":"+'Original ABG Allocation'!A39","v":"34"},{"$f":"+'Original ABG Allocation'!B39","v":"NORTHAMPTON"},0,0,8840,0,0,0,0,0,0,0,0,0,0,0,0,0,0,0,0,0,0,0,0,0,0,0,0,0,0,0,0,0,0,0,0,37573,46413]
[{"$f":"+'Original ABG Allocation'!A40","v":"35"},{"$f":"+'Original ABG Allocation'!B40","v":"PIKE"},0,0,8840,0,0,0,0,0,0,0,0,0,0,0,0,0,0,0,0,0,0,0,0,0,0,0,0,0,0,0,0,0,0,0,0,15706,24546]
[{"$f":"+'Original ABG Allocation'!A41","v":"36"},{"$f":"+'Original ABG Allocation'!B41","v":"B/S/S/T"},0,0,8840,0,0,0,0,0,0,0,0,0,0,0,0,0,0,0,0,0,0,0,0,0,0,0,0,0,0,0,0,0,0,0,0,39593,48433]
[{"$f":"+'Original ABG Allocation'!A42","v":"37"},{"$f":"+'Original ABG Allocation'!B42","v":"LUZERNE/WYOMING"},0,0,8840,0,0,0,0,0,0,0,0,0,0,0,0,0,0,0,0,0,0,0,0,0,0,0,0,0,0,0,0,0,0,0,0,53811,62651]
[{"$f":"+'Original ABG Allocation'!A43","v":"38"},{"$f":"+'Original ABG Allocation'!B43","v":"LACKAWANNA"},0,0,8840,0,0,0,0,0,0,0,0,0,0,0,0,0,0,0,0,0,0,0,0,0,0,0,0,0,0,0,0,0,0,0,0,33417,42257]
[{"$f":"+'Original ABG Allocation'!A44","v":"39"},{"$f":"+'Original ABG Allocation'!B44","v":"CARBON"},0,0,8840,0,0,0,0,0,0,0,0,0,0,0,0,0,0,0,0,0,0,0,0,0,0,0,0,0,0,0,0,0,0,0,0,14416,23256]
[{"$f":"+'Original ABG Allocation'!A45","v":"40"},{"$f":"+'Original ABG Allocation'!B45","v":"SCHUYLKILL"},0,0,11555,0,0,0,0,0,0,0,0,0,0,0,0,0,0,0,0,0,0,0,0,0,0,0,0,0,0,0,0,0,0,0,0,30878,42433]
[{"$f":"+'Original ABG Allocation'!A46","v":"41"},{"$f":"+'Original ABG Allocation'!B46","v":"CLEARFIELD"},0,0,8840,0,0,0,0,0,0,0,0,0,0,0,0,0,0,0,0,0,0,0,0,0,0,0,0,0,0,0,0,0,0,0,0,19666,28506]
[{"$f":"+'Original ABG Allocation'!A47","v":"42"},{"$f":"+'Original ABG Allocation'!B47","v":"JEFFERSON"},0,0,8840,0,0,0,0,0,0,0,0,0,0,0,0,0,0,0,0,0,0,0,0,0,0,0,0,0,0,0,0,0,0,0,0,10201,19041]
[{"$f":"+'Original ABG Allocation'!A48","v":"43"},{"$f":"+'Original ABG Allocation'!B48","v":"FOREST/WARREN"},0,0,8840,0,0,0,0,0,0,0,0,0,0,0,0,0,0,0,0,0,0,0,0,0,0,0,0,0,0,0,0,0,0,0,0,12228,21068]
[{"$f":"+'Original ABG Allocation'!A49","v":"44"},{"$f":"+'Original ABG Allocation'!B49","v":"VENANGO"},0,0,8840,0,0,0,0,0,0,0,0,0,0,0,0,0,0,0,0,0,0,0,0,0,0,0,0,0,0,0,0,0,0,0,0,13095,21935]
[{"$f":"+'Original ABG Allocation'!A50","v":"45"},{"$f":"+'Original ABG Allocation'!B50","v":"ARMSTRONG"},0,0,8840,0,0,0,0,0,0,0,0,0,0,0,0,0,0,0,0,0,0,0,0,0,0,0,0,0,0,0,0,0,0,0,0,17468,26308]
[{"$f":"+'Original ABG Allocation'!A51","v":"46"},{"$f":"+'Original ABG Allocation'!B51","v":"LAWRENCE"},0,0,8840,0,0,0,0,0,0,0,0,0,0,0,0,0,0,0,0,0,0,0,0,0,0,0,0,0,0,0,0,0,0,0,0,17606,26446]
[{"$f":"+'Original ABG Allocation'!A52","v":"47"},{"$f":"+'Original ABG Allocation'!B52","v":"MERCER"},0,0,8840,0,0,0,0,0,0,0,0,0,0,0,0,0,0,0,0,0,0,0,0,0,0,0,0,0,0,0,0,0,0,0,0,22459,31299]
[{"$f":"+'Original ABG Allocation'!A53","v":"48"},{"$f":"+'Original ABG Allocation'!B53","v":"MONROE"},0,0,8840,0,0,0,0,0,0,0,0,0,0,0,0,0,0,0,0,0,0,0,0,0,0,0,0,0,0,0,0,0,0,0,0,33334,42174]
[{"$f":"+'Original ABG Allocation'!A54","v":"49"},{"$f":"+'Original ABG Allocation'!B54","v":"CLARION"},0,0,8840,0,0,0,0,0,0,0,0,0,0,0,0,0,0,0,0,0,0,0,0,0,0,0,0,0,0,0,0,0,0,0,0,9909,18749]
[{"$f":"+'Original ABG Allocation'!A55","v":"50"},{"$f":"+'Original ABG Allocation'!B55","v":"BUTLER"},0,0,8840,0,0,0,0,0,0,0,0,0,0,0,0,0,0,0,0,0,0,0,0,0,0,0,0,0,0,0,0,0,0,0,0,29771,38611]
[{"$f":"+'Original ABG Allocation'!A56","v":"51"},{"$f":"+'Original ABG Allocation'!B56","v":"POTTER"},0,0,8840,0,0,0,0,0,0,0,0,0,0,0,0,0,0,0,0,0,0,0,0,0,0,0,0,0,0,0,0,0,0,0,0,4511,13351]
[{"$f":"+'Original ABG Allocation'!A57","v":"52"},{"$f":"+'Original ABG Allocation'!B57","v":"WAYNE"},0,0,8840,0,0,0,0,0,0,0,0,0,0,0,0,0,0,0,0,0,0,0,0,0,0,0,0,0,0,0,0,0,0,0,0,13948,22788]
[null,"     TOTALS",{"$f":"SUM(C6:C57)","v":0},0,464070,null,0,0,0,0,0,0,0,0,0,{"$f":"SUM(P6:P57)","v":0},{"$f":"SUM(Q6:Q57)","v":0},{"$f":"SUM(R6:R57)","v":0},0,0,0,0,0,0,0,{"$f":"SUM(Z6:Z57)","v":0},0,0,0,0,0,0,0,0,0,0,0,2112887,2576957]

{"sheet":"Amendment 1-Other Funds","index":15,"n_rows":58,"n_cols":39,"rows_kept":58,"cut":false,"hidden":false,"merged":[]}
["AMENDMENT NO. 1"]
["OTHER FUNDS"]
[{"$f":"+'Original ABG Allocation'!A3","v":"FY 2022-23"},null,{"$f":"+'Other Funds Summary'!C3","v":"(1)"},{"$f":"+'Other Funds Summary'!D3","v":"(2)"},{"$f":"+'Other Funds Summary'!E3","v":"(3)"},{"$f":"+'Other Funds Summary'!F3","v":"(3)"},{"$f":"+'Other Funds Summary'!G3","v":"(4)"},{"$f":"+'Other Funds Summary'!H3","v":"(5)"},{"$f":"+'Other Funds Summary'!I3","v":"(6)"},{"$f":"+'Other Funds Summary'!J3","v":"(7)"},{"$f":"+'Other Funds Summary'!K3","v":"(8)"},{"$f":"+'Other Funds Summary'!L3","v":"(9)"},{"$f":"+'Other Funds Summary'!M3","v":"(10)"},{"$f":"+'Other Funds Summary'!N3","v":"(11)"},{"$f":"+'Other Funds Summary'!O3","v":"(12)"},{"$f":"+'Other Funds Summary'!P3","v":"(13)"},{"$f":"+'Other Funds Summary'!Q3","v":"(14)"},{"$f":"+'Other Funds Summary'!R3","v":"(15)"},{"$f":"+'Other Funds Summary'!S3","v":"(16)"},{"$f":"+'Other Funds Summary'!T3","v":"(17)"},{"$f":"+'Other Funds Summary'!U3","v":"(18)"},{"$f":"+'Other Funds Summary'!V3","v":"(19)"},{"$f":"+'Other Funds Summary'!W3","v":"(20)"},{"$f":"+'Other Funds Summary'!X3","v":"(21)"},{"$f":"+'Other Funds Summary'!Y3","v":"(22)"},{"$f":"+'Other Funds Summary'!Z3","v":"(23)"},{"$f":"+'Other Funds Summary'!AA3","v":"(24)"},{"$f":"+'Other Funds Summary'!AB3","v":"(25)"},{"$f":"+'Other Funds Summary'!AC3","v":"(26)"},{"$f":"+'Other Funds Summary'!AD3","v":"(27)"},{"$f":"+'Other Funds Summary'!AE3","v":"(28)"},{"$f":"+'Other Funds Summary'!AF3","v":"(29)"},{"$f":"+'Other Funds Summary'!AG3","v":"(30)"},{"$f":"+'Other Funds Summary'!AH3","v":"(31)"},{"$f":"+'Other Funds Summary'!AI3","v":"(32)"},{"$f":"+'Other Funds Summary'!AJ3","v":"(33)"},{"$f":"+'Other Funds Summary'!AK3","v":"(34)"},{"$f":"+'Other Funds Summary'!AL3","v":"(35)"}]
[null,null,{"$f":"+'Other Funds Summary'!C4","v":"Ombudsman"},{"$f":"+'Other Funds Summary'!D4","v":"Ombudsman"},{"$f":"+'Other Funds Summary'!E4","v":"Ombudsman"},{"$f":"+'Other Funds Summary'!F4","v":"Ombudsman"},{"$f":"+'Other Funds Summary'!G4","v":"PA MEDI"},{"$f":"+'Other Funds Summary'!H4","v":"PA MEDI"},{"$f":"+'Other Funds Summary'!I4","v":"PA MEDI"},{"$f":"+'Other Funds Summary'!J4","v":"PA MEDI"},{"$f":"+'Other Funds Summary'!K4","v":"PA MEDI"},{"$f":"+'Other Funds Summary'!L4","v":"OPTIONS"},{"$f":"+'Other Funds Summary'!M4","v":"Block Grant"},null,{"$f":"+'Other Funds Summary'!O4","v":"Protective"},{"$f":"+'Other Funds Summary'!P4","v":"PS"},{"$f":"+'Other Funds Summary'!Q4","v":"OPTIONS"},{"$f":"+'Other Funds Summary'!R4","v":"Block Grant"},{"$f":"+'Other Funds Summary'!S4","v":"ARPA "},"ARPA","ARPA","ARPA","ARPA",{"$f":"+'Other Funds Summary'!X4","v":"ADRC"},{"$f":"'Other Funds Summary'!Y4","v":"FFCRA"},{"$f":"'Other Funds Summary'!Z4","v":"FFCRA "},{"$f":"'Other Funds Summary'!AA4","v":"CARES"},{"$f":"'Other Funds Summary'!AB4","v":"CARES"},{"$f":"'Other Funds Summary'!AC4","v":"CARES"},{"$f":"'Other Funds Summary'!AD4","v":"PS Reserve Staff"},{"$f":"'Other Funds Summary'!AE4","v":"Senior Center"},{"$f":"'Other Funds Summary'!AF4","v":"MIPPA-AAA"},{"$f":"'Other Funds Summary'!AG4","v":"MIPPA-ADRC"},{"$f":"'Other Funds Summary'!AH4","v":"MIPPA-SHIP"},{"$f":"'Other Funds Summary'!AI4","v":"MIPPA-SHIP"},{"$f":"'Other Funds Summary'!AJ4","v":"MIPPA-SHIP"},{"$f":"'Other Funds Summary'!AK4","v":"ADRC"},{"$f":"'Other Funds Summary'!AL4","v":"Covid Vaccine "},{"$f":"+'Other Funds Summary'!AM4","v":"TOTAL"}]
[null,null,{"$f":"+'Other Funds Summary'!C5","v":"ROC"},{"$f":"+'Other Funds Summary'!D5","v":"Volunteers"},{"$f":"+'Other Funds Summary'!E5","v":"Fed Care Act "},{"$f":"+'Other Funds Summary'!F5","v":"Fed Addl Care Act"},{"$f":"+'Other Funds Summary'!G5","v":"Reg. Staff"},{"$f":"+'Other Funds Summary'!H5","v":"Helpline"},{"$f":"+'Other Funds Summary'!I5","v":"Telecenter "},{"$f":"+'Other Funds Summary'!J5","v":"Base"},{"$f":"+'Other Funds Summary'!K5","v":"PHLP"},{"$f":"+'Other Funds Summary'!L5","v":"Services"},{"$f":"+'Other Funds Summary'!M5","v":"Supplement"},{"$f":"+'Other Funds Summary'!N5","v":"SNHT"},{"$f":"+'Other Funds Summary'!O5","v":"Services"},{"$f":"+'Other Funds Summary'!P5","v":"Personnel"},{"$f":"+'Other Funds Summary'!Q5","v":"Services (2)"},{"$f":"+'Other Funds Summary'!R5","v":"Supplement (2)"},{"$f":"+'Other Funds Summary'!S5","v":"Suppt Svs"},{"$f":"+'Other Funds Summary'!T5","v":"HD Meals"},{"$f":"+'Other Funds Summary'!U5","v":"Cong Meals"},{"$f":"+'Other Funds Summary'!V5","v":"Prev Health"},{"$f":"+'Other Funds Summary'!W5","v":"Family Caregiver"},{"$f":"+'Other Funds Summary'!X5","v":"Vaccine Suppt "},{"$f":"'Other Funds Summary'!Y5","v":"HDMs"},{"$f":"'Other Funds Summary'!Z5","v":"CMs"},{"$f":"'Other Funds Summary'!AA5","v":"Services"},{"$f":"'Other Funds Summary'!AB5","v":"Meals"},{"$f":"'Other Funds Summary'!AC5","v":"Caregiver"},{"$f":"'Other Funds Summary'!AD5","v":"Grant"},{"$f":"'Other Funds Summary'!AE5","v":"Grant"},{"$f":"'Other Funds Summary'!AF5","v":"Priority 2"},{"$f":"'Other Funds Summary'!AG5","v":"Priority 3"},{"$f":"'Other Funds Summary'!AH5","v":"BDT"},{"$f":"'Other Funds Summary'!AI5","v":"PHLP"},{"$f":"'Other Funds Summary'!AJ5","v":"Performance"},{"$f":"'Other Funds Summary'!AK5","v":"Award"},{"$f":"'Other Funds Summary'!AL5","v":"Access"},{"$f":"+'Other Funds Summary'!AM5","v":"OTHER"}]
[{"$f":"+'Original ABG Allocation'!A6","v":"01"},{"$f":"+'Original ABG Allocation'!B6","v":"ERIE"},{"$f":"'Other Funds Summary'!C6+'Other Funds-Revision No. 1'!C6","v":0},{"$f":"'Other Funds Summary'!D6+'Other Funds-Revision No. 1'!D6","v":0},{"$f":"'Other Funds Summary'!E6+'Other Funds-Revision No. 1'!E6","v":8840},0,{"$f":"'Other Funds Summary'!G6+'Other Funds-Revision No. 1'!G6","v":0},{"$f":"'Other Funds Summary'!H6+'Other Funds-Revision No. 1'!H6","v":0},{"$f":"'Other Funds Summary'!I6+'Other Funds-Revision No. 1'!I6","v":0},{"$f":"'Other Funds Summary'!J6+'Other Funds-Revision No. 1'!J6","v":0},{"$f":"'Other Funds Summary'!K6+'Other Funds-Revision No. 1'!K6","v":0},{"$f":"'Other Funds Summary'!L6+'Other Funds-Revision No. 1'!L6","v":0},{"$f":"'Other Funds Summary'!M6+'Other Funds-Revision No. 1'!M6","v":0},{"$f":"'Other Funds Summary'!N6+'Other Funds-Revision No. 1'!N6","v":0},{"$f":"'Other Funds Summary'!O6+'Other Funds-Revision No. 1'!O6","v":0},{"$f":"'Other Funds Summary'!P6+'Other Funds-Revision No. 1'!P6","v":0},{"$f":"'Other Funds Summary'!Q6+'Other Funds-Revision No. 1'!Q6","v":0},{"$f":"'Other Funds Summary'!R6+'Other Funds-Revision No. 1'!R6","v":0},{"$f":"'Other Funds Summary'!S6+'Other Funds-Revision No. 1'!S6","v":0},{"$f":"'Other Funds Summary'!T6+'Other Funds-Revision No. 1'!T6","v":0},{"$f":"'Other Funds Summary'!U6+'Other Funds-Revision No. 1'!U6","v":0},{"$f":"'Other Funds Summary'!V6+'Other Funds-Revision No. 1'!V6","v":0},{"$f":"'Other Funds Summary'!W6+'Other Funds-Revision No. 1'!W6","v":0},{"$f":"'Other Funds Summary'!X6+'Other Funds-Revision No. 1'!X6","v":0},{"$f":"'Other Funds Summary'!Y6+'Other Funds-Revision No. 1'!Y6","v":0},{"$f":"'Other Funds Summary'!Z6+'Other Funds-Revision No. 1'!Z6","v":0},{"$f":"'Other Funds Summary'!AA6+'Other Funds-Revision No. 1'!AA6","v":0},{"$f":"'Other Funds Summary'!AB6+'Other Funds-Revision No. 1'!AB6","v":0},{"$f":"'Other Funds Summary'!AC6+'Other Funds-Revision No. 1'!AC6","v":0},{"$f":"'Other Funds Summary'!AD6+'Other Funds-Revision No. 1'!AD6","v":0},{"$f":"'Other Funds Summary'!AE6+'Other Funds-Revision No. 1'!AE6","v":0},{"$f":"'Other Funds Summary'!AF6+'Other Funds-Revision No. 1'!AF6","v":0},{"$f":"'Other Funds Summary'!AG6+'Other Funds-Revision No. 1'!AG6","v":0},{"$f":"'Other Funds Summary'!AH6+'Other Funds-Revision No. 1'!AH6","v":0},{"$f":"'Other Funds Summary'!AI6+'Other Funds-Revision No. 1'!AI6","v":0},{"$f":"'Other Funds Summary'!AJ6+'Other Funds-Revision No. 1'!AJ6","v":0},{"$f":"'Other Funds Summary'!AK6+'Other Funds-Revision No. 1'!AK6","v":0},{"$f":"'Other Funds Summary'!AL6+'Other Funds-Revision No. 1'!AL6","v":41914},{"$f":"'Other Funds Summary'!AM6+'Other Funds-Revision No. 1'!AM6","v":50754}]
[{"$f":"+'Original ABG Allocation'!A7","v":"02"},{"$f":"+'Original ABG Allocation'!B7","v":"CRAWFORD"},{"$f":"'Other Funds Summary'!C7+'Other Funds-Revision No. 1'!C7","v":0},{"$f":"'Other Funds Summary'!D7+'Other Funds-Revision No. 1'!D7","v":0},{"$f":"'Other Funds Summary'!E7+'Other Funds-Revision No. 1'!E7","v":8840},0,{"$f":"'Other Funds Summary'!G7+'Other Funds-Revision No. 1'!G7","v":0},{"$f":"'Other Funds Summary'!H7+'Other Funds-Revision No. 1'!H7","v":0},{"$f":"'Other Funds Summary'!I7+'Other Funds-Revision No. 1'!I7","v":0},{"$f":"'Other Funds Summary'!J7+'Other Funds-Revision No. 1'!J7","v":0},{"$f":"'Other Funds Summary'!K7+'Other Funds-Revision No. 1'!K7","v":0},{"$f":"'Other Funds Summary'!L7+'Other Funds-Revision No. 1'!L7","v":0},{"$f":"'Other Funds Summary'!M7+'Other Funds-Revision No. 1'!M7","v":0},{"$f":"'Other Funds Summary'!N7+'Other Funds-Revision No. 1'!N7","v":0},{"$f":"'Other Funds Summary'!O7+'Other Funds-Revision No. 1'!O7","v":0},{"$f":"'Other Funds Summary'!P7+'Other Funds-Revision No. 1'!P7","v":0},{"$f":"'Other Funds Summary'!Q7+'Other Funds-Revision No. 1'!Q7","v":0},{"$f":"'Other Funds Summary'!R7+'Other Funds-Revision No. 1'!R7","v":0},{"$f":"'Other Funds Summary'!S7+'Other Funds-Revision No. 1'!S7","v":0},{"$f":"'Other Funds Summary'!T7+'Other Funds-Revision No. 1'!T7","v":0},{"$f":"'Other Funds Summary'!U7+'Other Funds-Revision No. 1'!U7","v":0},{"$f":"'Other Funds Summary'!V7+'Other Funds-Revision No. 1'!V7","v":0},{"$f":"'Other Funds Summary'!W7+'Other Funds-Revision No. 1'!W7","v":0},{"$f":"'Other Funds Summary'!X7+'Other Funds-Revision No. 1'!X7","v":0},{"$f":"'Other Funds Summary'!Y7+'Other Funds-Revision No. 1'!Y7","v":0},{"$f":"'Other Funds Summary'!Z7+'Other Funds-Revision No. 1'!Z7","v":0},{"$f":"'Other Funds Summary'!AA7+'Other Funds-Revision No. 1'!AA7","v":0},{"$f":"'Other Funds Summary'!AB7+'Other Funds-Revision No. 1'!AB7","v":0},{"$f":"'Other Funds Summary'!AC7+'Other Funds-Revision No. 1'!AC7","v":0},{"$f":"'Other Funds Summary'!AD7+'Other Funds-Revision No. 1'!AD7","v":0},{"$f":"'Other Funds Summary'!AE7+'Other Funds-Revision No. 1'!AE7","v":0},{"$f":"'Other Funds Summary'!AF7+'Other Funds-Revision No. 1'!AF7","v":0},{"$f":"'Other Funds Summary'!AG7+'Other Funds-Revision No. 1'!AG7","v":0},{"$f":"'Other Funds Summary'!AH7+'Other Funds-Revision No. 1'!AH7","v":0},{"$f":"'Other Funds Summary'!AI7+'Other Funds-Revision No. 1'!AI7","v":0},{"$f":"'Other Funds Summary'!AJ7+'Other Funds-Revision No. 1'!AJ7","v":0},{"$f":"'Other Funds Summary'!AK7+'Other Funds-Revision No. 1'!AK7","v":0},{"$f":"'Other Funds Summary'!AL7+'Other Funds-Revision No. 1'!AL7","v":19112},{"$f":"'Other Funds Summary'!AM7+'Other Funds-Revision No. 1'!AM7","v":27952}]
[{"$f":"+'Original ABG Allocation'!A8","v":"03"},{"$f":"+'Original ABG Allocation'!B8","v":"CAM/ELK/MCKEAN"},{"$f":"'Other Funds Summary'!C8+'Other Funds-Revision No. 1'!C8","v":0},{"$f":"'Other Funds Summary'!D8+'Other Funds-Revision No. 1'!D8","v":0},{"$f":"'Other Funds Summary'!E8+'Other Funds-Revision No. 1'!E8","v":8840},0,{"$f":"'Other Funds Summary'!G8+'Other Funds-Revision No. 1'!G8","v":0},{"$f":"'Other Funds Summary'!H8+'Other Funds-Revision No. 1'!H8","v":0},{"$f":"'Other Funds Summary'!I8+'Other Funds-Revision No. 1'!I8","v":0},{"$f":"'Other Funds Summary'!J8+'Other Funds-Revision No. 1'!J8","v":0},{"$f":"'Other Funds Summary'!K8+'Other Funds-Revision No. 1'!K8","v":0},{"$f":"'Other Funds Summary'!L8+'Other Funds-Revision No. 1'!L8","v":0},{"$f":"'Other Funds Summary'!M8+'Other Funds-Revision No. 1'!M8","v":0},{"$f":"'Other Funds Summary'!N8+'Other Funds-Revision No. 1'!N8","v":0},{"$f":"'Other Funds Summary'!O8+'Other Funds-Revision No. 1'!O8","v":0},{"$f":"'Other Funds Summary'!P8+'Other Funds-Revision No. 1'!P8","v":0},{"$f":"'Other Funds Summary'!Q8+'Other Funds-Revision No. 1'!Q8","v":0},{"$f":"'Other Funds Summary'!R8+'Other Funds-Revision No. 1'!R8","v":0},{"$f":"'Other Funds Summary'!S8+'Other Funds-Revision No. 1'!S8","v":0},{"$f":"'Other Funds Summary'!T8+'Other Funds-Revision No. 1'!T8","v":0},{"$f":"'Other Funds Summary'!U8+'Other Funds-Revision No. 1'!U8","v":0},{"$f":"'Other Funds Summary'!V8+'Other Funds-Revision No. 1'!V8","v":0},{"$f":"'Other Funds Summary'!W8+'Other Funds-Revision No. 1'!W8","v":0},{"$f":"'Other Funds Summary'!X8+'Other Funds-Revision No. 1'!X8","v":0},{"$f":"'Other Funds Summary'!Y8+'Other Funds-Revision No. 1'!Y8","v":0},{"$f":"'Other Funds Summary'!Z8+'Other Funds-Revision No. 1'!Z8","v":0},{"$f":"'Other Funds Summary'!AA8+'Other Funds-Revision No. 1'!AA8","v":0},{"$f":"'Other Funds Summary'!AB8+'Other Funds-Revision No. 1'!AB8","v":0},{"$f":"'Other Funds Summary'!AC8+'Other Funds-Revision No. 1'!AC8","v":0},{"$f":"'Other Funds Summary'!AD8+'Other Funds-Revision No. 1'!AD8","v":0},{"$f":"'Other Funds Summary'!AE8+'Other Funds-Revision No. 1'!AE8","v":0},{"$f":"'Other Funds Summary'!AF8+'Other Funds-Revision No. 1'!AF8","v":0},{"$f":"'Other Funds Summary'!AG8+'Other Funds-Revision No. 1'!AG8","v":0},{"$f":"'Other Funds Summary'!AH8+'Other Funds-Revision No. 1'!AH8","v":0},{"$f":"'Other Funds Summary'!AI8+'Other Funds-Revision No. 1'!AI8","v":0},{"$f":"'Other Funds Summary'!AJ8+'Other Funds-Revision No. 1'!AJ8","v":0},{"$f":"'Other Funds Summary'!AK8+'Other Funds-Revision No. 1'!AK8","v":0},{"$f":"'Other Funds Summary'!AL8+'Other Funds-Revision No. 1'!AL8","v":17686},{"$f":"'Other Funds Summary'!AM8+'Other Funds-Revision No. 1'!AM8","v":26526}]
[{"$f":"+'Original ABG Allocation'!A9","v":"04"},{"$f":"+'Original ABG Allocation'!B9","v":"BEAVER"},{"$f":"'Other Funds Summary'!C9+'Other Funds-Revision No. 1'!C9","v":0},{"$f":"'Other Funds Summary'!D9+'Other Funds-Revision No. 1'!D9","v":0},{"$f":"'Other Funds Summary'!E9+'Other Funds-Revision No. 1'!E9","v":8840},0,{"$f":"'Other Funds Summary'!G9+'Other Funds-Revision No. 1'!G9","v":0},{"$f":"'Other Funds Summary'!H9+'Other Funds-Revision No. 1'!H9","v":0},{"$f":"'Other Funds Summary'!I9+'Other Funds-Revision No. 1'!I9","v":0},{"$f":"'Other Funds Summary'!J9+'Other Funds-Revision No. 1'!J9","v":0},{"$f":"'Other Funds Summary'!K9+'Other Funds-Revision No. 1'!K9","v":0},{"$f":"'Other Funds Summary'!L9+'Other Funds-Revision No. 1'!L9","v":0},{"$f":"'Other Funds Summary'!M9+'Other Funds-Revision No. 1'!M9","v":0},{"$f":"'Other Funds Summary'!N9+'Other Funds-Revision No. 1'!N9","v":0},{"$f":"'Other Funds Summary'!O9+'Other Funds-Revision No. 1'!O9","v":0},{"$f":"'Other Funds Summary'!P9+'Other Funds-Revision No. 1'!P9","v":0},{"$f":"'Other Funds Summary'!Q9+'Other Funds-Revision No. 1'!Q9","v":0},{"$f":"'Other Funds Summary'!R9+'Other Funds-Revision No. 1'!R9","v":0},{"$f":"'Other Funds Summary'!S9+'Other Funds-Revision No. 1'!S9","v":0},{"$f":"'Other Funds Summary'!T9+'Other Funds-Revision No. 1'!T9","v":0},{"$f":"'Other Funds Summary'!U9+'Other Funds-Revision No. 1'!U9","v":0},{"$f":"'Other Funds Summary'!V9+'Other Funds-Revision No. 1'!V9","v":0},{"$f":"'Other Funds Summary'!W9+'Other Funds-Revision No. 1'!W9","v":0},{"$f":"'Other Funds Summary'!X9+'Other Funds-Revision No. 1'!X9","v":0},{"$f":"'Other Funds Summary'!Y9+'Other Funds-Revision No. 1'!Y9","v":0},{"$f":"'Other Funds Summary'!Z9+'Other Funds-Revision No. 1'!Z9","v":0},{"$f":"'Other Funds Summary'!AA9+'Other Funds-Revision No. 1'!AA9","v":0},{"$f":"'Other Funds Summary'!AB9+'Other Funds-Revision No. 1'!AB9","v":0},{"$f":"'Other Funds Summary'!AC9+'Other Funds-Revision No. 1'!AC9","v":0},{"$f":"'Other Funds Summary'!AD9+'Other Funds-Revision No. 1'!AD9","v":0},{"$f":"'Other Funds Summary'!AE9+'Other Funds-Revision No. 1'!AE9","v":0},{"$f":"'Other Funds Summary'!AF9+'Other Funds-Revision No. 1'!AF9","v":0},{"$f":"'Other Funds Summary'!AG9+'Other Funds-Revision No. 1'!AG9","v":0},{"$f":"'Other Funds Summary'!AH9+'Other Funds-Revision No. 1'!AH9","v":0},{"$f":"'Other Funds Summary'!AI9+'Other Funds-Revision No. 1'!AI9","v":0},{"$f":"'Other Funds Summary'!AJ9+'Other Funds-Revision No. 1'!AJ9","v":0},{"$f":"'Other Funds Summary'!AK9+'Other Funds-Revision No. 1'!AK9","v":0},{"$f":"'Other Funds Summary'!AL9+'Other Funds-Revision No. 1'!AL9","v":28437},{"$f":"'Other Funds Summary'!AM9+'Other Funds-Revision No. 1'!AM9","v":37277}]
[{"$f":"+'Original ABG Allocation'!A10","v":"05"},{"$f":"+'Original ABG Allocation'!B10","v":"INDIANA"},{"$f":"'Other Funds Summary'!C10+'Other Funds-Revision No. 1'!C10","v":0},{"$f":"'Other Funds Summary'!D10+'Other Funds-Revision No. 1'!D10","v":0},{"$f":"'Other Funds Summary'!E10+'Other Funds-Revision No. 1'!E10","v":8840},0,{"$f":"'Other Funds Summary'!G10+'Other Funds-Revision No. 1'!G10","v":0},{"$f":"'Other Funds Summary'!H10+'Other Funds-Revision No. 1'!H10","v":0},{"$f":"'Other Funds Summary'!I10+'Other Funds-Revision No. 1'!I10","v":0},{"$f":"'Other Funds Summary'!J10+'Other Funds-Revision No. 1'!J10","v":0},{"$f":"'Other Funds Summary'!K10+'Other Funds-Revision No. 1'!K10","v":0},{"$f":"'Other Funds Summary'!L10+'Other Funds-Revision No. 1'!L10","v":0},{"$f":"'Other Funds Summary'!M10+'Other Funds-Revision No. 1'!M10","v":0},{"$f":"'Other Funds Summary'!N10+'Other Funds-Revision No. 1'!N10","v":0},{"$f":"'Other Funds Summary'!O10+'Other Funds-Revision No. 1'!O10","v":0},{"$f":"'Other Funds Summary'!P10+'Other Funds-Revision No. 1'!P10","v":0},{"$f":"'Other Funds Summary'!Q10+'Other Funds-Revision No. 1'!Q10","v":0},{"$f":"'Other Funds Summary'!R10+'Other Funds-Revision No. 1'!R10","v":0},{"$f":"'Other Funds Summary'!S10+'Other Funds-Revision No. 1'!S10","v":0},{"$f":"'Other Funds Summary'!T10+'Other Funds-Revision No. 1'!T10","v":0},{"$f":"'Other Funds Summary'!U10+'Other Funds-Revision No. 1'!U10","v":0},{"$f":"'Other Funds Summary'!V10+'Other Funds-Revision No. 1'!V10","v":0},{"$f":"'Other Funds Summary'!W10+'Other Funds-Revision No. 1'!W10","v":0},{"$f":"'Other Funds Summary'!X10+'Other Funds-Revision No. 1'!X10","v":0},{"$f":"'Other Funds Summary'!Y10+'Other Funds-Revision No. 1'!Y10","v":0},{"$f":"'Other Funds Summary'!Z10+'Other Funds-Revision No. 1'!Z10","v":0},{"$f":"'Other Funds Summary'!AA10+'Other Funds-Revision No. 1'!AA10","v":0},{"$f":"'Other Funds Summary'!AB10+'Other Funds-Revision No. 1'!AB10","v":0},{"$f":"'Other Funds Summary'!AC10+'Other Funds-Revision No. 1'!AC10","v":0},{"$f":"'Other Funds Summary'!AD10+'Other Funds-Revision No. 1'!AD10","v":0},{"$f":"'Other Funds Summary'!AE10+'Other Funds-Revision No. 1'!AE10","v":0},{"$f":"'Other Funds Summary'!AF10+'Other Funds-Revision No. 1'!AF10","v":0},{"$f":"'Other Funds Summary'!AG10+'Other Funds-Revision No. 1'!AG10","v":0},{"$f":"'Other Funds Summary'!AH10+'Other Funds-Revision No. 1'!AH10","v":0},{"$f":"'Other Funds Summary'!AI10+'Other Funds-Revision No. 1'!AI10","v":0},{"$f":"'Other Funds Summary'!AJ10+'Other Funds-Revision No. 1'!AJ10","v":0},{"$f":"'Other Funds Summary'!AK10+'Other Funds-Revision No. 1'!AK10","v":0},{"$f":"'Other Funds Summary'!AL10+'Other Funds-Revision No. 1'!AL10","v":17663},{"$f":"'Other Funds Summary'!AM10+'Other Funds-Revision No. 1'!AM10","v":26503}]
[{"$f":"+'Original ABG Allocation'!A11","v":"06"},{"$f":"+'Original ABG Allocation'!B11","v":"ALLEGHENY"},{"$f":"'Other Funds Summary'!C11+'Other Funds-Revision No. 1'!C11","v":0},{"$f":"'Other Funds Summary'!D11+'Other Funds-Revision No. 1'!D11","v":0},{"$f":"'Other Funds Summary'!E11+'Other Funds-Revision No. 1'!E11","v":8840},0,{"$f":"'Other Funds Summary'!G11+'Other Funds-Revision No. 1'!G11","v":0},{"$f":"'Other Funds Summary'!H11+'Other Funds-Revision No. 1'!H11","v":0},{"$f":"'Other Funds Summary'!I11+'Other Funds-Revision No. 1'!I11","v":0},{"$f":"'Other Funds Summary'!J11+'Other Funds-Revision No. 1'!J11","v":0},{"$f":"'Other Funds Summary'!K11+'Other Funds-Revision No. 1'!K11","v":0},{"$f":"'Other Funds Summary'!L11+'Other Funds-Revision No. 1'!L11","v":0},{"$f":"'Other Funds Summary'!M11+'Other Funds-Revision No. 1'!M11","v":0},{"$f":"'Other Funds Summary'!N11+'Other Funds-Revision No. 1'!N11","v":0},{"$f":"'Other Funds Summary'!O11+'Other Funds-Revision No. 1'!O11","v":0},{"$f":"'Other Funds Summary'!P11+'Other Funds-Revision No. 1'!P11","v":0},{"$f":"'Other Funds Summary'!Q11+'Other Funds-Revision No. 1'!Q11","v":0},{"$f":"'Other Funds Summary'!R11+'Other Funds-Revision No. 1'!R11","v":0},{"$f":"'Other Funds Summary'!S11+'Other Funds-Revision No. 1'!S11","v":0},{"$f":"'Other Funds Summary'!T11+'Other Funds-Revision No. 1'!T11","v":0},{"$f":"'Other Funds Summary'!U11+'Other Funds-Revision No. 1'!U11","v":0},{"$f":"'Other Funds Summary'!V11+'Other Funds-Revision No. 1'!V11","v":0},{"$f":"'Other Funds Summary'!W11+'Other Funds-Revision No. 1'!W11","v":0},{"$f":"'Other Funds Summary'!X11+'Other Funds-Revision No. 1'!X11","v":0},{"$f":"'Other Funds Summary'!Y11+'Other Funds-Revision No. 1'!Y11","v":0},{"$f":"'Other Funds Summary'!Z11+'Other Funds-Revision No. 1'!Z11","v":0},{"$f":"'Other Funds Summary'!AA11+'Other Funds-Revision No. 1'!AA11","v":0},{"$f":"'Other Funds Summary'!AB11+'Other Funds-Revision No. 1'!AB11","v":0},{"$f":"'Other Funds Summary'!AC11+'Other Funds-Revision No. 1'!AC11","v":0},{"$f":"'Other Funds Summary'!AD11+'Other Funds-Revision No. 1'!AD11","v":0},{"$f":"'Other Funds Summary'!AE11+'Other Funds-Revision No. 1'!AE11","v":0},{"$f":"'Other Funds Summary'!AF11+'Other Funds-Revision No. 1'!AF11","v":0},{"$f":"'Other Funds Summary'!AG11+'Other Funds-Revision No. 1'!AG11","v":0},{"$f":"'Other Funds Summary'!AH11+'Other Funds-Revision No. 1'!AH11","v":0},{"$f":"'Other Funds Summary'!AI11+'Other Funds-Revision No. 1'!AI11","v":0},{"$f":"'Other Funds Summary'!AJ11+'Other Funds-Revision No. 1'!AJ11","v":0},{"$f":"'Other Funds Summary'!AK11+'Other Funds-Revision No. 1'!AK11","v":0},{"$f":"'Other Funds Summary'!AL11+'Other Funds-Revision No. 1'!AL11","v":180964},{"$f":"'Other Funds Summary'!AM11+'Other Funds-Revision No. 1'!AM11","v":189804}]
[{"$f":"+'Original ABG Allocation'!A12","v":"07"},{"$f":"+'Original ABG Allocation'!B12","v":"WESTMORELAND"},{"$f":"'Other Funds Summary'!C12+'Other Funds-Revision No. 1'!C12","v":0},{"$f":"'Other Funds Summary'!D12+'Other Funds-Revision No. 1'!D12","v":0},{"$f":"'Other Funds Summary'!E12+'Other Funds-Revision No. 1'!E12","v":8840},0,{"$f":"'Other Funds Summary'!G12+'Other Funds-Revision No. 1'!G12","v":0},{"$f":"'Other Funds Summary'!H12+'Other Funds-Revision No. 1'!H12","v":0},{"$f":"'Other Funds Summary'!I12+'Other Funds-Revision No. 1'!I12","v":0},{"$f":"'Other Funds Summary'!J12+'Other Funds-Revision No. 1'!J12","v":0},{"$f":"'Other Funds Summary'!K12+'Other Funds-Revision No. 1'!K12","v":0},{"$f":"'Other Funds Summary'!L12+'Other Funds-Revision No. 1'!L12","v":0},{"$f":"'Other Funds Summary'!M12+'Other Funds-Revision No. 1'!M12","v":0},{"$f":"'Other Funds Summary'!N12+'Other Funds-Revision No. 1'!N12","v":0},{"$f":"'Other Funds Summary'!O12+'Other Funds-Revision No. 1'!O12","v":0},{"$f":"'Other Funds Summary'!P12+'Other Funds-Revision No. 1'!P12","v":0},{"$f":"'Other Funds Summary'!Q12+'Other Funds-Revision No. 1'!Q12","v":0},{"$f":"'Other Funds Summary'!R12+'Other Funds-Revision No. 1'!R12","v":0},{"$f":"'Other Funds Summary'!S12+'Other Funds-Revision No. 1'!S12","v":0},{"$f":"'Other Funds Summary'!T12+'Other Funds-Revision No. 1'!T12","v":0},{"$f":"'Other Funds Summary'!U12+'Other Funds-Revision No. 1'!U12","v":0},{"$f":"'Other Funds Summary'!V12+'Other Funds-Revision No. 1'!V12","v":0},{"$f":"'Other Funds Summary'!W12+'Other Funds-Revision No. 1'!W12","v":0},{"$f":"'Other Funds Summary'!X12+'Other Funds-Revision No. 1'!X12","v":0},{"$f":"'Other Funds Summary'!Y12+'Other Funds-Revision No. 1'!Y12","v":0},{"$f":"'Other Funds Summary'!Z12+'Other Funds-Revision No. 1'!Z12","v":0},{"$f":"'Other Funds Summary'!AA12+'Other Funds-Revision No. 1'!AA12","v":0},{"$f":"'Other Funds Summary'!AB12+'Other Funds-Revision No. 1'!AB12","v":0},{"$f":"'Other Funds Summary'!AC12+'Other Funds-Revision No. 1'!AC12","v":0},{"$f":"'Other Funds Summary'!AD12+'Other Funds-Revision No. 1'!AD12","v":0},{"$f":"'Other Funds Summary'!AE12+'Other Funds-Revision No. 1'!AE12","v":0},{"$f":"'Other Funds Summary'!AF12+'Other Funds-Revision No. 1'!AF12","v":0},{"$f":"'Other Funds Summary'!AG12+'Other Funds-Revision No. 1'!AG12","v":0},{"$f":"'Other Funds Summary'!AH12+'Other Funds-Revision No. 1'!AH12","v":0},{"$f":"'Other Funds Summary'!AI12+'Other Funds-Revision No. 1'!AI12","v":0},{"$f":"'Other Funds Summary'!AJ12+'Other Funds-Revision No. 1'!AJ12","v":0},{"$f":"'Other Funds Summary'!AK12+'Other Funds-Revision No. 1'!AK12","v":0},{"$f":"'Other Funds Summary'!AL12+'Other Funds-Revision No. 1'!AL12","v":57991},{"$f":"'Other Funds Summary'!AM12+'Other Funds-Revision No. 1'!AM12","v":66831}]
[{"$f":"+'Original ABG Allocation'!A13","v":"08"},{"$f":"+'Original ABG Allocation'!B13","v":"WASH/FAY/GREENE"},{"$f":"'Other Funds Summary'!C13+'Other Funds-Revision No. 1'!C13","v":0},{"$f":"'Other Funds Summary'!D13+'Other Funds-Revision No. 1'!D13","v":0},{"$f":"'Other Funds Summary'!E13+'Other Funds-Revision No. 1'!E13","v":8840},0,{"$f":"'Other Funds Summary'!G13+'Other Funds-Revision No. 1'!G13","v":0},{"$f":"'Other Funds Summary'!H13+'Other Funds-Revision No. 1'!H13","v":0},{"$f":"'Other Funds Summary'!I13+'Other Funds-Revision No. 1'!I13","v":0},{"$f":"'Other Funds Summary'!J13+'Other Funds-Revision No. 1'!J13","v":0},{"$f":"'Other Funds Summary'!K13+'Other Funds-Revision No. 1'!K13","v":0},{"$f":"'Other Funds Summary'!L13+'Other Funds-Revision No. 1'!L13","v":0},{"$f":"'Other Funds Summary'!M13+'Other Funds-Revision No. 1'!M13","v":0},{"$f":"'Other Funds Summary'!N13+'Other Funds-Revision No. 1'!N13","v":0},{"$f":"'Other Funds Summary'!O13+'Other Funds-Revision No. 1'!O13","v":0},{"$f":"'Other Funds Summary'!P13+'Other Funds-Revision No. 1'!P13","v":0},{"$f":"'Other Funds Summary'!Q13+'Other Funds-Revision No. 1'!Q13","v":0},{"$f":"'Other Funds Summary'!R13+'Other Funds-Revision No. 1'!R13","v":0},{"$f":"'Other Funds Summary'!S13+'Other Funds-Revision No. 1'!S13","v":0},{"$f":"'Other Funds Summary'!T13+'Other Funds-Revision No. 1'!T13","v":0},{"$f":"'Other Funds Summary'!U13+'Other Funds-Revision No. 1'!U13","v":0},{"$f":"'Other Funds Summary'!V13+'Other Funds-Revision No. 1'!V13","v":0},{"$f":"'Other Funds Summary'!W13+'Other Funds-Revision No. 1'!W13","v":0},{"$f":"'Other Funds Summary'!X13+'Other Funds-Revision No. 1'!X13","v":0},{"$f":"'Other Funds Summary'!Y13+'Other Funds-Revision No. 1'!Y13","v":0},{"$f":"'Other Funds Summary'!Z13+'Other Funds-Revision No. 1'!Z13","v":0},{"$f":"'Other Funds Summary'!AA13+'Other Funds-Revision No. 1'!AA13","v":0},{"$f":"'Other Funds Summary'!AB13+'Other Funds-Revision No. 1'!AB13","v":0},{"$f":"'Other Funds Summary'!AC13+'Other Funds-Revision No. 1'!AC13","v":0},{"$f":"'Other Funds Summary'!AD13+'Other Funds-Revision No. 1'!AD13","v":0},{"$f":"'Other Funds Summary'!AE13+'Other Funds-Revision No. 1'!AE13","v":0},{"$f":"'Other Funds Summary'!AF13+'Other Funds-Revision No. 1'!AF13","v":0},{"$f":"'Other Funds Summary'!AG13+'Other Funds-Revision No. 1'!AG13","v":0},{"$f":"'Other Funds Summary'!AH13+'Other Funds-Revision No. 1'!AH13","v":0},{"$f":"'Other Funds Summary'!AI13+'Other Funds-Revision No. 1'!AI13","v":0},{"$f":"'Other Funds Summary'!AJ13+'Other Funds-Revision No. 1'!AJ13","v":0},{"$f":"'Other Funds Summary'!AK13+'Other Funds-Revision No. 1'!AK13","v":0},{"$f":"'Other Funds Summary'!AL13+'Other Funds-Revision No. 1'!AL13","v":72090},{"$f":"'Other Funds Summary'!AM13+'Other Funds-Revision No. 1'!AM13","v":80930}]
[{"$f":"+'Original ABG Allocation'!A14","v":"09"},{"$f":"+'Original ABG Allocation'!B14","v":"SOMERSET"},{"$f":"'Other Funds Summary'!C14+'Other Funds-Revision No. 1'!C14","v":0},{"$f":"'Other Funds Summary'!D14+'Other Funds-Revision No. 1'!D14","v":0},{"$f":"'Other Funds Summary'!E14+'Other Funds-Revision No. 1'!E14","v":8840},0,{"$f":"'Other Funds Summary'!G14+'Other Funds-Revision No. 1'!G14","v":0},{"$f":"'Other Funds Summary'!H14+'Other Funds-Revision No. 1'!H14","v":0},{"$f":"'Other Funds Summary'!I14+'Other Funds-Revision No. 1'!I14","v":0},{"$f":"'Other Funds Summary'!J14+'Other Funds-Revision No. 1'!J14","v":0},{"$f":"'Other Funds Summary'!K14+'Other Funds-Revision No. 1'!K14","v":0},{"$f":"'Other Funds Summary'!L14+'Other Funds-Revision No. 1'!L14","v":0},{"$f":"'Other Funds Summary'!M14+'Other Funds-Revision No. 1'!M14","v":0},{"$f":"'Other Funds Summary'!N14+'Other Funds-Revision No. 1'!N14","v":0},{"$f":"'Other Funds Summary'!O14+'Other Funds-Revision No. 1'!O14","v":0},{"$f":"'Other Funds Summary'!P14+'Other Funds-Revision No. 1'!P14","v":0},{"$f":"'Other Funds Summary'!Q14+'Other Funds-Revision No. 1'!Q14","v":0},{"$f":"'Other Funds Summary'!R14+'Other Funds-Revision No. 1'!R14","v":0},{"$f":"'Other Funds Summary'!S14+'Other Funds-Revision No. 1'!S14","v":0},{"$f":"'Other Funds Summary'!T14+'Other Funds-Revision No. 1'!T14","v":0},{"$f":"'Other Funds Summary'!U14+'Other Funds-Revision No. 1'!U14","v":0},{"$f":"'Other Funds Summary'!V14+'Other Funds-Revision No. 1'!V14","v":0},{"$f":"'Other Funds Summary'!W14+'Other Funds-Revision No. 1'!W14","v":0},{"$f":"'Other Funds Summary'!X14+'Other Funds-Revision No. 1'!X14","v":0},{"$f":"'Other Funds Summary'!Y14+'Other Funds-Revision No. 1'!Y14","v":0},{"$f":"'Other Funds Summary'!Z14+'Other Funds-Revision No. 1'!Z14","v":0},{"$f":"'Other Funds Summary'!AA14+'Other Funds-Revision No. 1'!AA14","v":0},{"$f":"'Other Funds Summary'!AB14+'Other Funds-Revision No. 1'!AB14","v":0},{"$f":"'Other Funds Summary'!AC14+'Other Funds-Revision No. 1'!AC14","v":0},{"$f":"'Other Funds Summary'!AD14+'Other Funds-Revision No. 1'!AD14","v":0},{"$f":"'Other Funds Summary'!AE14+'Other Funds-Revision No. 1'!AE14","v":0},{"$f":"'Other Funds Summary'!AF14+'Other Funds-Revision No. 1'!AF14","v":0},{"$f":"'Other Funds Summary'!AG14+'Other Funds-Revision No. 1'!AG14","v":0},{"$f":"'Other Funds Summary'!AH14+'Other Funds-Revision No. 1'!AH14","v":0},{"$f":"'Other Funds Summary'!AI14+'Other Funds-Revision No. 1'!AI14","v":0},{"$f":"'Other Funds Summary'!AJ14+'Other Funds-Revision No. 1'!AJ14","v":0},{"$f":"'Other Funds Summary'!AK14+'Other Funds-Revision No. 1'!AK14","v":0},{"$f":"'Other Funds Summary'!AL14+'Other Funds-Revision No. 1'!AL14","v":18722},{"$f":"'Other Funds Summary'!AM14+'Other Funds-Revision No. 1'!AM14","v":27562}]
[{"$f":"+'Original ABG Allocation'!A15","v":"10"},{"$f":"+'Original ABG Allocation'!B15","v":"CAMBRIA"},{"$f":"'Other Funds Summary'!C15+'Other Funds-Revision No. 1'!C15","v":0},{"$f":"'Other Funds Summary'!D15+'Other Funds-Revision No. 1'!D15","v":0},{"$f":"'Other Funds Summary'!E15+'Other Funds-Revision No. 1'!E15","v":8840},0,{"$f":"'Other Funds Summary'!G15+'Other Funds-Revision No. 1'!G15","v":0},{"$f":"'Other Funds Summary'!H15+'Other Funds-Revision No. 1'!H15","v":0},{"$f":"'Other Funds Summary'!I15+'Other Funds-Revision No. 1'!I15","v":0},{"$f":"'Other Funds Summary'!J15+'Other Funds-Revision No. 1'!J15","v":0},{"$f":"'Other Funds Summary'!K15+'Other Funds-Revision No. 1'!K15","v":0},{"$f":"'Other Funds Summary'!L15+'Other Funds-Revision No. 1'!L15","v":0},{"$f":"'Other Funds Summary'!M15+'Other Funds-Revision No. 1'!M15","v":0},{"$f":"'Other Funds Summary'!N15+'Other Funds-Revision No. 1'!N15","v":0},{"$f":"'Other Funds Summary'!O15+'Other Funds-Revision No. 1'!O15","v":0},{"$f":"'Other Funds Summary'!P15+'Other Funds-Revision No. 1'!P15","v":0},{"$f":"'Other Funds Summary'!Q15+'Other Funds-Revision No. 1'!Q15","v":0},{"$f":"'Other Funds Summary'!R15+'Other Funds-Revision No. 1'!R15","v":0},{"$f":"'Other Funds Summary'!S15+'Other Funds-Revision No. 1'!S15","v":0},{"$f":"'Other Funds Summary'!T15+'Other Funds-Revision No. 1'!T15","v":0},{"$f":"'Other Funds Summary'!U15+'Other Funds-Revision No. 1'!U15","v":0},{"$f":"'Other Funds Summary'!V15+'Other Funds-Revision No. 1'!V15","v":0},{"$f":"'Other Funds Summary'!W15+'Other Funds-Revision No. 1'!W15","v":0},{"$f":"'Other Funds Summary'!X15+'Other Funds-Revision No. 1'!X15","v":0},{"$f":"'Other Funds Summary'!Y15+'Other Funds-Revision No. 1'!Y15","v":0},{"$f":"'Other Funds Summary'!Z15+'Other Funds-Revision No. 1'!Z15","v":0},{"$f":"'Other Funds Summary'!AA15+'Other Funds-Revision No. 1'!AA15","v":0},{"$f":"'Other Funds Summary'!AB15+'Other Funds-Revision No. 1'!AB15","v":0},{"$f":"'Other Funds Summary'!AC15+'Other Funds-Revision No. 1'!AC15","v":0},{"$f":"'Other Funds Summary'!AD15+'Other Funds-Revision No. 1'!AD15","v":0},{"$f":"'Other Funds Summary'!AE15+'Other Funds-Revision No. 1'!AE15","v":0},{"$f":"'Other Funds Summary'!AF15+'Other Funds-Revision No. 1'!AF15","v":0},{"$f":"'Other Funds Summary'!AG15+'Other Funds-Revision No. 1'!AG15","v":0},{"$f":"'Other Funds Summary'!AH15+'Other Funds-Revision No. 1'!AH15","v":0},{"$f":"'Other Funds Summary'!AI15+'Other Funds-Revision No. 1'!AI15","v":0},{"$f":"'Other Funds Summary'!AJ15+'Other Funds-Revision No. 1'!AJ15","v":0},{"$f":"'Other Funds Summary'!AK15+'Other Funds-Revision No. 1'!AK15","v":0},{"$f":"'Other Funds Summary'!AL15+'Other Funds-Revision No. 1'!AL15","v":28922},{"$f":"'Other Funds Summary'!AM15+'Other Funds-Revision No. 1'!AM15","v":37762}]
[{"$f":"+'Original ABG Allocation'!A16","v":"11"},{"$f":"+'Original ABG Allocation'!B16","v":"BLAIR"},{"$f":"'Other Funds Summary'!C16+'Other Funds-Revision No. 1'!C16","v":0},{"$f":"'Other Funds Summary'!D16+'Other Funds-Revision No. 1'!D16","v":0},{"$f":"'Other Funds Summary'!E16+'Other Funds-Revision No. 1'!E16","v":8840},0,{"$f":"'Other Funds Summary'!G16+'Other Funds-Revision No. 1'!G16","v":0},{"$f":"'Other Funds Summary'!H16+'Other Funds-Revision No. 1'!H16","v":0},{"$f":"'Other Funds Summary'!I16+'Other Funds-Revision No. 1'!I16","v":0},{"$f":"'Other Funds Summary'!J16+'Other Funds-Revision No. 1'!J16","v":0},{"$f":"'Other Funds Summary'!K16+'Other Funds-Revision No. 1'!K16","v":0},{"$f":"'Other Funds Summary'!L16+'Other Funds-Revision No. 1'!L16","v":0},{"$f":"'Other Funds Summary'!M16+'Other Funds-Revision No. 1'!M16","v":0},{"$f":"'Other Funds Summary'!N16+'Other Funds-Revision No. 1'!N16","v":0},{"$f":"'Other Funds Summary'!O16+'Other Funds-Revision No. 1'!O16","v":0},{"$f":"'Other Funds Summary'!P16+'Other Funds-Revision No. 1'!P16","v":0},{"$f":"'Other Funds Summary'!Q16+'Other Funds-Revision No. 1'!Q16","v":0},{"$f":"'Other Funds Summary'!R16+'Other Funds-Revision No. 1'!R16","v":0},{"$f":"'Other Funds Summary'!S16+'Other Funds-Revision No. 1'!S16","v":0},{"$f":"'Other Funds Summary'!T16+'Other Funds-Revision No. 1'!T16","v":0},{"$f":"'Other Funds Summary'!U16+'Other Funds-Revision No. 1'!U16","v":0},{"$f":"'Other Funds Summary'!V16+'Other Funds-Revision No. 1'!V16","v":0},{"$f":"'Other Funds Summary'!W16+'Other Funds-Revision No. 1'!W16","v":0},{"$f":"'Other Funds Summary'!X16+'Other Funds-Revision No. 1'!X16","v":0},{"$f":"'Other Funds Summary'!Y16+'Other Funds-Revision No. 1'!Y16","v":0},{"$f":"'Other Funds Summary'!Z16+'Other Funds-Revision No. 1'!Z16","v":0},{"$f":"'Other Funds Summary'!AA16+'Other Funds-Revision No. 1'!AA16","v":0},{"$f":"'Other Funds Summary'!AB16+'Other Funds-Revision No. 1'!AB16","v":0},{"$f":"'Other Funds Summary'!AC16+'Other Funds-Revision No. 1'!AC16","v":0},{"$f":"'Other Funds Summary'!AD16+'Other Funds-Revision No. 1'!AD16","v":0},{"$f":"'Other Funds Summary'!AE16+'Other Funds-Revision No. 1'!AE16","v":0},{"$f":"'Other Funds Summary'!AF16+'Other Funds-Revision No. 1'!AF16","v":0},{"$f":"'Other Funds Summary'!AG16+'Other Funds-Revision No. 1'!AG16","v":0},{"$f":"'Other Funds Summary'!AH16+'Other Funds-Revision No. 1'!AH16","v":0},{"$f":"'Other Funds Summary'!AI16+'Other Funds-Revision No. 1'!AI16","v":0},{"$f":"'Other Funds Summary'!AJ16+'Other Funds-Revision No. 1'!AJ16","v":0},{"$f":"'Other Funds Summary'!AK16+'Other Funds-Revision No. 1'!AK16","v":0},{"$f":"'Other Funds Summary'!AL16+'Other Funds-Revision No. 1'!AL16","v":21456},{"$f":"'Other Funds Summary'!AM16+'Other Funds-Revision No. 1'!AM16","v":30296}]
[{"$f":"+'Original ABG Allocation'!A17","v":"12"},{"$f":"+'Original ABG Allocation'!B17","v":"BED/FULT/HUNT"},{"$f":"'Other Funds Summary'!C17+'Other Funds-Revision No. 1'!C17","v":0},{"$f":"'Other Funds Summary'!D17+'Other Funds-Revision No. 1'!D17","v":0},{"$f":"'Other Funds Summary'!E17+'Other Funds-Revision No. 1'!E17","v":8840},0,{"$f":"'Other Funds Summary'!G17+'Other Funds-Revision No. 1'!G17","v":0},{"$f":"'Other Funds Summary'!H17+'Other Funds-Revision No. 1'!H17","v":0},{"$f":"'Other Funds Summary'!I17+'Other Funds-Revision No. 1'!I17","v":0},{"$f":"'Other Funds Summary'!J17+'Other Funds-Revision No. 1'!J17","v":0},{"$f":"'Other Funds Summary'!K17+'Other Funds-Revision No. 1'!K17","v":0},{"$f":"'Other Funds Summary'!L17+'Other Funds-Revision No. 1'!L17","v":0},{"$f":"'Other Funds Summary'!M17+'Other Funds-Revision No. 1'!M17","v":0},{"$f":"'Other Funds Summary'!N17+'Other Funds-Revision No. 1'!N17","v":0},{"$f":"'Other Funds Summary'!O17+'Other Funds-Revision No. 1'!O17","v":0},{"$f":"'Other Funds Summary'!P17+'Other Funds-Revision No. 1'!P17","v":0},{"$f":"'Other Funds Summary'!Q17+'Other Funds-Revision No. 1'!Q17","v":0},{"$f":"'Other Funds Summary'!R17+'Other Funds-Revision No. 1'!R17","v":0},{"$f":"'Other Funds Summary'!S17+'Other Funds-Revision No. 1'!S17","v":0},{"$f":"'Other Funds Summary'!T17+'Other Funds-Revision No. 1'!T17","v":0},{"$f":"'Other Funds Summary'!U17+'Other Funds-Revision No. 1'!U17","v":0},{"$f":"'Other Funds Summary'!V17+'Other Funds-Revision No. 1'!V17","v":0},{"$f":"'Other Funds Summary'!W17+'Other Funds-Revision No. 1'!W17","v":0},{"$f":"'Other Funds Summary'!X17+'Other Funds-Revision No. 1'!X17","v":0},{"$f":"'Other Funds Summary'!Y17+'Other Funds-Revision No. 1'!Y17","v":0},{"$f":"'Other Funds Summary'!Z17+'Other Funds-Revision No. 1'!Z17","v":0},{"$f":"'Other Funds Summary'!AA17+'Other Funds-Revision No. 1'!AA17","v":0},{"$f":"'Other Funds Summary'!AB17+'Other Funds-Revision No. 1'!AB17","v":0},{"$f":"'Other Funds Summary'!AC17+'Other Funds-Revision No. 1'!AC17","v":0},{"$f":"'Other Funds Summary'!AD17+'Other Funds-Revision No. 1'!AD17","v":0},{"$f":"'Other Funds Summary'!AE17+'Other Funds-Revision No. 1'!AE17","v":0},{"$f":"'Other Funds Summary'!AF17+'Other Funds-Revision No. 1'!AF17","v":0},{"$f":"'Other Funds Summary'!AG17+'Other Funds-Revision No. 1'!AG17","v":0},{"$f":"'Other Funds Summary'!AH17+'Other Funds-Revision No. 1'!AH17","v":0},{"$f":"'Other Funds Summary'!AI17+'Other Funds-Revision No. 1'!AI17","v":0},{"$f":"'Other Funds Summary'!AJ17+'Other Funds-Revision No. 1'!AJ17","v":0},{"$f":"'Other Funds Summary'!AK17+'Other Funds-Revision No. 1'!AK17","v":0},{"$f":"'Other Funds Summary'!AL17+'Other Funds-Revision No. 1'!AL17","v":28502},{"$f":"'Other Funds Summary'!AM17+'Other Funds-Revision No. 1'!AM17","v":37342}]
[{"$f":"+'Original ABG Allocation'!A18","v":"13"},{"$f":"+'Original ABG Allocation'!B18","v":"CENTRE"},{"$f":"'Other Funds Summary'!C18+'Other Funds-Revision No. 1'!C18","v":0},{"$f":"'Other Funds Summary'!D18+'Other Funds-Revision No. 1'!D18","v":0},{"$f":"'Other Funds Summary'!E18+'Other Funds-Revision No. 1'!E18","v":8840},0,{"$f":"'Other Funds Summary'!G18+'Other Funds-Revision No. 1'!G18","v":0},{"$f":"'Other Funds Summary'!H18+'Other Funds-Revision No. 1'!H18","v":0},{"$f":"'Other Funds Summary'!I18+'Other Funds-Revision No. 1'!I18","v":0},{"$f":"'Other Funds Summary'!J18+'Other Funds-Revision No. 1'!J18","v":0},{"$f":"'Other Funds Summary'!K18+'Other Funds-Revision No. 1'!K18","v":0},{"$f":"'Other Funds Summary'!L18+'Other Funds-Revision No. 1'!L18","v":0},{"$f":"'Other Funds Summary'!M18+'Other Funds-Revision No. 1'!M18","v":0},{"$f":"'Other Funds Summary'!N18+'Other Funds-Revision No. 1'!N18","v":0},{"$f":"'Other Funds Summary'!O18+'Other Funds-Revision No. 1'!O18","v":0},{"$f":"'Other Funds Summary'!P18+'Other Funds-Revision No. 1'!P18","v":0},{"$f":"'Other Funds Summary'!Q18+'Other Funds-Revision No. 1'!Q18","v":0},{"$f":"'Other Funds Summary'!R18+'Other Funds-Revision No. 1'!R18","v":0},{"$f":"'Other Funds Summary'!S18+'Other Funds-Revision No. 1'!S18","v":0},{"$f":"'Other Funds Summary'!T18+'Other Funds-Revision No. 1'!T18","v":0},{"$f":"'Other Funds Summary'!U18+'Other Funds-Revision No. 1'!U18","v":0},{"$f":"'Other Funds Summary'!V18+'Other Funds-Revision No. 1'!V18","v":0},{"$f":"'Other Funds Summary'!W18+'Other Funds-Revision No. 1'!W18","v":0},{"$f":"'Other Funds Summary'!X18+'Other Funds-Revision No. 1'!X18","v":0},{"$f":"'Other Funds Summary'!Y18+'Other Funds-Revision No. 1'!Y18","v":0},{"$f":"'Other Funds Summary'!Z18+'Other Funds-Revision No. 1'!Z18","v":0},{"$f":"'Other Funds Summary'!AA18+'Other Funds-Revision No. 1'!AA18","v":0},{"$f":"'Other Funds Summary'!AB18+'Other Funds-Revision No. 1'!AB18","v":0},{"$f":"'Other Funds Summary'!AC18+'Other Funds-Revision No. 1'!AC18","v":0},{"$f":"'Other Funds Summary'!AD18+'Other Funds-Revision No. 1'!AD18","v":0},{"$f":"'Other Funds Summary'!AE18+'Other Funds-Revision No. 1'!AE18","v":0},{"$f":"'Other Funds Summary'!AF18+'Other Funds-Revision No. 1'!AF18","v":0},{"$f":"'Other Funds Summary'!AG18+'Other Funds-Revision No. 1'!AG18","v":0},{"$f":"'Other Funds Summary'!AH18+'Other Funds-Revision No. 1'!AH18","v":0},{"$f":"'Other Funds Summary'!AI18+'Other Funds-Revision No. 1'!AI18","v":0},{"$f":"'Other Funds Summary'!AJ18+'Other Funds-Revision No. 1'!AJ18","v":0},{"$f":"'Other Funds Summary'!AK18+'Other Funds-Revision No. 1'!AK18","v":0},{"$f":"'Other Funds Summary'!AL18+'Other Funds-Revision No. 1'!AL18","v":18588},{"$f":"'Other Funds Summary'!AM18+'Other Funds-Revision No. 1'!AM18","v":27428}]
[{"$f":"+'Original ABG Allocation'!A19","v":"14"},{"$f":"+'Original ABG Allocation'!B19","v":"LYCOM/CLINTON"},{"$f":"'Other Funds Summary'!C19+'Other Funds-Revision No. 1'!C19","v":0},{"$f":"'Other Funds Summary'!D19+'Other Funds-Revision No. 1'!D19","v":0},{"$f":"'Other Funds Summary'!E19+'Other Funds-Revision No. 1'!E19","v":8840},0,{"$f":"'Other Funds Summary'!G19+'Other Funds-Revision No. 1'!G19","v":0},{"$f":"'Other Funds Summary'!H19+'Other Funds-Revision No. 1'!H19","v":0},{"$f":"'Other Funds Summary'!I19+'Other Funds-Revision No. 1'!I19","v":0},{"$f":"'Other Funds Summary'!J19+'Other Funds-Revision No. 1'!J19","v":0},{"$f":"'Other Funds Summary'!K19+'Other Funds-Revision No. 1'!K19","v":0},{"$f":"'Other Funds Summary'!L19+'Other Funds-Revision No. 1'!L19","v":0},{"$f":"'Other Funds Summary'!M19+'Other Funds-Revision No. 1'!M19","v":0},{"$f":"'Other Funds Summary'!N19+'Other Funds-Revision No. 1'!N19","v":0},{"$f":"'Other Funds Summary'!O19+'Other Funds-Revision No. 1'!O19","v":0},{"$f":"'Other Funds Summary'!P19+'Other Funds-Revision No. 1'!P19","v":0},{"$f":"'Other Funds Summary'!Q19+'Other Funds-Revision No. 1'!Q19","v":0},{"$f":"'Other Funds Summary'!R19+'Other Funds-Revision No. 1'!R19","v":0},{"$f":"'Other Funds Summary'!S19+'Other Funds-Revision No. 1'!S19","v":0},{"$f":"'Other Funds Summary'!T19+'Other Funds-Revision No. 1'!T19","v":0},{"$f":"'Other Funds Summary'!U19+'Other Funds-Revision No. 1'!U19","v":0},{"$f":"'Other Funds Summary'!V19+'Other Funds-Revision No. 1'!V19","v":0},{"$f":"'Other Funds Summary'!W19+'Other Funds-Revision No. 1'!W19","v":0},{"$f":"'Other Funds Summary'!X19+'Other Funds-Revision No. 1'!X19","v":0},{"$f":"'Other Funds Summary'!Y19+'Other Funds-Revision No. 1'!Y19","v":0},{"$f":"'Other Funds Summary'!Z19+'Other Funds-Revision No. 1'!Z19","v":0},{"$f":"'Other Funds Summary'!AA19+'Other Funds-Revision No. 1'!AA19","v":0},{"$f":"'Other Funds Summary'!AB19+'Other Funds-Revision No. 1'!AB19","v":0},{"$f":"'Other Funds Summary'!AC19+'Other Funds-Revision No. 1'!AC19","v":0},{"$f":"'Other Funds Summary'!AD19+'Other Funds-Revision No. 1'!AD19","v":0},{"$f":"'Other Funds Summary'!AE19+'Other Funds-Revision No. 1'!AE19","v":0},{"$f":"'Other Funds Summary'!AF19+'Other Funds-Revision No. 1'!AF19","v":0},{"$f":"'Other Funds Summary'!AG19+'Other Funds-Revision No. 1'!AG19","v":0},{"$f":"'Other Funds Summary'!AH19+'Other Funds-Revision No. 1'!AH19","v":0},{"$f":"'Other Funds Summary'!AI19+'Other Funds-Revision No. 1'!AI19","v":0},{"$f":"'Other Funds Summary'!AJ19+'Other Funds-Revision No. 1'!AJ19","v":0},{"$f":"'Other Funds Summary'!AK19+'Other Funds-Revision No. 1'!AK19","v":0},{"$f":"'Other Funds Summary'!AL19+'Other Funds-Revision No. 1'!AL19","v":29172},{"$f":"'Other Funds Summary'!AM19+'Other Funds-Revision No. 1'!AM19","v":38012}]
[{"$f":"+'Original ABG Allocation'!A20","v":"15"},{"$f":"+'Original ABG Allocation'!B20","v":"COLUM/MONT"},{"$f":"'Other Funds Summary'!C20+'Other Funds-Revision No. 1'!C20","v":0},{"$f":"'Other Funds Summary'!D20+'Other Funds-Revision No. 1'!D20","v":0},{"$f":"'Other Funds Summary'!E20+'Other Funds-Revision No. 1'!E20","v":8840},0,{"$f":"'Other Funds Summary'!G20+'Other Funds-Revision No. 1'!G20","v":0},{"$f":"'Other Funds Summary'!H20+'Other Funds-Revision No. 1'!H20","v":0},{"$f":"'Other Funds Summary'!I20+'Other Funds-Revision No. 1'!I20","v":0},{"$f":"'Other Funds Summary'!J20+'Other Funds-Revision No. 1'!J20","v":0},{"$f":"'Other Funds Summary'!K20+'Other Funds-Revision No. 1'!K20","v":0},{"$f":"'Other Funds Summary'!L20+'Other Funds-Revision No. 1'!L20","v":0},{"$f":"'Other Funds Summary'!M20+'Other Funds-Revision No. 1'!M20","v":0},{"$f":"'Other Funds Summary'!N20+'Other Funds-Revision No. 1'!N20","v":0},{"$f":"'Other Funds Summary'!O20+'Other Funds-Revision No. 1'!O20","v":0},{"$f":"'Other Funds Summary'!P20+'Other Funds-Revision No. 1'!P20","v":0},{"$f":"'Other Funds Summary'!Q20+'Other Funds-Revision No. 1'!Q20","v":0},{"$f":"'Other Funds Summary'!R20+'Other Funds-Revision No. 1'!R20","v":0},{"$f":"'Other Funds Summary'!S20+'Other Funds-Revision No. 1'!S20","v":0},{"$f":"'Other Funds Summary'!T20+'Other Funds-Revision No. 1'!T20","v":0},{"$f":"'Other Funds Summary'!U20+'Other Funds-Revision No. 1'!U20","v":0},{"$f":"'Other Funds Summary'!V20+'Other Funds-Revision No. 1'!V20","v":0},{"$f":"'Other Funds Summary'!W20+'Other Funds-Revision No. 1'!W20","v":0},{"$f":"'Other Funds Summary'!X20+'Other Funds-Revision No. 1'!X20","v":0},{"$f":"'Other Funds Summary'!Y20+'Other Funds-Revision No. 1'!Y20","v":0},{"$f":"'Other Funds Summary'!Z20+'Other Funds-Revision No. 1'!Z20","v":0},{"$f":"'Other Funds Summary'!AA20+'Other Funds-Revision No. 1'!AA20","v":0},{"$f":"'Other Funds Summary'!AB20+'Other Funds-Revision No. 1'!AB20","v":0},{"$f":"'Other Funds Summary'!AC20+'Other Funds-Revision No. 1'!AC20","v":0},{"$f":"'Other Funds Summary'!AD20+'Other Funds-Revision No. 1'!AD20","v":0},{"$f":"'Other Funds Summary'!AE20+'Other Funds-Revision No. 1'!AE20","v":0},{"$f":"'Other Funds Summary'!AF20+'Other Funds-Revision No. 1'!AF20","v":0},{"$f":"'Other Funds Summary'!AG20+'Other Funds-Revision No. 1'!AG20","v":0},{"$f":"'Other Funds Summary'!AH20+'Other Funds-Revision No. 1'!AH20","v":0},{"$f":"'Other Funds Summary'!AI20+'Other Funds-Revision No. 1'!AI20","v":0},{"$f":"'Other Funds Summary'!AJ20+'Other Funds-Revision No. 1'!AJ20","v":0},{"$f":"'Other Funds Summary'!AK20+'Other Funds-Revision No. 1'!AK20","v":0},{"$f":"'Other Funds Summary'!AL20+'Other Funds-Revision No. 1'!AL20","v":16498},{"$f":"'Other Funds Summary'!AM20+'Other Funds-Revision No. 1'!AM20","v":25338}]
[{"$f":"+'Original ABG Allocation'!A21","v":"16"},{"$f":"+'Original ABG Allocation'!B21","v":"NORTHUMBERLND"},{"$f":"'Other Funds Summary'!C21+'Other Funds-Revision No. 1'!C21","v":0},{"$f":"'Other Funds Summary'!D21+'Other Funds-Revision No. 1'!D21","v":0},{"$f":"'Other Funds Summary'!E21+'Other Funds-Revision No. 1'!E21","v":8840},0,{"$f":"'Other Funds Summary'!G21+'Other Funds-Revision No. 1'!G21","v":0},{"$f":"'Other Funds Summary'!H21+'Other Funds-Revision No. 1'!H21","v":0},{"$f":"'Other Funds Summary'!I21+'Other Funds-Revision No. 1'!I21","v":0},{"$f":"'Other Funds Summary'!J21+'Other Funds-Revision No. 1'!J21","v":0},{"$f":"'Other Funds Summary'!K21+'Other Funds-Revision No. 1'!K21","v":0},{"$f":"'Other Funds Summary'!L21+'Other Funds-Revision No. 1'!L21","v":0},{"$f":"'Other Funds Summary'!M21+'Other Funds-Revision No. 1'!M21","v":0},{"$f":"'Other Funds Summary'!N21+'Other Funds-Revision No. 1'!N21","v":0},{"$f":"'Other Funds Summary'!O21+'Other Funds-Revision No. 1'!O21","v":0},{"$f":"'Other Funds Summary'!P21+'Other Funds-Revision No. 1'!P21","v":0},{"$f":"'Other Funds Summary'!Q21+'Other Funds-Revision No. 1'!Q21","v":0},{"$f":"'Other Funds Summary'!R21+'Other Funds-Revision No. 1'!R21","v":0},{"$f":"'Other Funds Summary'!S21+'Other Funds-Revision No. 1'!S21","v":0},{"$f":"'Other Funds Summary'!T21+'Other Funds-Revision No. 1'!T21","v":0},{"$f":"'Other Funds Summary'!U21+'Other Funds-Revision No. 1'!U21","v":0},{"$f":"'Other Funds Summary'!V21+'Other Funds-Revision No. 1'!V21","v":0},{"$f":"'Other Funds Summary'!W21+'Other Funds-Revision No. 1'!W21","v":0},{"$f":"'Other Funds Summary'!X21+'Other Funds-Revision No. 1'!X21","v":0},{"$f":"'Other Funds Summary'!Y21+'Other Funds-Revision No. 1'!Y21","v":0},{"$f":"'Other Funds Summary'!Z21+'Other Funds-Revision No. 1'!Z21","v":0},{"$f":"'Other Funds Summary'!AA21+'Other Funds-Revision No. 1'!AA21","v":0},{"$f":"'Other Funds Summary'!AB21+'Other Funds-Revision No. 1'!AB21","v":0},{"$f":"'Other Funds Summary'!AC21+'Other Funds-Revision No. 1'!AC21","v":0},{"$f":"'Other Funds Summary'!AD21+'Other Funds-Revision No. 1'!AD21","v":0},{"$f":"'Other Funds Summary'!AE21+'Other Funds-Revision No. 1'!AE21","v":0},{"$f":"'Other Funds Summary'!AF21+'Other Funds-Revision No. 1'!AF21","v":0},{"$f":"'Other Funds Summary'!AG21+'Other Funds-Revision No. 1'!AG21","v":0},{"$f":"'Other Funds Summary'!AH21+'Other Funds-Revision No. 1'!AH21","v":0},{"$f":"'Other Funds Summary'!AI21+'Other Funds-Revision No. 1'!AI21","v":0},{"$f":"'Other Funds Summary'!AJ21+'Other Funds-Revision No. 1'!AJ21","v":0},{"$f":"'Other Funds Summary'!AK21+'Other Funds-Revision No. 1'!AK21","v":0},{"$f":"'Other Funds Summary'!AL21+'Other Funds-Revision No. 1'!AL21","v":18995},{"$f":"'Other Funds Summary'!AM21+'Other Funds-Revision No. 1'!AM21","v":27835}]
[{"$f":"+'Original ABG Allocation'!A22","v":"17"},{"$f":"+'Original ABG Allocation'!B22","v":"UNION/SNYDER"},{"$f":"'Other Funds Summary'!C22+'Other Funds-Revision No. 1'!C22","v":0},{"$f":"'Other Funds Summary'!D22+'Other Funds-Revision No. 1'!D22","v":0},{"$f":"'Other Funds Summary'!E22+'Other Funds-Revision No. 1'!E22","v":8840},0,{"$f":"'Other Funds Summary'!G22+'Other Funds-Revision No. 1'!G22","v":0},{"$f":"'Other Funds Summary'!H22+'Other Funds-Revision No. 1'!H22","v":0},{"$f":"'Other Funds Summary'!I22+'Other Funds-Revision No. 1'!I22","v":0},{"$f":"'Other Funds Summary'!J22+'Other Funds-Revision No. 1'!J22","v":0},{"$f":"'Other Funds Summary'!K22+'Other Funds-Revision No. 1'!K22","v":0},{"$f":"'Other Funds Summary'!L22+'Other Funds-Revision No. 1'!L22","v":0},{"$f":"'Other Funds Summary'!M22+'Other Funds-Revision No. 1'!M22","v":0},{"$f":"'Other Funds Summary'!N22+'Other Funds-Revision No. 1'!N22","v":0},{"$f":"'Other Funds Summary'!O22+'Other Funds-Revision No. 1'!O22","v":0},{"$f":"'Other Funds Summary'!P22+'Other Funds-Revision No. 1'!P22","v":0},{"$f":"'Other Funds Summary'!Q22+'Other Funds-Revision No. 1'!Q22","v":0},{"$f":"'Other Funds Summary'!R22+'Other Funds-Revision No. 1'!R22","v":0},{"$f":"'Other Funds Summary'!S22+'Other Funds-Revision No. 1'!S22","v":0},{"$f":"'Other Funds Summary'!T22+'Other Funds-Revision No. 1'!T22","v":0},{"$f":"'Other Funds Summary'!U22+'Other Funds-Revision No. 1'!U22","v":0},{"$f":"'Other Funds Summary'!V22+'Other Funds-Revision No. 1'!V22","v":0},{"$f":"'Other Funds Summary'!W22+'Other Funds-Revision No. 1'!W22","v":0},{"$f":"'Other Funds Summary'!X22+'Other Funds-Revision No. 1'!X22","v":0},{"$f":"'Other Funds Summary'!Y22+'Other Funds-Revision No. 1'!Y22","v":0},{"$f":"'Other Funds Summary'!Z22+'Other Funds-Revision No. 1'!Z22","v":0},{"$f":"'Other Funds Summary'!AA22+'Other Funds-Revision No. 1'!AA22","v":0},{"$f":"'Other Funds Summary'!AB22+'Other Funds-Revision No. 1'!AB22","v":0},{"$f":"'Other Funds Summary'!AC22+'Other Funds-Revision No. 1'!AC22","v":0},{"$f":"'Other Funds Summary'!AD22+'Other Funds-Revision No. 1'!AD22","v":0},{"$f":"'Other Funds Summary'!AE22+'Other Funds-Revision No. 1'!AE22","v":0},{"$f":"'Other Funds Summary'!AF22+'Other Funds-Revision No. 1'!AF22","v":0},{"$f":"'Other Funds Summary'!AG22+'Other Funds-Revision No. 1'!AG22","v":0},{"$f":"'Other Funds Summary'!AH22+'Other Funds-Revision No. 1'!AH22","v":0},{"$f":"'Other Funds Summary'!AI22+'Other Funds-Revision No. 1'!AI22","v":0},{"$f":"'Other Funds Summary'!AJ22+'Other Funds-Revision No. 1'!AJ22","v":0},{"$f":"'Other Funds Summary'!AK22+'Other Funds-Revision No. 1'!AK22","v":0},{"$f":"'Other Funds Summary'!AL22+'Other Funds-Revision No. 1'!AL22","v":16338},{"$f":"'Other Funds Summary'!AM22+'Other Funds-Revision No. 1'!AM22","v":25178}]
[{"$f":"+'Original ABG Allocation'!A23","v":"18"},{"$f":"+'Original ABG Allocation'!B23","v":"MIFF/JUNIATA"},{"$f":"'Other Funds Summary'!C23+'Other Funds-Revision No. 1'!C23","v":0},{"$f":"'Other Funds Summary'!D23+'Other Funds-Revision No. 1'!D23","v":0},{"$f":"'Other Funds Summary'!E23+'Other Funds-Revision No. 1'!E23","v":8840},0,{"$f":"'Other Funds Summary'!G23+'Other Funds-Revision No. 1'!G23","v":0},{"$f":"'Other Funds Summary'!H23+'Other Funds-Revision No. 1'!H23","v":0},{"$f":"'Other Funds Summary'!I23+'Other Funds-Revision No. 1'!I23","v":0},{"$f":"'Other Funds Summary'!J23+'Other Funds-Revision No. 1'!J23","v":0},{"$f":"'Other Funds Summary'!K23+'Other Funds-Revision No. 1'!K23","v":0},{"$f":"'Other Funds Summary'!L23+'Other Funds-Revision No. 1'!L23","v":0},{"$f":"'Other Funds Summary'!M23+'Other Funds-Revision No. 1'!M23","v":0},{"$f":"'Other Funds Summary'!N23+'Other Funds-Revision No. 1'!N23","v":0},{"$f":"'Other Funds Summary'!O23+'Other Funds-Revision No. 1'!O23","v":0},{"$f":"'Other Funds Summary'!P23+'Other Funds-Revision No. 1'!P23","v":0},{"$f":"'Other Funds Summary'!Q23+'Other Funds-Revision No. 1'!Q23","v":0},{"$f":"'Other Funds Summary'!R23+'Other Funds-Revision No. 1'!R23","v":0},{"$f":"'Other Funds Summary'!S23+'Other Funds-Revision No. 1'!S23","v":0},{"$f":"'Other Funds Summary'!T23+'Other Funds-Revision No. 1'!T23","v":0},{"$f":"'Other Funds Summary'!U23+'Other Funds-Revision No. 1'!U23","v":0},{"$f":"'Other Funds Summary'!V23+'Other Funds-Revision No. 1'!V23","v":0},{"$f":"'Other Funds Summary'!W23+'Other Funds-Revision No. 1'!W23","v":0},{"$f":"'Other Funds Summary'!X23+'Other Funds-Revision No. 1'!X23","v":0},{"$f":"'Other Funds Summary'!Y23+'Other Funds-Revision No. 1'!Y23","v":0},{"$f":"'Other Funds Summary'!Z23+'Other Funds-Revision No. 1'!Z23","v":0},{"$f":"'Other Funds Summary'!AA23+'Other Funds-Revision No. 1'!AA23","v":0},{"$f":"'Other Funds Summary'!AB23+'Other Funds-Revision No. 1'!AB23","v":0},{"$f":"'Other Funds Summary'!AC23+'Other Funds-Revision No. 1'!AC23","v":0},{"$f":"'Other Funds Summary'!AD23+'Other Funds-Revision No. 1'!AD23","v":0},{"$f":"'Other Funds Summary'!AE23+'Other Funds-Revision No. 1'!AE23","v":0},{"$f":"'Other Funds Summary'!AF23+'Other Funds-Revision No. 1'!AF23","v":0},{"$f":"'Other Funds Summary'!AG23+'Other Funds-Revision No. 1'!AG23","v":0},{"$f":"'Other Funds Summary'!AH23+'Other Funds-Revision No. 1'!AH23","v":0},{"$f":"'Other Funds Summary'!AI23+'Other Funds-Revision No. 1'!AI23","v":0},{"$f":"'Other Funds Summary'!AJ23+'Other Funds-Revision No. 1'!AJ23","v":0},{"$f":"'Other Funds Summary'!AK23+'Other Funds-Revision No. 1'!AK23","v":0},{"$f":"'Other Funds Summary'!AL23+'Other Funds-Revision No. 1'!AL23","v":17134},{"$f":"'Other Funds Summary'!AM23+'Other Funds-Revision No. 1'!AM23","v":25974}]
[{"$f":"+'Original ABG Allocation'!A24","v":"19"},{"$f":"+'Original ABG Allocation'!B24","v":"FRANKLIN"},{"$f":"'Other Funds Summary'!C24+'Other Funds-Revision No. 1'!C24","v":0},{"$f":"'Other Funds Summary'!D24+'Other Funds-Revision No. 1'!D24","v":0},{"$f":"'Other Funds Summary'!E24+'Other Funds-Revision No. 1'!E24","v":8840},0,{"$f":"'Other Funds Summary'!G24+'Other Funds-Revision No. 1'!G24","v":0},{"$f":"'Other Funds Summary'!H24+'Other Funds-Revision No. 1'!H24","v":0},{"$f":"'Other Funds Summary'!I24+'Other Funds-Revision No. 1'!I24","v":0},{"$f":"'Other Funds Summary'!J24+'Other Funds-Revision No. 1'!J24","v":0},{"$f":"'Other Funds Summary'!K24+'Other Funds-Revision No. 1'!K24","v":0},{"$f":"'Other Funds Summary'!L24+'Other Funds-Revision No. 1'!L24","v":0},{"$f":"'Other Funds Summary'!M24+'Other Funds-Revision No. 1'!M24","v":0},{"$f":"'Other Funds Summary'!N24+'Other Funds-Revision No. 1'!N24","v":0},{"$f":"'Other Funds Summary'!O24+'Other Funds-Revision No. 1'!O24","v":0},{"$f":"'Other Funds Summary'!P24+'Other Funds-Revision No. 1'!P24","v":0},{"$f":"'Other Funds Summary'!Q24+'Other Funds-Revision No. 1'!Q24","v":0},{"$f":"'Other Funds Summary'!R24+'Other Funds-Revision No. 1'!R24","v":0},{"$f":"'Other Funds Summary'!S24+'Other Funds-Revision No. 1'!S24","v":0},{"$f":"'Other Funds Summary'!T24+'Other Funds-Revision No. 1'!T24","v":0},{"$f":"'Other Funds Summary'!U24+'Other Funds-Revision No. 1'!U24","v":0},{"$f":"'Other Funds Summary'!V24+'Other Funds-Revision No. 1'!V24","v":0},{"$f":"'Other Funds Summary'!W24+'Other Funds-Revision No. 1'!W24","v":0},{"$f":"'Other Funds Summary'!X24+'Other Funds-Revision No. 1'!X24","v":0},{"$f":"'Other Funds Summary'!Y24+'Other Funds-Revision No. 1'!Y24","v":0},{"$f":"'Other Funds Summary'!Z24+'Other Funds-Revision No. 1'!Z24","v":0},{"$f":"'Other Funds Summary'!AA24+'Other Funds-Revision No. 1'!AA24","v":0},{"$f":"'Other Funds Summary'!AB24+'Other Funds-Revision No. 1'!AB24","v":0},{"$f":"'Other Funds Summary'!AC24+'Other Funds-Revision No. 1'!AC24","v":0},{"$f":"'Other Funds Summary'!AD24+'Other Funds-Revision No. 1'!AD24","v":0},{"$f":"'Other Funds Summary'!AE24+'Other Funds-Revision No. 1'!AE24","v":0},{"$f":"'Other Funds Summary'!AF24+'Other Funds-Revision No. 1'!AF24","v":0},{"$f":"'Other Funds Summary'!AG24+'Other Funds-Revision No. 1'!AG24","v":0},{"$f":"'Other Funds Summary'!AH24+'Other Funds-Revision No. 1'!AH24","v":0},{"$f":"'Other Funds Summary'!AI24+'Other Funds-Revision No. 1'!AI24","v":0},{"$f":"'Other Funds Summary'!AJ24+'Other Funds-Revision No. 1'!AJ24","v":0},{"$f":"'Other Funds Summary'!AK24+'Other Funds-Revision No. 1'!AK24","v":0},{"$f":"'Other Funds Summary'!AL24+'Other Funds-Revision No. 1'!AL24","v":23033},{"$f":"'Other Funds Summary'!AM24+'Other Funds-Revision No. 1'!AM24","v":31873}]
[{"$f":"+'Original ABG Allocation'!A25","v":"20"},{"$f":"+'Original ABG Allocation'!B25","v":"ADAMS"},{"$f":"'Other Funds Summary'!C25+'Other Funds-Revision No. 1'!C25","v":0},{"$f":"'Other Funds Summary'!D25+'Other Funds-Revision No. 1'!D25","v":0},{"$f":"'Other Funds Summary'!E25+'Other Funds-Revision No. 1'!E25","v":8840},0,{"$f":"'Other Funds Summary'!G25+'Other Funds-Revision No. 1'!G25","v":0},{"$f":"'Other Funds Summary'!H25+'Other Funds-Revision No. 1'!H25","v":0},{"$f":"'Other Funds Summary'!I25+'Other Funds-Revision No. 1'!I25","v":0},{"$f":"'Other Funds Summary'!J25+'Other Funds-Revision No. 1'!J25","v":0},{"$f":"'Other Funds Summary'!K25+'Other Funds-Revision No. 1'!K25","v":0},{"$f":"'Other Funds Summary'!L25+'Other Funds-Revision No. 1'!L25","v":0},{"$f":"'Other Funds Summary'!M25+'Other Funds-Revision No. 1'!M25","v":0},{"$f":"'Other Funds Summary'!N25+'Other Funds-Revision No. 1'!N25","v":0},{"$f":"'Other Funds Summary'!O25+'Other Funds-Revision No. 1'!O25","v":0},{"$f":"'Other Funds Summary'!P25+'Other Funds-Revision No. 1'!P25","v":0},{"$f":"'Other Funds Summary'!Q25+'Other Funds-Revision No. 1'!Q25","v":0},{"$f":"'Other Funds Summary'!R25+'Other Funds-Revision No. 1'!R25","v":0},{"$f":"'Other Funds Summary'!S25+'Other Funds-Revision No. 1'!S25","v":0},{"$f":"'Other Funds Summary'!T25+'Other Funds-Revision No. 1'!T25","v":0},{"$f":"'Other Funds Summary'!U25+'Other Funds-Revision No. 1'!U25","v":0},{"$f":"'Other Funds Summary'!V25+'Other Funds-Revision No. 1'!V25","v":0},{"$f":"'Other Funds Summary'!W25+'Other Funds-Revision No. 1'!W25","v":0},{"$f":"'Other Funds Summary'!X25+'Other Funds-Revision No. 1'!X25","v":0},{"$f":"'Other Funds Summary'!Y25+'Other Funds-Revision No. 1'!Y25","v":0},{"$f":"'Other Funds Summary'!Z25+'Other Funds-Revision No. 1'!Z25","v":0},{"$f":"'Other Funds Summary'!AA25+'Other Funds-Revision No. 1'!AA25","v":0},{"$f":"'Other Funds Summary'!AB25+'Other Funds-Revision No. 1'!AB25","v":0},{"$f":"'Other Funds Summary'!AC25+'Other Funds-Revision No. 1'!AC25","v":0},{"$f":"'Other Funds Summary'!AD25+'Other Funds-Revision No. 1'!AD25","v":0},{"$f":"'Other Funds Summary'!AE25+'Other Funds-Revision No. 1'!AE25","v":0},{"$f":"'Other Funds Summary'!AF25+'Other Funds-Revision No. 1'!AF25","v":0},{"$f":"'Other Funds Summary'!AG25+'Other Funds-Revision No. 1'!AG25","v":0},{"$f":"'Other Funds Summary'!AH25+'Other Funds-Revision No. 1'!AH25","v":0},{"$f":"'Other Funds Summary'!AI25+'Other Funds-Revision No. 1'!AI25","v":0},{"$f":"'Other Funds Summary'!AJ25+'Other Funds-Revision No. 1'!AJ25","v":0},{"$f":"'Other Funds Summary'!AK25+'Other Funds-Revision No. 1'!AK25","v":0},{"$f":"'Other Funds Summary'!AL25+'Other Funds-Revision No. 1'!AL25","v":20260},{"$f":"'Other Funds Summary'!AM25+'Other Funds-Revision No. 1'!AM25","v":29100}]
[{"$f":"+'Original ABG Allocation'!A26","v":"21"},{"$f":"+'Original ABG Allocation'!B26","v":"CUMBERLAND"},{"$f":"'Other Funds Summary'!C26+'Other Funds-Revision No. 1'!C26","v":0},{"$f":"'Other Funds Summary'!D26+'Other Funds-Revision No. 1'!D26","v":0},{"$f":"'Other Funds Summary'!E26+'Other Funds-Revision No. 1'!E26","v":8840},0,{"$f":"'Other Funds Summary'!G26+'Other Funds-Revision No. 1'!G26","v":0},{"$f":"'Other Funds Summary'!H26+'Other Funds-Revision No. 1'!H26","v":0},{"$f":"'Other Funds Summary'!I26+'Other Funds-Revision No. 1'!I26","v":0},{"$f":"'Other Funds Summary'!J26+'Other Funds-Revision No. 1'!J26","v":0},{"$f":"'Other Funds Summary'!K26+'Other Funds-Revision No. 1'!K26","v":0},{"$f":"'Other Funds Summary'!L26+'Other Funds-Revision No. 1'!L26","v":0},{"$f":"'Other Funds Summary'!M26+'Other Funds-Revision No. 1'!M26","v":0},{"$f":"'Other Funds Summary'!N26+'Other Funds-Revision No. 1'!N26","v":0},{"$f":"'Other Funds Summary'!O26+'Other Funds-Revision No. 1'!O26","v":0},{"$f":"'Other Funds Summary'!P26+'Other Funds-Revision No. 1'!P26","v":0},{"$f":"'Other Funds Summary'!Q26+'Other Funds-Revision No. 1'!Q26","v":0},{"$f":"'Other Funds Summary'!R26+'Other Funds-Revision No. 1'!R26","v":0},{"$f":"'Other Funds Summary'!S26+'Other Funds-Revision No. 1'!S26","v":0},{"$f":"'Other Funds Summary'!T26+'Other Funds-Revision No. 1'!T26","v":0},{"$f":"'Other Funds Summary'!U26+'Other Funds-Revision No. 1'!U26","v":0},{"$f":"'Other Funds Summary'!V26+'Other Funds-Revision No. 1'!V26","v":0},{"$f":"'Other Funds Summary'!W26+'Other Funds-Revision No. 1'!W26","v":0},{"$f":"'Other Funds Summary'!X26+'Other Funds-Revision No. 1'!X26","v":0},{"$f":"'Other Funds Summary'!Y26+'Other Funds-Revision No. 1'!Y26","v":0},{"$f":"'Other Funds Summary'!Z26+'Other Funds-Revision No. 1'!Z26","v":0},{"$f":"'Other Funds Summary'!AA26+'Other Funds-Revision No. 1'!AA26","v":0},{"$f":"'Other Funds Summary'!AB26+'Other Funds-Revision No. 1'!AB26","v":0},{"$f":"'Other Funds Summary'!AC26+'Other Funds-Revision No. 1'!AC26","v":0},{"$f":"'Other Funds Summary'!AD26+'Other Funds-Revision No. 1'!AD26","v":0},{"$f":"'Other Funds Summary'!AE26+'Other Funds-Revision No. 1'!AE26","v":0},{"$f":"'Other Funds Summary'!AF26+'Other Funds-Revision No. 1'!AF26","v":0},{"$f":"'Other Funds Summary'!AG26+'Other Funds-Revision No. 1'!AG26","v":0},{"$f":"'Other Funds Summary'!AH26+'Other Funds-Revision No. 1'!AH26","v":0},{"$f":"'Other Funds Summary'!AI26+'Other Funds-Revision No. 1'!AI26","v":0},{"$f":"'Other Funds Summary'!AJ26+'Other Funds-Revision No. 1'!AJ26","v":0},{"$f":"'Other Funds Summary'!AK26+'Other Funds-Revision No. 1'!AK26","v":0},{"$f":"'Other Funds Summary'!AL26+'Other Funds-Revision No. 1'!AL26","v":29706},{"$f":"'Other Funds Summary'!AM26+'Other Funds-Revision No. 1'!AM26","v":38546}]
[{"$f":"+'Original ABG Allocation'!A27","v":"22"},{"$f":"+'Original ABG Allocation'!B27","v":"PERRY"},{"$f":"'Other Funds Summary'!C27+'Other Funds-Revision No. 1'!C27","v":0},{"$f":"'Other Funds Summary'!D27+'Other Funds-Revision No. 1'!D27","v":0},{"$f":"'Other Funds Summary'!E27+'Other Funds-Revision No. 1'!E27","v":8840},0,{"$f":"'Other Funds Summary'!G27+'Other Funds-Revision No. 1'!G27","v":0},{"$f":"'Other Funds Summary'!H27+'Other Funds-Revision No. 1'!H27","v":0},{"$f":"'Other Funds Summary'!I27+'Other Funds-Revision No. 1'!I27","v":0},{"$f":"'Other Funds Summary'!J27+'Other Funds-Revision No. 1'!J27","v":0},{"$f":"'Other Funds Summary'!K27+'Other Funds-Revision No. 1'!K27","v":0},{"$f":"'Other Funds Summary'!L27+'Other Funds-Revision No. 1'!L27","v":0},{"$f":"'Other Funds Summary'!M27+'Other Funds-Revision No. 1'!M27","v":0},{"$f":"'Other Funds Summary'!N27+'Other Funds-Revision No. 1'!N27","v":0},{"$f":"'Other Funds Summary'!O27+'Other Funds-Revision No. 1'!O27","v":0},{"$f":"'Other Funds Summary'!P27+'Other Funds-Revision No. 1'!P27","v":0},{"$f":"'Other Funds Summary'!Q27+'Other Funds-Revision No. 1'!Q27","v":0},{"$f":"'Other Funds Summary'!R27+'Other Funds-Revision No. 1'!R27","v":0},{"$f":"'Other Funds Summary'!S27+'Other Funds-Revision No. 1'!S27","v":0},{"$f":"'Other Funds Summary'!T27+'Other Funds-Revision No. 1'!T27","v":0},{"$f":"'Other Funds Summary'!U27+'Other Funds-Revision No. 1'!U27","v":0},{"$f":"'Other Funds Summary'!V27+'Other Funds-Revision No. 1'!V27","v":0},{"$f":"'Other Funds Summary'!W27+'Other Funds-Revision No. 1'!W27","v":0},{"$f":"'Other Funds Summary'!X27+'Other Funds-Revision No. 1'!X27","v":0},{"$f":"'Other Funds Summary'!Y27+'Other Funds-Revision No. 1'!Y27","v":0},{"$f":"'Other Funds Summary'!Z27+'Other Funds-Revision No. 1'!Z27","v":0},{"$f":"'Other Funds Summary'!AA27+'Other Funds-Revision No. 1'!AA27","v":0},{"$f":"'Other Funds Summary'!AB27+'Other Funds-Revision No. 1'!AB27","v":0},{"$f":"'Other Funds Summary'!AC27+'Other Funds-Revision No. 1'!AC27","v":0},{"$f":"'Other Funds Summary'!AD27+'Other Funds-Revision No. 1'!AD27","v":0},{"$f":"'Other Funds Summary'!AE27+'Other Funds-Revision No. 1'!AE27","v":0},{"$f":"'Other Funds Summary'!AF27+'Other Funds-Revision No. 1'!AF27","v":0},{"$f":"'Other Funds Summary'!AG27+'Other Funds-Revision No. 1'!AG27","v":0},{"$f":"'Other Funds Summary'!AH27+'Other Funds-Revision No. 1'!AH27","v":0},{"$f":"'Other Funds Summary'!AI27+'Other Funds-Revision No. 1'!AI27","v":0},{"$f":"'Other Funds Summary'!AJ27+'Other Funds-Revision No. 1'!AJ27","v":0},{"$f":"'Other Funds Summary'!AK27+'Other Funds-Revision No. 1'!AK27","v":0},{"$f":"'Other Funds Summary'!AL27+'Other Funds-Revision No. 1'!AL27","v":10262},{"$f":"'Other Funds Summary'!AM27+'Other Funds-Revision No. 1'!AM27","v":19102}]
[{"$f":"+'Original ABG Allocation'!A28","v":"23"},{"$f":"+'Original ABG Allocation'!B28","v":"DAUPHIN"},{"$f":"'Other Funds Summary'!C28+'Other Funds-Revision No. 1'!C28","v":0},{"$f":"'Other Funds Summary'!D28+'Other Funds-Revision No. 1'!D28","v":0},{"$f":"'Other Funds Summary'!E28+'Other Funds-Revision No. 1'!E28","v":8840},0,{"$f":"'Other Funds Summary'!G28+'Other Funds-Revision No. 1'!G28","v":0},{"$f":"'Other Funds Summary'!H28+'Other Funds-Revision No. 1'!H28","v":0},{"$f":"'Other Funds Summary'!I28+'Other Funds-Revision No. 1'!I28","v":0},{"$f":"'Other Funds Summary'!J28+'Other Funds-Revision No. 1'!J28","v":0},{"$f":"'Other Funds Summary'!K28+'Other Funds-Revision No. 1'!K28","v":0},{"$f":"'Other Funds Summary'!L28+'Other Funds-Revision No. 1'!L28","v":0},{"$f":"'Other Funds Summary'!M28+'Other Funds-Revision No. 1'!M28","v":0},{"$f":"'Other Funds Summary'!N28+'Other Funds-Revision No. 1'!N28","v":0},{"$f":"'Other Funds Summary'!O28+'Other Funds-Revision No. 1'!O28","v":0},{"$f":"'Other Funds Summary'!P28+'Other Funds-Revision No. 1'!P28","v":0},{"$f":"'Other Funds Summary'!Q28+'Other Funds-Revision No. 1'!Q28","v":0},{"$f":"'Other Funds Summary'!R28+'Other Funds-Revision No. 1'!R28","v":0},{"$f":"'Other Funds Summary'!S28+'Other Funds-Revision No. 1'!S28","v":0},{"$f":"'Other Funds Summary'!T28+'Other Funds-Revision No. 1'!T28","v":0},{"$f":"'Other Funds Summary'!U28+'Other Funds-Revision No. 1'!U28","v":0},{"$f":"'Other Funds Summary'!V28+'Other Funds-Revision No. 1'!V28","v":0},{"$f":"'Other Funds Summary'!W28+'Other Funds-Revision No. 1'!W28","v":0},{"$f":"'Other Funds Summary'!X28+'Other Funds-Revision No. 1'!X28","v":0},{"$f":"'Other Funds Summary'!Y28+'Other Funds-Revision No. 1'!Y28","v":0},{"$f":"'Other Funds Summary'!Z28+'Other Funds-Revision No. 1'!Z28","v":0},{"$f":"'Other Funds Summary'!AA28+'Other Funds-Revision No. 1'!AA28","v":0},{"$f":"'Other Funds Summary'!AB28+'Other Funds-Revision No. 1'!AB28","v":0},{"$f":"'Other Funds Summary'!AC28+'Other Funds-Revision No. 1'!AC28","v":0},{"$f":"'Other Funds Summary'!AD28+'Other Funds-Revision No. 1'!AD28","v":0},{"$f":"'Other Funds Summary'!AE28+'Other Funds-Revision No. 1'!AE28","v":0},{"$f":"'Other Funds Summary'!AF28+'Other Funds-Revision No. 1'!AF28","v":0},{"$f":"'Other Funds Summary'!AG28+'Other Funds-Revision No. 1'!AG28","v":0},{"$f":"'Other Funds Summary'!AH28+'Other Funds-Revision No. 1'!AH28","v":0},{"$f":"'Other Funds Summary'!AI28+'Other Funds-Revision No. 1'!AI28","v":0},{"$f":"'Other Funds Summary'!AJ28+'Other Funds-Revision No. 1'!AJ28","v":0},{"$f":"'Other Funds Summary'!AK28+'Other Funds-Revision No. 1'!AK28","v":0},{"$f":"'Other Funds Summary'!AL28+'Other Funds-Revision No. 1'!AL28","v":41146},{"$f":"'Other Funds Summary'!AM28+'Other Funds-Revision No. 1'!AM28","v":49986}]
[{"$f":"+'Original ABG Allocation'!A29","v":"24"},{"$f":"+'Original ABG Allocation'!B29","v":"LEBANON"},{"$f":"'Other Funds Summary'!C29+'Other Funds-Revision No. 1'!C29","v":0},{"$f":"'Other Funds Summary'!D29+'Other Funds-Revision No. 1'!D29","v":0},{"$f":"'Other Funds Summary'!E29+'Other Funds-Revision No. 1'!E29","v":9215},0,{"$f":"'Other Funds Summary'!G29+'Other Funds-Revision No. 1'!G29","v":0},{"$f":"'Other Funds Summary'!H29+'Other Funds-Revision No. 1'!H29","v":0},{"$f":"'Other Funds Summary'!I29+'Other Funds-Revision No. 1'!I29","v":0},{"$f":"'Other Funds Summary'!J29+'Other Funds-Revision No. 1'!J29","v":0},{"$f":"'Other Funds Summary'!K29+'Other Funds-Revision No. 1'!K29","v":0},{"$f":"'Other Funds Summary'!L29+'Other Funds-Revision No. 1'!L29","v":0},{"$f":"'Other Funds Summary'!M29+'Other Funds-Revision No. 1'!M29","v":0},{"$f":"'Other Funds Summary'!N29+'Other Funds-Revision No. 1'!N29","v":0},{"$f":"'Other Funds Summary'!O29+'Other Funds-Revision No. 1'!O29","v":0},{"$f":"'Other Funds Summary'!P29+'Other Funds-Revision No. 1'!P29","v":0},{"$f":"'Other Funds Summary'!Q29+'Other Funds-Revision No. 1'!Q29","v":0},{"$f":"'Other Funds Summary'!R29+'Other Funds-Revision No. 1'!R29","v":0},{"$f":"'Other Funds Summary'!S29+'Other Funds-Revision No. 1'!S29","v":0},{"$f":"'Other Funds Summary'!T29+'Other Funds-Revision No. 1'!T29","v":0},{"$f":"'Other Funds Summary'!U29+'Other Funds-Revision No. 1'!U29","v":0},{"$f":"'Other Funds Summary'!V29+'Other Funds-Revision No. 1'!V29","v":0},{"$f":"'Other Funds Summary'!W29+'Other Funds-Revision No. 1'!W29","v":0},{"$f":"'Other Funds Summary'!X29+'Other Funds-Revision No. 1'!X29","v":0},{"$f":"'Other Funds Summary'!Y29+'Other Funds-Revision No. 1'!Y29","v":0},{"$f":"'Other Funds Summary'!Z29+'Other Funds-Revision No. 1'!Z29","v":0},{"$f":"'Other Funds Summary'!AA29+'Other Funds-Revision No. 1'!AA29","v":0},{"$f":"'Other Funds Summary'!AB29+'Other Funds-Revision No. 1'!AB29","v":0},{"$f":"'Other Funds Summary'!AC29+'Other Funds-Revision No. 1'!AC29","v":0},{"$f":"'Other Funds Summary'!AD29+'Other Funds-Revision No. 1'!AD29","v":0},{"$f":"'Other Funds Summary'!AE29+'Other Funds-Revision No. 1'!AE29","v":0},{"$f":"'Other Funds Summary'!AF29+'Other Funds-Revision No. 1'!AF29","v":0},{"$f":"'Other Funds Summary'!AG29+'Other Funds-Revision No. 1'!AG29","v":0},{"$f":"'Other Funds Summary'!AH29+'Other Funds-Revision No. 1'!AH29","v":0},{"$f":"'Other Funds Summary'!AI29+'Other Funds-Revision No. 1'!AI29","v":0},{"$f":"'Other Funds Summary'!AJ29+'Other Funds-Revision No. 1'!AJ29","v":0},{"$f":"'Other Funds Summary'!AK29+'Other Funds-Revision No. 1'!AK29","v":0},{"$f":"'Other Funds Summary'!AL29+'Other Funds-Revision No. 1'!AL29","v":19343},{"$f":"'Other Funds Summary'!AM29+'Other Funds-Revision No. 1'!AM29","v":28558}]
[{"$f":"+'Original ABG Allocation'!A30","v":"25"},{"$f":"+'Original ABG Allocation'!B30","v":"YORK"},{"$f":"'Other Funds Summary'!C30+'Other Funds-Revision No. 1'!C30","v":0},{"$f":"'Other Funds Summary'!D30+'Other Funds-Revision No. 1'!D30","v":0},{"$f":"'Other Funds Summary'!E30+'Other Funds-Revision No. 1'!E30","v":8840},0,{"$f":"'Other Funds Summary'!G30+'Other Funds-Revision No. 1'!G30","v":0},{"$f":"'Other Funds Summary'!H30+'Other Funds-Revision No. 1'!H30","v":0},{"$f":"'Other Funds Summary'!I30+'Other Funds-Revision No. 1'!I30","v":0},{"$f":"'Other Funds Summary'!J30+'Other Funds-Revision No. 1'!J30","v":0},{"$f":"'Other Funds Summary'!K30+'Other Funds-Revision No. 1'!K30","v":0},{"$f":"'Other Funds Summary'!L30+'Other Funds-Revision No. 1'!L30","v":0},{"$f":"'Other Funds Summary'!M30+'Other Funds-Revision No. 1'!M30","v":0},{"$f":"'Other Funds Summary'!N30+'Other Funds-Revision No. 1'!N30","v":0},{"$f":"'Other Funds Summary'!O30+'Other Funds-Revision No. 1'!O30","v":0},{"$f":"'Other Funds Summary'!P30+'Other Funds-Revision No. 1'!P30","v":0},{"$f":"'Other Funds Summary'!Q30+'Other Funds-Revision No. 1'!Q30","v":0},{"$f":"'Other Funds Summary'!R30+'Other Funds-Revision No. 1'!R30","v":0},{"$f":"'Other Funds Summary'!S30+'Other Funds-Revision No. 1'!S30","v":0},{"$f":"'Other Funds Summary'!T30+'Other Funds-Revision No. 1'!T30","v":0},{"$f":"'Other Funds Summary'!U30+'Other Funds-Revision No. 1'!U30","v":0},{"$f":"'Other Funds Summary'!V30+'Other Funds-Revision No. 1'!V30","v":0},{"$f":"'Other Funds Summary'!W30+'Other Funds-Revision No. 1'!W30","v":0},{"$f":"'Other Funds Summary'!X30+'Other Funds-Revision No. 1'!X30","v":0},{"$f":"'Other Funds Summary'!Y30+'Other Funds-Revision No. 1'!Y30","v":0},{"$f":"'Other Funds Summary'!Z30+'Other Funds-Revision No. 1'!Z30","v":0},{"$f":"'Other Funds Summary'!AA30+'Other Funds-Revision No. 1'!AA30","v":0},{"$f":"'Other Funds Summary'!AB30+'Other Funds-Revision No. 1'!AB30","v":0},{"$f":"'Other Funds Summary'!AC30+'Other Funds-Revision No. 1'!AC30","v":0},{"$f":"'Other Funds Summary'!AD30+'Other Funds-Revision No. 1'!AD30","v":0},{"$f":"'Other Funds Summary'!AE30+'Other Funds-Revision No. 1'!AE30","v":0},{"$f":"'Other Funds Summary'!AF30+'Other Funds-Revision No. 1'!AF30","v":0},{"$f":"'Other Funds Summary'!AG30+'Other Funds-Revision No. 1'!AG30","v":0},{"$f":"'Other Funds Summary'!AH30+'Other Funds-Revision No. 1'!AH30","v":0},{"$f":"'Other Funds Summary'!AI30+'Other Funds-Revision No. 1'!AI30","v":0},{"$f":"'Other Funds Summary'!AJ30+'Other Funds-Revision No. 1'!AJ30","v":0},{"$f":"'Other Funds Summary'!AK30+'Other Funds-Revision No. 1'!AK30","v":0},{"$f":"'Other Funds Summary'!AL30+'Other Funds-Revision No. 1'!AL30","v":60311},{"$f":"'Other Funds Summary'!AM30+'Other Funds-Revision No. 1'!AM30","v":69151}]
[{"$f":"+'Original ABG Allocation'!A31","v":"26"},{"$f":"+'Original ABG Allocation'!B31","v":"LANCASTER"},{"$f":"'Other Funds Summary'!C31+'Other Funds-Revision No. 1'!C31","v":0},{"$f":"'Other Funds Summary'!D31+'Other Funds-Revision No. 1'!D31","v":0},{"$f":"'Other Funds Summary'!E31+'Other Funds-Revision No. 1'!E31","v":8840},0,{"$f":"'Other Funds Summary'!G31+'Other Funds-Revision No. 1'!G31","v":0},{"$f":"'Other Funds Summary'!H31+'Other Funds-Revision No. 1'!H31","v":0},{"$f":"'Other Funds Summary'!I31+'Other Funds-Revision No. 1'!I31","v":0},{"$f":"'Other Funds Summary'!J31+'Other Funds-Revision No. 1'!J31","v":0},{"$f":"'Other Funds Summary'!K31+'Other Funds-Revision No. 1'!K31","v":0},{"$f":"'Other Funds Summary'!L31+'Other Funds-Revision No. 1'!L31","v":0},{"$f":"'Other Funds Summary'!M31+'Other Funds-Revision No. 1'!M31","v":0},{"$f":"'Other Funds Summary'!N31+'Other Funds-Revision No. 1'!N31","v":0},{"$f":"'Other Funds Summary'!O31+'Other Funds-Revision No. 1'!O31","v":0},{"$f":"'Other Funds Summary'!P31+'Other Funds-Revision No. 1'!P31","v":0},{"$f":"'Other Funds Summary'!Q31+'Other Funds-Revision No. 1'!Q31","v":0},{"$f":"'Other Funds Summary'!R31+'Other Funds-Revision No. 1'!R31","v":0},{"$f":"'Other Funds Summary'!S31+'Other Funds-Revision No. 1'!S31","v":0},{"$f":"'Other Funds Summary'!T31+'Other Funds-Revision No. 1'!T31","v":0},{"$f":"'Other Funds Summary'!U31+'Other Funds-Revision No. 1'!U31","v":0},{"$f":"'Other Funds Summary'!V31+'Other Funds-Revision No. 1'!V31","v":0},{"$f":"'Other Funds Summary'!W31+'Other Funds-Revision No. 1'!W31","v":0},{"$f":"'Other Funds Summary'!X31+'Other Funds-Revision No. 1'!X31","v":0},{"$f":"'Other Funds Summary'!Y31+'Other Funds-Revision No. 1'!Y31","v":0},{"$f":"'Other Funds Summary'!Z31+'Other Funds-Revision No. 1'!Z31","v":0},{"$f":"'Other Funds Summary'!AA31+'Other Funds-Revision No. 1'!AA31","v":0},{"$f":"'Other Funds Summary'!AB31+'Other Funds-Revision No. 1'!AB31","v":0},{"$f":"'Other Funds Summary'!AC31+'Other Funds-Revision No. 1'!AC31","v":0},{"$f":"'Other Funds Summary'!AD31+'Other Funds-Revision No. 1'!AD31","v":0},{"$f":"'Other Funds Summary'!AE31+'Other Funds-Revision No. 1'!AE31","v":0},{"$f":"'Other Funds Summary'!AF31+'Other Funds-Revision No. 1'!AF31","v":0},{"$f":"'Other Funds Summary'!AG31+'Other Funds-Revision No. 1'!AG31","v":0},{"$f":"'Other Funds Summary'!AH31+'Other Funds-Revision No. 1'!AH31","v":0},{"$f":"'Other Funds Summary'!AI31+'Other Funds-Revision No. 1'!AI31","v":0},{"$f":"'Other Funds Summary'!AJ31+'Other Funds-Revision No. 1'!AJ31","v":0},{"$f":"'Other Funds Summary'!AK31+'Other Funds-Revision No. 1'!AK31","v":0},{"$f":"'Other Funds Summary'!AL31+'Other Funds-Revision No. 1'!AL31","v":68547},{"$f":"'Other Funds Summary'!AM31+'Other Funds-Revision No. 1'!AM31","v":77387}]
[{"$f":"+'Original ABG Allocation'!A32","v":"27"},{"$f":"+'Original ABG Allocation'!B32","v":"CHESTER"},{"$f":"'Other Funds Summary'!C32+'Other Funds-Revision No. 1'!C32","v":0},{"$f":"'Other Funds Summary'!D32+'Other Funds-Revision No. 1'!D32","v":0},{"$f":"'Other Funds Summary'!E32+'Other Funds-Revision No. 1'!E32","v":8840},0,{"$f":"'Other Funds Summary'!G32+'Other Funds-Revision No. 1'!G32","v":0},{"$f":"'Other Funds Summary'!H32+'Other Funds-Revision No. 1'!H32","v":0},{"$f":"'Other Funds Summary'!I32+'Other Funds-Revision No. 1'!I32","v":0},{"$f":"'Other Funds Summary'!J32+'Other Funds-Revision No. 1'!J32","v":0},{"$f":"'Other Funds Summary'!K32+'Other Funds-Revision No. 1'!K32","v":0},{"$f":"'Other Funds Summary'!L32+'Other Funds-Revision No. 1'!L32","v":0},{"$f":"'Other Funds Summary'!M32+'Other Funds-Revision No. 1'!M32","v":0},{"$f":"'Other Funds Summary'!N32+'Other Funds-Revision No. 1'!N32","v":0},{"$f":"'Other Funds Summary'!O32+'Other Funds-Revision No. 1'!O32","v":0},{"$f":"'Other Funds Summary'!P32+'Other Funds-Revision No. 1'!P32","v":0},{"$f":"'Other Funds Summary'!Q32+'Other Funds-Revision No. 1'!Q32","v":0},{"$f":"'Other Funds Summary'!R32+'Other Funds-Revision No. 1'!R32","v":0},{"$f":"'Other Funds Summary'!S32+'Other Funds-Revision No. 1'!S32","v":0},{"$f":"'Other Funds Summary'!T32+'Other Funds-Revision No. 1'!T32","v":0},{"$f":"'Other Funds Summary'!U32+'Other Funds-Revision No. 1'!U32","v":0},{"$f":"'Other Funds Summary'!V32+'Other Funds-Revision No. 1'!V32","v":0},{"$f":"'Other Funds Summary'!W32+'Other Funds-Revision No. 1'!W32","v":0},{"$f":"'Other Funds Summary'!X32+'Other Funds-Revision No. 1'!X32","v":0},{"$f":"'Other Funds Summary'!Y32+'Other Funds-Revision No. 1'!Y32","v":0},{"$f":"'Other Funds Summary'!Z32+'Other Funds-Revision No. 1'!Z32","v":0},{"$f":"'Other Funds Summary'!AA32+'Other Funds-Revision No. 1'!AA32","v":0},{"$f":"'Other Funds Summary'!AB32+'Other Funds-Revision No. 1'!AB32","v":0},{"$f":"'Other Funds Summary'!AC32+'Other Funds-Revision No. 1'!AC32","v":0},{"$f":"'Other Funds Summary'!AD32+'Other Funds-Revision No. 1'!AD32","v":0},{"$f":"'Other Funds Summary'!AE32+'Other Funds-Revision No. 1'!AE32","v":0},{"$f":"'Other Funds Summary'!AF32+'Other Funds-Revision No. 1'!AF32","v":0},{"$f":"'Other Funds Summary'!AG32+'Other Funds-Revision No. 1'!AG32","v":0},{"$f":"'Other Funds Summary'!AH32+'Other Funds-Revision No. 1'!AH32","v":0},{"$f":"'Other Funds Summary'!AI32+'Other Funds-Revision No. 1'!AI32","v":0},{"$f":"'Other Funds Summary'!AJ32+'Other Funds-Revision No. 1'!AJ32","v":0},{"$f":"'Other Funds Summary'!AK32+'Other Funds-Revision No. 1'!AK32","v":0},{"$f":"'Other Funds Summary'!AL32+'Other Funds-Revision No. 1'!AL32","v":51134},{"$f":"'Other Funds Summary'!AM32+'Other Funds-Revision No. 1'!AM32","v":59974}]
[{"$f":"+'Original ABG Allocation'!A33","v":"28"},{"$f":"+'Original ABG Allocation'!B33","v":"MONTGOMERY"},{"$f":"'Other Funds Summary'!C33+'Other Funds-Revision No. 1'!C33","v":0},{"$f":"'Other Funds Summary'!D33+'Other Funds-Revision No. 1'!D33","v":0},{"$f":"'Other Funds Summary'!E33+'Other Funds-Revision No. 1'!E33","v":8840},0,{"$f":"'Other Funds Summary'!G33+'Other Funds-Revision No. 1'!G33","v":0},{"$f":"'Other Funds Summary'!H33+'Other Funds-Revision No. 1'!H33","v":0},{"$f":"'Other Funds Summary'!I33+'Other Funds-Revision No. 1'!I33","v":0},{"$f":"'Other Funds Summary'!J33+'Other Funds-Revision No. 1'!J33","v":0},{"$f":"'Other Funds Summary'!K33+'Other Funds-Revision No. 1'!K33","v":0},{"$f":"'Other Funds Summary'!L33+'Other Funds-Revision No. 1'!L33","v":0},{"$f":"'Other Funds Summary'!M33+'Other Funds-Revision No. 1'!M33","v":0},{"$f":"'Other Funds Summary'!N33+'Other Funds-Revision No. 1'!N33","v":0},{"$f":"'Other Funds Summary'!O33+'Other Funds-Revision No. 1'!O33","v":0},{"$f":"'Other Funds Summary'!P33+'Other Funds-Revision No. 1'!P33","v":0},{"$f":"'Other Funds Summary'!Q33+'Other Funds-Revision No. 1'!Q33","v":0},{"$f":"'Other Funds Summary'!R33+'Other Funds-Revision No. 1'!R33","v":0},{"$f":"'Other Funds Summary'!S33+'Other Funds-Revision No. 1'!S33","v":0},{"$f":"'Other Funds Summary'!T33+'Other Funds-Revision No. 1'!T33","v":0},{"$f":"'Other Funds Summary'!U33+'Other Funds-Revision No. 1'!U33","v":0},{"$f":"'Other Funds Summary'!V33+'Other Funds-Revision No. 1'!V33","v":0},{"$f":"'Other Funds Summary'!W33+'Other Funds-Revision No. 1'!W33","v":0},{"$f":"'Other Funds Summary'!X33+'Other Funds-Revision No. 1'!X33","v":0},{"$f":"'Other Funds Summary'!Y33+'Other Funds-Revision No. 1'!Y33","v":0},{"$f":"'Other Funds Summary'!Z33+'Other Funds-Revision No. 1'!Z33","v":0},{"$f":"'Other Funds Summary'!AA33+'Other Funds-Revision No. 1'!AA33","v":0},{"$f":"'Other Funds Summary'!AB33+'Other Funds-Revision No. 1'!AB33","v":0},{"$f":"'Other Funds Summary'!AC33+'Other Funds-Revision No. 1'!AC33","v":0},{"$f":"'Other Funds Summary'!AD33+'Other Funds-Revision No. 1'!AD33","v":0},{"$f":"'Other Funds Summary'!AE33+'Other Funds-Revision No. 1'!AE33","v":0},{"$f":"'Other Funds Summary'!AF33+'Other Funds-Revision No. 1'!AF33","v":0},{"$f":"'Other Funds Summary'!AG33+'Other Funds-Revision No. 1'!AG33","v":0},{"$f":"'Other Funds Summary'!AH33+'Other Funds-Revision No. 1'!AH33","v":0},{"$f":"'Other Funds Summary'!AI33+'Other Funds-Revision No. 1'!AI33","v":0},{"$f":"'Other Funds Summary'!AJ33+'Other Funds-Revision No. 1'!AJ33","v":0},{"$f":"'Other Funds Summary'!AK33+'Other Funds-Revision No. 1'!AK33","v":0},{"$f":"'Other Funds Summary'!AL33+'Other Funds-Revision No. 1'!AL33","v":92594},{"$f":"'Other Funds Summary'!AM33+'Other Funds-Revision No. 1'!AM33","v":101434}]
[{"$f":"+'Original ABG Allocation'!A34","v":"29"},{"$f":"+'Original ABG Allocation'!B34","v":"BUCKS"},{"$f":"'Other Funds Summary'!C34+'Other Funds-Revision No. 1'!C34","v":0},{"$f":"'Other Funds Summary'!D34+'Other Funds-Revision No. 1'!D34","v":0},{"$f":"'Other Funds Summary'!E34+'Other Funds-Revision No. 1'!E34","v":8840},0,{"$f":"'Other Funds Summary'!G34+'Other Funds-Revision No. 1'!G34","v":0},{"$f":"'Other Funds Summary'!H34+'Other Funds-Revision No. 1'!H34","v":0},{"$f":"'Other Funds Summary'!I34+'Other Funds-Revision No. 1'!I34","v":0},{"$f":"'Other Funds Summary'!J34+'Other Funds-Revision No. 1'!J34","v":0},{"$f":"'Other Funds Summary'!K34+'Other Funds-Revision No. 1'!K34","v":0},{"$f":"'Other Funds Summary'!L34+'Other Funds-Revision No. 1'!L34","v":0},{"$f":"'Other Funds Summary'!M34+'Other Funds-Revision No. 1'!M34","v":0},{"$f":"'Other Funds Summary'!N34+'Other Funds-Revision No. 1'!N34","v":0},{"$f":"'Other Funds Summary'!O34+'Other Funds-Revision No. 1'!O34","v":0},{"$f":"'Other Funds Summary'!P34+'Other Funds-Revision No. 1'!P34","v":0},{"$f":"'Other Funds Summary'!Q34+'Other Funds-Revision No. 1'!Q34","v":0},{"$f":"'Other Funds Summary'!R34+'Other Funds-Revision No. 1'!R34","v":0},{"$f":"'Other Funds Summary'!S34+'Other Funds-Revision No. 1'!S34","v":0},{"$f":"'Other Funds Summary'!T34+'Other Funds-Revision No. 1'!T34","v":0},{"$f":"'Other Funds Summary'!U34+'Other Funds-Revision No. 1'!U34","v":0},{"$f":"'Other Funds Summary'!V34+'Other Funds-Revision No. 1'!V34","v":0},{"$f":"'Other Funds Summary'!W34+'Other Funds-Revision No. 1'!W34","v":0},{"$f":"'Other Funds Summary'!X34+'Other Funds-Revision No. 1'!X34","v":0},{"$f":"'Other Funds Summary'!Y34+'Other Funds-Revision No. 1'!Y34","v":0},{"$f":"'Other Funds Summary'!Z34+'Other Funds-Revision No. 1'!Z34","v":0},{"$f":"'Other Funds Summary'!AA34+'Other Funds-Revision No. 1'!AA34","v":0},{"$f":"'Other Funds Summary'!AB34+'Other Funds-Revision No. 1'!AB34","v":0},{"$f":"'Other Funds Summary'!AC34+'Other Funds-Revision No. 1'!AC34","v":0},{"$f":"'Other Funds Summary'!AD34+'Other Funds-Revision No. 1'!AD34","v":0},{"$f":"'Other Funds Summary'!AE34+'Other Funds-Revision No. 1'!AE34","v":0},{"$f":"'Other Funds Summary'!AF34+'Other Funds-Revision No. 1'!AF34","v":0},{"$f":"'Other Funds Summary'!AG34+'Other Funds-Revision No. 1'!AG34","v":0},{"$f":"'Other Funds Summary'!AH34+'Other Funds-Revision No. 1'!AH34","v":0},{"$f":"'Other Funds Summary'!AI34+'Other Funds-Revision No. 1'!AI34","v":0},{"$f":"'Other Funds Summary'!AJ34+'Other Funds-Revision No. 1'!AJ34","v":0},{"$f":"'Other Funds Summary'!AK34+'Other Funds-Revision No. 1'!AK34","v":0},{"$f":"'Other Funds Summary'!AL34+'Other Funds-Revision No. 1'!AL34","v":67441},{"$f":"'Other Funds Summary'!AM34+'Other Funds-Revision No. 1'!AM34","v":76281}]
[{"$f":"+'Original ABG Allocation'!A35","v":"30"},{"$f":"+'Original ABG Allocation'!B35","v":"DELAWARE"},{"$f":"'Other Funds Summary'!C35+'Other Funds-Revision No. 1'!C35","v":0},{"$f":"'Other Funds Summary'!D35+'Other Funds-Revision No. 1'!D35","v":0},{"$f":"'Other Funds Summary'!E35+'Other Funds-Revision No. 1'!E35","v":8840},0,{"$f":"'Other Funds Summary'!G35+'Other Funds-Revision No. 1'!G35","v":0},{"$f":"'Other Funds Summary'!H35+'Other Funds-Revision No. 1'!H35","v":0},{"$f":"'Other Funds Summary'!I35+'Other Funds-Revision No. 1'!I35","v":0},{"$f":"'Other Funds Summary'!J35+'Other Funds-Revision No. 1'!J35","v":0},{"$f":"'Other Funds Summary'!K35+'Other Funds-Revision No. 1'!K35","v":0},{"$f":"'Other Funds Summary'!L35+'Other Funds-Revision No. 1'!L35","v":0},{"$f":"'Other Funds Summary'!M35+'Other Funds-Revision No. 1'!M35","v":0},{"$f":"'Other Funds Summary'!N35+'Other Funds-Revision No. 1'!N35","v":0},{"$f":"'Other Funds Summary'!O35+'Other Funds-Revision No. 1'!O35","v":0},{"$f":"'Other Funds Summary'!P35+'Other Funds-Revision No. 1'!P35","v":0},{"$f":"'Other Funds Summary'!Q35+'Other Funds-Revision No. 1'!Q35","v":0},{"$f":"'Other Funds Summary'!R35+'Other Funds-Revision No. 1'!R35","v":0},{"$f":"'Other Funds Summary'!S35+'Other Funds-Revision No. 1'!S35","v":0},{"$f":"'Other Funds Summary'!T35+'Other Funds-Revision No. 1'!T35","v":0},{"$f":"'Other Funds Summary'!U35+'Other Funds-Revision No. 1'!U35","v":0},{"$f":"'Other Funds Summary'!V35+'Other Funds-Revision No. 1'!V35","v":0},{"$f":"'Other Funds Summary'!W35+'Other Funds-Revision No. 1'!W35","v":0},{"$f":"'Other Funds Summary'!X35+'Other Funds-Revision No. 1'!X35","v":0},{"$f":"'Other Funds Summary'!Y35+'Other Funds-Revision No. 1'!Y35","v":0},{"$f":"'Other Funds Summary'!Z35+'Other Funds-Revision No. 1'!Z35","v":0},{"$f":"'Other Funds Summary'!AA35+'Other Funds-Revision No. 1'!AA35","v":0},{"$f":"'Other Funds Summary'!AB35+'Other Funds-Revision No. 1'!AB35","v":0},{"$f":"'Other Funds Summary'!AC35+'Other Funds-Revision No. 1'!AC35","v":0},{"$f":"'Other Funds Summary'!AD35+'Other Funds-Revision No. 1'!AD35","v":0},{"$f":"'Other Funds Summary'!AE35+'Other Funds-Revision No. 1'!AE35","v":0},{"$f":"'Other Funds Summary'!AF35+'Other Funds-Revision No. 1'!AF35","v":0},{"$f":"'Other Funds Summary'!AG35+'Other Funds-Revision No. 1'!AG35","v":0},{"$f":"'Other Funds Summary'!AH35+'Other Funds-Revision No. 1'!AH35","v":0},{"$f":"'Other Funds Summary'!AI35+'Other Funds-Revision No. 1'!AI35","v":0},{"$f":"'Other Funds Summary'!AJ35+'Other Funds-Revision No. 1'!AJ35","v":0},{"$f":"'Other Funds Summary'!AK35+'Other Funds-Revision No. 1'!AK35","v":0},{"$f":"'Other Funds Summary'!AL35+'Other Funds-Revision No. 1'!AL35","v":73647},{"$f":"'Other Funds Summary'!AM35+'Other Funds-Revision No. 1'!AM35","v":82487}]
[{"$f":"+'Original ABG Allocation'!A36","v":"31"},{"$f":"+'Original ABG Allocation'!B36","v":"PHILADELPHIA"},{"$f":"'Other Funds Summary'!C36+'Other Funds-Revision No. 1'!C36","v":0},{"$f":"'Other Funds Summary'!D36+'Other Funds-Revision No. 1'!D36","v":0},{"$f":"'Other Funds Summary'!E36+'Other Funds-Revision No. 1'!E36","v":10140},0,{"$f":"'Other Funds Summary'!G36+'Other Funds-Revision No. 1'!G36","v":0},{"$f":"'Other Funds Summary'!H36+'Other Funds-Revision No. 1'!H36","v":0},{"$f":"'Other Funds Summary'!I36+'Other Funds-Revision No. 1'!I36","v":0},{"$f":"'Other Funds Summary'!J36+'Other Funds-Revision No. 1'!J36","v":0},{"$f":"'Other Funds Summary'!K36+'Other Funds-Revision No. 1'!K36","v":0},{"$f":"'Other Funds Summary'!L36+'Other Funds-Revision No. 1'!L36","v":0},{"$f":"'Other Funds Summary'!M36+'Other Funds-Revision No. 1'!M36","v":0},{"$f":"'Other Funds Summary'!N36+'Other Funds-Revision No. 1'!N36","v":0},{"$f":"'Other Funds Summary'!O36+'Other Funds-Revision No. 1'!O36","v":0},{"$f":"'Other Funds Summary'!P36+'Other Funds-Revision No. 1'!P36","v":0},{"$f":"'Other Funds Summary'!Q36+'Other Funds-Revision No. 1'!Q36","v":0},{"$f":"'Other Funds Summary'!R36+'Other Funds-Revision No. 1'!R36","v":0},{"$f":"'Other Funds Summary'!S36+'Other Funds-Revision No. 1'!S36","v":0},{"$f":"'Other Funds Summary'!T36+'Other Funds-Revision No. 1'!T36","v":0},{"$f":"'Other Funds Summary'!U36+'Other Funds-Revision No. 1'!U36","v":0},{"$f":"'Other Funds Summary'!V36+'Other Funds-Revision No. 1'!V36","v":0},{"$f":"'Other Funds Summary'!W36+'Other Funds-Revision No. 1'!W36","v":0},{"$f":"'Other Funds Summary'!X36+'Other Funds-Revision No. 1'!X36","v":0},{"$f":"'Other Funds Summary'!Y36+'Other Funds-Revision No. 1'!Y36","v":0},{"$f":"'Other Funds Summary'!Z36+'Other Funds-Revision No. 1'!Z36","v":0},{"$f":"'Other Funds Summary'!AA36+'Other Funds-Revision No. 1'!AA36","v":0},{"$f":"'Other Funds Summary'!AB36+'Other Funds-Revision No. 1'!AB36","v":0},{"$f":"'Other Funds Summary'!AC36+'Other Funds-Revision No. 1'!AC36","v":0},{"$f":"'Other Funds Summary'!AD36+'Other Funds-Revision No. 1'!AD36","v":0},{"$f":"'Other Funds Summary'!AE36+'Other Funds-Revision No. 1'!AE36","v":0},{"$f":"'Other Funds Summary'!AF36+'Other Funds-Revision No. 1'!AF36","v":0},{"$f":"'Other Funds Summary'!AG36+'Other Funds-Revision No. 1'!AG36","v":0},{"$f":"'Other Funds Summary'!AH36+'Other Funds-Revision No. 1'!AH36","v":0},{"$f":"'Other Funds Summary'!AI36+'Other Funds-Revision No. 1'!AI36","v":0},{"$f":"'Other Funds Summary'!AJ36+'Other Funds-Revision No. 1'!AJ36","v":0},{"$f":"'Other Funds Summary'!AK36+'Other Funds-Revision No. 1'!AK36","v":0},{"$f":"'Other Funds Summary'!AL36+'Other Funds-Revision No. 1'!AL36","v":365098},{"$f":"'Other Funds Summary'!AM36+'Other Funds-Revision No. 1'!AM36","v":375238}]
[{"$f":"+'Original ABG Allocation'!A37","v":"32"},{"$f":"+'Original ABG Allocation'!B37","v":"BERKS"},{"$f":"'Other Funds Summary'!C37+'Other Funds-Revision No. 1'!C37","v":0},{"$f":"'Other Funds Summary'!D37+'Other Funds-Revision No. 1'!D37","v":0},{"$f":"'Other Funds Summary'!E37+'Other Funds-Revision No. 1'!E37","v":8840},0,{"$f":"'Other Funds Summary'!G37+'Other Funds-Revision No. 1'!G37","v":0},{"$f":"'Other Funds Summary'!H37+'Other Funds-Revision No. 1'!H37","v":0},{"$f":"'Other Funds Summary'!I37+'Other Funds-Revision No. 1'!I37","v":0},{"$f":"'Other Funds Summary'!J37+'Other Funds-Revision No. 1'!J37","v":0},{"$f":"'Other Funds Summary'!K37+'Other Funds-Revision No. 1'!K37","v":0},{"$f":"'Other Funds Summary'!L37+'Other Funds-Revision No. 1'!L37","v":0},{"$f":"'Other Funds Summary'!M37+'Other Funds-Revision No. 1'!M37","v":0},{"$f":"'Other Funds Summary'!N37+'Other Funds-Revision No. 1'!N37","v":0},{"$f":"'Other Funds Summary'!O37+'Other Funds-Revision No. 1'!O37","v":0},{"$f":"'Other Funds Summary'!P37+'Other Funds-Revision No. 1'!P37","v":0},{"$f":"'Other Funds Summary'!Q37+'Other Funds-Revision No. 1'!Q37","v":0},{"$f":"'Other Funds Summary'!R37+'Other Funds-Revision No. 1'!R37","v":0},{"$f":"'Other Funds Summary'!S37+'Other Funds-Revision No. 1'!S37","v":0},{"$f":"'Other Funds Summary'!T37+'Other Funds-Revision No. 1'!T37","v":0},{"$f":"'Other Funds Summary'!U37+'Other Funds-Revision No. 1'!U37","v":0},{"$f":"'Other Funds Summary'!V37+'Other Funds-Revision No. 1'!V37","v":0},{"$f":"'Other Funds Summary'!W37+'Other Funds-Revision No. 1'!W37","v":0},{"$f":"'Other Funds Summary'!X37+'Other Funds-Revision No. 1'!X37","v":0},{"$f":"'Other Funds Summary'!Y37+'Other Funds-Revision No. 1'!Y37","v":0},{"$f":"'Other Funds Summary'!Z37+'Other Funds-Revision No. 1'!Z37","v":0},{"$f":"'Other Funds Summary'!AA37+'Other Funds-Revision No. 1'!AA37","v":0},{"$f":"'Other Funds Summary'!AB37+'Other Funds-Revision No. 1'!AB37","v":0},{"$f":"'Other Funds Summary'!AC37+'Other Funds-Revision No. 1'!AC37","v":0},{"$f":"'Other Funds Summary'!AD37+'Other Funds-Revision No. 1'!AD37","v":0},{"$f":"'Other Funds Summary'!AE37+'Other Funds-Revision No. 1'!AE37","v":0},{"$f":"'Other Funds Summary'!AF37+'Other Funds-Revision No. 1'!AF37","v":0},{"$f":"'Other Funds Summary'!AG37+'Other Funds-Revision No. 1'!AG37","v":0},{"$f":"'Other Funds Summary'!AH37+'Other Funds-Revision No. 1'!AH37","v":0},{"$f":"'Other Funds Summary'!AI37+'Other Funds-Revision No. 1'!AI37","v":0},{"$f":"'Other Funds Summary'!AJ37+'Other Funds-Revision No. 1'!AJ37","v":0},{"$f":"'Other Funds Summary'!AK37+'Other Funds-Revision No. 1'!AK37","v":0},{"$f":"'Other Funds Summary'!AL37+'Other Funds-Revision No. 1'!AL37","v":61542},{"$f":"'Other Funds Summary'!AM37+'Other Funds-Revision No. 1'!AM37","v":70382}]
[{"$f":"+'Original ABG Allocation'!A38","v":"33"},{"$f":"+'Original ABG Allocation'!B38","v":"LEHIGH"},{"$f":"'Other Funds Summary'!C38+'Other Funds-Revision No. 1'!C38","v":0},{"$f":"'Other Funds Summary'!D38+'Other Funds-Revision No. 1'!D38","v":0},{"$f":"'Other Funds Summary'!E38+'Other Funds-Revision No. 1'!E38","v":8840},0,{"$f":"'Other Funds Summary'!G38+'Other Funds-Revision No. 1'!G38","v":0},{"$f":"'Other Funds Summary'!H38+'Other Funds-Revision No. 1'!H38","v":0},{"$f":"'Other Funds Summary'!I38+'Other Funds-Revision No. 1'!I38","v":0},{"$f":"'Other Funds Summary'!J38+'Other Funds-Revision No. 1'!J38","v":0},{"$f":"'Other Funds Summary'!K38+'Other Funds-Revision No. 1'!K38","v":0},{"$f":"'Other Funds Summary'!L38+'Other Funds-Revision No. 1'!L38","v":0},{"$f":"'Other Funds Summary'!M38+'Other Funds-Revision No. 1'!M38","v":0},{"$f":"'Other Funds Summary'!N38+'Other Funds-Revision No. 1'!N38","v":0},{"$f":"'Other Funds Summary'!O38+'Other Funds-Revision No. 1'!O38","v":0},{"$f":"'Other Funds Summary'!P38+'Other Funds-Revision No. 1'!P38","v":0},{"$f":"'Other Funds Summary'!Q38+'Other Funds-Revision No. 1'!Q38","v":0},{"$f":"'Other Funds Summary'!R38+'Other Funds-Revision No. 1'!R38","v":0},{"$f":"'Other Funds Summary'!S38+'Other Funds-Revision No. 1'!S38","v":0},{"$f":"'Other Funds Summary'!T38+'Other Funds-Revision No. 1'!T38","v":0},{"$f":"'Other Funds Summary'!U38+'Other Funds-Revision No. 1'!U38","v":0},{"$f":"'Other Funds Summary'!V38+'Other Funds-Revision No. 1'!V38","v":0},{"$f":"'Other Funds Summary'!W38+'Other Funds-Revision No. 1'!W38","v":0},{"$f":"'Other Funds Summary'!X38+'Other Funds-Revision No. 1'!X38","v":0},{"$f":"'Other Funds Summary'!Y38+'Other Funds-Revision No. 1'!Y38","v":0},{"$f":"'Other Funds Summary'!Z38+'Other Funds-Revision No. 1'!Z38","v":0},{"$f":"'Other Funds Summary'!AA38+'Other Funds-Revision No. 1'!AA38","v":0},{"$f":"'Other Funds Summary'!AB38+'Other Funds-Revision No. 1'!AB38","v":0},{"$f":"'Other Funds Summary'!AC38+'Other Funds-Revision No. 1'!AC38","v":0},{"$f":"'Other Funds Summary'!AD38+'Other Funds-Revision No. 1'!AD38","v":0},{"$f":"'Other Funds Summary'!AE38+'Other Funds-Revision No. 1'!AE38","v":0},{"$f":"'Other Funds Summary'!AF38+'Other Funds-Revision No. 1'!AF38","v":0},{"$f":"'Other Funds Summary'!AG38+'Other Funds-Revision No. 1'!AG38","v":0},{"$f":"'Other Funds Summary'!AH38+'Other Funds-Revision No. 1'!AH38","v":0},{"$f":"'Other Funds Summary'!AI38+'Other Funds-Revision No. 1'!AI38","v":0},{"$f":"'Other Funds Summary'!AJ38+'Other Funds-Revision No. 1'!AJ38","v":0},{"$f":"'Other Funds Summary'!AK38+'Other Funds-Revision No. 1'!AK38","v":0},{"$f":"'Other Funds Summary'!AL38+'Other Funds-Revision No. 1'!AL38","v":49049},{"$f":"'Other Funds Summary'!AM38+'Other Funds-Revision No. 1'!AM38","v":57889}]
[{"$f":"+'Original ABG Allocation'!A39","v":"34"},{"$f":"+'Original ABG Allocation'!B39","v":"NORTHAMPTON"},{"$f":"'Other Funds Summary'!C39+'Other Funds-Revision No. 1'!C39","v":0},{"$f":"'Other Funds Summary'!D39+'Other Funds-Revision No. 1'!D39","v":0},{"$f":"'Other Funds Summary'!E39+'Other Funds-Revision No. 1'!E39","v":8840},0,{"$f":"'Other Funds Summary'!G39+'Other Funds-Revision No. 1'!G39","v":0},{"$f":"'Other Funds Summary'!H39+'Other Funds-Revision No. 1'!H39","v":0},{"$f":"'Other Funds Summary'!I39+'Other Funds-Revision No. 1'!I39","v":0},{"$f":"'Other Funds Summary'!J39+'Other Funds-Revision No. 1'!J39","v":0},{"$f":"'Other Funds Summary'!K39+'Other Funds-Revision No. 1'!K39","v":0},{"$f":"'Other Funds Summary'!L39+'Other Funds-Revision No. 1'!L39","v":0},{"$f":"'Other Funds Summary'!M39+'Other Funds-Revision No. 1'!M39","v":0},{"$f":"'Other Funds Summary'!N39+'Other Funds-Revision No. 1'!N39","v":0},{"$f":"'Other Funds Summary'!O39+'Other Funds-Revision No. 1'!O39","v":0},{"$f":"'Other Funds Summary'!P39+'Other Funds-Revision No. 1'!P39","v":0},{"$f":"'Other Funds Summary'!Q39+'Other Funds-Revision No. 1'!Q39","v":0},{"$f":"'Other Funds Summary'!R39+'Other Funds-Revision No. 1'!R39","v":0},{"$f":"'Other Funds Summary'!S39+'Other Funds-Revision No. 1'!S39","v":0},{"$f":"'Other Funds Summary'!T39+'Other Funds-Revision No. 1'!T39","v":0},{"$f":"'Other Funds Summary'!U39+'Other Funds-Revision No. 1'!U39","v":0},{"$f":"'Other Funds Summary'!V39+'Other Funds-Revision No. 1'!V39","v":0},{"$f":"'Other Funds Summary'!W39+'Other Funds-Revision No. 1'!W39","v":0},{"$f":"'Other Funds Summary'!X39+'Other Funds-Revision No. 1'!X39","v":0},{"$f":"'Other Funds Summary'!Y39+'Other Funds-Revision No. 1'!Y39","v":0},{"$f":"'Other Funds Summary'!Z39+'Other Funds-Revision No. 1'!Z39","v":0},{"$f":"'Other Funds Summary'!AA39+'Other Funds-Revision No. 1'!AA39","v":0},{"$f":"'Other Funds Summary'!AB39+'Other Funds-Revision No. 1'!AB39","v":0},{"$f":"'Other Funds Summary'!AC39+'Other Funds-Revision No. 1'!AC39","v":0},{"$f":"'Other Funds Summary'!AD39+'Other Funds-Revision No. 1'!AD39","v":0},{"$f":"'Other Funds Summary'!AE39+'Other Funds-Revision No. 1'!AE39","v":0},{"$f":"'Other Funds Summary'!AF39+'Other Funds-Revision No. 1'!AF39","v":0},{"$f":"'Other Funds Summary'!AG39+'Other Funds-Revision No. 1'!AG39","v":0},{"$f":"'Other Funds Summary'!AH39+'Other Funds-Revision No. 1'!AH39","v":0},{"$f":"'Other Funds Summary'!AI39+'Other Funds-Revision No. 1'!AI39","v":0},{"$f":"'Other Funds Summary'!AJ39+'Other Funds-Revision No. 1'!AJ39","v":0},{"$f":"'Other Funds Summary'!AK39+'Other Funds-Revision No. 1'!AK39","v":0},{"$f":"'Other Funds Summary'!AL39+'Other Funds-Revision No. 1'!AL39","v":37573},{"$f":"'Other Funds Summary'!AM39+'Other Funds-Revision No. 1'!AM39","v":46413}]
[{"$f":"+'Original ABG Allocation'!A40","v":"35"},{"$f":"+'Original ABG Allocation'!B40","v":"PIKE"},{"$f":"'Other Funds Summary'!C40+'Other Funds-Revision No. 1'!C40","v":0},{"$f":"'Other Funds Summary'!D40+'Other Funds-Revision No. 1'!D40","v":0},{"$f":"'Other Funds Summary'!E40+'Other Funds-Revision No. 1'!E40","v":8840},0,{"$f":"'Other Funds Summary'!G40+'Other Funds-Revision No. 1'!G40","v":0},{"$f":"'Other Funds Summary'!H40+'Other Funds-Revision No. 1'!H40","v":0},{"$f":"'Other Funds Summary'!I40+'Other Funds-Revision No. 1'!I40","v":0},{"$f":"'Other Funds Summary'!J40+'Other Funds-Revision No. 1'!J40","v":0},{"$f":"'Other Funds Summary'!K40+'Other Funds-Revision No. 1'!K40","v":0},{"$f":"'Other Funds Summary'!L40+'Other Funds-Revision No. 1'!L40","v":0},{"$f":"'Other Funds Summary'!M40+'Other Funds-Revision No. 1'!M40","v":0},{"$f":"'Other Funds Summary'!N40+'Other Funds-Revision No. 1'!N40","v":0},{"$f":"'Other Funds Summary'!O40+'Other Funds-Revision No. 1'!O40","v":0},{"$f":"'Other Funds Summary'!P40+'Other Funds-Revision No. 1'!P40","v":0},{"$f":"'Other Funds Summary'!Q40+'Other Funds-Revision No. 1'!Q40","v":0},{"$f":"'Other Funds Summary'!R40+'Other Funds-Revision No. 1'!R40","v":0},{"$f":"'Other Funds Summary'!S40+'Other Funds-Revision No. 1'!S40","v":0},{"$f":"'Other Funds Summary'!T40+'Other Funds-Revision No. 1'!T40","v":0},{"$f":"'Other Funds Summary'!U40+'Other Funds-Revision No. 1'!U40","v":0},{"$f":"'Other Funds Summary'!V40+'Other Funds-Revision No. 1'!V40","v":0},{"$f":"'Other Funds Summary'!W40+'Other Funds-Revision No. 1'!W40","v":0},{"$f":"'Other Funds Summary'!X40+'Other Funds-Revision No. 1'!X40","v":0},{"$f":"'Other Funds Summary'!Y40+'Other Funds-Revision No. 1'!Y40","v":0},{"$f":"'Other Funds Summary'!Z40+'Other Funds-Revision No. 1'!Z40","v":0},{"$f":"'Other Funds Summary'!AA40+'Other Funds-Revision No. 1'!AA40","v":0},{"$f":"'Other Funds Summary'!AB40+'Other Funds-Revision No. 1'!AB40","v":0},{"$f":"'Other Funds Summary'!AC40+'Other Funds-Revision No. 1'!AC40","v":0},{"$f":"'Other Funds Summary'!AD40+'Other Funds-Revision No. 1'!AD40","v":0},{"$f":"'Other Funds Summary'!AE40+'Other Funds-Revision No. 1'!AE40","v":0},{"$f":"'Other Funds Summary'!AF40+'Other Funds-Revision No. 1'!AF40","v":0},{"$f":"'Other Funds Summary'!AG40+'Other Funds-Revision No. 1'!AG40","v":0},{"$f":"'Other Funds Summary'!AH40+'Other Funds-Revision No. 1'!AH40","v":0},{"$f":"'Other Funds Summary'!AI40+'Other Funds-Revision No. 1'!AI40","v":0},{"$f":"'Other Funds Summary'!AJ40+'Other Funds-Revision No. 1'!AJ40","v":0},{"$f":"'Other Funds Summary'!AK40+'Other Funds-Revision No. 1'!AK40","v":0},{"$f":"'Other Funds Summary'!AL40+'Other Funds-Revision No. 1'!AL40","v":15706},{"$f":"'Other Funds Summary'!AM40+'Other Funds-Revision No. 1'!AM40","v":24546}]
[{"$f":"+'Original ABG Allocation'!A41","v":"36"},{"$f":"+'Original ABG Allocation'!B41","v":"B/S/S/T"},{"$f":"'Other Funds Summary'!C41+'Other Funds-Revision No. 1'!C41","v":0},{"$f":"'Other Funds Summary'!D41+'Other Funds-Revision No. 1'!D41","v":0},{"$f":"'Other Funds Summary'!E41+'Other Funds-Revision No. 1'!E41","v":8840},0,{"$f":"'Other Funds Summary'!G41+'Other Funds-Revision No. 1'!G41","v":0},{"$f":"'Other Funds Summary'!H41+'Other Funds-Revision No. 1'!H41","v":0},{"$f":"'Other Funds Summary'!I41+'Other Funds-Revision No. 1'!I41","v":0},{"$f":"'Other Funds Summary'!J41+'Other Funds-Revision No. 1'!J41","v":0},{"$f":"'Other Funds Summary'!K41+'Other Funds-Revision No. 1'!K41","v":0},{"$f":"'Other Funds Summary'!L41+'Other Funds-Revision No. 1'!L41","v":0},{"$f":"'Other Funds Summary'!M41+'Other Funds-Revision No. 1'!M41","v":0},{"$f":"'Other Funds Summary'!N41+'Other Funds-Revision No. 1'!N41","v":0},{"$f":"'Other Funds Summary'!O41+'Other Funds-Revision No. 1'!O41","v":0},{"$f":"'Other Funds Summary'!P41+'Other Funds-Revision No. 1'!P41","v":0},{"$f":"'Other Funds Summary'!Q41+'Other Funds-Revision No. 1'!Q41","v":0},{"$f":"'Other Funds Summary'!R41+'Other Funds-Revision No. 1'!R41","v":0},{"$f":"'Other Funds Summary'!S41+'Other Funds-Revision No. 1'!S41","v":0},{"$f":"'Other Funds Summary'!T41+'Other Funds-Revision No. 1'!T41","v":0},{"$f":"'Other Funds Summary'!U41+'Other Funds-Revision No. 1'!U41","v":0},{"$f":"'Other Funds Summary'!V41+'Other Funds-Revision No. 1'!V41","v":0},{"$f":"'Other Funds Summary'!W41+'Other Funds-Revision No. 1'!W41","v":0},{"$f":"'Other Funds Summary'!X41+'Other Funds-Revision No. 1'!X41","v":0},{"$f":"'Other Funds Summary'!Y41+'Other Funds-Revision No. 1'!Y41","v":0},{"$f":"'Other Funds Summary'!Z41+'Other Funds-Revision No. 1'!Z41","v":0},{"$f":"'Other Funds Summary'!AA41+'Other Funds-Revision No. 1'!AA41","v":0},{"$f":"'Other Funds Summary'!AB41+'Other Funds-Revision No. 1'!AB41","v":0},{"$f":"'Other Funds Summary'!AC41+'Other Funds-Revision No. 1'!AC41","v":0},{"$f":"'Other Funds Summary'!AD41+'Other Funds-Revision No. 1'!AD41","v":0},{"$f":"'Other Funds Summary'!AE41+'Other Funds-Revision No. 1'!AE41","v":0},{"$f":"'Other Funds Summary'!AF41+'Other Funds-Revision No. 1'!AF41","v":0},{"$f":"'Other Funds Summary'!AG41+'Other Funds-Revision No. 1'!AG41","v":0},{"$f":"'Other Funds Summary'!AH41+'Other Funds-Revision No. 1'!AH41","v":0},{"$f":"'Other Funds Summary'!AI41+'Other Funds-Revision No. 1'!AI41","v":0},{"$f":"'Other Funds Summary'!AJ41+'Other Funds-Revision No. 1'!AJ41","v":0},{"$f":"'Other Funds Summary'!AK41+'Other Funds-Revision No. 1'!AK41","v":0},{"$f":"'Other Funds Summary'!AL41+'Other Funds-Revision No. 1'!AL41","v":39593},{"$f":"'Other Funds Summary'!AM41+'Other Funds-Revision No. 1'!AM41","v":48433}]
[{"$f":"+'Original ABG Allocation'!A42","v":"37"},{"$f":"+'Original ABG Allocation'!B42","v":"LUZERNE/WYOMING"},{"$f":"'Other Funds Summary'!C42+'Other Funds-Revision No. 1'!C42","v":0},{"$f":"'Other Funds Summary'!D42+'Other Funds-Revision No. 1'!D42","v":0},{"$f":"'Other Funds Summary'!E42+'Other Funds-Revision No. 1'!E42","v":8840},0,{"$f":"'Other Funds Summary'!G42+'Other Funds-Revision No. 1'!G42","v":0},{"$f":"'Other Funds Summary'!H42+'Other Funds-Revision No. 1'!H42","v":0},{"$f":"'Other Funds Summary'!I42+'Other Funds-Revision No. 1'!I42","v":0},{"$f":"'Other Funds Summary'!J42+'Other Funds-Revision No. 1'!J42","v":0},{"$f":"'Other Funds Summary'!K42+'Other Funds-Revision No. 1'!K42","v":0},{"$f":"'Other Funds Summary'!L42+'Other Funds-Revision No. 1'!L42","v":0},{"$f":"'Other Funds Summary'!M42+'Other Funds-Revision No. 1'!M42","v":0},{"$f":"'Other Funds Summary'!N42+'Other Funds-Revision No. 1'!N42","v":0},{"$f":"'Other Funds Summary'!O42+'Other Funds-Revision No. 1'!O42","v":0},{"$f":"'Other Funds Summary'!P42+'Other Funds-Revision No. 1'!P42","v":0},{"$f":"'Other Funds Summary'!Q42+'Other Funds-Revision No. 1'!Q42","v":0},{"$f":"'Other Funds Summary'!R42+'Other Funds-Revision No. 1'!R42","v":0},{"$f":"'Other Funds Summary'!S42+'Other Funds-Revision No. 1'!S42","v":0},{"$f":"'Other Funds Summary'!T42+'Other Funds-Revision No. 1'!T42","v":0},{"$f":"'Other Funds Summary'!U42+'Other Funds-Revision No. 1'!U42","v":0},{"$f":"'Other Funds Summary'!V42+'Other Funds-Revision No. 1'!V42","v":0},{"$f":"'Other Funds Summary'!W42+'Other Funds-Revision No. 1'!W42","v":0},{"$f":"'Other Funds Summary'!X42+'Other Funds-Revision No. 1'!X42","v":0},{"$f":"'Other Funds Summary'!Y42+'Other Funds-Revision No. 1'!Y42","v":0},{"$f":"'Other Funds Summary'!Z42+'Other Funds-Revision No. 1'!Z42","v":0},{"$f":"'Other Funds Summary'!AA42+'Other Funds-Revision No. 1'!AA42","v":0},{"$f":"'Other Funds Summary'!AB42+'Other Funds-Revision No. 1'!AB42","v":0},{"$f":"'Other Funds Summary'!AC42+'Other Funds-Revision No. 1'!AC42","v":0},{"$f":"'Other Funds Summary'!AD42+'Other Funds-Revision No. 1'!AD42","v":0},{"$f":"'Other Funds Summary'!AE42+'Other Funds-Revision No. 1'!AE42","v":0},{"$f":"'Other Funds Summary'!AF42+'Other Funds-Revision No. 1'!AF42","v":0},{"$f":"'Other Funds Summary'!AG42+'Other Funds-Revision No. 1'!AG42","v":0},{"$f":"'Other Funds Summary'!AH42+'Other Funds-Revision No. 1'!AH42","v":0},{"$f":"'Other Funds Summary'!AI42+'Other Funds-Revision No. 1'!AI42","v":0},{"$f":"'Other Funds Summary'!AJ42+'Other Funds-Revision No. 1'!AJ42","v":0},{"$f":"'Other Funds Summary'!AK42+'Other Funds-Revision No. 1'!AK42","v":0},{"$f":"'Other Funds Summary'!AL42+'Other Funds-Revision No. 1'!AL42","v":53811},{"$f":"'Other Funds Summary'!AM42+'Other Funds-Revision No. 1'!AM42","v":62651}]
[{"$f":"+'Original ABG Allocation'!A43","v":"38"},{"$f":"+'Original ABG Allocation'!B43","v":"LACKAWANNA"},{"$f":"'Other Funds Summary'!C43+'Other Funds-Revision No. 1'!C43","v":0},{"$f":"'Other Funds Summary'!D43+'Other Funds-Revision No. 1'!D43","v":0},{"$f":"'Other Funds Summary'!E43+'Other Funds-Revision No. 1'!E43","v":8840},0,{"$f":"'Other Funds Summary'!G43+'Other Funds-Revision No. 1'!G43","v":0},{"$f":"'Other Funds Summary'!H43+'Other Funds-Revision No. 1'!H43","v":0},{"$f":"'Other Funds Summary'!I43+'Other Funds-Revision No. 1'!I43","v":0},{"$f":"'Other Funds Summary'!J43+'Other Funds-Revision No. 1'!J43","v":0},{"$f":"'Other Funds Summary'!K43+'Other Funds-Revision No. 1'!K43","v":0},{"$f":"'Other Funds Summary'!L43+'Other Funds-Revision No. 1'!L43","v":0},{"$f":"'Other Funds Summary'!M43+'Other Funds-Revision No. 1'!M43","v":0},{"$f":"'Other Funds Summary'!N43+'Other Funds-Revision No. 1'!N43","v":0},{"$f":"'Other Funds Summary'!O43+'Other Funds-Revision No. 1'!O43","v":0},{"$f":"'Other Funds Summary'!P43+'Other Funds-Revision No. 1'!P43","v":0},{"$f":"'Other Funds Summary'!Q43+'Other Funds-Revision No. 1'!Q43","v":0},{"$f":"'Other Funds Summary'!R43+'Other Funds-Revision No. 1'!R43","v":0},{"$f":"'Other Funds Summary'!S43+'Other Funds-Revision No. 1'!S43","v":0},{"$f":"'Other Funds Summary'!T43+'Other Funds-Revision No. 1'!T43","v":0},{"$f":"'Other Funds Summary'!U43+'Other Funds-Revision No. 1'!U43","v":0},{"$f":"'Other Funds Summary'!V43+'Other Funds-Revision No. 1'!V43","v":0},{"$f":"'Other Funds Summary'!W43+'Other Funds-Revision No. 1'!W43","v":0},{"$f":"'Other Funds Summary'!X43+'Other Funds-Revision No. 1'!X43","v":0},{"$f":"'Other Funds Summary'!Y43+'Other Funds-Revision No. 1'!Y43","v":0},{"$f":"'Other Funds Summary'!Z43+'Other Funds-Revision No. 1'!Z43","v":0},{"$f":"'Other Funds Summary'!AA43+'Other Funds-Revision No. 1'!AA43","v":0},{"$f":"'Other Funds Summary'!AB43+'Other Funds-Revision No. 1'!AB43","v":0},{"$f":"'Other Funds Summary'!AC43+'Other Funds-Revision No. 1'!AC43","v":0},{"$f":"'Other Funds Summary'!AD43+'Other Funds-Revision No. 1'!AD43","v":0},{"$f":"'Other Funds Summary'!AE43+'Other Funds-Revision No. 1'!AE43","v":0},{"$f":"'Other Funds Summary'!AF43+'Other Funds-Revision No. 1'!AF43","v":0},{"$f":"'Other Funds Summary'!AG43+'Other Funds-Revision No. 1'!AG43","v":0},{"$f":"'Other Funds Summary'!AH43+'Other Funds-Revision No. 1'!AH43","v":0},{"$f":"'Other Funds Summary'!AI43+'Other Funds-Revision No. 1'!AI43","v":0},{"$f":"'Other Funds Summary'!AJ43+'Other Funds-Revision No. 1'!AJ43","v":0},{"$f":"'Other Funds Summary'!AK43+'Other Funds-Revision No. 1'!AK43","v":0},{"$f":"'Other Funds Summary'!AL43+'Other Funds-Revision No. 1'!AL43","v":33417},{"$f":"'Other Funds Summary'!AM43+'Other Funds-Revision No. 1'!AM43","v":42257}]
[{"$f":"+'Original ABG Allocation'!A44","v":"39"},{"$f":"+'Original ABG Allocation'!B44","v":"CARBON"},{"$f":"'Other Funds Summary'!C44+'Other Funds-Revision No. 1'!C44","v":0},{"$f":"'Other Funds Summary'!D44+'Other Funds-Revision No. 1'!D44","v":0},{"$f":"'Other Funds Summary'!E44+'Other Funds-Revision No. 1'!E44","v":8840},0,{"$f":"'Other Funds Summary'!G44+'Other Funds-Revision No. 1'!G44","v":0},{"$f":"'Other Funds Summary'!H44+'Other Funds-Revision No. 1'!H44","v":0},{"$f":"'Other Funds Summary'!I44+'Other Funds-Revision No. 1'!I44","v":0},{"$f":"'Other Funds Summary'!J44+'Other Funds-Revision No. 1'!J44","v":0},{"$f":"'Other Funds Summary'!K44+'Other Funds-Revision No. 1'!K44","v":0},{"$f":"'Other Funds Summary'!L44+'Other Funds-Revision No. 1'!L44","v":0},{"$f":"'Other Funds Summary'!M44+'Other Funds-Revision No. 1'!M44","v":0},{"$f":"'Other Funds Summary'!N44+'Other Funds-Revision No. 1'!N44","v":0},{"$f":"'Other Funds Summary'!O44+'Other Funds-Revision No. 1'!O44","v":0},{"$f":"'Other Funds Summary'!P44+'Other Funds-Revision No. 1'!P44","v":0},{"$f":"'Other Funds Summary'!Q44+'Other Funds-Revision No. 1'!Q44","v":0},{"$f":"'Other Funds Summary'!R44+'Other Funds-Revision No. 1'!R44","v":0},{"$f":"'Other Funds Summary'!S44+'Other Funds-Revision No. 1'!S44","v":0},{"$f":"'Other Funds Summary'!T44+'Other Funds-Revision No. 1'!T44","v":0},{"$f":"'Other Funds Summary'!U44+'Other Funds-Revision No. 1'!U44","v":0},{"$f":"'Other Funds Summary'!V44+'Other Funds-Revision No. 1'!V44","v":0},{"$f":"'Other Funds Summary'!W44+'Other Funds-Revision No. 1'!W44","v":0},{"$f":"'Other Funds Summary'!X44+'Other Funds-Revision No. 1'!X44","v":0},{"$f":"'Other Funds Summary'!Y44+'Other Funds-Revision No. 1'!Y44","v":0},{"$f":"'Other Funds Summary'!Z44+'Other Funds-Revision No. 1'!Z44","v":0},{"$f":"'Other Funds Summary'!AA44+'Other Funds-Revision No. 1'!AA44","v":0},{"$f":"'Other Funds Summary'!AB44+'Other Funds-Revision No. 1'!AB44","v":0},{"$f":"'Other Funds Summary'!AC44+'Other Funds-Revision No. 1'!AC44","v":0},{"$f":"'Other Funds Summary'!AD44+'Other Funds-Revision No. 1'!AD44","v":0},{"$f":"'Other Funds Summary'!AE44+'Other Funds-Revision No. 1'!AE44","v":0},{"$f":"'Other Funds Summary'!AF44+'Other Funds-Revision No. 1'!AF44","v":0},{"$f":"'Other Funds Summary'!AG44+'Other Funds-Revision No. 1'!AG44","v":0},{"$f":"'Other Funds Summary'!AH44+'Other Funds-Revision No. 1'!AH44","v":0},{"$f":"'Other Funds Summary'!AI44+'Other Funds-Revision No. 1'!AI44","v":0},{"$f":"'Other Funds Summary'!AJ44+'Other Funds-Revision No. 1'!AJ44","v":0},{"$f":"'Other Funds Summary'!AK44+'Other Funds-Revision No. 1'!AK44","v":0},{"$f":"'Other Funds Summary'!AL44+'Other Funds-Revision No. 1'!AL44","v":14416},{"$f":"'Other Funds Summary'!AM44+'Other Funds-Revision No. 1'!AM44","v":23256}]
[{"$f":"+'Original ABG Allocation'!A45","v":"40"},{"$f":"+'Original ABG Allocation'!B45","v":"SCHUYLKILL"},{"$f":"'Other Funds Summary'!C45+'Other Funds-Revision No. 1'!C45","v":0},{"$f":"'Other Funds Summary'!D45+'Other Funds-Revision No. 1'!D45","v":0},{"$f":"'Other Funds Summary'!E45+'Other Funds-Revision No. 1'!E45","v":11555},0,{"$f":"'Other Funds Summary'!G45+'Other Funds-Revision No. 1'!G45","v":0},{"$f":"'Other Funds Summary'!H45+'Other Funds-Revision No. 1'!H45","v":0},{"$f":"'Other Funds Summary'!I45+'Other Funds-Revision No. 1'!I45","v":0},{"$f":"'Other Funds Summary'!J45+'Other Funds-Revision No. 1'!J45","v":0},{"$f":"'Other Funds Summary'!K45+'Other Funds-Revision No. 1'!K45","v":0},{"$f":"'Other Funds Summary'!L45+'Other Funds-Revision No. 1'!L45","v":0},{"$f":"'Other Funds Summary'!M45+'Other Funds-Revision No. 1'!M45","v":0},{"$f":"'Other Funds Summary'!N45+'Other Funds-Revision No. 1'!N45","v":0},{"$f":"'Other Funds Summary'!O45+'Other Funds-Revision No. 1'!O45","v":0},{"$f":"'Other Funds Summary'!P45+'Other Funds-Revision No. 1'!P45","v":0},{"$f":"'Other Funds Summary'!Q45+'Other Funds-Revision No. 1'!Q45","v":0},{"$f":"'Other Funds Summary'!R45+'Other Funds-Revision No. 1'!R45","v":0},{"$f":"'Other Funds Summary'!S45+'Other Funds-Revision No. 1'!S45","v":0},{"$f":"'Other Funds Summary'!T45+'Other Funds-Revision No. 1'!T45","v":0},{"$f":"'Other Funds Summary'!U45+'Other Funds-Revision No. 1'!U45","v":0},{"$f":"'Other Funds Summary'!V45+'Other Funds-Revision No. 1'!V45","v":0},{"$f":"'Other Funds Summary'!W45+'Other Funds-Revision No. 1'!W45","v":0},{"$f":"'Other Funds Summary'!X45+'Other Funds-Revision No. 1'!X45","v":0},{"$f":"'Other Funds Summary'!Y45+'Other Funds-Revision No. 1'!Y45","v":0},{"$f":"'Other Funds Summary'!Z45+'Other Funds-Revision No. 1'!Z45","v":0},{"$f":"'Other Funds Summary'!AA45+'Other Funds-Revision No. 1'!AA45","v":0},{"$f":"'Other Funds Summary'!AB45+'Other Funds-Revision No. 1'!AB45","v":0},{"$f":"'Other Funds Summary'!AC45+'Other Funds-Revision No. 1'!AC45","v":0},{"$f":"'Other Funds Summary'!AD45+'Other Funds-Revision No. 1'!AD45","v":0},{"$f":"'Other Funds Summary'!AE45+'Other Funds-Revision No. 1'!AE45","v":0},{"$f":"'Other Funds Summary'!AF45+'Other Funds-Revision No. 1'!AF45","v":0},{"$f":"'Other Funds Summary'!AG45+'Other Funds-Revision No. 1'!AG45","v":0},{"$f":"'Other Funds Summary'!AH45+'Other Funds-Revision No. 1'!AH45","v":0},{"$f":"'Other Funds Summary'!AI45+'Other Funds-Revision No. 1'!AI45","v":0},{"$f":"'Other Funds Summary'!AJ45+'Other Funds-Revision No. 1'!AJ45","v":0},{"$f":"'Other Funds Summary'!AK45+'Other Funds-Revision No. 1'!AK45","v":0},{"$f":"'Other Funds Summary'!AL45+'Other Funds-Revision No. 1'!AL45","v":30878},{"$f":"'Other Funds Summary'!AM45+'Other Funds-Revision No. 1'!AM45","v":42433}]
[{"$f":"+'Original ABG Allocation'!A46","v":"41"},{"$f":"+'Original ABG Allocation'!B46","v":"CLEARFIELD"},{"$f":"'Other Funds Summary'!C46+'Other Funds-Revision No. 1'!C46","v":0},{"$f":"'Other Funds Summary'!D46+'Other Funds-Revision No. 1'!D46","v":0},{"$f":"'Other Funds Summary'!E46+'Other Funds-Revision No. 1'!E46","v":8840},0,{"$f":"'Other Funds Summary'!G46+'Other Funds-Revision No. 1'!G46","v":0},{"$f":"'Other Funds Summary'!H46+'Other Funds-Revision No. 1'!H46","v":0},{"$f":"'Other Funds Summary'!I46+'Other Funds-Revision No. 1'!I46","v":0},{"$f":"'Other Funds Summary'!J46+'Other Funds-Revision No. 1'!J46","v":0},{"$f":"'Other Funds Summary'!K46+'Other Funds-Revision No. 1'!K46","v":0},{"$f":"'Other Funds Summary'!L46+'Other Funds-Revision No. 1'!L46","v":0},{"$f":"'Other Funds Summary'!M46+'Other Funds-Revision No. 1'!M46","v":0},{"$f":"'Other Funds Summary'!N46+'Other Funds-Revision No. 1'!N46","v":0},{"$f":"'Other Funds Summary'!O46+'Other Funds-Revision No. 1'!O46","v":0},{"$f":"'Other Funds Summary'!P46+'Other Funds-Revision No. 1'!P46","v":0},{"$f":"'Other Funds Summary'!Q46+'Other Funds-Revision No. 1'!Q46","v":0},{"$f":"'Other Funds Summary'!R46+'Other Funds-Revision No. 1'!R46","v":0},{"$f":"'Other Funds Summary'!S46+'Other Funds-Revision No. 1'!S46","v":0},{"$f":"'Other Funds Summary'!T46+'Other Funds-Revision No. 1'!T46","v":0},{"$f":"'Other Funds Summary'!U46+'Other Funds-Revision No. 1'!U46","v":0},{"$f":"'Other Funds Summary'!V46+'Other Funds-Revision No. 1'!V46","v":0},{"$f":"'Other Funds Summary'!W46+'Other Funds-Revision No. 1'!W46","v":0},{"$f":"'Other Funds Summary'!X46+'Other Funds-Revision No. 1'!X46","v":0},{"$f":"'Other Funds Summary'!Y46+'Other Funds-Revision No. 1'!Y46","v":0},{"$f":"'Other Funds Summary'!Z46+'Other Funds-Revision No. 1'!Z46","v":0},{"$f":"'Other Funds Summary'!AA46+'Other Funds-Revision No. 1'!AA46","v":0},{"$f":"'Other Funds Summary'!AB46+'Other Funds-Revision No. 1'!AB46","v":0},{"$f":"'Other Funds Summary'!AC46+'Other Funds-Revision No. 1'!AC46","v":0},{"$f":"'Other Funds Summary'!AD46+'Other Funds-Revision No. 1'!AD46","v":0},{"$f":"'Other Funds Summary'!AE46+'Other Funds-Revision No. 1'!AE46","v":0},{"$f":"'Other Funds Summary'!AF46+'Other Funds-Revision No. 1'!AF46","v":0},{"$f":"'Other Funds Summary'!AG46+'Other Funds-Revision No. 1'!AG46","v":0},{"$f":"'Other Funds Summary'!AH46+'Other Funds-Revision No. 1'!AH46","v":0},{"$f":"'Other Funds Summary'!AI46+'Other Funds-Revision No. 1'!AI46","v":0},{"$f":"'Other Funds Summary'!AJ46+'Other Funds-Revision No. 1'!AJ46","v":0},{"$f":"'Other Funds Summary'!AK46+'Other Funds-Revision No. 1'!AK46","v":0},{"$f":"'Other Funds Summary'!AL46+'Other Funds-Revision No. 1'!AL46","v":19666},{"$f":"'Other Funds Summary'!AM46+'Other Funds-Revision No. 1'!AM46","v":28506}]
[{"$f":"+'Original ABG Allocation'!A47","v":"42"},{"$f":"+'Original ABG Allocation'!B47","v":"JEFFERSON"},{"$f":"'Other Funds Summary'!C47+'Other Funds-Revision No. 1'!C47","v":0},{"$f":"'Other Funds Summary'!D47+'Other Funds-Revision No. 1'!D47","v":0},{"$f":"'Other Funds Summary'!E47+'Other Funds-Revision No. 1'!E47","v":8840},0,{"$f":"'Other Funds Summary'!G47+'Other Funds-Revision No. 1'!G47","v":0},{"$f":"'Other Funds Summary'!H47+'Other Funds-Revision No. 1'!H47","v":0},{"$f":"'Other Funds Summary'!I47+'Other Funds-Revision No. 1'!I47","v":0},{"$f":"'Other Funds Summary'!J47+'Other Funds-Revision No. 1'!J47","v":0},{"$f":"'Other Funds Summary'!K47+'Other Funds-Revision No. 1'!K47","v":0},{"$f":"'Other Funds Summary'!L47+'Other Funds-Revision No. 1'!L47","v":0},{"$f":"'Other Funds Summary'!M47+'Other Funds-Revision No. 1'!M47","v":0},{"$f":"'Other Funds Summary'!N47+'Other Funds-Revision No. 1'!N47","v":0},{"$f":"'Other Funds Summary'!O47+'Other Funds-Revision No. 1'!O47","v":0},{"$f":"'Other Funds Summary'!P47+'Other Funds-Revision No. 1'!P47","v":0},{"$f":"'Other Funds Summary'!Q47+'Other Funds-Revision No. 1'!Q47","v":0},{"$f":"'Other Funds Summary'!R47+'Other Funds-Revision No. 1'!R47","v":0},{"$f":"'Other Funds Summary'!S47+'Other Funds-Revision No. 1'!S47","v":0},{"$f":"'Other Funds Summary'!T47+'Other Funds-Revision No. 1'!T47","v":0},{"$f":"'Other Funds Summary'!U47+'Other Funds-Revision No. 1'!U47","v":0},{"$f":"'Other Funds Summary'!V47+'Other Funds-Revision No. 1'!V47","v":0},{"$f":"'Other Funds Summary'!W47+'Other Funds-Revision No. 1'!W47","v":0},{"$f":"'Other Funds Summary'!X47+'Other Funds-Revision No. 1'!X47","v":0},{"$f":"'Other Funds Summary'!Y47+'Other Funds-Revision No. 1'!Y47","v":0},{"$f":"'Other Funds Summary'!Z47+'Other Funds-Revision No. 1'!Z47","v":0},{"$f":"'Other Funds Summary'!AA47+'Other Funds-Revision No. 1'!AA47","v":0},{"$f":"'Other Funds Summary'!AB47+'Other Funds-Revision No. 1'!AB47","v":0},{"$f":"'Other Funds Summary'!AC47+'Other Funds-Revision No. 1'!AC47","v":0},{"$f":"'Other Funds Summary'!AD47+'Other Funds-Revision No. 1'!AD47","v":0},{"$f":"'Other Funds Summary'!AE47+'Other Funds-Revision No. 1'!AE47","v":0},{"$f":"'Other Funds Summary'!AF47+'Other Funds-Revision No. 1'!AF47","v":0},{"$f":"'Other Funds Summary'!AG47+'Other Funds-Revision No. 1'!AG47","v":0},{"$f":"'Other Funds Summary'!AH47+'Other Funds-Revision No. 1'!AH47","v":0},{"$f":"'Other Funds Summary'!AI47+'Other Funds-Revision No. 1'!AI47","v":0},{"$f":"'Other Funds Summary'!AJ47+'Other Funds-Revision No. 1'!AJ47","v":0},{"$f":"'Other Funds Summary'!AK47+'Other Funds-Revision No. 1'!AK47","v":0},{"$f":"'Other Funds Summary'!AL47+'Other Funds-Revision No. 1'!AL47","v":10201},{"$f":"'Other Funds Summary'!AM47+'Other Funds-Revision No. 1'!AM47","v":19041}]
[{"$f":"+'Original ABG Allocation'!A48","v":"43"},{"$f":"+'Original ABG Allocation'!B48","v":"FOREST/WARREN"},{"$f":"'Other Funds Summary'!C48+'Other Funds-Revision No. 1'!C48","v":0},{"$f":"'Other Funds Summary'!D48+'Other Funds-Revision No. 1'!D48","v":0},{"$f":"'Other Funds Summary'!E48+'Other Funds-Revision No. 1'!E48","v":8840},0,{"$f":"'Other Funds Summary'!G48+'Other Funds-Revision No. 1'!G48","v":0},{"$f":"'Other Funds Summary'!H48+'Other Funds-Revision No. 1'!H48","v":0},{"$f":"'Other Funds Summary'!I48+'Other Funds-Revision No. 1'!I48","v":0},{"$f":"'Other Funds Summary'!J48+'Other Funds-Revision No. 1'!J48","v":0},{"$f":"'Other Funds Summary'!K48+'Other Funds-Revision No. 1'!K48","v":0},{"$f":"'Other Funds Summary'!L48+'Other Funds-Revision No. 1'!L48","v":0},{"$f":"'Other Funds Summary'!M48+'Other Funds-Revision No. 1'!M48","v":0},{"$f":"'Other Funds Summary'!N48+'Other Funds-Revision No. 1'!N48","v":0},{"$f":"'Other Funds Summary'!O48+'Other Funds-Revision No. 1'!O48","v":0},{"$f":"'Other Funds Summary'!P48+'Other Funds-Revision No. 1'!P48","v":0},{"$f":"'Other Funds Summary'!Q48+'Other Funds-Revision No. 1'!Q48","v":0},{"$f":"'Other Funds Summary'!R48+'Other Funds-Revision No. 1'!R48","v":0},{"$f":"'Other Funds Summary'!S48+'Other Funds-Revision No. 1'!S48","v":0},{"$f":"'Other Funds Summary'!T48+'Other Funds-Revision No. 1'!T48","v":0},{"$f":"'Other Funds Summary'!U48+'Other Funds-Revision No. 1'!U48","v":0},{"$f":"'Other Funds Summary'!V48+'Other Funds-Revision No. 1'!V48","v":0},{"$f":"'Other Funds Summary'!W48+'Other Funds-Revision No. 1'!W48","v":0},{"$f":"'Other Funds Summary'!X48+'Other Funds-Revision No. 1'!X48","v":0},{"$f":"'Other Funds Summary'!Y48+'Other Funds-Revision No. 1'!Y48","v":0},{"$f":"'Other Funds Summary'!Z48+'Other Funds-Revision No. 1'!Z48","v":0},{"$f":"'Other Funds Summary'!AA48+'Other Funds-Revision No. 1'!AA48","v":0},{"$f":"'Other Funds Summary'!AB48+'Other Funds-Revision No. 1'!AB48","v":0},{"$f":"'Other Funds Summary'!AC48+'Other Funds-Revision No. 1'!AC48","v":0},{"$f":"'Other Funds Summary'!AD48+'Other Funds-Revision No. 1'!AD48","v":0},{"$f":"'Other Funds Summary'!AE48+'Other Funds-Revision No. 1'!AE48","v":0},{"$f":"'Other Funds Summary'!AF48+'Other Funds-Revision No. 1'!AF48","v":0},{"$f":"'Other Funds Summary'!AG48+'Other Funds-Revision No. 1'!AG48","v":0},{"$f":"'Other Funds Summary'!AH48+'Other Funds-Revision No. 1'!AH48","v":0},{"$f":"'Other Funds Summary'!AI48+'Other Funds-Revision No. 1'!AI48","v":0},{"$f":"'Other Funds Summary'!AJ48+'Other Funds-Revision No. 1'!AJ48","v":0},{"$f":"'Other Funds Summary'!AK48+'Other Funds-Revision No. 1'!AK48","v":0},{"$f":"'Other Funds Summary'!AL48+'Other Funds-Revision No. 1'!AL48","v":12228},{"$f":"'Other Funds Summary'!AM48+'Other Funds-Revision No. 1'!AM48","v":21068}]
[{"$f":"+'Original ABG Allocation'!A49","v":"44"},{"$f":"+'Original ABG Allocation'!B49","v":"VENANGO"},{"$f":"'Other Funds Summary'!C49+'Other Funds-Revision No. 1'!C49","v":0},{"$f":"'Other Funds Summary'!D49+'Other Funds-Revision No. 1'!D49","v":0},{"$f":"'Other Funds Summary'!E49+'Other Funds-Revision No. 1'!E49","v":8840},0,{"$f":"'Other Funds Summary'!G49+'Other Funds-Revision No. 1'!G49","v":0},{"$f":"'Other Funds Summary'!H49+'Other Funds-Revision No. 1'!H49","v":0},{"$f":"'Other Funds Summary'!I49+'Other Funds-Revision No. 1'!I49","v":0},{"$f":"'Other Funds Summary'!J49+'Other Funds-Revision No. 1'!J49","v":0},{"$f":"'Other Funds Summary'!K49+'Other Funds-Revision No. 1'!K49","v":0},{"$f":"'Other Funds Summary'!L49+'Other Funds-Revision No. 1'!L49","v":0},{"$f":"'Other Funds Summary'!M49+'Other Funds-Revision No. 1'!M49","v":0},{"$f":"'Other Funds Summary'!N49+'Other Funds-Revision No. 1'!N49","v":0},{"$f":"'Other Funds Summary'!O49+'Other Funds-Revision No. 1'!O49","v":0},{"$f":"'Other Funds Summary'!P49+'Other Funds-Revision No. 1'!P49","v":0},{"$f":"'Other Funds Summary'!Q49+'Other Funds-Revision No. 1'!Q49","v":0},{"$f":"'Other Funds Summary'!R49+'Other Funds-Revision No. 1'!R49","v":0},{"$f":"'Other Funds Summary'!S49+'Other Funds-Revision No. 1'!S49","v":0},{"$f":"'Other Funds Summary'!T49+'Other Funds-Revision No. 1'!T49","v":0},{"$f":"'Other Funds Summary'!U49+'Other Funds-Revision No. 1'!U49","v":0},{"$f":"'Other Funds Summary'!V49+'Other Funds-Revision No. 1'!V49","v":0},{"$f":"'Other Funds Summary'!W49+'Other Funds-Revision No. 1'!W49","v":0},{"$f":"'Other Funds Summary'!X49+'Other Funds-Revision No. 1'!X49","v":0},{"$f":"'Other Funds Summary'!Y49+'Other Funds-Revision No. 1'!Y49","v":0},{"$f":"'Other Funds Summary'!Z49+'Other Funds-Revision No. 1'!Z49","v":0},{"$f":"'Other Funds Summary'!AA49+'Other Funds-Revision No. 1'!AA49","v":0},{"$f":"'Other Funds Summary'!AB49+'Other Funds-Revision No. 1'!AB49","v":0},{"$f":"'Other Funds Summary'!AC49+'Other Funds-Revision No. 1'!AC49","v":0},{"$f":"'Other Funds Summary'!AD49+'Other Funds-Revision No. 1'!AD49","v":0},{"$f":"'Other Funds Summary'!AE49+'Other Funds-Revision No. 1'!AE49","v":0},{"$f":"'Other Funds Summary'!AF49+'Other Funds-Revision No. 1'!AF49","v":0},{"$f":"'Other Funds Summary'!AG49+'Other Funds-Revision No. 1'!AG49","v":0},{"$f":"'Other Funds Summary'!AH49+'Other Funds-Revision No. 1'!AH49","v":0},{"$f":"'Other Funds Summary'!AI49+'Other Funds-Revision No. 1'!AI49","v":0},{"$f":"'Other Funds Summary'!AJ49+'Other Funds-Revision No. 1'!AJ49","v":0},{"$f":"'Other Funds Summary'!AK49+'Other Funds-Revision No. 1'!AK49","v":0},{"$f":"'Other Funds Summary'!AL49+'Other Funds-Revision No. 1'!AL49","v":13095},{"$f":"'Other Funds Summary'!AM49+'Other Funds-Revision No. 1'!AM49","v":21935}]
[{"$f":"+'Original ABG Allocation'!A50","v":"45"},{"$f":"+'Original ABG Allocation'!B50","v":"ARMSTRONG"},{"$f":"'Other Funds Summary'!C50+'Other Funds-Revision No. 1'!C50","v":0},{"$f":"'Other Funds Summary'!D50+'Other Funds-Revision No. 1'!D50","v":0},{"$f":"'Other Funds Summary'!E50+'Other Funds-Revision No. 1'!E50","v":8840},0,{"$f":"'Other Funds Summary'!G50+'Other Funds-Revision No. 1'!G50","v":0},{"$f":"'Other Funds Summary'!H50+'Other Funds-Revision No. 1'!H50","v":0},{"$f":"'Other Funds Summary'!I50+'Other Funds-Revision No. 1'!I50","v":0},{"$f":"'Other Funds Summary'!J50+'Other Funds-Revision No. 1'!J50","v":0},{"$f":"'Other Funds Summary'!K50+'Other Funds-Revision No. 1'!K50","v":0},{"$f":"'Other Funds Summary'!L50+'Other Funds-Revision No. 1'!L50","v":0},{"$f":"'Other Funds Summary'!M50+'Other Funds-Revision No. 1'!M50","v":0},{"$f":"'Other Funds Summary'!N50+'Other Funds-Revision No. 1'!N50","v":0},{"$f":"'Other Funds Summary'!O50+'Other Funds-Revision No. 1'!O50","v":0},{"$f":"'Other Funds Summary'!P50+'Other Funds-Revision No. 1'!P50","v":0},{"$f":"'Other Funds Summary'!Q50+'Other Funds-Revision No. 1'!Q50","v":0},{"$f":"'Other Funds Summary'!R50+'Other Funds-Revision No. 1'!R50","v":0},{"$f":"'Other Funds Summary'!S50+'Other Funds-Revision No. 1'!S50","v":0},{"$f":"'Other Funds Summary'!T50+'Other Funds-Revision No. 1'!T50","v":0},{"$f":"'Other Funds Summary'!U50+'Other Funds-Revision No. 1'!U50","v":0},{"$f":"'Other Funds Summary'!V50+'Other Funds-Revision No. 1'!V50","v":0},{"$f":"'Other Funds Summary'!W50+'Other Funds-Revision No. 1'!W50","v":0},{"$f":"'Other Funds Summary'!X50+'Other Funds-Revision No. 1'!X50","v":0},{"$f":"'Other Funds Summary'!Y50+'Other Funds-Revision No. 1'!Y50","v":0},{"$f":"'Other Funds Summary'!Z50+'Other Funds-Revision No. 1'!Z50","v":0},{"$f":"'Other Funds Summary'!AA50+'Other Funds-Revision No. 1'!AA50","v":0},{"$f":"'Other Funds Summary'!AB50+'Other Funds-Revision No. 1'!AB50","v":0},{"$f":"'Other Funds Summary'!AC50+'Other Funds-Revision No. 1'!AC50","v":0},{"$f":"'Other Funds Summary'!AD50+'Other Funds-Revision No. 1'!AD50","v":0},{"$f":"'Other Funds Summary'!AE50+'Other Funds-Revision No. 1'!AE50","v":0},{"$f":"'Other Funds Summary'!AF50+'Other Funds-Revision No. 1'!AF50","v":0},{"$f":"'Other Funds Summary'!AG50+'Other Funds-Revision No. 1'!AG50","v":0},{"$f":"'Other Funds Summary'!AH50+'Other Funds-Revision No. 1'!AH50","v":0},{"$f":"'Other Funds Summary'!AI50+'Other Funds-Revision No. 1'!AI50","v":0},{"$f":"'Other Funds Summary'!AJ50+'Other Funds-Revision No. 1'!AJ50","v":0},{"$f":"'Other Funds Summary'!AK50+'Other Funds-Revision No. 1'!AK50","v":0},{"$f":"'Other Funds Summary'!AL50+'Other Funds-Revision No. 1'!AL50","v":17468},{"$f":"'Other Funds Summary'!AM50+'Other Funds-Revision No. 1'!AM50","v":26308}]
[{"$f":"+'Original ABG Allocation'!A51","v":"46"},{"$f":"+'Original ABG Allocation'!B51","v":"LAWRENCE"},{"$f":"'Other Funds Summary'!C51+'Other Funds-Revision No. 1'!C51","v":0},{"$f":"'Other Funds Summary'!D51+'Other Funds-Revision No. 1'!D51","v":0},{"$f":"'Other Funds Summary'!E51+'Other Funds-Revision No. 1'!E51","v":8840},0,{"$f":"'Other Funds Summary'!G51+'Other Funds-Revision No. 1'!G51","v":0},{"$f":"'Other Funds Summary'!H51+'Other Funds-Revision No. 1'!H51","v":0},{"$f":"'Other Funds Summary'!I51+'Other Funds-Revision No. 1'!I51","v":0},{"$f":"'Other Funds Summary'!J51+'Other Funds-Revision No. 1'!J51","v":0},{"$f":"'Other Funds Summary'!K51+'Other Funds-Revision No. 1'!K51","v":0},{"$f":"'Other Funds Summary'!L51+'Other Funds-Revision No. 1'!L51","v":0},{"$f":"'Other Funds Summary'!M51+'Other Funds-Revision No. 1'!M51","v":0},{"$f":"'Other Funds Summary'!N51+'Other Funds-Revision No. 1'!N51","v":0},{"$f":"'Other Funds Summary'!O51+'Other Funds-Revision No. 1'!O51","v":0},{"$f":"'Other Funds Summary'!P51+'Other Funds-Revision No. 1'!P51","v":0},{"$f":"'Other Funds Summary'!Q51+'Other Funds-Revision No. 1'!Q51","v":0},{"$f":"'Other Funds Summary'!R51+'Other Funds-Revision No. 1'!R51","v":0},{"$f":"'Other Funds Summary'!S51+'Other Funds-Revision No. 1'!S51","v":0},{"$f":"'Other Funds Summary'!T51+'Other Funds-Revision No. 1'!T51","v":0},{"$f":"'Other Funds Summary'!U51+'Other Funds-Revision No. 1'!U51","v":0},{"$f":"'Other Funds Summary'!V51+'Other Funds-Revision No. 1'!V51","v":0},{"$f":"'Other Funds Summary'!W51+'Other Funds-Revision No. 1'!W51","v":0},{"$f":"'Other Funds Summary'!X51+'Other Funds-Revision No. 1'!X51","v":0},{"$f":"'Other Funds Summary'!Y51+'Other Funds-Revision No. 1'!Y51","v":0},{"$f":"'Other Funds Summary'!Z51+'Other Funds-Revision No. 1'!Z51","v":0},{"$f":"'Other Funds Summary'!AA51+'Other Funds-Revision No. 1'!AA51","v":0},{"$f":"'Other Funds Summary'!AB51+'Other Funds-Revision No. 1'!AB51","v":0},{"$f":"'Other Funds Summary'!AC51+'Other Funds-Revision No. 1'!AC51","v":0},{"$f":"'Other Funds Summary'!AD51+'Other Funds-Revision No. 1'!AD51","v":0},{"$f":"'Other Funds Summary'!AE51+'Other Funds-Revision No. 1'!AE51","v":0},{"$f":"'Other Funds Summary'!AF51+'Other Funds-Revision No. 1'!AF51","v":0},{"$f":"'Other Funds Summary'!AG51+'Other Funds-Revision No. 1'!AG51","v":0},{"$f":"'Other Funds Summary'!AH51+'Other Funds-Revision No. 1'!AH51","v":0},{"$f":"'Other Funds Summary'!AI51+'Other Funds-Revision No. 1'!AI51","v":0},{"$f":"'Other Funds Summary'!AJ51+'Other Funds-Revision No. 1'!AJ51","v":0},{"$f":"'Other Funds Summary'!AK51+'Other Funds-Revision No. 1'!AK51","v":0},{"$f":"'Other Funds Summary'!AL51+'Other Funds-Revision No. 1'!AL51","v":17606},{"$f":"'Other Funds Summary'!AM51+'Other Funds-Revision No. 1'!AM51","v":26446}]
[{"$f":"+'Original ABG Allocation'!A52","v":"47"},{"$f":"+'Original ABG Allocation'!B52","v":"MERCER"},{"$f":"'Other Funds Summary'!C52+'Other Funds-Revision No. 1'!C52","v":0},{"$f":"'Other Funds Summary'!D52+'Other Funds-Revision No. 1'!D52","v":0},{"$f":"'Other Funds Summary'!E52+'Other Funds-Revision No. 1'!E52","v":8840},0,{"$f":"'Other Funds Summary'!G52+'Other Funds-Revision No. 1'!G52","v":0},{"$f":"'Other Funds Summary'!H52+'Other Funds-Revision No. 1'!H52","v":0},{"$f":"'Other Funds Summary'!I52+'Other Funds-Revision No. 1'!I52","v":0},{"$f":"'Other Funds Summary'!J52+'Other Funds-Revision No. 1'!J52","v":0},{"$f":"'Other Funds Summary'!K52+'Other Funds-Revision No. 1'!K52","v":0},{"$f":"'Other Funds Summary'!L52+'Other Funds-Revision No. 1'!L52","v":0},{"$f":"'Other Funds Summary'!M52+'Other Funds-Revision No. 1'!M52","v":0},{"$f":"'Other Funds Summary'!N52+'Other Funds-Revision No. 1'!N52","v":0},{"$f":"'Other Funds Summary'!O52+'Other Funds-Revision No. 1'!O52","v":0},{"$f":"'Other Funds Summary'!P52+'Other Funds-Revision No. 1'!P52","v":0},{"$f":"'Other Funds Summary'!Q52+'Other Funds-Revision No. 1'!Q52","v":0},{"$f":"'Other Funds Summary'!R52+'Other Funds-Revision No. 1'!R52","v":0},{"$f":"'Other Funds Summary'!S52+'Other Funds-Revision No. 1'!S52","v":0},{"$f":"'Other Funds Summary'!T52+'Other Funds-Revision No. 1'!T52","v":0},{"$f":"'Other Funds Summary'!U52+'Other Funds-Revision No. 1'!U52","v":0},{"$f":"'Other Funds Summary'!V52+'Other Funds-Revision No. 1'!V52","v":0},{"$f":"'Other Funds Summary'!W52+'Other Funds-Revision No. 1'!W52","v":0},{"$f":"'Other Funds Summary'!X52+'Other Funds-Revision No. 1'!X52","v":0},{"$f":"'Other Funds Summary'!Y52+'Other Funds-Revision No. 1'!Y52","v":0},{"$f":"'Other Funds Summary'!Z52+'Other Funds-Revision No. 1'!Z52","v":0},{"$f":"'Other Funds Summary'!AA52+'Other Funds-Revision No. 1'!AA52","v":0},{"$f":"'Other Funds Summary'!AB52+'Other Funds-Revision No. 1'!AB52","v":0},{"$f":"'Other Funds Summary'!AC52+'Other Funds-Revision No. 1'!AC52","v":0},{"$f":"'Other Funds Summary'!AD52+'Other Funds-Revision No. 1'!AD52","v":0},{"$f":"'Other Funds Summary'!AE52+'Other Funds-Revision No. 1'!AE52","v":0},{"$f":"'Other Funds Summary'!AF52+'Other Funds-Revision No. 1'!AF52","v":0},{"$f":"'Other Funds Summary'!AG52+'Other Funds-Revision No. 1'!AG52","v":0},{"$f":"'Other Funds Summary'!AH52+'Other Funds-Revision No. 1'!AH52","v":0},{"$f":"'Other Funds Summary'!AI52+'Other Funds-Revision No. 1'!AI52","v":0},{"$f":"'Other Funds Summary'!AJ52+'Other Funds-Revision No. 1'!AJ52","v":0},{"$f":"'Other Funds Summary'!AK52+'Other Funds-Revision No. 1'!AK52","v":0},{"$f":"'Other Funds Summary'!AL52+'Other Funds-Revision No. 1'!AL52","v":22459},{"$f":"'Other Funds Summary'!AM52+'Other Funds-Revision No. 1'!AM52","v":31299}]
[{"$f":"+'Original ABG Allocation'!A53","v":"48"},{"$f":"+'Original ABG Allocation'!B53","v":"MONROE"},{"$f":"'Other Funds Summary'!C53+'Other Funds-Revision No. 1'!C53","v":0},{"$f":"'Other Funds Summary'!D53+'Other Funds-Revision No. 1'!D53","v":0},{"$f":"'Other Funds Summary'!E53+'Other Funds-Revision No. 1'!E53","v":8840},0,{"$f":"'Other Funds Summary'!G53+'Other Funds-Revision No. 1'!G53","v":0},{"$f":"'Other Funds Summary'!H53+'Other Funds-Revision No. 1'!H53","v":0},{"$f":"'Other Funds Summary'!I53+'Other Funds-Revision No. 1'!I53","v":0},{"$f":"'Other Funds Summary'!J53+'Other Funds-Revision No. 1'!J53","v":0},{"$f":"'Other Funds Summary'!K53+'Other Funds-Revision No. 1'!K53","v":0},{"$f":"'Other Funds Summary'!L53+'Other Funds-Revision No. 1'!L53","v":0},{"$f":"'Other Funds Summary'!M53+'Other Funds-Revision No. 1'!M53","v":0},{"$f":"'Other Funds Summary'!N53+'Other Funds-Revision No. 1'!N53","v":0},{"$f":"'Other Funds Summary'!O53+'Other Funds-Revision No. 1'!O53","v":0},{"$f":"'Other Funds Summary'!P53+'Other Funds-Revision No. 1'!P53","v":0},{"$f":"'Other Funds Summary'!Q53+'Other Funds-Revision No. 1'!Q53","v":0},{"$f":"'Other Funds Summary'!R53+'Other Funds-Revision No. 1'!R53","v":0},{"$f":"'Other Funds Summary'!S53+'Other Funds-Revision No. 1'!S53","v":0},{"$f":"'Other Funds Summary'!T53+'Other Funds-Revision No. 1'!T53","v":0},{"$f":"'Other Funds Summary'!U53+'Other Funds-Revision No. 1'!U53","v":0},{"$f":"'Other Funds Summary'!V53+'Other Funds-Revision No. 1'!V53","v":0},{"$f":"'Other Funds Summary'!W53+'Other Funds-Revision No. 1'!W53","v":0},{"$f":"'Other Funds Summary'!X53+'Other Funds-Revision No. 1'!X53","v":0},{"$f":"'Other Funds Summary'!Y53+'Other Funds-Revision No. 1'!Y53","v":0},{"$f":"'Other Funds Summary'!Z53+'Other Funds-Revision No. 1'!Z53","v":0},{"$f":"'Other Funds Summary'!AA53+'Other Funds-Revision No. 1'!AA53","v":0},{"$f":"'Other Funds Summary'!AB53+'Other Funds-Revision No. 1'!AB53","v":0},{"$f":"'Other Funds Summary'!AC53+'Other Funds-Revision No. 1'!AC53","v":0},{"$f":"'Other Funds Summary'!AD53+'Other Funds-Revision No. 1'!AD53","v":0},{"$f":"'Other Funds Summary'!AE53+'Other Funds-Revision No. 1'!AE53","v":0},{"$f":"'Other Funds Summary'!AF53+'Other Funds-Revision No. 1'!AF53","v":0},{"$f":"'Other Funds Summary'!AG53+'Other Funds-Revision No. 1'!AG53","v":0},{"$f":"'Other Funds Summary'!AH53+'Other Funds-Revision No. 1'!AH53","v":0},{"$f":"'Other Funds Summary'!AI53+'Other Funds-Revision No. 1'!AI53","v":0},{"$f":"'Other Funds Summary'!AJ53+'Other Funds-Revision No. 1'!AJ53","v":0},{"$f":"'Other Funds Summary'!AK53+'Other Funds-Revision No. 1'!AK53","v":0},{"$f":"'Other Funds Summary'!AL53+'Other Funds-Revision No. 1'!AL53","v":33334},{"$f":"'Other Funds Summary'!AM53+'Other Funds-Revision No. 1'!AM53","v":42174}]
[{"$f":"+'Original ABG Allocation'!A54","v":"49"},{"$f":"+'Original ABG Allocation'!B54","v":"CLARION"},{"$f":"'Other Funds Summary'!C54+'Other Funds-Revision No. 1'!C54","v":0},{"$f":"'Other Funds Summary'!D54+'Other Funds-Revision No. 1'!D54","v":0},{"$f":"'Other Funds Summary'!E54+'Other Funds-Revision No. 1'!E54","v":8840},0,{"$f":"'Other Funds Summary'!G54+'Other Funds-Revision No. 1'!G54","v":0},{"$f":"'Other Funds Summary'!H54+'Other Funds-Revision No. 1'!H54","v":0},{"$f":"'Other Funds Summary'!I54+'Other Funds-Revision No. 1'!I54","v":0},{"$f":"'Other Funds Summary'!J54+'Other Funds-Revision No. 1'!J54","v":0},{"$f":"'Other Funds Summary'!K54+'Other Funds-Revision No. 1'!K54","v":0},{"$f":"'Other Funds Summary'!L54+'Other Funds-Revision No. 1'!L54","v":0},{"$f":"'Other Funds Summary'!M54+'Other Funds-Revision No. 1'!M54","v":0},{"$f":"'Other Funds Summary'!N54+'Other Funds-Revision No. 1'!N54","v":0},{"$f":"'Other Funds Summary'!O54+'Other Funds-Revision No. 1'!O54","v":0},{"$f":"'Other Funds Summary'!P54+'Other Funds-Revision No. 1'!P54","v":0},{"$f":"'Other Funds Summary'!Q54+'Other Funds-Revision No. 1'!Q54","v":0},{"$f":"'Other Funds Summary'!R54+'Other Funds-Revision No. 1'!R54","v":0},{"$f":"'Other Funds Summary'!S54+'Other Funds-Revision No. 1'!S54","v":0},{"$f":"'Other Funds Summary'!T54+'Other Funds-Revision No. 1'!T54","v":0},{"$f":"'Other Funds Summary'!U54+'Other Funds-Revision No. 1'!U54","v":0},{"$f":"'Other Funds Summary'!V54+'Other Funds-Revision No. 1'!V54","v":0},{"$f":"'Other Funds Summary'!W54+'Other Funds-Revision No. 1'!W54","v":0},{"$f":"'Other Funds Summary'!X54+'Other Funds-Revision No. 1'!X54","v":0},{"$f":"'Other Funds Summary'!Y54+'Other Funds-Revision No. 1'!Y54","v":0},{"$f":"'Other Funds Summary'!Z54+'Other Funds-Revision No. 1'!Z54","v":0},{"$f":"'Other Funds Summary'!AA54+'Other Funds-Revision No. 1'!AA54","v":0},{"$f":"'Other Funds Summary'!AB54+'Other Funds-Revision No. 1'!AB54","v":0},{"$f":"'Other Funds Summary'!AC54+'Other Funds-Revision No. 1'!AC54","v":0},{"$f":"'Other Funds Summary'!AD54+'Other Funds-Revision No. 1'!AD54","v":0},{"$f":"'Other Funds Summary'!AE54+'Other Funds-Revision No. 1'!AE54","v":0},{"$f":"'Other Funds Summary'!AF54+'Other Funds-Revision No. 1'!AF54","v":0},{"$f":"'Other Funds Summary'!AG54+'Other Funds-Revision No. 1'!AG54","v":0},{"$f":"'Other Funds Summary'!AH54+'Other Funds-Revision No. 1'!AH54","v":0},{"$f":"'Other Funds Summary'!AI54+'Other Funds-Revision No. 1'!AI54","v":0},{"$f":"'Other Funds Summary'!AJ54+'Other Funds-Revision No. 1'!AJ54","v":0},{"$f":"'Other Funds Summary'!AK54+'Other Funds-Revision No. 1'!AK54","v":0},{"$f":"'Other Funds Summary'!AL54+'Other Funds-Revision No. 1'!AL54","v":9909},{"$f":"'Other Funds Summary'!AM54+'Other Funds-Revision No. 1'!AM54","v":18749}]
[{"$f":"+'Original ABG Allocation'!A55","v":"50"},{"$f":"+'Original ABG Allocation'!B55","v":"BUTLER"},{"$f":"'Other Funds Summary'!C55+'Other Funds-Revision No. 1'!C55","v":0},{"$f":"'Other Funds Summary'!D55+'Other Funds-Revision No. 1'!D55","v":0},{"$f":"'Other Funds Summary'!E55+'Other Funds-Revision No. 1'!E55","v":8840},0,{"$f":"'Other Funds Summary'!G55+'Other Funds-Revision No. 1'!G55","v":0},{"$f":"'Other Funds Summary'!H55+'Other Funds-Revision No. 1'!H55","v":0},{"$f":"'Other Funds Summary'!I55+'Other Funds-Revision No. 1'!I55","v":0},{"$f":"'Other Funds Summary'!J55+'Other Funds-Revision No. 1'!J55","v":0},{"$f":"'Other Funds Summary'!K55+'Other Funds-Revision No. 1'!K55","v":0},{"$f":"'Other Funds Summary'!L55+'Other Funds-Revision No. 1'!L55","v":0},{"$f":"'Other Funds Summary'!M55+'Other Funds-Revision No. 1'!M55","v":0},{"$f":"'Other Funds Summary'!N55+'Other Funds-Revision No. 1'!N55","v":0},{"$f":"'Other Funds Summary'!O55+'Other Funds-Revision No. 1'!O55","v":0},{"$f":"'Other Funds Summary'!P55+'Other Funds-Revision No. 1'!P55","v":0},{"$f":"'Other Funds Summary'!Q55+'Other Funds-Revision No. 1'!Q55","v":0},{"$f":"'Other Funds Summary'!R55+'Other Funds-Revision No. 1'!R55","v":0},{"$f":"'Other Funds Summary'!S55+'Other Funds-Revision No. 1'!S55","v":0},{"$f":"'Other Funds Summary'!T55+'Other Funds-Revision No. 1'!T55","v":0},{"$f":"'Other Funds Summary'!U55+'Other Funds-Revision No. 1'!U55","v":0},{"$f":"'Other Funds Summary'!V55+'Other Funds-Revision No. 1'!V55","v":0},{"$f":"'Other Funds Summary'!W55+'Other Funds-Revision No. 1'!W55","v":0},{"$f":"'Other Funds Summary'!X55+'Other Funds-Revision No. 1'!X55","v":0},{"$f":"'Other Funds Summary'!Y55+'Other Funds-Revision No. 1'!Y55","v":0},{"$f":"'Other Funds Summary'!Z55+'Other Funds-Revision No. 1'!Z55","v":0},{"$f":"'Other Funds Summary'!AA55+'Other Funds-Revision No. 1'!AA55","v":0},{"$f":"'Other Funds Summary'!AB55+'Other Funds-Revision No. 1'!AB55","v":0},{"$f":"'Other Funds Summary'!AC55+'Other Funds-Revision No. 1'!AC55","v":0},{"$f":"'Other Funds Summary'!AD55+'Other Funds-Revision No. 1'!AD55","v":0},{"$f":"'Other Funds Summary'!AE55+'Other Funds-Revision No. 1'!AE55","v":0},{"$f":"'Other Funds Summary'!AF55+'Other Funds-Revision No. 1'!AF55","v":0},{"$f":"'Other Funds Summary'!AG55+'Other Funds-Revision No. 1'!AG55","v":0},{"$f":"'Other Funds Summary'!AH55+'Other Funds-Revision No. 1'!AH55","v":0},{"$f":"'Other Funds Summary'!AI55+'Other Funds-Revision No. 1'!AI55","v":0},{"$f":"'Other Funds Summary'!AJ55+'Other Funds-Revision No. 1'!AJ55","v":0},{"$f":"'Other Funds Summary'!AK55+'Other Funds-Revision No. 1'!AK55","v":0},{"$f":"'Other Funds Summary'!AL55+'Other Funds-Revision No. 1'!AL55","v":29771},{"$f":"'Other Funds Summary'!AM55+'Other Funds-Revision No. 1'!AM55","v":38611}]
[{"$f":"+'Original ABG Allocation'!A56","v":"51"},{"$f":"+'Original ABG Allocation'!B56","v":"POTTER"},{"$f":"'Other Funds Summary'!C56+'Other Funds-Revision No. 1'!C56","v":0},{"$f":"'Other Funds Summary'!D56+'Other Funds-Revision No. 1'!D56","v":0},{"$f":"'Other Funds Summary'!E56+'Other Funds-Revision No. 1'!E56","v":8840},0,{"$f":"'Other Funds Summary'!G56+'Other Funds-Revision No. 1'!G56","v":0},{"$f":"'Other Funds Summary'!H56+'Other Funds-Revision No. 1'!H56","v":0},{"$f":"'Other Funds Summary'!I56+'Other Funds-Revision No. 1'!I56","v":0},{"$f":"'Other Funds Summary'!J56+'Other Funds-Revision No. 1'!J56","v":0},{"$f":"'Other Funds Summary'!K56+'Other Funds-Revision No. 1'!K56","v":0},{"$f":"'Other Funds Summary'!L56+'Other Funds-Revision No. 1'!L56","v":0},{"$f":"'Other Funds Summary'!M56+'Other Funds-Revision No. 1'!M56","v":0},{"$f":"'Other Funds Summary'!N56+'Other Funds-Revision No. 1'!N56","v":0},{"$f":"'Other Funds Summary'!O56+'Other Funds-Revision No. 1'!O56","v":0},{"$f":"'Other Funds Summary'!P56+'Other Funds-Revision No. 1'!P56","v":0},{"$f":"'Other Funds Summary'!Q56+'Other Funds-Revision No. 1'!Q56","v":0},{"$f":"'Other Funds Summary'!R56+'Other Funds-Revision No. 1'!R56","v":0},{"$f":"'Other Funds Summary'!S56+'Other Funds-Revision No. 1'!S56","v":0},{"$f":"'Other Funds Summary'!T56+'Other Funds-Revision No. 1'!T56","v":0},{"$f":"'Other Funds Summary'!U56+'Other Funds-Revision No. 1'!U56","v":0},{"$f":"'Other Funds Summary'!V56+'Other Funds-Revision No. 1'!V56","v":0},{"$f":"'Other Funds Summary'!W56+'Other Funds-Revision No. 1'!W56","v":0},{"$f":"'Other Funds Summary'!X56+'Other Funds-Revision No. 1'!X56","v":0},{"$f":"'Other Funds Summary'!Y56+'Other Funds-Revision No. 1'!Y56","v":0},{"$f":"'Other Funds Summary'!Z56+'Other Funds-Revision No. 1'!Z56","v":0},{"$f":"'Other Funds Summary'!AA56+'Other Funds-Revision No. 1'!AA56","v":0},{"$f":"'Other Funds Summary'!AB56+'Other Funds-Revision No. 1'!AB56","v":0},{"$f":"'Other Funds Summary'!AC56+'Other Funds-Revision No. 1'!AC56","v":0},{"$f":"'Other Funds Summary'!AD56+'Other Funds-Revision No. 1'!AD56","v":0},{"$f":"'Other Funds Summary'!AE56+'Other Funds-Revision No. 1'!AE56","v":0},{"$f":"'Other Funds Summary'!AF56+'Other Funds-Revision No. 1'!AF56","v":0},{"$f":"'Other Funds Summary'!AG56+'Other Funds-Revision No. 1'!AG56","v":0},{"$f":"'Other Funds Summary'!AH56+'Other Funds-Revision No. 1'!AH56","v":0},{"$f":"'Other Funds Summary'!AI56+'Other Funds-Revision No. 1'!AI56","v":0},{"$f":"'Other Funds Summary'!AJ56+'Other Funds-Revision No. 1'!AJ56","v":0},{"$f":"'Other Funds Summary'!AK56+'Other Funds-Revision No. 1'!AK56","v":0},{"$f":"'Other Funds Summary'!AL56+'Other Funds-Revision No. 1'!AL56","v":4511},{"$f":"'Other Funds Summary'!AM56+'Other Funds-Revision No. 1'!AM56","v":13351}]
[{"$f":"+'Original ABG Allocation'!A57","v":"52"},{"$f":"+'Original ABG Allocation'!B57","v":"WAYNE"},{"$f":"'Other Funds Summary'!C57+'Other Funds-Revision No. 1'!C57","v":0},{"$f":"'Other Funds Summary'!D57+'Other Funds-Revision No. 1'!D57","v":0},{"$f":"'Other Funds Summary'!E57+'Other Funds-Revision No. 1'!E57","v":8840},0,{"$f":"'Other Funds Summary'!G57+'Other Funds-Revision No. 1'!G57","v":0},{"$f":"'Other Funds Summary'!H57+'Other Funds-Revision No. 1'!H57","v":0},{"$f":"'Other Funds Summary'!I57+'Other Funds-Revision No. 1'!I57","v":0},{"$f":"'Other Funds Summary'!J57+'Other Funds-Revision No. 1'!J57","v":0},{"$f":"'Other Funds Summary'!K57+'Other Funds-Revision No. 1'!K57","v":0},{"$f":"'Other Funds Summary'!L57+'Other Funds-Revision No. 1'!L57","v":0},{"$f":"'Other Funds Summary'!M57+'Other Funds-Revision No. 1'!M57","v":0},{"$f":"'Other Funds Summary'!N57+'Other Funds-Revision No. 1'!N57","v":0},{"$f":"'Other Funds Summary'!O57+'Other Funds-Revision No. 1'!O57","v":0},{"$f":"'Other Funds Summary'!P57+'Other Funds-Revision No. 1'!P57","v":0},{"$f":"'Other Funds Summary'!Q57+'Other Funds-Revision No. 1'!Q57","v":0},{"$f":"'Other Funds Summary'!R57+'Other Funds-Revision No. 1'!R57","v":0},{"$f":"'Other Funds Summary'!S57+'Other Funds-Revision No. 1'!S57","v":0},{"$f":"'Other Funds Summary'!T57+'Other Funds-Revision No. 1'!T57","v":0},{"$f":"'Other Funds Summary'!U57+'Other Funds-Revision No. 1'!U57","v":0},{"$f":"'Other Funds Summary'!V57+'Other Funds-Revision No. 1'!V57","v":0},{"$f":"'Other Funds Summary'!W57+'Other Funds-Revision No. 1'!W57","v":0},{"$f":"'Other Funds Summary'!X57+'Other Funds-Revision No. 1'!X57","v":0},{"$f":"'Other Funds Summary'!Y57+'Other Funds-Revision No. 1'!Y57","v":0},{"$f":"'Other Funds Summary'!Z57+'Other Funds-Revision No. 1'!Z57","v":0},{"$f":"'Other Funds Summary'!AA57+'Other Funds-Revision No. 1'!AA57","v":0},{"$f":"'Other Funds Summary'!AB57+'Other Funds-Revision No. 1'!AB57","v":0},{"$f":"'Other Funds Summary'!AC57+'Other Funds-Revision No. 1'!AC57","v":0},{"$f":"'Other Funds Summary'!AD57+'Other Funds-Revision No. 1'!AD57","v":0},{"$f":"'Other Funds Summary'!AE57+'Other Funds-Revision No. 1'!AE57","v":0},{"$f":"'Other Funds Summary'!AF57+'Other Funds-Revision No. 1'!AF57","v":0},{"$f":"'Other Funds Summary'!AG57+'Other Funds-Revision No. 1'!AG57","v":0},{"$f":"'Other Funds Summary'!AH57+'Other Funds-Revision No. 1'!AH57","v":0},{"$f":"'Other Funds Summary'!AI57+'Other Funds-Revision No. 1'!AI57","v":0},{"$f":"'Other Funds Summary'!AJ57+'Other Funds-Revision No. 1'!AJ57","v":0},{"$f":"'Other Funds Summary'!AK57+'Other Funds-Revision No. 1'!AK57","v":0},{"$f":"'Other Funds Summary'!AL57+'Other Funds-Revision No. 1'!AL57","v":13948},{"$f":"'Other Funds Summary'!AM57+'Other Funds-Revision No. 1'!AM57","v":22788}]
[null,"     TOTALS",{"$f":"SUM(C6:C57)","v":0},0,464070,0,0,0,0,0,0,0,0,0,0,0,0,0,0,0,0,0,0,0,0,0,0,0,0,0,0,0,0,0,0,0,0,2112887,2576957]

{"sheet":"Other Funds-Revision No. 2","index":16,"n_rows":58,"n_cols":39,"rows_kept":58,"cut":false,"hidden":true,"merged":[]}
["CHANGE NO. 2"]
["OTHER FUNDS"]
[{"$f":"+'Original ABG Allocation'!A3","v":"FY 2022-23"},null,{"$f":"+'Other Funds Summary'!C3","v":"(1)"},{"$f":"+'Other Funds Summary'!D3","v":"(2)"},{"$f":"+'Other Funds Summary'!E3","v":"(3)"},{"$f":"+'Other Funds Summary'!F3","v":"(3)"},{"$f":"+'Other Funds Summary'!G3","v":"(4)"},{"$f":"+'Other Funds Summary'!H3","v":"(5)"},{"$f":"+'Other Funds Summary'!I3","v":"(6)"},{"$f":"+'Other Funds Summary'!J3","v":"(7)"},{"$f":"+'Other Funds Summary'!K3","v":"(8)"},{"$f":"+'Other Funds Summary'!L3","v":"(9)"},{"$f":"+'Other Funds Summary'!M3","v":"(10)"},{"$f":"+'Other Funds Summary'!N3","v":"(11)"},{"$f":"+'Other Funds Summary'!O3","v":"(12)"},{"$f":"+'Other Funds Summary'!P3","v":"(13)"},{"$f":"+'Other Funds Summary'!Q3","v":"(14)"},{"$f":"+'Other Funds Summary'!R3","v":"(15)"},{"$f":"+'Other Funds Summary'!S3","v":"(16)"},{"$f":"+'Other Funds Summary'!T3","v":"(17)"},{"$f":"+'Other Funds Summary'!U3","v":"(18)"},{"$f":"+'Other Funds Summary'!V3","v":"(19)"},{"$f":"+'Other Funds Summary'!W3","v":"(20)"},{"$f":"+'Other Funds Summary'!X3","v":"(21)"},{"$f":"+'Other Funds Summary'!Y3","v":"(22)"},{"$f":"+'Other Funds Summary'!Z3","v":"(23)"},{"$f":"+'Other Funds Summary'!AA3","v":"(24)"},{"$f":"+'Other Funds Summary'!AB3","v":"(25)"},{"$f":"+'Other Funds Summary'!AC3","v":"(26)"},{"$f":"+'Other Funds Summary'!AD3","v":"(27)"},{"$f":"+'Other Funds Summary'!AE3","v":"(28)"},{"$f":"+'Other Funds Summary'!AF3","v":"(29)"},{"$f":"+'Other Funds Summary'!AG3","v":"(30)"},{"$f":"+'Other Funds Summary'!AH3","v":"(31)"},{"$f":"+'Other Funds Summary'!AI3","v":"(32)"},{"$f":"+'Other Funds Summary'!AJ3","v":"(33)"},{"$f":"+'Other Funds Summary'!AK3","v":"(34)"},{"$f":"+'Other Funds Summary'!AL3","v":"(35)"}]
[null,null,{"$f":"+'Other Funds Summary'!C4","v":"Ombudsman"},{"$f":"+'Other Funds Summary'!D4","v":"Ombudsman"},{"$f":"+'Other Funds Summary'!E4","v":"Ombudsman"},{"$f":"+'Other Funds Summary'!F4","v":"Ombudsman"},{"$f":"+'Other Funds Summary'!G4","v":"PA MEDI"},{"$f":"+'Other Funds Summary'!H4","v":"PA MEDI"},{"$f":"+'Other Funds Summary'!I4","v":"PA MEDI"},{"$f":"+'Other Funds Summary'!J4","v":"PA MEDI"},{"$f":"+'Other Funds Summary'!K4","v":"PA MEDI"},{"$f":"+'Other Funds Summary'!L4","v":"OPTIONS"},{"$f":"+'Other Funds Summary'!M4","v":"Block Grant"},null,{"$f":"+'Other Funds Summary'!O4","v":"Protective"},{"$f":"+'Other Funds Summary'!P4","v":"PS"},{"$f":"+'Other Funds Summary'!Q4","v":"OPTIONS"},{"$f":"+'Other Funds Summary'!R4","v":"Block Grant"},{"$f":"+'Other Funds Summary'!S4","v":"ARPA "},{"$f":"+'Other Funds Summary'!T4","v":"ARPA"},{"$f":"+'Other Funds Summary'!U4","v":"ARPA"},{"$f":"+'Other Funds Summary'!V4","v":"ARPA"},{"$f":"+'Other Funds Summary'!W4","v":"ARPA"},{"$f":"+'Other Funds Summary'!X4","v":"ADRC"},{"$f":"+'Other Funds Summary'!Y4","v":"FFCRA"},{"$f":"+'Other Funds Summary'!Z4","v":"FFCRA "},{"$f":"+'Other Funds Summary'!AA4","v":"CARES"},{"$f":"+'Other Funds Summary'!AB4","v":"CARES"},{"$f":"+'Other Funds Summary'!AC4","v":"CARES"},{"$f":"+'Other Funds Summary'!AD4","v":"PS Reserve Staff"},{"$f":"+'Other Funds Summary'!AE4","v":"Senior Center"},{"$f":"'Other Funds Summary'!AF4","v":"MIPPA-AAA"},{"$f":"'Other Funds Summary'!AG4","v":"MIPPA-ADRC"},{"$f":"'Other Funds Summary'!AH4","v":"MIPPA-SHIP"},{"$f":"'Other Funds Summary'!AI4","v":"MIPPA-SHIP"},{"$f":"'Other Funds Summary'!AJ4","v":"MIPPA-SHIP"},{"$f":"'Other Funds Summary'!AK4","v":"ADRC"},{"$f":"'Other Funds Summary'!AL4","v":"Covid Vaccine "},{"$f":"+'Other Funds Summary'!AM4","v":"TOTAL"}]
[null,null,{"$f":"+'Other Funds Summary'!C5","v":"ROC"},{"$f":"+'Other Funds Summary'!D5","v":"Volunteers"},{"$f":"+'Other Funds Summary'!E5","v":"Fed Care Act "},{"$f":"+'Other Funds Summary'!F5","v":"Fed Addl Care Act"},{"$f":"+'Other Funds Summary'!G5","v":"Reg. Staff"},{"$f":"+'Other Funds Summary'!H5","v":"Helpline"},{"$f":"+'Other Funds Summary'!I5","v":"Telecenter "},{"$f":"+'Other Funds Summary'!J5","v":"Base"},{"$f":"+'Other Funds Summary'!K5","v":"PHLP"},{"$f":"+'Other Funds Summary'!L5","v":"Services"},{"$f":"+'Other Funds Summary'!M5","v":"Supplement"},{"$f":"+'Other Funds Summary'!N5","v":"SNHT"},{"$f":"+'Other Funds Summary'!O5","v":"Services"},{"$f":"+'Other Funds Summary'!P5","v":"Personnel"},{"$f":"+'Other Funds Summary'!Q5","v":"Services (2)"},{"$f":"+'Other Funds Summary'!R5","v":"Supplement (2)"},{"$f":"+'Other Funds Summary'!S5","v":"Suppt Svs"},{"$f":"+'Other Funds Summary'!T5","v":"HD Meals"},{"$f":"+'Other Funds Summary'!U5","v":"Cong Meals"},{"$f":"+'Other Funds Summary'!V5","v":"Prev Health"},{"$f":"+'Other Funds Summary'!W5","v":"Family Caregiver"},{"$f":"+'Other Funds Summary'!X5","v":"Vaccine Suppt "},{"$f":"+'Other Funds Summary'!Y5","v":"HDMs"},{"$f":"+'Other Funds Summary'!Z5","v":"CMs"},{"$f":"+'Other Funds Summary'!AA5","v":"Services"},{"$f":"+'Other Funds Summary'!AB5","v":"Meals"},{"$f":"+'Other Funds Summary'!AC5","v":"Caregiver"},{"$f":"+'Other Funds Summary'!AD5","v":"Grant"},{"$f":"+'Other Funds Summary'!AE5","v":"Grant"},{"$f":"'Other Funds Summary'!AF5","v":"Priority 2"},{"$f":"'Other Funds Summary'!AG5","v":"Priority 3"},{"$f":"'Other Funds Summary'!AH5","v":"BDT"},{"$f":"'Other Funds Summary'!AI5","v":"PHLP"},{"$f":"'Other Funds Summary'!AJ5","v":"Performance"},{"$f":"'Other Funds Summary'!AK5","v":"Award"},{"$f":"'Other Funds Summary'!AL5","v":"Access"},{"$f":"'Other Funds Summary'!AM5","v":"OTHER"}]
[{"$f":"+'Original ABG Allocation'!A6","v":"01"},{"$f":"+'Original ABG Allocation'!B6","v":"ERIE"},0,0,0,0,0,0,0,0,0,0,0,0,0,0,0,0,0,0,0,0,0,0,0,0,0,0,0,0,0,0,0,0,0,0,0,0,{"$f":"SUM(C6:AL6)","v":0}]
[{"$f":"+'Original ABG Allocation'!A7","v":"02"},{"$f":"+'Original ABG Allocation'!B7","v":"CRAWFORD"},0,0,0,0,0,0,0,0,0,0,0,0,0,0,0,0,0,0,0,0,0,0,0,0,0,0,0,0,0,0,0,0,0,0,0,0,{"$f":"SUM(C7:AL7)","v":0}]
[{"$f":"+'Original ABG Allocation'!A8","v":"03"},{"$f":"+'Original ABG Allocation'!B8","v":"CAM/ELK/MCKEAN"},0,0,0,0,0,0,0,0,0,0,0,0,0,0,0,0,0,0,0,0,0,0,0,0,0,0,0,0,0,0,0,0,0,0,0,0,0]
[{"$f":"+'Original ABG Allocation'!A9","v":"04"},{"$f":"+'Original ABG Allocation'!B9","v":"BEAVER"},0,0,0,0,0,0,0,0,0,0,0,0,0,0,0,0,0,0,0,0,0,0,0,0,0,0,0,0,0,0,0,0,0,0,0,0,0]
[{"$f":"+'Original ABG Allocation'!A10","v":"05"},{"$f":"+'Original ABG Allocation'!B10","v":"INDIANA"},0,0,0,0,0,0,0,0,0,0,0,0,0,0,0,0,0,0,0,0,0,0,0,0,0,0,0,0,0,0,0,0,0,0,0,0,0]
[{"$f":"+'Original ABG Allocation'!A11","v":"06"},{"$f":"+'Original ABG Allocation'!B11","v":"ALLEGHENY"},0,0,0,0,0,0,0,0,0,0,0,0,0,0,0,0,0,0,0,0,0,0,0,0,0,0,0,0,0,0,0,0,0,0,0,0,0]
[{"$f":"+'Original ABG Allocation'!A12","v":"07"},{"$f":"+'Original ABG Allocation'!B12","v":"WESTMORELAND"},0,0,0,0,0,0,0,0,0,0,0,0,0,0,0,0,0,0,0,0,0,0,0,0,0,0,0,0,0,0,0,0,0,0,0,0,0]
[{"$f":"+'Original ABG Allocation'!A13","v":"08"},{"$f":"+'Original ABG Allocation'!B13","v":"WASH/FAY/GREENE"},0,0,0,0,0,0,0,0,0,0,0,0,0,0,0,0,0,0,0,0,0,0,0,0,0,0,0,0,0,0,0,0,0,0,0,0,0]
[{"$f":"+'Original ABG Allocation'!A14","v":"09"},{"$f":"+'Original ABG Allocation'!B14","v":"SOMERSET"},0,0,null,0,0,0,0,0,0,0,0,0,0,0,0,0,0,0,0,0,0,0,0,0,0,0,0,0,0,0,0,0,0,0,0,0,0]
[{"$f":"+'Original ABG Allocation'!A15","v":"10"},{"$f":"+'Original ABG Allocation'!B15","v":"CAMBRIA"},0,null,null,null,0,0,0,0,0,0,0,0,0,0,0,0,0,0,0,0,0,0,0,0,0,0,0,0,0,0,0,0,0,0,0,0,0]
[{"$f":"+'Original ABG Allocation'!A16","v":"11"},{"$f":"+'Original ABG Allocation'!B16","v":"BLAIR"},0,null,null,null,0,0,0,0,0,0,0,0,0,0,0,0,0,0,0,0,0,0,0,0,0,0,0,0,0,0,0,0,0,0,0,0,0]
[{"$f":"+'Original ABG Allocation'!A17","v":"12"},{"$f":"+'Original ABG Allocation'!B17","v":"BED/FULT/HUNT"},0,0,null,0,0,0,0,0,0,0,0,0,0,0,0,0,0,0,0,0,0,0,0,0,0,0,0,0,0,0,0,0,0,0,0,0,0]
[{"$f":"+'Original ABG Allocation'!A18","v":"13"},{"$f":"+'Original ABG Allocation'!B18","v":"CENTRE"},0,null,null,null,0,0,0,0,0,0,0,0,0,0,0,0,0,0,0,0,0,0,0,0,0,0,0,0,0,0,0,0,0,0,0,0,0]
[{"$f":"+'Original ABG Allocation'!A19","v":"14"},{"$f":"+'Original ABG Allocation'!B19","v":"LYCOM/CLINTON"},0,0,0,0,0,0,0,0,0,0,0,0,0,0,0,0,0,0,0,0,0,0,0,0,0,0,0,0,0,0,0,0,0,0,0,0,0]
[{"$f":"+'Original ABG Allocation'!A20","v":"15"},{"$f":"+'Original ABG Allocation'!B20","v":"COLUM/MONT"},0,0,0,0,0,0,0,0,0,0,0,0,0,0,0,0,0,0,0,0,0,0,0,0,0,0,0,0,0,0,0,0,0,0,0,0,0]
[{"$f":"+'Original ABG Allocation'!A21","v":"16"},{"$f":"+'Original ABG Allocation'!B21","v":"NORTHUMBERLND"},0,0,0,0,0,0,0,0,0,0,0,0,0,0,0,0,0,0,0,0,0,0,0,0,0,0,0,0,0,0,0,0,0,0,0,0,0]
[{"$f":"+'Original ABG Allocation'!A22","v":"17"},{"$f":"+'Original ABG Allocation'!B22","v":"UNION/SNYDER"},0,0,0,0,0,0,0,0,0,0,0,0,0,0,0,0,0,0,0,0,0,0,0,0,0,0,0,0,0,0,0,0,0,0,0,0,0]
[{"$f":"+'Original ABG Allocation'!A23","v":"18"},{"$f":"+'Original ABG Allocation'!B23","v":"MIFF/JUNIATA"},0,null,null,null,0,0,0,0,0,0,0,0,0,0,0,0,0,0,0,0,0,0,0,0,0,0,0,0,0,0,0,0,0,0,0,0,0]
[{"$f":"+'Original ABG Allocation'!A24","v":"19"},{"$f":"+'Original ABG Allocation'!B24","v":"FRANKLIN"},0,0,0,0,0,0,0,0,0,0,0,0,0,0,0,0,0,0,0,0,0,0,0,0,0,0,0,0,0,0,0,0,0,0,0,0,0]
[{"$f":"+'Original ABG Allocation'!A25","v":"20"},{"$f":"+'Original ABG Allocation'!B25","v":"ADAMS"},0,null,0,0,0,0,0,0,0,0,0,0,0,0,0,0,0,0,0,0,0,0,0,0,0,0,0,0,0,0,0,0,0,0,0,0,0]
[{"$f":"+'Original ABG Allocation'!A26","v":"21"},{"$f":"+'Original ABG Allocation'!B26","v":"CUMBERLAND"},0,null,0,0,0,0,0,0,0,0,0,0,0,0,0,0,0,0,0,0,0,0,0,0,0,0,0,0,0,0,0,0,0,0,0,0,0]
[{"$f":"+'Original ABG Allocation'!A27","v":"22"},{"$f":"+'Original ABG Allocation'!B27","v":"PERRY"},0,null,null,null,0,0,0,0,0,0,0,0,0,0,0,0,0,0,0,0,0,0,0,0,0,0,0,0,0,0,0,0,0,0,0,0,0]
[{"$f":"+'Original ABG Allocation'!A28","v":"23"},{"$f":"+'Original ABG Allocation'!B28","v":"DAUPHIN"},0,null,null,null,0,0,0,0,0,0,0,0,0,0,0,0,0,0,0,0,0,0,0,0,0,0,0,0,0,0,0,0,0,0,0,0,0]
[{"$f":"+'Original ABG Allocation'!A29","v":"24"},{"$f":"+'Original ABG Allocation'!B29","v":"LEBANON"},0,null,null,0,0,0,0,0,0,0,0,0,0,0,0,0,0,0,0,0,0,0,0,0,0,0,0,0,0,0,0,0,0,0,0,0,0]
[{"$f":"+'Original ABG Allocation'!A30","v":"25"},{"$f":"+'Original ABG Allocation'!B30","v":"YORK"},0,null,0,0,0,0,0,0,0,0,0,0,0,0,0,0,0,0,0,0,0,0,0,0,0,0,0,0,0,0,0,0,0,0,0,0,0]
[{"$f":"+'Original ABG Allocation'!A31","v":"26"},{"$f":"+'Original ABG Allocation'!B31","v":"LANCASTER"},0,null,0,0,0,0,0,0,0,0,0,0,0,0,0,0,0,0,0,0,0,0,0,0,0,0,0,0,0,0,0,0,0,0,0,0,0]
[{"$f":"+'Original ABG Allocation'!A32","v":"27"},{"$f":"+'Original ABG Allocation'!B32","v":"CHESTER"},0,null,0,0,0,0,0,0,0,0,0,0,0,0,0,0,0,0,0,0,0,0,0,0,0,0,0,0,0,0,0,0,0,0,0,0,0]
[{"$f":"+'Original ABG Allocation'!A33","v":"28"},{"$f":"+'Original ABG Allocation'!B33","v":"MONTGOMERY"},0,null,null,null,0,0,0,0,0,0,0,0,0,0,0,0,0,0,0,0,0,0,0,0,0,0,0,0,0,0,0,0,0,0,0,0,0]
[{"$f":"+'Original ABG Allocation'!A34","v":"29"},{"$f":"+'Original ABG Allocation'!B34","v":"BUCKS"},0,null,0,0,0,0,0,0,0,0,0,0,0,0,0,0,0,0,0,0,0,0,0,0,0,0,0,0,0,0,0,0,0,0,0,0,0]
[{"$f":"+'Original ABG Allocation'!A35","v":"30"},{"$f":"+'Original ABG Allocation'!B35","v":"DELAWARE"},0,null,0,0,0,0,0,0,0,0,0,0,0,0,0,0,0,0,0,0,0,0,0,0,0,0,0,0,0,0,0,0,0,0,0,0,0]
[{"$f":"+'Original ABG Allocation'!A36","v":"31"},{"$f":"+'Original ABG Allocation'!B36","v":"PHILADELPHIA"},0,null,null,null,0,0,0,0,0,0,0,0,0,0,0,0,0,0,0,0,0,0,0,0,0,0,0,0,0,0,0,0,0,0,0,0,0]
[{"$f":"+'Original ABG Allocation'!A37","v":"32"},{"$f":"+'Original ABG Allocation'!B37","v":"BERKS"},0,null,0,0,0,0,0,0,0,0,0,0,0,0,0,0,0,0,0,0,0,0,0,0,0,0,0,0,0,0,0,0,0,0,0,0,0]
[{"$f":"+'Original ABG Allocation'!A38","v":"33"},{"$f":"+'Original ABG Allocation'!B38","v":"LEHIGH"},0,0,0,0,0,0,0,0,0,0,0,0,0,0,0,0,0,0,0,0,0,0,0,0,0,0,0,0,0,0,0,0,0,0,0,0,0]
[{"$f":"+'Original ABG Allocation'!A39","v":"34"},{"$f":"+'Original ABG Allocation'!B39","v":"NORTHAMPTON"},0,0,0,0,0,0,0,0,0,0,0,0,0,0,0,0,0,0,0,0,0,0,0,0,0,0,0,0,0,0,0,0,0,0,0,0,0]
[{"$f":"+'Original ABG Allocation'!A40","v":"35"},{"$f":"+'Original ABG Allocation'!B40","v":"PIKE"},0,0,0,0,0,0,0,0,0,0,0,0,0,0,0,0,0,0,0,0,0,0,0,0,0,0,0,0,0,0,0,0,0,0,0,0,0]
[{"$f":"+'Original ABG Allocation'!A41","v":"36"},{"$f":"+'Original ABG Allocation'!B41","v":"B/S/S/T"},0,0,0,0,0,0,0,0,0,0,0,0,0,0,0,0,0,0,0,0,0,0,0,0,0,0,0,0,0,0,0,0,0,0,0,0,0]
[{"$f":"+'Original ABG Allocation'!A42","v":"37"},{"$f":"+'Original ABG Allocation'!B42","v":"LUZERNE/WYOMING"},0,null,null,0,0,0,0,0,0,0,0,0,0,0,0,0,0,0,0,0,0,0,0,0,0,0,0,0,0,0,0,0,0,0,0,0,0]
[{"$f":"+'Original ABG Allocation'!A43","v":"38"},{"$f":"+'Original ABG Allocation'!B43","v":"LACKAWANNA"},0,null,null,0,0,0,0,0,0,0,0,0,0,0,0,0,0,0,0,0,0,0,0,0,0,0,0,0,0,0,0,0,0,0,0,0,0]
[{"$f":"+'Original ABG Allocation'!A44","v":"39"},{"$f":"+'Original ABG Allocation'!B44","v":"CARBON"},0,0,null,0,0,0,0,0,0,0,0,0,0,0,0,0,0,0,0,0,0,0,0,0,0,0,0,0,0,0,0,0,0,0,0,0,0]
[{"$f":"+'Original ABG Allocation'!A45","v":"40"},{"$f":"+'Original ABG Allocation'!B45","v":"SCHUYLKILL"},0,null,null,0,0,0,0,0,0,0,0,0,0,0,0,0,0,0,0,0,0,0,0,0,0,0,0,0,0,0,0,0,0,0,0,0,0]
[{"$f":"+'Original ABG Allocation'!A46","v":"41"},{"$f":"+'Original ABG Allocation'!B46","v":"CLEARFIELD"},0,null,null,0,0,0,0,0,0,0,0,0,0,0,0,0,0,0,0,0,0,0,0,0,0,0,0,0,0,0,0,0,0,0,0,0,0]
[{"$f":"+'Original ABG Allocation'!A47","v":"42"},{"$f":"+'Original ABG Allocation'!B47","v":"JEFFERSON"},0,null,null,null,0,0,0,0,0,0,0,0,0,0,0,0,0,0,0,0,0,0,0,0,0,0,0,0,0,0,0,0,0,0,0,0,0]
[{"$f":"+'Original ABG Allocation'!A48","v":"43"},{"$f":"+'Original ABG Allocation'!B48","v":"FOREST/WARREN"},0,null,null,null,0,0,0,0,0,0,0,0,0,0,0,0,0,0,0,0,0,0,0,0,0,0,0,0,0,0,0,0,0,0,0,0,0]
[{"$f":"+'Original ABG Allocation'!A49","v":"44"},{"$f":"+'Original ABG Allocation'!B49","v":"VENANGO"},0,null,null,null,0,0,0,0,0,0,0,0,0,0,0,0,0,0,0,0,0,0,0,0,0,0,0,0,0,0,0,0,0,0,0,0,0]
[{"$f":"+'Original ABG Allocation'!A50","v":"45"},{"$f":"+'Original ABG Allocation'!B50","v":"ARMSTRONG"},0,0,0,0,0,0,0,0,0,0,0,0,0,0,0,0,0,0,0,0,0,0,0,0,0,0,0,0,0,0,0,0,0,0,0,0,0]
[{"$f":"+'Original ABG Allocation'!A51","v":"46"},{"$f":"+'Original ABG Allocation'!B51","v":"LAWRENCE"},0,null,0,0,0,0,0,0,0,0,0,0,0,0,0,0,0,0,0,0,0,0,0,0,0,0,0,0,0,0,0,0,0,0,0,0,0]
[{"$f":"+'Original ABG Allocation'!A52","v":"47"},{"$f":"+'Original ABG Allocation'!B52","v":"MERCER"},0,null,null,null,0,0,0,0,0,0,0,0,0,0,0,0,0,0,0,0,0,0,0,0,0,0,0,0,0,0,0,0,0,0,0,0,0]
[{"$f":"+'Original ABG Allocation'!A53","v":"48"},{"$f":"+'Original ABG Allocation'!B53","v":"MONROE"},0,null,0,0,0,0,0,0,0,0,0,0,0,0,0,0,0,0,0,0,0,0,0,0,0,0,0,0,0,0,0,0,0,0,0,0,0]
[{"$f":"+'Original ABG Allocation'!A54","v":"49"},{"$f":"+'Original ABG Allocation'!B54","v":"CLARION"},0,null,null,null,0,0,0,0,0,0,0,0,0,0,0,0,0,0,0,0,0,0,0,0,0,0,0,0,0,0,0,0,0,0,0,0,0]
[{"$f":"+'Original ABG Allocation'!A55","v":"50"},{"$f":"+'Original ABG Allocation'!B55","v":"BUTLER"},0,null,0,0,0,0,0,0,0,0,0,0,0,0,0,0,0,0,0,0,0,0,0,0,0,0,0,0,0,0,0,0,0,0,0,0,0]
[{"$f":"+'Original ABG Allocation'!A56","v":"51"},{"$f":"+'Original ABG Allocation'!B56","v":"POTTER"},0,null,null,null,0,0,0,0,0,0,0,0,0,0,0,0,0,0,0,0,0,0,0,0,0,0,0,0,0,0,0,0,0,0,0,0,0]
[{"$f":"+'Original ABG Allocation'!A57","v":"52"},{"$f":"+'Original ABG Allocation'!B57","v":"WAYNE"},0,0,0,0,0,0,0,0,0,0,0,0,0,0,0,0,0,0,0,0,0,0,0,0,0,0,0,0,0,0,0,0,0,0,0,0,{"$f":"SUM(C57:AL57)","v":0}]
[null,"     TOTALS",{"$f":"SUM(C6:C57)","v":0},{"$f":"SUM(D6:D57)","v":0},0,0,0,0,0,0,0,0,0,0,0,0,0,0,0,0,0,0,0,0,0,0,0,0,0,0,0,0,0,0,0,0,null,null,0]

{"sheet":"Amendment 2- Other Funds ","index":17,"n_rows":60,"n_cols":39,"rows_kept":60,"cut":false,"hidden":true,"merged":[]}
["AMENDMENT NO. 2"]
["OTHER FUNDS"]
[{"$f":"+'Original ABG Allocation'!A3","v":"FY 2022-23"},null,{"$f":"+'Other Funds-Revision No. 2'!C3","v":"(1)"},{"$f":"+'Other Funds-Revision No. 2'!D3","v":"(2)"},{"$f":"+'Other Funds-Revision No. 2'!E3","v":"(3)"},{"$f":"+'Other Funds-Revision No. 2'!F3","v":"(3)"},{"$f":"+'Other Funds-Revision No. 2'!G3","v":"(4)"},{"$f":"+'Other Funds-Revision No. 2'!H3","v":"(5)"},{"$f":"+'Other Funds-Revision No. 2'!I3","v":"(6)"},{"$f":"+'Other Funds-Revision No. 2'!J3","v":"(7)"},{"$f":"+'Other Funds-Revision No. 2'!K3","v":"(8)"},{"$f":"+'Other Funds-Revision No. 2'!L3","v":"(9)"},{"$f":"+'Other Funds-Revision No. 2'!M3","v":"(10)"},{"$f":"+'Other Funds-Revision No. 2'!N3","v":"(11)"},{"$f":"+'Other Funds-Revision No. 2'!O3","v":"(12)"},{"$f":"+'Other Funds-Revision No. 2'!P3","v":"(13)"},{"$f":"+'Other Funds-Revision No. 2'!Q3","v":"(14)"},{"$f":"+'Other Funds-Revision No. 2'!R3","v":"(15)"},{"$f":"+'Other Funds-Revision No. 2'!S3","v":"(16)"},{"$f":"+'Other Funds-Revision No. 2'!T3","v":"(17)"},{"$f":"+'Other Funds-Revision No. 2'!U3","v":"(18)"},{"$f":"+'Other Funds-Revision No. 2'!V3","v":"(19)"},{"$f":"+'Other Funds-Revision No. 2'!W3","v":"(20)"},{"$f":"+'Other Funds-Revision No. 2'!X3","v":"(21)"},{"$f":"+'Other Funds-Revision No. 2'!Y3","v":"(22)"},{"$f":"+'Other Funds-Revision No. 2'!Z3","v":"(23)"},{"$f":"+'Other Funds-Revision No. 2'!AA3","v":"(24)"},{"$f":"+'Other Funds-Revision No. 2'!AB3","v":"(25)"},{"$f":"+'Other Funds-Revision No. 2'!AC3","v":"(26)"},{"$f":"+'Other Funds-Revision No. 2'!AD3","v":"(27)"},{"$f":"+'Other Funds-Revision No. 2'!AE3","v":"(28)"},{"$f":"+'Other Funds-Revision No. 2'!AF3","v":"(29)"},{"$f":"+'Other Funds-Revision No. 2'!AG3","v":"(30)"},{"$f":"+'Other Funds-Revision No. 2'!AH3","v":"(31)"},{"$f":"+'Other Funds-Revision No. 2'!AI3","v":"(32)"},{"$f":"+'Other Funds-Revision No. 2'!AJ3","v":"(33)"},{"$f":"+'Other Funds-Revision No. 2'!AK3","v":"(34)"},{"$f":"+'Other Funds-Revision No. 2'!AL3","v":"(35)"}]
[null,null,{"$f":"+'Other Funds-Revision No. 2'!C4","v":"Ombudsman"},{"$f":"+'Other Funds-Revision No. 2'!D4","v":"Ombudsman"},{"$f":"+'Other Funds-Revision No. 2'!E4","v":"Ombudsman"},{"$f":"+'Other Funds-Revision No. 2'!F4","v":"Ombudsman"},{"$f":"+'Other Funds-Revision No. 2'!G4","v":"PA MEDI"},{"$f":"+'Other Funds-Revision No. 2'!H4","v":"PA MEDI"},{"$f":"+'Other Funds-Revision No. 2'!I4","v":"PA MEDI"},{"$f":"+'Other Funds-Revision No. 2'!J4","v":"PA MEDI"},{"$f":"+'Other Funds-Revision No. 2'!K4","v":"PA MEDI"},{"$f":"+'Other Funds-Revision No. 2'!L4","v":"OPTIONS"},{"$f":"+'Other Funds-Revision No. 2'!M4","v":"Block Grant"},null,{"$f":"+'Other Funds-Revision No. 2'!O4","v":"Protective"},{"$f":"+'Other Funds-Revision No. 2'!P4","v":"PS"},{"$f":"+'Other Funds-Revision No. 2'!Q4","v":"OPTIONS"},{"$f":"+'Other Funds-Revision No. 2'!R4","v":"Block Grant"},{"$f":"+'Other Funds-Revision No. 2'!S4","v":"ARPA "},{"$f":"+'Other Funds-Revision No. 2'!T4","v":"ARPA"},{"$f":"+'Other Funds-Revision No. 2'!U4","v":"ARPA"},{"$f":"+'Other Funds-Revision No. 2'!V4","v":"ARPA"},{"$f":"+'Other Funds-Revision No. 2'!W4","v":"ARPA"},{"$f":"+'Other Funds-Revision No. 2'!X4","v":"ADRC"},{"$f":"+'Other Funds-Revision No. 2'!Y4","v":"FFCRA"},{"$f":"+'Other Funds-Revision No. 2'!Z4","v":"FFCRA "},{"$f":"+'Other Funds-Revision No. 2'!AA4","v":"CARES"},{"$f":"+'Other Funds-Revision No. 2'!AB4","v":"CARES"},{"$f":"+'Other Funds-Revision No. 2'!AC4","v":"CARES"},{"$f":"+'Other Funds-Revision No. 2'!AD4","v":"PS Reserve Staff"},{"$f":"+'Other Funds-Revision No. 2'!AE4","v":"Senior Center"},{"$f":"'Other Funds Summary'!AF4","v":"MIPPA-AAA"},{"$f":"'Other Funds Summary'!AG4","v":"MIPPA-ADRC"},{"$f":"'Other Funds Summary'!AH4","v":"MIPPA-SHIP"},{"$f":"'Other Funds Summary'!AI4","v":"MIPPA-SHIP"},{"$f":"'Other Funds Summary'!AJ4","v":"MIPPA-SHIP"},{"$f":"'Other Funds Summary'!AK4","v":"ADRC"},{"$f":"'Other Funds Summary'!AL4","v":"Covid Vaccine "},"Total"]
[null,null,{"$f":"+'Other Funds-Revision No. 2'!C5","v":"ROC"},{"$f":"+'Other Funds-Revision No. 2'!D5","v":"Volunteers"},{"$f":"+'Other Funds-Revision No. 2'!E5","v":"Fed Care Act "},{"$f":"+'Other Funds-Revision No. 2'!F5","v":"Fed Addl Care Act"},null,{"$f":"+'Other Funds-Revision No. 2'!H5","v":"Helpline"},{"$f":"+'Other Funds-Revision No. 2'!I5","v":"Telecenter "},{"$f":"+'Other Funds-Revision No. 2'!J5","v":"Base"},{"$f":"+'Other Funds-Revision No. 2'!K5","v":"PHLP"},{"$f":"+'Other Funds-Revision No. 2'!L5","v":"Services"},{"$f":"+'Other Funds-Revision No. 2'!M5","v":"Supplement"},{"$f":"+'Other Funds-Revision No. 2'!N5","v":"SNHT"},{"$f":"+'Other Funds-Revision No. 2'!O5","v":"Services"},{"$f":"+'Other Funds-Revision No. 2'!P5","v":"Personnel"},{"$f":"+'Other Funds-Revision No. 2'!Q5","v":"Services (2)"},{"$f":"+'Other Funds-Revision No. 2'!R5","v":"Supplement (2)"},{"$f":"+'Other Funds-Revision No. 2'!S5","v":"Suppt Svs"},{"$f":"+'Other Funds-Revision No. 2'!T5","v":"HD Meals"},{"$f":"+'Other Funds-Revision No. 2'!U5","v":"Cong Meals"},{"$f":"+'Other Funds-Revision No. 2'!V5","v":"Prev Health"},{"$f":"+'Other Funds-Revision No. 2'!W5","v":"Family Caregiver"},{"$f":"+'Other Funds-Revision No. 2'!X5","v":"Vaccine Suppt "},{"$f":"+'Other Funds-Revision No. 2'!Y5","v":"HDMs"},{"$f":"+'Other Funds-Revision No. 2'!Z5","v":"CMs"},{"$f":"+'Other Funds-Revision No. 2'!AA5","v":"Services"},{"$f":"+'Other Funds-Revision No. 2'!AB5","v":"Meals"},{"$f":"+'Other Funds-Revision No. 2'!AC5","v":"Caregiver"},{"$f":"+'Other Funds-Revision No. 2'!AD5","v":"Grant"},{"$f":"+'Other Funds-Revision No. 2'!AE5","v":"Grant"},{"$f":"'Other Funds Summary'!AF5","v":"Priority 2"},{"$f":"'Other Funds Summary'!AG5","v":"Priority 3"},{"$f":"'Other Funds Summary'!AH5","v":"BDT"},{"$f":"'Other Funds Summary'!AI5","v":"PHLP"},{"$f":"'Other Funds Summary'!AJ5","v":"Performance"},{"$f":"'Other Funds Summary'!AK5","v":"Award"},{"$f":"'Other Funds Summary'!AL5","v":"Access"},"Other"]
[{"$f":"+'Original ABG Allocation'!A6","v":"01"},{"$f":"+'Original ABG Allocation'!B6","v":"ERIE"},{"$f":"'Amendment 1-Other Funds'!C6+'Other Funds-Revision No. 2'!C6","v":0},{"$f":"'Amendment 1-Other Funds'!D6+'Other Funds-Revision No. 2'!D6","v":0},{"$f":"'Amendment 1-Other Funds'!E6+'Other Funds-Revision No. 2'!E6","v":8840},{"$f":"'Amendment 1-Other Funds'!F6+'Other Funds-Revision No. 2'!F6","v":0},{"$f":"'Amendment 1-Other Funds'!G6+'Other Funds-Revision No. 2'!G6","v":0},{"$f":"'Amendment 1-Other Funds'!H6+'Other Funds-Revision No. 2'!H6","v":0},{"$f":"'Amendment 1-Other Funds'!I6+'Other Funds-Revision No. 2'!I6","v":0},{"$f":"'Amendment 1-Other Funds'!J6+'Other Funds-Revision No. 2'!J6","v":0},{"$f":"'Amendment 1-Other Funds'!K6+'Other Funds-Revision No. 2'!K6","v":0},{"$f":"'Amendment 1-Other Funds'!L6+'Other Funds-Revision No. 2'!L6","v":0},{"$f":"'Amendment 1-Other Funds'!M6+'Other Funds-Revision No. 2'!M6","v":0},{"$f":"'Amendment 1-Other Funds'!N6+'Other Funds-Revision No. 2'!N6","v":0},{"$f":"'Amendment 1-Other Funds'!O6+'Other Funds-Revision No. 2'!O6","v":0},{"$f":"'Amendment 1-Other Funds'!P6+'Other Funds-Revision No. 2'!P6","v":0},{"$f":"'Amendment 1-Other Funds'!Q6+'Other Funds-Revision No. 2'!Q6","v":0},{"$f":"'Amendment 1-Other Funds'!R6+'Other Funds-Revision No. 2'!R6","v":0},{"$f":"'Amendment 1-Other Funds'!S6+'Other Funds-Revision No. 2'!S6","v":0},{"$f":"'Amendment 1-Other Funds'!T6+'Other Funds-Revision No. 2'!T6","v":0},{"$f":"'Amendment 1-Other Funds'!U6+'Other Funds-Revision No. 2'!U6","v":0},{"$f":"'Amendment 1-Other Funds'!V6+'Other Funds-Revision No. 2'!V6","v":0},{"$f":"'Amendment 1-Other Funds'!W6+'Other Funds-Revision No. 2'!W6","v":0},{"$f":"'Amendment 1-Other Funds'!X6+'Other Funds-Revision No. 2'!X6","v":0},{"$f":"'Amendment 1-Other Funds'!Y6+'Other Funds-Revision No. 2'!Y6","v":0},{"$f":"'Amendment 1-Other Funds'!Z6+'Other Funds-Revision No. 2'!Z6","v":0},{"$f":"'Amendment 1-Other Funds'!AA6+'Other Funds-Revision No. 2'!AA6","v":0},{"$f":"'Amendment 1-Other Funds'!AB6+'Other Funds-Revision No. 2'!AB6","v":0},{"$f":"'Amendment 1-Other Funds'!AC6+'Other Funds-Revision No. 2'!AC6","v":0},{"$f":"'Amendment 1-Other Funds'!AD6+'Other Funds-Revision No. 2'!AD6","v":0},{"$f":"'Amendment 1-Other Funds'!AE6+'Other Funds-Revision No. 2'!AE6","v":0},{"$f":"'Amendment 1-Other Funds'!AF6+'Other Funds-Revision No. 2'!AF6","v":0},{"$f":"'Amendment 1-Other Funds'!AG6+'Other Funds-Revision No. 2'!AG6","v":0},{"$f":"'Amendment 1-Other Funds'!AH6+'Other Funds-Revision No. 2'!AH6","v":0},{"$f":"'Amendment 1-Other Funds'!AI6+'Other Funds-Revision No. 2'!AI6","v":0},{"$f":"'Amendment 1-Other Funds'!AJ6+'Other Funds-Revision No. 2'!AJ6","v":0},{"$f":"'Amendment 1-Other Funds'!AK6+'Other Funds-Revision No. 2'!AK6","v":0},{"$f":"'Amendment 1-Other Funds'!AL6+'Other Funds-Revision No. 2'!AL6","v":41914},{"$f":"'Amendment 1-Other Funds'!AM6+'Other Funds-Revision No. 2'!AM6","v":50754}]
[{"$f":"+'Original ABG Allocation'!A7","v":"02"},{"$f":"+'Original ABG Allocation'!B7","v":"CRAWFORD"},{"$f":"'Amendment 1-Other Funds'!C7+'Other Funds-Revision No. 2'!C7","v":0},{"$f":"'Amendment 1-Other Funds'!D7+'Other Funds-Revision No. 2'!D7","v":0},{"$f":"'Amendment 1-Other Funds'!E7+'Other Funds-Revision No. 2'!E7","v":8840},{"$f":"'Amendment 1-Other Funds'!F7+'Other Funds-Revision No. 2'!F7","v":0},{"$f":"'Amendment 1-Other Funds'!G7+'Other Funds-Revision No. 2'!G7","v":0},{"$f":"'Amendment 1-Other Funds'!H7+'Other Funds-Revision No. 2'!H7","v":0},{"$f":"'Amendment 1-Other Funds'!I7+'Other Funds-Revision No. 2'!I7","v":0},{"$f":"'Amendment 1-Other Funds'!J7+'Other Funds-Revision No. 2'!J7","v":0},{"$f":"'Amendment 1-Other Funds'!K7+'Other Funds-Revision No. 2'!K7","v":0},{"$f":"'Amendment 1-Other Funds'!L7+'Other Funds-Revision No. 2'!L7","v":0},{"$f":"'Amendment 1-Other Funds'!M7+'Other Funds-Revision No. 2'!M7","v":0},{"$f":"'Amendment 1-Other Funds'!N7+'Other Funds-Revision No. 2'!N7","v":0},{"$f":"'Amendment 1-Other Funds'!O7+'Other Funds-Revision No. 2'!O7","v":0},{"$f":"'Amendment 1-Other Funds'!P7+'Other Funds-Revision No. 2'!P7","v":0},{"$f":"'Amendment 1-Other Funds'!Q7+'Other Funds-Revision No. 2'!Q7","v":0},{"$f":"'Amendment 1-Other Funds'!R7+'Other Funds-Revision No. 2'!R7","v":0},{"$f":"'Amendment 1-Other Funds'!S7+'Other Funds-Revision No. 3'!T11","v":0},{"$f":"'Amendment 1-Other Funds'!T7+'Other Funds-Revision No. 3'!U11","v":0},{"$f":"'Amendment 1-Other Funds'!U7+'Other Funds-Revision No. 2'!U7","v":0},{"$f":"'Amendment 1-Other Funds'!V7+'Other Funds-Revision No. 2'!V7","v":0},{"$f":"'Amendment 1-Other Funds'!W7+'Other Funds-Revision No. 2'!W7","v":0},{"$f":"'Amendment 1-Other Funds'!X7+'Other Funds-Revision No. 2'!X7","v":0},{"$f":"'Amendment 1-Other Funds'!Y7+'Other Funds-Revision No. 2'!Y7","v":0},{"$f":"'Amendment 1-Other Funds'!Z7+'Other Funds-Revision No. 2'!Z7","v":0},{"$f":"'Amendment 1-Other Funds'!AA7+'Other Funds-Revision No. 2'!AA7","v":0},{"$f":"'Amendment 1-Other Funds'!AB7+'Other Funds-Revision No. 2'!AB7","v":0},{"$f":"'Amendment 1-Other Funds'!AC7+'Other Funds-Revision No. 2'!AC7","v":0},{"$f":"'Amendment 1-Other Funds'!AD7+'Other Funds-Revision No. 2'!AD7","v":0},{"$f":"'Amendment 1-Other Funds'!AE7+'Other Funds-Revision No. 2'!AE7","v":0},{"$f":"'Amendment 1-Other Funds'!AF7+'Other Funds-Revision No. 2'!AF7","v":0},{"$f":"'Amendment 1-Other Funds'!AG7+'Other Funds-Revision No. 2'!AG7","v":0},{"$f":"'Amendment 1-Other Funds'!AH7+'Other Funds-Revision No. 2'!AH7","v":0},{"$f":"'Amendment 1-Other Funds'!AI7+'Other Funds-Revision No. 2'!AI7","v":0},{"$f":"'Amendment 1-Other Funds'!AJ7+'Other Funds-Revision No. 2'!AJ7","v":0},0,{"$f":"'Amendment 1-Other Funds'!AL7+'Other Funds-Revision No. 2'!AL7","v":19112},{"$f":"SUM(C7:AJ7)","v":8840}]
[{"$f":"+'Original ABG Allocation'!A8","v":"03"},{"$f":"+'Original ABG Allocation'!B8","v":"CAM/ELK/MCKEAN"},{"$f":"'Amendment 1-Other Funds'!C8+'Other Funds-Revision No. 2'!C8","v":0},{"$f":"'Amendment 1-Other Funds'!D8+'Other Funds-Revision No. 2'!D8","v":0},{"$f":"'Amendment 1-Other Funds'!E8+'Other Funds-Revision No. 2'!E8","v":8840},{"$f":"'Amendment 1-Other Funds'!F8+'Other Funds-Revision No. 2'!F8","v":0},{"$f":"'Amendment 1-Other Funds'!G8+'Other Funds-Revision No. 2'!G8","v":0},{"$f":"'Amendment 1-Other Funds'!H8+'Other Funds-Revision No. 2'!H8","v":0},{"$f":"'Amendment 1-Other Funds'!I8+'Other Funds-Revision No. 2'!I8","v":0},{"$f":"'Amendment 1-Other Funds'!J8+'Other Funds-Revision No. 2'!J8","v":0},{"$f":"'Amendment 1-Other Funds'!K8+'Other Funds-Revision No. 2'!K8","v":0},{"$f":"'Amendment 1-Other Funds'!L8+'Other Funds-Revision No. 2'!L8","v":0},{"$f":"'Amendment 1-Other Funds'!M8+'Other Funds-Revision No. 2'!M8","v":0},{"$f":"'Amendment 1-Other Funds'!N8+'Other Funds-Revision No. 2'!N8","v":0},{"$f":"'Amendment 1-Other Funds'!O8+'Other Funds-Revision No. 2'!O8","v":0},{"$f":"'Amendment 1-Other Funds'!P8+'Other Funds-Revision No. 2'!P8","v":0},{"$f":"'Amendment 1-Other Funds'!Q8+'Other Funds-Revision No. 2'!Q8","v":0},{"$f":"'Amendment 1-Other Funds'!R8+'Other Funds-Revision No. 2'!R8","v":0},{"$f":"'Amendment 1-Other Funds'!S8+'Other Funds-Revision No. 3'!T12","v":0},{"$f":"'Amendment 1-Other Funds'!T8+'Other Funds-Revision No. 3'!U12","v":0},{"$f":"'Amendment 1-Other Funds'!U8+'Other Funds-Revision No. 2'!U8","v":0},{"$f":"'Amendment 1-Other Funds'!V8+'Other Funds-Revision No. 2'!V8","v":0},{"$f":"'Amendment 1-Other Funds'!W8+'Other Funds-Revision No. 2'!W8","v":0},{"$f":"'Amendment 1-Other Funds'!X8+'Other Funds-Revision No. 2'!X8","v":0},{"$f":"'Amendment 1-Other Funds'!Y8+'Other Funds-Revision No. 2'!Y8","v":0},{"$f":"'Amendment 1-Other Funds'!Z8+'Other Funds-Revision No. 2'!Z8","v":0},{"$f":"'Amendment 1-Other Funds'!AA8+'Other Funds-Revision No. 2'!AA8","v":0},{"$f":"'Amendment 1-Other Funds'!AB8+'Other Funds-Revision No. 2'!AB8","v":0},{"$f":"'Amendment 1-Other Funds'!AC8+'Other Funds-Revision No. 2'!AC8","v":0},{"$f":"'Amendment 1-Other Funds'!AD8+'Other Funds-Revision No. 2'!AD8","v":0},{"$f":"'Amendment 1-Other Funds'!AE8+'Other Funds-Revision No. 2'!AE8","v":0},{"$f":"'Amendment 1-Other Funds'!AF8+'Other Funds-Revision No. 2'!AF8","v":0},{"$f":"'Amendment 1-Other Funds'!AG8+'Other Funds-Revision No. 2'!AG8","v":0},{"$f":"'Amendment 1-Other Funds'!AH8+'Other Funds-Revision No. 2'!AH8","v":0},{"$f":"'Amendment 1-Other Funds'!AI8+'Other Funds-Revision No. 2'!AI8","v":0},{"$f":"'Amendment 1-Other Funds'!AJ8+'Other Funds-Revision No. 2'!AJ8","v":0},0,{"$f":"'Amendment 1-Other Funds'!AL8+'Other Funds-Revision No. 2'!AL8","v":17686},8840]
[{"$f":"+'Original ABG Allocation'!A9","v":"04"},{"$f":"+'Original ABG Allocation'!B9","v":"BEAVER"},{"$f":"'Amendment 1-Other Funds'!C9+'Other Funds-Revision No. 2'!C9","v":0},{"$f":"'Amendment 1-Other Funds'!D9+'Other Funds-Revision No. 2'!D9","v":0},{"$f":"'Amendment 1-Other Funds'!E9+'Other Funds-Revision No. 2'!E9","v":8840},{"$f":"'Amendment 1-Other Funds'!F9+'Other Funds-Revision No. 2'!F9","v":0},{"$f":"'Amendment 1-Other Funds'!G9+'Other Funds-Revision No. 2'!G9","v":0},{"$f":"'Amendment 1-Other Funds'!H9+'Other Funds-Revision No. 2'!H9","v":0},{"$f":"'Amendment 1-Other Funds'!I9+'Other Funds-Revision No. 2'!I9","v":0},{"$f":"'Amendment 1-Other Funds'!J9+'Other Funds-Revision No. 2'!J9","v":0},{"$f":"'Amendment 1-Other Funds'!K9+'Other Funds-Revision No. 2'!K9","v":0},{"$f":"'Amendment 1-Other Funds'!L9+'Other Funds-Revision No. 2'!L9","v":0},{"$f":"'Amendment 1-Other Funds'!M9+'Other Funds-Revision No. 2'!M9","v":0},{"$f":"'Amendment 1-Other Funds'!N9+'Other Funds-Revision No. 2'!N9","v":0},{"$f":"'Amendment 1-Other Funds'!O9+'Other Funds-Revision No. 2'!O9","v":0},{"$f":"'Amendment 1-Other Funds'!P9+'Other Funds-Revision No. 2'!P9","v":0},{"$f":"'Amendment 1-Other Funds'!Q9+'Other Funds-Revision No. 2'!Q9","v":0},{"$f":"'Amendment 1-Other Funds'!R9+'Other Funds-Revision No. 2'!R9","v":0},{"$f":"'Amendment 1-Other Funds'!S9+'Other Funds-Revision No. 3'!T13","v":0},{"$f":"'Amendment 1-Other Funds'!T9+'Other Funds-Revision No. 3'!U13","v":0},{"$f":"'Amendment 1-Other Funds'!U9+'Other Funds-Revision No. 2'!U9","v":0},{"$f":"'Amendment 1-Other Funds'!V9+'Other Funds-Revision No. 2'!V9","v":0},{"$f":"'Amendment 1-Other Funds'!W9+'Other Funds-Revision No. 2'!W9","v":0},{"$f":"'Amendment 1-Other Funds'!X9+'Other Funds-Revision No. 2'!X9","v":0},{"$f":"'Amendment 1-Other Funds'!Y9+'Other Funds-Revision No. 2'!Y9","v":0},{"$f":"'Amendment 1-Other Funds'!Z9+'Other Funds-Revision No. 2'!Z9","v":0},{"$f":"'Amendment 1-Other Funds'!AA9+'Other Funds-Revision No. 2'!AA9","v":0},{"$f":"'Amendment 1-Other Funds'!AB9+'Other Funds-Revision No. 2'!AB9","v":0},{"$f":"'Amendment 1-Other Funds'!AC9+'Other Funds-Revision No. 2'!AC9","v":0},{"$f":"'Amendment 1-Other Funds'!AD9+'Other Funds-Revision No. 2'!AD9","v":0},{"$f":"'Amendment 1-Other Funds'!AE9+'Other Funds-Revision No. 2'!AE9","v":0},{"$f":"'Amendment 1-Other Funds'!AF9+'Other Funds-Revision No. 2'!AF9","v":0},{"$f":"'Amendment 1-Other Funds'!AG9+'Other Funds-Revision No. 2'!AG9","v":0},{"$f":"'Amendment 1-Other Funds'!AH9+'Other Funds-Revision No. 2'!AH9","v":0},{"$f":"'Amendment 1-Other Funds'!AI9+'Other Funds-Revision No. 2'!AI9","v":0},{"$f":"'Amendment 1-Other Funds'!AJ9+'Other Funds-Revision No. 2'!AJ9","v":0},0,{"$f":"'Amendment 1-Other Funds'!AL9+'Other Funds-Revision No. 2'!AL9","v":28437},8840]
[{"$f":"+'Original ABG Allocation'!A10","v":"05"},{"$f":"+'Original ABG Allocation'!B10","v":"INDIANA"},{"$f":"'Amendment 1-Other Funds'!C10+'Other Funds-Revision No. 2'!C10","v":0},{"$f":"'Amendment 1-Other Funds'!D10+'Other Funds-Revision No. 2'!D10","v":0},{"$f":"'Amendment 1-Other Funds'!E10+'Other Funds-Revision No. 2'!E10","v":8840},{"$f":"'Amendment 1-Other Funds'!F10+'Other Funds-Revision No. 2'!F10","v":0},{"$f":"'Amendment 1-Other Funds'!G10+'Other Funds-Revision No. 2'!G10","v":0},{"$f":"'Amendment 1-Other Funds'!H10+'Other Funds-Revision No. 2'!H10","v":0},{"$f":"'Amendment 1-Other Funds'!I10+'Other Funds-Revision No. 2'!I10","v":0},{"$f":"'Amendment 1-Other Funds'!J10+'Other Funds-Revision No. 2'!J10","v":0},{"$f":"'Amendment 1-Other Funds'!K10+'Other Funds-Revision No. 2'!K10","v":0},{"$f":"'Amendment 1-Other Funds'!L10+'Other Funds-Revision No. 2'!L10","v":0},{"$f":"'Amendment 1-Other Funds'!M10+'Other Funds-Revision No. 2'!M10","v":0},{"$f":"'Amendment 1-Other Funds'!N10+'Other Funds-Revision No. 2'!N10","v":0},{"$f":"'Amendment 1-Other Funds'!O10+'Other Funds-Revision No. 2'!O10","v":0},{"$f":"'Amendment 1-Other Funds'!P10+'Other Funds-Revision No. 2'!P10","v":0},{"$f":"'Amendment 1-Other Funds'!Q10+'Other Funds-Revision No. 2'!Q10","v":0},{"$f":"'Amendment 1-Other Funds'!R10+'Other Funds-Revision No. 2'!R10","v":0},{"$f":"'Amendment 1-Other Funds'!S10+'Other Funds-Revision No. 3'!T14","v":0},{"$f":"'Amendment 1-Other Funds'!T10+'Other Funds-Revision No. 3'!U14","v":0},{"$f":"'Amendment 1-Other Funds'!U10+'Other Funds-Revision No. 2'!U10","v":0},{"$f":"'Amendment 1-Other Funds'!V10+'Other Funds-Revision No. 2'!V10","v":0},{"$f":"'Amendment 1-Other Funds'!W10+'Other Funds-Revision No. 2'!W10","v":0},{"$f":"'Amendment 1-Other Funds'!X10+'Other Funds-Revision No. 2'!X10","v":0},{"$f":"'Amendment 1-Other Funds'!Y10+'Other Funds-Revision No. 2'!Y10","v":0},{"$f":"'Amendment 1-Other Funds'!Z10+'Other Funds-Revision No. 2'!Z10","v":0},{"$f":"'Amendment 1-Other Funds'!AA10+'Other Funds-Revision No. 2'!AA10","v":0},{"$f":"'Amendment 1-Other Funds'!AB10+'Other Funds-Revision No. 2'!AB10","v":0},{"$f":"'Amendment 1-Other Funds'!AC10+'Other Funds-Revision No. 2'!AC10","v":0},{"$f":"'Amendment 1-Other Funds'!AD10+'Other Funds-Revision No. 2'!AD10","v":0},{"$f":"'Amendment 1-Other Funds'!AE10+'Other Funds-Revision No. 2'!AE10","v":0},{"$f":"'Amendment 1-Other Funds'!AF10+'Other Funds-Revision No. 2'!AF10","v":0},{"$f":"'Amendment 1-Other Funds'!AG10+'Other Funds-Revision No. 2'!AG10","v":0},{"$f":"'Amendment 1-Other Funds'!AH10+'Other Funds-Revision No. 2'!AH10","v":0},{"$f":"'Amendment 1-Other Funds'!AI10+'Other Funds-Revision No. 2'!AI10","v":0},{"$f":"'Amendment 1-Other Funds'!AJ10+'Other Funds-Revision No. 2'!AJ10","v":0},0,{"$f":"'Amendment 1-Other Funds'!AL10+'Other Funds-Revision No. 2'!AL10","v":17663},8840]
[{"$f":"+'Original ABG Allocation'!A11","v":"06"},{"$f":"+'Original ABG Allocation'!B11","v":"ALLEGHENY"},{"$f":"'Amendment 1-Other Funds'!C11+'Other Funds-Revision No. 2'!C11","v":0},{"$f":"'Amendment 1-Other Funds'!D11+'Other Funds-Revision No. 2'!D11","v":0},{"$f":"'Amendment 1-Other Funds'!E11+'Other Funds-Revision No. 2'!E11","v":8840},{"$f":"'Amendment 1-Other Funds'!F11+'Other Funds-Revision No. 2'!F11","v":0},{"$f":"'Amendment 1-Other Funds'!G11+'Other Funds-Revision No. 2'!G11","v":0},{"$f":"'Amendment 1-Other Funds'!H11+'Other Funds-Revision No. 2'!H11","v":0},{"$f":"'Amendment 1-Other Funds'!I11+'Other Funds-Revision No. 2'!I11","v":0},{"$f":"'Amendment 1-Other Funds'!J11+'Other Funds-Revision No. 2'!J11","v":0},{"$f":"'Amendment 1-Other Funds'!K11+'Other Funds-Revision No. 2'!K11","v":0},{"$f":"'Amendment 1-Other Funds'!L11+'Other Funds-Revision No. 2'!L11","v":0},{"$f":"'Amendment 1-Other Funds'!M11+'Other Funds-Revision No. 2'!M11","v":0},{"$f":"'Amendment 1-Other Funds'!N11+'Other Funds-Revision No. 2'!N11","v":0},{"$f":"'Amendment 1-Other Funds'!O11+'Other Funds-Revision No. 2'!O11","v":0},{"$f":"'Amendment 1-Other Funds'!P11+'Other Funds-Revision No. 2'!P11","v":0},{"$f":"'Amendment 1-Other Funds'!Q11+'Other Funds-Revision No. 2'!Q11","v":0},{"$f":"'Amendment 1-Other Funds'!R11+'Other Funds-Revision No. 2'!R11","v":0},{"$f":"'Amendment 1-Other Funds'!S11+'Other Funds-Revision No. 3'!T15","v":0},{"$f":"'Amendment 1-Other Funds'!T11+'Other Funds-Revision No. 3'!U15","v":0},{"$f":"'Amendment 1-Other Funds'!U11+'Other Funds-Revision No. 2'!U11","v":0},{"$f":"'Amendment 1-Other Funds'!V11+'Other Funds-Revision No. 2'!V11","v":0},{"$f":"'Amendment 1-Other Funds'!W11+'Other Funds-Revision No. 2'!W11","v":0},{"$f":"'Amendment 1-Other Funds'!X11+'Other Funds-Revision No. 2'!X11","v":0},{"$f":"'Amendment 1-Other Funds'!Y11+'Other Funds-Revision No. 2'!Y11","v":0},{"$f":"'Amendment 1-Other Funds'!Z11+'Other Funds-Revision No. 2'!Z11","v":0},{"$f":"'Amendment 1-Other Funds'!AA11+'Other Funds-Revision No. 2'!AA11","v":0},{"$f":"'Amendment 1-Other Funds'!AB11+'Other Funds-Revision No. 2'!AB11","v":0},{"$f":"'Amendment 1-Other Funds'!AC11+'Other Funds-Revision No. 2'!AC11","v":0},{"$f":"'Amendment 1-Other Funds'!AD11+'Other Funds-Revision No. 2'!AD11","v":0},{"$f":"'Amendment 1-Other Funds'!AE11+'Other Funds-Revision No. 2'!AE11","v":0},{"$f":"'Amendment 1-Other Funds'!AF11+'Other Funds-Revision No. 2'!AF11","v":0},{"$f":"'Amendment 1-Other Funds'!AG11+'Other Funds-Revision No. 2'!AG11","v":0},{"$f":"'Amendment 1-Other Funds'!AH11+'Other Funds-Revision No. 2'!AH11","v":0},{"$f":"'Amendment 1-Other Funds'!AI11+'Other Funds-Revision No. 2'!AI11","v":0},{"$f":"'Amendment 1-Other Funds'!AJ11+'Other Funds-Revision No. 2'!AJ11","v":0},0,{"$f":"'Amendment 1-Other Funds'!AL11+'Other Funds-Revision No. 2'!AL11","v":180964},8840]
[{"$f":"+'Original ABG Allocation'!A12","v":"07"},{"$f":"+'Original ABG Allocation'!B12","v":"WESTMORELAND"},{"$f":"'Amendment 1-Other Funds'!C12+'Other Funds-Revision No. 2'!C12","v":0},{"$f":"'Amendment 1-Other Funds'!D12+'Other Funds-Revision No. 2'!D12","v":0},{"$f":"'Amendment 1-Other Funds'!E12+'Other Funds-Revision No. 2'!E12","v":8840},{"$f":"'Amendment 1-Other Funds'!F12+'Other Funds-Revision No. 2'!F12","v":0},{"$f":"'Amendment 1-Other Funds'!G12+'Other Funds-Revision No. 2'!G12","v":0},{"$f":"'Amendment 1-Other Funds'!H12+'Other Funds-Revision No. 2'!H12","v":0},{"$f":"'Amendment 1-Other Funds'!I12+'Other Funds-Revision No. 2'!I12","v":0},{"$f":"'Amendment 1-Other Funds'!J12+'Other Funds-Revision No. 2'!J12","v":0},{"$f":"'Amendment 1-Other Funds'!K12+'Other Funds-Revision No. 2'!K12","v":0},{"$f":"'Amendment 1-Other Funds'!L12+'Other Funds-Revision No. 2'!L12","v":0},{"$f":"'Amendment 1-Other Funds'!M12+'Other Funds-Revision No. 2'!M12","v":0},{"$f":"'Amendment 1-Other Funds'!N12+'Other Funds-Revision No. 2'!N12","v":0},{"$f":"'Amendment 1-Other Funds'!O12+'Other Funds-Revision No. 2'!O12","v":0},{"$f":"'Amendment 1-Other Funds'!P12+'Other Funds-Revision No. 2'!P12","v":0},{"$f":"'Amendment 1-Other Funds'!Q12+'Other Funds-Revision No. 2'!Q12","v":0},{"$f":"'Amendment 1-Other Funds'!R12+'Other Funds-Revision No. 2'!R12","v":0},{"$f":"'Amendment 1-Other Funds'!S12+'Other Funds-Revision No. 3'!T16","v":0},{"$f":"'Amendment 1-Other Funds'!T12+'Other Funds-Revision No. 3'!U16","v":0},{"$f":"'Amendment 1-Other Funds'!U12+'Other Funds-Revision No. 2'!U12","v":0},{"$f":"'Amendment 1-Other Funds'!V12+'Other Funds-Revision No. 2'!V12","v":0},{"$f":"'Amendment 1-Other Funds'!W12+'Other Funds-Revision No. 2'!W12","v":0},{"$f":"'Amendment 1-Other Funds'!X12+'Other Funds-Revision No. 2'!X12","v":0},{"$f":"'Amendment 1-Other Funds'!Y12+'Other Funds-Revision No. 2'!Y12","v":0},{"$f":"'Amendment 1-Other Funds'!Z12+'Other Funds-Revision No. 2'!Z12","v":0},{"$f":"'Amendment 1-Other Funds'!AA12+'Other Funds-Revision No. 2'!AA12","v":0},{"$f":"'Amendment 1-Other Funds'!AB12+'Other Funds-Revision No. 2'!AB12","v":0},{"$f":"'Amendment 1-Other Funds'!AC12+'Other Funds-Revision No. 2'!AC12","v":0},{"$f":"'Amendment 1-Other Funds'!AD12+'Other Funds-Revision No. 2'!AD12","v":0},{"$f":"'Amendment 1-Other Funds'!AE12+'Other Funds-Revision No. 2'!AE12","v":0},{"$f":"'Amendment 1-Other Funds'!AF12+'Other Funds-Revision No. 2'!AF12","v":0},{"$f":"'Amendment 1-Other Funds'!AG12+'Other Funds-Revision No. 2'!AG12","v":0},{"$f":"'Amendment 1-Other Funds'!AH12+'Other Funds-Revision No. 2'!AH12","v":0},{"$f":"'Amendment 1-Other Funds'!AI12+'Other Funds-Revision No. 2'!AI12","v":0},{"$f":"'Amendment 1-Other Funds'!AJ12+'Other Funds-Revision No. 2'!AJ12","v":0},0,{"$f":"'Amendment 1-Other Funds'!AL12+'Other Funds-Revision No. 2'!AL12","v":57991},8840]
[{"$f":"+'Original ABG Allocation'!A13","v":"08"},{"$f":"+'Original ABG Allocation'!B13","v":"WASH/FAY/GREENE"},{"$f":"'Amendment 1-Other Funds'!C13+'Other Funds-Revision No. 2'!C13","v":0},{"$f":"'Amendment 1-Other Funds'!D13+'Other Funds-Revision No. 2'!D13","v":0},{"$f":"'Amendment 1-Other Funds'!E13+'Other Funds-Revision No. 2'!E13","v":8840},{"$f":"'Amendment 1-Other Funds'!F13+'Other Funds-Revision No. 2'!F13","v":0},{"$f":"'Amendment 1-Other Funds'!G13+'Other Funds-Revision No. 2'!G13","v":0},{"$f":"'Amendment 1-Other Funds'!H13+'Other Funds-Revision No. 2'!H13","v":0},{"$f":"'Amendment 1-Other Funds'!I13+'Other Funds-Revision No. 2'!I13","v":0},{"$f":"'Amendment 1-Other Funds'!J13+'Other Funds-Revision No. 2'!J13","v":0},{"$f":"'Amendment 1-Other Funds'!K13+'Other Funds-Revision No. 2'!K13","v":0},{"$f":"'Amendment 1-Other Funds'!L13+'Other Funds-Revision No. 2'!L13","v":0},{"$f":"'Amendment 1-Other Funds'!M13+'Other Funds-Revision No. 2'!M13","v":0},{"$f":"'Amendment 1-Other Funds'!N13+'Other Funds-Revision No. 2'!N13","v":0},{"$f":"'Amendment 1-Other Funds'!O13+'Other Funds-Revision No. 2'!O13","v":0},{"$f":"'Amendment 1-Other Funds'!P13+'Other Funds-Revision No. 2'!P13","v":0},{"$f":"'Amendment 1-Other Funds'!Q13+'Other Funds-Revision No. 2'!Q13","v":0},{"$f":"'Amendment 1-Other Funds'!R13+'Other Funds-Revision No. 2'!R13","v":0},{"$f":"'Amendment 1-Other Funds'!S13+'Other Funds-Revision No. 3'!T17","v":0},{"$f":"'Amendment 1-Other Funds'!T13+'Other Funds-Revision No. 3'!U17","v":0},{"$f":"'Amendment 1-Other Funds'!U13+'Other Funds-Revision No. 2'!U13","v":0},{"$f":"'Amendment 1-Other Funds'!V13+'Other Funds-Revision No. 2'!V13","v":0},{"$f":"'Amendment 1-Other Funds'!W13+'Other Funds-Revision No. 2'!W13","v":0},{"$f":"'Amendment 1-Other Funds'!X13+'Other Funds-Revision No. 2'!X13","v":0},{"$f":"'Amendment 1-Other Funds'!Y13+'Other Funds-Revision No. 2'!Y13","v":0},{"$f":"'Amendment 1-Other Funds'!Z13+'Other Funds-Revision No. 2'!Z13","v":0},{"$f":"'Amendment 1-Other Funds'!AA13+'Other Funds-Revision No. 2'!AA13","v":0},{"$f":"'Amendment 1-Other Funds'!AB13+'Other Funds-Revision No. 2'!AB13","v":0},{"$f":"'Amendment 1-Other Funds'!AC13+'Other Funds-Revision No. 2'!AC13","v":0},{"$f":"'Amendment 1-Other Funds'!AD13+'Other Funds-Revision No. 2'!AD13","v":0},{"$f":"'Amendment 1-Other Funds'!AE13+'Other Funds-Revision No. 2'!AE13","v":0},{"$f":"'Amendment 1-Other Funds'!AF13+'Other Funds-Revision No. 2'!AF13","v":0},{"$f":"'Amendment 1-Other Funds'!AG13+'Other Funds-Revision No. 2'!AG13","v":0},{"$f":"'Amendment 1-Other Funds'!AH13+'Other Funds-Revision No. 2'!AH13","v":0},{"$f":"'Amendment 1-Other Funds'!AI13+'Other Funds-Revision No. 2'!AI13","v":0},{"$f":"'Amendment 1-Other Funds'!AJ13+'Other Funds-Revision No. 2'!AJ13","v":0},0,{"$f":"'Amendment 1-Other Funds'!AL13+'Other Funds-Revision No. 2'!AL13","v":72090},8840]
[{"$f":"+'Original ABG Allocation'!A14","v":"09"},{"$f":"+'Original ABG Allocation'!B14","v":"SOMERSET"},{"$f":"'Amendment 1-Other Funds'!C14+'Other Funds-Revision No. 2'!C14","v":0},{"$f":"'Amendment 1-Other Funds'!D14+'Other Funds-Revision No. 2'!D14","v":0},{"$f":"'Amendment 1-Other Funds'!E14+'Other Funds-Revision No. 2'!E14","v":8840},{"$f":"'Amendment 1-Other Funds'!F14+'Other Funds-Revision No. 2'!F14","v":0},{"$f":"'Amendment 1-Other Funds'!G14+'Other Funds-Revision No. 2'!G14","v":0},{"$f":"'Amendment 1-Other Funds'!H14+'Other Funds-Revision No. 2'!H14","v":0},{"$f":"'Amendment 1-Other Funds'!I14+'Other Funds-Revision No. 2'!I14","v":0},{"$f":"'Amendment 1-Other Funds'!J14+'Other Funds-Revision No. 2'!J14","v":0},{"$f":"'Amendment 1-Other Funds'!K14+'Other Funds-Revision No. 2'!K14","v":0},{"$f":"'Amendment 1-Other Funds'!L14+'Other Funds-Revision No. 2'!L14","v":0},{"$f":"'Amendment 1-Other Funds'!M14+'Other Funds-Revision No. 2'!M14","v":0},{"$f":"'Amendment 1-Other Funds'!N14+'Other Funds-Revision No. 2'!N14","v":0},{"$f":"'Amendment 1-Other Funds'!O14+'Other Funds-Revision No. 2'!O14","v":0},{"$f":"'Amendment 1-Other Funds'!P14+'Other Funds-Revision No. 2'!P14","v":0},{"$f":"'Amendment 1-Other Funds'!Q14+'Other Funds-Revision No. 2'!Q14","v":0},{"$f":"'Amendment 1-Other Funds'!R14+'Other Funds-Revision No. 2'!R14","v":0},{"$f":"'Amendment 1-Other Funds'!S14+'Other Funds-Revision No. 3'!T18","v":0},{"$f":"'Amendment 1-Other Funds'!T14+'Other Funds-Revision No. 3'!U18","v":0},{"$f":"'Amendment 1-Other Funds'!U14+'Other Funds-Revision No. 2'!U14","v":0},{"$f":"'Amendment 1-Other Funds'!V14+'Other Funds-Revision No. 2'!V14","v":0},{"$f":"'Amendment 1-Other Funds'!W14+'Other Funds-Revision No. 2'!W14","v":0},{"$f":"'Amendment 1-Other Funds'!X14+'Other Funds-Revision No. 2'!X14","v":0},{"$f":"'Amendment 1-Other Funds'!Y14+'Other Funds-Revision No. 2'!Y14","v":0},{"$f":"'Amendment 1-Other Funds'!Z14+'Other Funds-Revision No. 2'!Z14","v":0},{"$f":"'Amendment 1-Other Funds'!AA14+'Other Funds-Revision No. 2'!AA14","v":0},{"$f":"'Amendment 1-Other Funds'!AB14+'Other Funds-Revision No. 2'!AB14","v":0},{"$f":"'Amendment 1-Other Funds'!AC14+'Other Funds-Revision No. 2'!AC14","v":0},{"$f":"'Amendment 1-Other Funds'!AD14+'Other Funds-Revision No. 2'!AD14","v":0},{"$f":"'Amendment 1-Other Funds'!AE14+'Other Funds-Revision No. 2'!AE14","v":0},{"$f":"'Amendment 1-Other Funds'!AF14+'Other Funds-Revision No. 2'!AF14","v":0},{"$f":"'Amendment 1-Other Funds'!AG14+'Other Funds-Revision No. 2'!AG14","v":0},{"$f":"'Amendment 1-Other Funds'!AH14+'Other Funds-Revision No. 2'!AH14","v":0},{"$f":"'Amendment 1-Other Funds'!AI14+'Other Funds-Revision No. 2'!AI14","v":0},{"$f":"'Amendment 1-Other Funds'!AJ14+'Other Funds-Revision No. 2'!AJ14","v":0},0,{"$f":"'Amendment 1-Other Funds'!AL14+'Other Funds-Revision No. 2'!AL14","v":18722},8840]
[{"$f":"+'Original ABG Allocation'!A15","v":"10"},{"$f":"+'Original ABG Allocation'!B15","v":"CAMBRIA"},{"$f":"'Amendment 1-Other Funds'!C15+'Other Funds-Revision No. 2'!C15","v":0},{"$f":"'Amendment 1-Other Funds'!D15+'Other Funds-Revision No. 2'!D15","v":0},{"$f":"'Amendment 1-Other Funds'!E15+'Other Funds-Revision No. 2'!E15","v":8840},{"$f":"'Amendment 1-Other Funds'!F15+'Other Funds-Revision No. 2'!F15","v":0},{"$f":"'Amendment 1-Other Funds'!G15+'Other Funds-Revision No. 2'!G15","v":0},{"$f":"'Amendment 1-Other Funds'!H15+'Other Funds-Revision No. 2'!H15","v":0},{"$f":"'Amendment 1-Other Funds'!I15+'Other Funds-Revision No. 2'!I15","v":0},{"$f":"'Amendment 1-Other Funds'!J15+'Other Funds-Revision No. 2'!J15","v":0},{"$f":"'Amendment 1-Other Funds'!K15+'Other Funds-Revision No. 2'!K15","v":0},{"$f":"'Amendment 1-Other Funds'!L15+'Other Funds-Revision No. 2'!L15","v":0},{"$f":"'Amendment 1-Other Funds'!M15+'Other Funds-Revision No. 2'!M15","v":0},{"$f":"'Amendment 1-Other Funds'!N15+'Other Funds-Revision No. 2'!N15","v":0},{"$f":"'Amendment 1-Other Funds'!O15+'Other Funds-Revision No. 2'!O15","v":0},{"$f":"'Amendment 1-Other Funds'!P15+'Other Funds-Revision No. 2'!P15","v":0},{"$f":"'Amendment 1-Other Funds'!Q15+'Other Funds-Revision No. 2'!Q15","v":0},{"$f":"'Amendment 1-Other Funds'!R15+'Other Funds-Revision No. 2'!R15","v":0},{"$f":"'Amendment 1-Other Funds'!S15+'Other Funds-Revision No. 3'!T19","v":0},{"$f":"'Amendment 1-Other Funds'!T15+'Other Funds-Revision No. 3'!U19","v":0},{"$f":"'Amendment 1-Other Funds'!U15+'Other Funds-Revision No. 2'!U15","v":0},{"$f":"'Amendment 1-Other Funds'!V15+'Other Funds-Revision No. 2'!V15","v":0},{"$f":"'Amendment 1-Other Funds'!W15+'Other Funds-Revision No. 2'!W15","v":0},{"$f":"'Amendment 1-Other Funds'!X15+'Other Funds-Revision No. 2'!X15","v":0},{"$f":"'Amendment 1-Other Funds'!Y15+'Other Funds-Revision No. 2'!Y15","v":0},{"$f":"'Amendment 1-Other Funds'!Z15+'Other Funds-Revision No. 2'!Z15","v":0},{"$f":"'Amendment 1-Other Funds'!AA15+'Other Funds-Revision No. 2'!AA15","v":0},{"$f":"'Amendment 1-Other Funds'!AB15+'Other Funds-Revision No. 2'!AB15","v":0},{"$f":"'Amendment 1-Other Funds'!AC15+'Other Funds-Revision No. 2'!AC15","v":0},{"$f":"'Amendment 1-Other Funds'!AD15+'Other Funds-Revision No. 2'!AD15","v":0},{"$f":"'Amendment 1-Other Funds'!AE15+'Other Funds-Revision No. 2'!AE15","v":0},{"$f":"'Amendment 1-Other Funds'!AF15+'Other Funds-Revision No. 2'!AF15","v":0},{"$f":"'Amendment 1-Other Funds'!AG15+'Other Funds-Revision No. 2'!AG15","v":0},{"$f":"'Amendment 1-Other Funds'!AH15+'Other Funds-Revision No. 2'!AH15","v":0},{"$f":"'Amendment 1-Other Funds'!AI15+'Other Funds-Revision No. 2'!AI15","v":0},{"$f":"'Amendment 1-Other Funds'!AJ15+'Other Funds-Revision No. 2'!AJ15","v":0},0,{"$f":"'Amendment 1-Other Funds'!AL15+'Other Funds-Revision No. 2'!AL15","v":28922},8840]
[{"$f":"+'Original ABG Allocation'!A16","v":"11"},{"$f":"+'Original ABG Allocation'!B16","v":"BLAIR"},{"$f":"'Amendment 1-Other Funds'!C16+'Other Funds-Revision No. 2'!C16","v":0},{"$f":"'Amendment 1-Other Funds'!D16+'Other Funds-Revision No. 2'!D16","v":0},{"$f":"'Amendment 1-Other Funds'!E16+'Other Funds-Revision No. 2'!E16","v":8840},{"$f":"'Amendment 1-Other Funds'!F16+'Other Funds-Revision No. 2'!F16","v":0},{"$f":"'Amendment 1-Other Funds'!G16+'Other Funds-Revision No. 2'!G16","v":0},{"$f":"'Amendment 1-Other Funds'!H16+'Other Funds-Revision No. 2'!H16","v":0},{"$f":"'Amendment 1-Other Funds'!I16+'Other Funds-Revision No. 2'!I16","v":0},{"$f":"'Amendment 1-Other Funds'!J16+'Other Funds-Revision No. 2'!J16","v":0},{"$f":"'Amendment 1-Other Funds'!K16+'Other Funds-Revision No. 2'!K16","v":0},{"$f":"'Amendment 1-Other Funds'!L16+'Other Funds-Revision No. 2'!L16","v":0},{"$f":"'Amendment 1-Other Funds'!M16+'Other Funds-Revision No. 2'!M16","v":0},{"$f":"'Amendment 1-Other Funds'!N16+'Other Funds-Revision No. 2'!N16","v":0},{"$f":"'Amendment 1-Other Funds'!O16+'Other Funds-Revision No. 2'!O16","v":0},{"$f":"'Amendment 1-Other Funds'!P16+'Other Funds-Revision No. 2'!P16","v":0},{"$f":"'Amendment 1-Other Funds'!Q16+'Other Funds-Revision No. 2'!Q16","v":0},{"$f":"'Amendment 1-Other Funds'!R16+'Other Funds-Revision No. 2'!R16","v":0},{"$f":"'Amendment 1-Other Funds'!S16+'Other Funds-Revision No. 3'!T20","v":0},{"$f":"'Amendment 1-Other Funds'!T16+'Other Funds-Revision No. 3'!U20","v":0},{"$f":"'Amendment 1-Other Funds'!U16+'Other Funds-Revision No. 2'!U16","v":0},{"$f":"'Amendment 1-Other Funds'!V16+'Other Funds-Revision No. 2'!V16","v":0},{"$f":"'Amendment 1-Other Funds'!W16+'Other Funds-Revision No. 2'!W16","v":0},{"$f":"'Amendment 1-Other Funds'!X16+'Other Funds-Revision No. 2'!X16","v":0},{"$f":"'Amendment 1-Other Funds'!Y16+'Other Funds-Revision No. 2'!Y16","v":0},{"$f":"'Amendment 1-Other Funds'!Z16+'Other Funds-Revision No. 2'!Z16","v":0},{"$f":"'Amendment 1-Other Funds'!AA16+'Other Funds-Revision No. 2'!AA16","v":0},{"$f":"'Amendment 1-Other Funds'!AB16+'Other Funds-Revision No. 2'!AB16","v":0},{"$f":"'Amendment 1-Other Funds'!AC16+'Other Funds-Revision No. 2'!AC16","v":0},{"$f":"'Amendment 1-Other Funds'!AD16+'Other Funds-Revision No. 2'!AD16","v":0},{"$f":"'Amendment 1-Other Funds'!AE16+'Other Funds-Revision No. 2'!AE16","v":0},{"$f":"'Amendment 1-Other Funds'!AF16+'Other Funds-Revision No. 2'!AF16","v":0},{"$f":"'Amendment 1-Other Funds'!AG16+'Other Funds-Revision No. 2'!AG16","v":0},{"$f":"'Amendment 1-Other Funds'!AH16+'Other Funds-Revision No. 2'!AH16","v":0},{"$f":"'Amendment 1-Other Funds'!AI16+'Other Funds-Revision No. 2'!AI16","v":0},{"$f":"'Amendment 1-Other Funds'!AJ16+'Other Funds-Revision No. 2'!AJ16","v":0},0,{"$f":"'Amendment 1-Other Funds'!AL16+'Other Funds-Revision No. 2'!AL16","v":21456},8840]
[{"$f":"+'Original ABG Allocation'!A17","v":"12"},{"$f":"+'Original ABG Allocation'!B17","v":"BED/FULT/HUNT"},{"$f":"'Amendment 1-Other Funds'!C17+'Other Funds-Revision No. 2'!C17","v":0},{"$f":"'Amendment 1-Other Funds'!D17+'Other Funds-Revision No. 2'!D17","v":0},{"$f":"'Amendment 1-Other Funds'!E17+'Other Funds-Revision No. 2'!E17","v":8840},{"$f":"'Amendment 1-Other Funds'!F17+'Other Funds-Revision No. 2'!F17","v":0},{"$f":"'Amendment 1-Other Funds'!G17+'Other Funds-Revision No. 2'!G17","v":0},{"$f":"'Amendment 1-Other Funds'!H17+'Other Funds-Revision No. 2'!H17","v":0},{"$f":"'Amendment 1-Other Funds'!I17+'Other Funds-Revision No. 2'!I17","v":0},{"$f":"'Amendment 1-Other Funds'!J17+'Other Funds-Revision No. 2'!J17","v":0},{"$f":"'Amendment 1-Other Funds'!K17+'Other Funds-Revision No. 2'!K17","v":0},{"$f":"'Amendment 1-Other Funds'!L17+'Other Funds-Revision No. 2'!L17","v":0},{"$f":"'Amendment 1-Other Funds'!M17+'Other Funds-Revision No. 2'!M17","v":0},{"$f":"'Amendment 1-Other Funds'!N17+'Other Funds-Revision No. 2'!N17","v":0},{"$f":"'Amendment 1-Other Funds'!O17+'Other Funds-Revision No. 2'!O17","v":0},{"$f":"'Amendment 1-Other Funds'!P17+'Other Funds-Revision No. 2'!P17","v":0},{"$f":"'Amendment 1-Other Funds'!Q17+'Other Funds-Revision No. 2'!Q17","v":0},{"$f":"'Amendment 1-Other Funds'!R17+'Other Funds-Revision No. 2'!R17","v":0},{"$f":"'Amendment 1-Other Funds'!S17+'Other Funds-Revision No. 3'!T21","v":0},{"$f":"'Amendment 1-Other Funds'!T17+'Other Funds-Revision No. 3'!U21","v":0},{"$f":"'Amendment 1-Other Funds'!U17+'Other Funds-Revision No. 2'!U17","v":0},{"$f":"'Amendment 1-Other Funds'!V17+'Other Funds-Revision No. 2'!V17","v":0},{"$f":"'Amendment 1-Other Funds'!W17+'Other Funds-Revision No. 2'!W17","v":0},{"$f":"'Amendment 1-Other Funds'!X17+'Other Funds-Revision No. 2'!X17","v":0},{"$f":"'Amendment 1-Other Funds'!Y17+'Other Funds-Revision No. 2'!Y17","v":0},{"$f":"'Amendment 1-Other Funds'!Z17+'Other Funds-Revision No. 2'!Z17","v":0},{"$f":"'Amendment 1-Other Funds'!AA17+'Other Funds-Revision No. 2'!AA17","v":0},{"$f":"'Amendment 1-Other Funds'!AB17+'Other Funds-Revision No. 2'!AB17","v":0},{"$f":"'Amendment 1-Other Funds'!AC17+'Other Funds-Revision No. 2'!AC17","v":0},{"$f":"'Amendment 1-Other Funds'!AD17+'Other Funds-Revision No. 2'!AD17","v":0},{"$f":"'Amendment 1-Other Funds'!AE17+'Other Funds-Revision No. 2'!AE17","v":0},{"$f":"'Amendment 1-Other Funds'!AF17+'Other Funds-Revision No. 2'!AF17","v":0},{"$f":"'Amendment 1-Other Funds'!AG17+'Other Funds-Revision No. 2'!AG17","v":0},{"$f":"'Amendment 1-Other Funds'!AH17+'Other Funds-Revision No. 2'!AH17","v":0},{"$f":"'Amendment 1-Other Funds'!AI17+'Other Funds-Revision No. 2'!AI17","v":0},{"$f":"'Amendment 1-Other Funds'!AJ17+'Other Funds-Revision No. 2'!AJ17","v":0},0,{"$f":"'Amendment 1-Other Funds'!AL17+'Other Funds-Revision No. 2'!AL17","v":28502},8840]
[{"$f":"+'Original ABG Allocation'!A18","v":"13"},{"$f":"+'Original ABG Allocation'!B18","v":"CENTRE"},{"$f":"'Amendment 1-Other Funds'!C18+'Other Funds-Revision No. 2'!C18","v":0},{"$f":"'Amendment 1-Other Funds'!D18+'Other Funds-Revision No. 2'!D18","v":0},{"$f":"'Amendment 1-Other Funds'!E18+'Other Funds-Revision No. 2'!E18","v":8840},{"$f":"'Amendment 1-Other Funds'!F18+'Other Funds-Revision No. 2'!F18","v":0},{"$f":"'Amendment 1-Other Funds'!G18+'Other Funds-Revision No. 2'!G18","v":0},{"$f":"'Amendment 1-Other Funds'!H18+'Other Funds-Revision No. 2'!H18","v":0},{"$f":"'Amendment 1-Other Funds'!I18+'Other Funds-Revision No. 2'!I18","v":0},{"$f":"'Amendment 1-Other Funds'!J18+'Other Funds-Revision No. 2'!J18","v":0},{"$f":"'Amendment 1-Other Funds'!K18+'Other Funds-Revision No. 2'!K18","v":0},{"$f":"'Amendment 1-Other Funds'!L18+'Other Funds-Revision No. 2'!L18","v":0},{"$f":"'Amendment 1-Other Funds'!M18+'Other Funds-Revision No. 2'!M18","v":0},{"$f":"'Amendment 1-Other Funds'!N18+'Other Funds-Revision No. 2'!N18","v":0},{"$f":"'Amendment 1-Other Funds'!O18+'Other Funds-Revision No. 2'!O18","v":0},{"$f":"'Amendment 1-Other Funds'!P18+'Other Funds-Revision No. 2'!P18","v":0},{"$f":"'Amendment 1-Other Funds'!Q18+'Other Funds-Revision No. 2'!Q18","v":0},{"$f":"'Amendment 1-Other Funds'!R18+'Other Funds-Revision No. 2'!R18","v":0},{"$f":"'Amendment 1-Other Funds'!S18+'Other Funds-Revision No. 3'!T22","v":0},{"$f":"'Amendment 1-Other Funds'!T18+'Other Funds-Revision No. 3'!U22","v":0},{"$f":"'Amendment 1-Other Funds'!U18+'Other Funds-Revision No. 2'!U18","v":0},{"$f":"'Amendment 1-Other Funds'!V18+'Other Funds-Revision No. 2'!V18","v":0},{"$f":"'Amendment 1-Other Funds'!W18+'Other Funds-Revision No. 2'!W18","v":0},{"$f":"'Amendment 1-Other Funds'!X18+'Other Funds-Revision No. 2'!X18","v":0},{"$f":"'Amendment 1-Other Funds'!Y18+'Other Funds-Revision No. 2'!Y18","v":0},{"$f":"'Amendment 1-Other Funds'!Z18+'Other Funds-Revision No. 2'!Z18","v":0},{"$f":"'Amendment 1-Other Funds'!AA18+'Other Funds-Revision No. 2'!AA18","v":0},{"$f":"'Amendment 1-Other Funds'!AB18+'Other Funds-Revision No. 2'!AB18","v":0},{"$f":"'Amendment 1-Other Funds'!AC18+'Other Funds-Revision No. 2'!AC18","v":0},{"$f":"'Amendment 1-Other Funds'!AD18+'Other Funds-Revision No. 2'!AD18","v":0},{"$f":"'Amendment 1-Other Funds'!AE18+'Other Funds-Revision No. 2'!AE18","v":0},{"$f":"'Amendment 1-Other Funds'!AF18+'Other Funds-Revision No. 2'!AF18","v":0},{"$f":"'Amendment 1-Other Funds'!AG18+'Other Funds-Revision No. 2'!AG18","v":0},{"$f":"'Amendment 1-Other Funds'!AH18+'Other Funds-Revision No. 2'!AH18","v":0},{"$f":"'Amendment 1-Other Funds'!AI18+'Other Funds-Revision No. 2'!AI18","v":0},{"$f":"'Amendment 1-Other Funds'!AJ18+'Other Funds-Revision No. 2'!AJ18","v":0},0,{"$f":"'Amendment 1-Other Funds'!AL18+'Other Funds-Revision No. 2'!AL18","v":18588},8840]
[{"$f":"+'Original ABG Allocation'!A19","v":"14"},{"$f":"+'Original ABG Allocation'!B19","v":"LYCOM/CLINTON"},{"$f":"'Amendment 1-Other Funds'!C19+'Other Funds-Revision No. 2'!C19","v":0},{"$f":"'Amendment 1-Other Funds'!D19+'Other Funds-Revision No. 2'!D19","v":0},{"$f":"'Amendment 1-Other Funds'!E19+'Other Funds-Revision No. 2'!E19","v":8840},{"$f":"'Amendment 1-Other Funds'!F19+'Other Funds-Revision No. 2'!F19","v":0},{"$f":"'Amendment 1-Other Funds'!G19+'Other Funds-Revision No. 2'!G19","v":0},{"$f":"'Amendment 1-Other Funds'!H19+'Other Funds-Revision No. 2'!H19","v":0},{"$f":"'Amendment 1-Other Funds'!I19+'Other Funds-Revision No. 2'!I19","v":0},{"$f":"'Amendment 1-Other Funds'!J19+'Other Funds-Revision No. 2'!J19","v":0},{"$f":"'Amendment 1-Other Funds'!K19+'Other Funds-Revision No. 2'!K19","v":0},{"$f":"'Amendment 1-Other Funds'!L19+'Other Funds-Revision No. 2'!L19","v":0},{"$f":"'Amendment 1-Other Funds'!M19+'Other Funds-Revision No. 2'!M19","v":0},{"$f":"'Amendment 1-Other Funds'!N19+'Other Funds-Revision No. 2'!N19","v":0},{"$f":"'Amendment 1-Other Funds'!O19+'Other Funds-Revision No. 2'!O19","v":0},{"$f":"'Amendment 1-Other Funds'!P19+'Other Funds-Revision No. 2'!P19","v":0},{"$f":"'Amendment 1-Other Funds'!Q19+'Other Funds-Revision No. 2'!Q19","v":0},{"$f":"'Amendment 1-Other Funds'!R19+'Other Funds-Revision No. 2'!R19","v":0},{"$f":"'Amendment 1-Other Funds'!S19+'Other Funds-Revision No. 3'!T23","v":0},{"$f":"'Amendment 1-Other Funds'!T19+'Other Funds-Revision No. 3'!U23","v":0},{"$f":"'Amendment 1-Other Funds'!U19+'Other Funds-Revision No. 2'!U19","v":0},{"$f":"'Amendment 1-Other Funds'!V19+'Other Funds-Revision No. 2'!V19","v":0},{"$f":"'Amendment 1-Other Funds'!W19+'Other Funds-Revision No. 2'!W19","v":0},{"$f":"'Amendment 1-Other Funds'!X19+'Other Funds-Revision No. 2'!X19","v":0},{"$f":"'Amendment 1-Other Funds'!Y19+'Other Funds-Revision No. 2'!Y19","v":0},{"$f":"'Amendment 1-Other Funds'!Z19+'Other Funds-Revision No. 2'!Z19","v":0},{"$f":"'Amendment 1-Other Funds'!AA19+'Other Funds-Revision No. 2'!AA19","v":0},{"$f":"'Amendment 1-Other Funds'!AB19+'Other Funds-Revision No. 2'!AB19","v":0},{"$f":"'Amendment 1-Other Funds'!AC19+'Other Funds-Revision No. 2'!AC19","v":0},{"$f":"'Amendment 1-Other Funds'!AD19+'Other Funds-Revision No. 2'!AD19","v":0},{"$f":"'Amendment 1-Other Funds'!AE19+'Other Funds-Revision No. 2'!AE19","v":0},{"$f":"'Amendment 1-Other Funds'!AF19+'Other Funds-Revision No. 2'!AF19","v":0},{"$f":"'Amendment 1-Other Funds'!AG19+'Other Funds-Revision No. 2'!AG19","v":0},{"$f":"'Amendment 1-Other Funds'!AH19+'Other Funds-Revision No. 2'!AH19","v":0},{"$f":"'Amendment 1-Other Funds'!AI19+'Other Funds-Revision No. 2'!AI19","v":0},{"$f":"'Amendment 1-Other Funds'!AJ19+'Other Funds-Revision No. 2'!AJ19","v":0},0,{"$f":"'Amendment 1-Other Funds'!AL19+'Other Funds-Revision No. 2'!AL19","v":29172},8840]
[{"$f":"+'Original ABG Allocation'!A20","v":"15"},{"$f":"+'Original ABG Allocation'!B20","v":"COLUM/MONT"},{"$f":"'Amendment 1-Other Funds'!C20+'Other Funds-Revision No. 2'!C20","v":0},{"$f":"'Amendment 1-Other Funds'!D20+'Other Funds-Revision No. 2'!D20","v":0},{"$f":"'Amendment 1-Other Funds'!E20+'Other Funds-Revision No. 2'!E20","v":8840},{"$f":"'Amendment 1-Other Funds'!F20+'Other Funds-Revision No. 2'!F20","v":0},{"$f":"'Amendment 1-Other Funds'!G20+'Other Funds-Revision No. 2'!G20","v":0},{"$f":"'Amendment 1-Other Funds'!H20+'Other Funds-Revision No. 2'!H20","v":0},{"$f":"'Amendment 1-Other Funds'!I20+'Other Funds-Revision No. 2'!I20","v":0},{"$f":"'Amendment 1-Other Funds'!J20+'Other Funds-Revision No. 2'!J20","v":0},{"$f":"'Amendment 1-Other Funds'!K20+'Other Funds-Revision No. 2'!K20","v":0},{"$f":"'Amendment 1-Other Funds'!L20+'Other Funds-Revision No. 2'!L20","v":0},{"$f":"'Amendment 1-Other Funds'!M20+'Other Funds-Revision No. 2'!M20","v":0},{"$f":"'Amendment 1-Other Funds'!N20+'Other Funds-Revision No. 2'!N20","v":0},{"$f":"'Amendment 1-Other Funds'!O20+'Other Funds-Revision No. 2'!O20","v":0},{"$f":"'Amendment 1-Other Funds'!P20+'Other Funds-Revision No. 2'!P20","v":0},{"$f":"'Amendment 1-Other Funds'!Q20+'Other Funds-Revision No. 2'!Q20","v":0},{"$f":"'Amendment 1-Other Funds'!R20+'Other Funds-Revision No. 2'!R20","v":0},{"$f":"'Amendment 1-Other Funds'!S20+'Other Funds-Revision No. 3'!T24","v":0},{"$f":"'Amendment 1-Other Funds'!T20+'Other Funds-Revision No. 3'!U24","v":0},{"$f":"'Amendment 1-Other Funds'!U20+'Other Funds-Revision No. 2'!U20","v":0},{"$f":"'Amendment 1-Other Funds'!V20+'Other Funds-Revision No. 2'!V20","v":0},{"$f":"'Amendment 1-Other Funds'!W20+'Other Funds-Revision No. 2'!W20","v":0},{"$f":"'Amendment 1-Other Funds'!X20+'Other Funds-Revision No. 2'!X20","v":0},{"$f":"'Amendment 1-Other Funds'!Y20+'Other Funds-Revision No. 2'!Y20","v":0},{"$f":"'Amendment 1-Other Funds'!Z20+'Other Funds-Revision No. 2'!Z20","v":0},{"$f":"'Amendment 1-Other Funds'!AA20+'Other Funds-Revision No. 2'!AA20","v":0},{"$f":"'Amendment 1-Other Funds'!AB20+'Other Funds-Revision No. 2'!AB20","v":0},{"$f":"'Amendment 1-Other Funds'!AC20+'Other Funds-Revision No. 2'!AC20","v":0},{"$f":"'Amendment 1-Other Funds'!AD20+'Other Funds-Revision No. 2'!AD20","v":0},{"$f":"'Amendment 1-Other Funds'!AE20+'Other Funds-Revision No. 2'!AE20","v":0},{"$f":"'Amendment 1-Other Funds'!AF20+'Other Funds-Revision No. 2'!AF20","v":0},{"$f":"'Amendment 1-Other Funds'!AG20+'Other Funds-Revision No. 2'!AG20","v":0},{"$f":"'Amendment 1-Other Funds'!AH20+'Other Funds-Revision No. 2'!AH20","v":0},{"$f":"'Amendment 1-Other Funds'!AI20+'Other Funds-Revision No. 2'!AI20","v":0},{"$f":"'Amendment 1-Other Funds'!AJ20+'Other Funds-Revision No. 2'!AJ20","v":0},0,{"$f":"'Amendment 1-Other Funds'!AL20+'Other Funds-Revision No. 2'!AL20","v":16498},8840]
[{"$f":"+'Original ABG Allocation'!A21","v":"16"},{"$f":"+'Original ABG Allocation'!B21","v":"NORTHUMBERLND"},{"$f":"'Amendment 1-Other Funds'!C21+'Other Funds-Revision No. 2'!C21","v":0},{"$f":"'Amendment 1-Other Funds'!D21+'Other Funds-Revision No. 2'!D21","v":0},{"$f":"'Amendment 1-Other Funds'!E21+'Other Funds-Revision No. 2'!E21","v":8840},{"$f":"'Amendment 1-Other Funds'!F21+'Other Funds-Revision No. 2'!F21","v":0},{"$f":"'Amendment 1-Other Funds'!G21+'Other Funds-Revision No. 2'!G21","v":0},{"$f":"'Amendment 1-Other Funds'!H21+'Other Funds-Revision No. 2'!H21","v":0},{"$f":"'Amendment 1-Other Funds'!I21+'Other Funds-Revision No. 2'!I21","v":0},{"$f":"'Amendment 1-Other Funds'!J21+'Other Funds-Revision No. 2'!J21","v":0},{"$f":"'Amendment 1-Other Funds'!K21+'Other Funds-Revision No. 2'!K21","v":0},{"$f":"'Amendment 1-Other Funds'!L21+'Other Funds-Revision No. 2'!L21","v":0},{"$f":"'Amendment 1-Other Funds'!M21+'Other Funds-Revision No. 2'!M21","v":0},{"$f":"'Amendment 1-Other Funds'!N21+'Other Funds-Revision No. 2'!N21","v":0},{"$f":"'Amendment 1-Other Funds'!O21+'Other Funds-Revision No. 2'!O21","v":0},{"$f":"'Amendment 1-Other Funds'!P21+'Other Funds-Revision No. 2'!P21","v":0},{"$f":"'Amendment 1-Other Funds'!Q21+'Other Funds-Revision No. 2'!Q21","v":0},{"$f":"'Amendment 1-Other Funds'!R21+'Other Funds-Revision No. 2'!R21","v":0},{"$f":"'Amendment 1-Other Funds'!S21+'Other Funds-Revision No. 3'!T25","v":0},{"$f":"'Amendment 1-Other Funds'!T21+'Other Funds-Revision No. 3'!U25","v":0},{"$f":"'Amendment 1-Other Funds'!U21+'Other Funds-Revision No. 2'!U21","v":0},{"$f":"'Amendment 1-Other Funds'!V21+'Other Funds-Revision No. 2'!V21","v":0},{"$f":"'Amendment 1-Other Funds'!W21+'Other Funds-Revision No. 2'!W21","v":0},{"$f":"'Amendment 1-Other Funds'!X21+'Other Funds-Revision No. 2'!X21","v":0},{"$f":"'Amendment 1-Other Funds'!Y21+'Other Funds-Revision No. 2'!Y21","v":0},{"$f":"'Amendment 1-Other Funds'!Z21+'Other Funds-Revision No. 2'!Z21","v":0},{"$f":"'Amendment 1-Other Funds'!AA21+'Other Funds-Revision No. 2'!AA21","v":0},{"$f":"'Amendment 1-Other Funds'!AB21+'Other Funds-Revision No. 2'!AB21","v":0},{"$f":"'Amendment 1-Other Funds'!AC21+'Other Funds-Revision No. 2'!AC21","v":0},{"$f":"'Amendment 1-Other Funds'!AD21+'Other Funds-Revision No. 2'!AD21","v":0},{"$f":"'Amendment 1-Other Funds'!AE21+'Other Funds-Revision No. 2'!AE21","v":0},{"$f":"'Amendment 1-Other Funds'!AF21+'Other Funds-Revision No. 2'!AF21","v":0},{"$f":"'Amendment 1-Other Funds'!AG21+'Other Funds-Revision No. 2'!AG21","v":0},{"$f":"'Amendment 1-Other Funds'!AH21+'Other Funds-Revision No. 2'!AH21","v":0},{"$f":"'Amendment 1-Other Funds'!AI21+'Other Funds-Revision No. 2'!AI21","v":0},{"$f":"'Amendment 1-Other Funds'!AJ21+'Other Funds-Revision No. 2'!AJ21","v":0},0,{"$f":"'Amendment 1-Other Funds'!AL21+'Other Funds-Revision No. 2'!AL21","v":18995},8840]
[{"$f":"+'Original ABG Allocation'!A22","v":"17"},{"$f":"+'Original ABG Allocation'!B22","v":"UNION/SNYDER"},{"$f":"'Amendment 1-Other Funds'!C22+'Other Funds-Revision No. 2'!C22","v":0},{"$f":"'Amendment 1-Other Funds'!D22+'Other Funds-Revision No. 2'!D22","v":0},{"$f":"'Amendment 1-Other Funds'!E22+'Other Funds-Revision No. 2'!E22","v":8840},{"$f":"'Amendment 1-Other Funds'!F22+'Other Funds-Revision No. 2'!F22","v":0},{"$f":"'Amendment 1-Other Funds'!G22+'Other Funds-Revision No. 2'!G22","v":0},{"$f":"'Amendment 1-Other Funds'!H22+'Other Funds-Revision No. 2'!H22","v":0},{"$f":"'Amendment 1-Other Funds'!I22+'Other Funds-Revision No. 2'!I22","v":0},{"$f":"'Amendment 1-Other Funds'!J22+'Other Funds-Revision No. 2'!J22","v":0},{"$f":"'Amendment 1-Other Funds'!K22+'Other Funds-Revision No. 2'!K22","v":0},{"$f":"'Amendment 1-Other Funds'!L22+'Other Funds-Revision No. 2'!L22","v":0},{"$f":"'Amendment 1-Other Funds'!M22+'Other Funds-Revision No. 2'!M22","v":0},{"$f":"'Amendment 1-Other Funds'!N22+'Other Funds-Revision No. 2'!N22","v":0},{"$f":"'Amendment 1-Other Funds'!O22+'Other Funds-Revision No. 2'!O22","v":0},{"$f":"'Amendment 1-Other Funds'!P22+'Other Funds-Revision No. 2'!P22","v":0},{"$f":"'Amendment 1-Other Funds'!Q22+'Other Funds-Revision No. 2'!Q22","v":0},{"$f":"'Amendment 1-Other Funds'!R22+'Other Funds-Revision No. 2'!R22","v":0},{"$f":"'Amendment 1-Other Funds'!S22+'Other Funds-Revision No. 3'!T26","v":0},{"$f":"'Amendment 1-Other Funds'!T22+'Other Funds-Revision No. 3'!U26","v":0},{"$f":"'Amendment 1-Other Funds'!U22+'Other Funds-Revision No. 2'!U22","v":0},{"$f":"'Amendment 1-Other Funds'!V22+'Other Funds-Revision No. 2'!V22","v":0},{"$f":"'Amendment 1-Other Funds'!W22+'Other Funds-Revision No. 2'!W22","v":0},{"$f":"'Amendment 1-Other Funds'!X22+'Other Funds-Revision No. 2'!X22","v":0},{"$f":"'Amendment 1-Other Funds'!Y22+'Other Funds-Revision No. 2'!Y22","v":0},{"$f":"'Amendment 1-Other Funds'!Z22+'Other Funds-Revision No. 2'!Z22","v":0},{"$f":"'Amendment 1-Other Funds'!AA22+'Other Funds-Revision No. 2'!AA22","v":0},{"$f":"'Amendment 1-Other Funds'!AB22+'Other Funds-Revision No. 2'!AB22","v":0},{"$f":"'Amendment 1-Other Funds'!AC22+'Other Funds-Revision No. 2'!AC22","v":0},{"$f":"'Amendment 1-Other Funds'!AD22+'Other Funds-Revision No. 2'!AD22","v":0},{"$f":"'Amendment 1-Other Funds'!AE22+'Other Funds-Revision No. 2'!AE22","v":0},{"$f":"'Amendment 1-Other Funds'!AF22+'Other Funds-Revision No. 2'!AF22","v":0},{"$f":"'Amendment 1-Other Funds'!AG22+'Other Funds-Revision No. 2'!AG22","v":0},{"$f":"'Amendment 1-Other Funds'!AH22+'Other Funds-Revision No. 2'!AH22","v":0},{"$f":"'Amendment 1-Other Funds'!AI22+'Other Funds-Revision No. 2'!AI22","v":0},{"$f":"'Amendment 1-Other Funds'!AJ22+'Other Funds-Revision No. 2'!AJ22","v":0},0,{"$f":"'Amendment 1-Other Funds'!AL22+'Other Funds-Revision No. 2'!AL22","v":16338},8840]
[{"$f":"+'Original ABG Allocation'!A23","v":"18"},{"$f":"+'Original ABG Allocation'!B23","v":"MIFF/JUNIATA"},{"$f":"'Amendment 1-Other Funds'!C23+'Other Funds-Revision No. 2'!C23","v":0},{"$f":"'Amendment 1-Other Funds'!D23+'Other Funds-Revision No. 2'!D23","v":0},{"$f":"'Amendment 1-Other Funds'!E23+'Other Funds-Revision No. 2'!E23","v":8840},{"$f":"'Amendment 1-Other Funds'!F23+'Other Funds-Revision No. 2'!F23","v":0},{"$f":"'Amendment 1-Other Funds'!G23+'Other Funds-Revision No. 2'!G23","v":0},{"$f":"'Amendment 1-Other Funds'!H23+'Other Funds-Revision No. 2'!H23","v":0},{"$f":"'Amendment 1-Other Funds'!I23+'Other Funds-Revision No. 2'!I23","v":0},{"$f":"'Amendment 1-Other Funds'!J23+'Other Funds-Revision No. 2'!J23","v":0},{"$f":"'Amendment 1-Other Funds'!K23+'Other Funds-Revision No. 2'!K23","v":0},{"$f":"'Amendment 1-Other Funds'!L23+'Other Funds-Revision No. 2'!L23","v":0},{"$f":"'Amendment 1-Other Funds'!M23+'Other Funds-Revision No. 2'!M23","v":0},{"$f":"'Amendment 1-Other Funds'!N23+'Other Funds-Revision No. 2'!N23","v":0},{"$f":"'Amendment 1-Other Funds'!O23+'Other Funds-Revision No. 2'!O23","v":0},{"$f":"'Amendment 1-Other Funds'!P23+'Other Funds-Revision No. 2'!P23","v":0},{"$f":"'Amendment 1-Other Funds'!Q23+'Other Funds-Revision No. 2'!Q23","v":0},{"$f":"'Amendment 1-Other Funds'!R23+'Other Funds-Revision No. 2'!R23","v":0},{"$f":"'Amendment 1-Other Funds'!S23+'Other Funds-Revision No. 3'!T27","v":0},{"$f":"'Amendment 1-Other Funds'!T23+'Other Funds-Revision No. 3'!U27","v":0},{"$f":"'Amendment 1-Other Funds'!U23+'Other Funds-Revision No. 2'!U23","v":0},{"$f":"'Amendment 1-Other Funds'!V23+'Other Funds-Revision No. 2'!V23","v":0},{"$f":"'Amendment 1-Other Funds'!W23+'Other Funds-Revision No. 2'!W23","v":0},{"$f":"'Amendment 1-Other Funds'!X23+'Other Funds-Revision No. 2'!X23","v":0},{"$f":"'Amendment 1-Other Funds'!Y23+'Other Funds-Revision No. 2'!Y23","v":0},{"$f":"'Amendment 1-Other Funds'!Z23+'Other Funds-Revision No. 2'!Z23","v":0},{"$f":"'Amendment 1-Other Funds'!AA23+'Other Funds-Revision No. 2'!AA23","v":0},{"$f":"'Amendment 1-Other Funds'!AB23+'Other Funds-Revision No. 2'!AB23","v":0},{"$f":"'Amendment 1-Other Funds'!AC23+'Other Funds-Revision No. 2'!AC23","v":0},{"$f":"'Amendment 1-Other Funds'!AD23+'Other Funds-Revision No. 2'!AD23","v":0},{"$f":"'Amendment 1-Other Funds'!AE23+'Other Funds-Revision No. 2'!AE23","v":0},{"$f":"'Amendment 1-Other Funds'!AF23+'Other Funds-Revision No. 2'!AF23","v":0},{"$f":"'Amendment 1-Other Funds'!AG23+'Other Funds-Revision No. 2'!AG23","v":0},{"$f":"'Amendment 1-Other Funds'!AH23+'Other Funds-Revision No. 2'!AH23","v":0},{"$f":"'Amendment 1-Other Funds'!AI23+'Other Funds-Revision No. 2'!AI23","v":0},{"$f":"'Amendment 1-Other Funds'!AJ23+'Other Funds-Revision No. 2'!AJ23","v":0},0,{"$f":"'Amendment 1-Other Funds'!AL23+'Other Funds-Revision No. 2'!AL23","v":17134},8840]
[{"$f":"+'Original ABG Allocation'!A24","v":"19"},{"$f":"+'Original ABG Allocation'!B24","v":"FRANKLIN"},{"$f":"'Amendment 1-Other Funds'!C24+'Other Funds-Revision No. 2'!C24","v":0},{"$f":"'Amendment 1-Other Funds'!D24+'Other Funds-Revision No. 2'!D24","v":0},{"$f":"'Amendment 1-Other Funds'!E24+'Other Funds-Revision No. 2'!E24","v":8840},{"$f":"'Amendment 1-Other Funds'!F24+'Other Funds-Revision No. 2'!F24","v":0},{"$f":"'Amendment 1-Other Funds'!G24+'Other Funds-Revision No. 2'!G24","v":0},{"$f":"'Amendment 1-Other Funds'!H24+'Other Funds-Revision No. 2'!H24","v":0},{"$f":"'Amendment 1-Other Funds'!I24+'Other Funds-Revision No. 2'!I24","v":0},{"$f":"'Amendment 1-Other Funds'!J24+'Other Funds-Revision No. 2'!J24","v":0},{"$f":"'Amendment 1-Other Funds'!K24+'Other Funds-Revision No. 2'!K24","v":0},{"$f":"'Amendment 1-Other Funds'!L24+'Other Funds-Revision No. 2'!L24","v":0},{"$f":"'Amendment 1-Other Funds'!M24+'Other Funds-Revision No. 2'!M24","v":0},{"$f":"'Amendment 1-Other Funds'!N24+'Other Funds-Revision No. 2'!N24","v":0},{"$f":"'Amendment 1-Other Funds'!O24+'Other Funds-Revision No. 2'!O24","v":0},{"$f":"'Amendment 1-Other Funds'!P24+'Other Funds-Revision No. 2'!P24","v":0},{"$f":"'Amendment 1-Other Funds'!Q24+'Other Funds-Revision No. 2'!Q24","v":0},{"$f":"'Amendment 1-Other Funds'!R24+'Other Funds-Revision No. 2'!R24","v":0},{"$f":"'Amendment 1-Other Funds'!S24+'Other Funds-Revision No. 3'!T28","v":0},{"$f":"'Amendment 1-Other Funds'!T24+'Other Funds-Revision No. 3'!U28","v":0},{"$f":"'Amendment 1-Other Funds'!U24+'Other Funds-Revision No. 2'!U24","v":0},{"$f":"'Amendment 1-Other Funds'!V24+'Other Funds-Revision No. 2'!V24","v":0},{"$f":"'Amendment 1-Other Funds'!W24+'Other Funds-Revision No. 2'!W24","v":0},{"$f":"'Amendment 1-Other Funds'!X24+'Other Funds-Revision No. 2'!X24","v":0},{"$f":"'Amendment 1-Other Funds'!Y24+'Other Funds-Revision No. 2'!Y24","v":0},{"$f":"'Amendment 1-Other Funds'!Z24+'Other Funds-Revision No. 2'!Z24","v":0},{"$f":"'Amendment 1-Other Funds'!AA24+'Other Funds-Revision No. 2'!AA24","v":0},{"$f":"'Amendment 1-Other Funds'!AB24+'Other Funds-Revision No. 2'!AB24","v":0},{"$f":"'Amendment 1-Other Funds'!AC24+'Other Funds-Revision No. 2'!AC24","v":0},{"$f":"'Amendment 1-Other Funds'!AD24+'Other Funds-Revision No. 2'!AD24","v":0},{"$f":"'Amendment 1-Other Funds'!AE24+'Other Funds-Revision No. 2'!AE24","v":0},{"$f":"'Amendment 1-Other Funds'!AF24+'Other Funds-Revision No. 2'!AF24","v":0},{"$f":"'Amendment 1-Other Funds'!AG24+'Other Funds-Revision No. 2'!AG24","v":0},{"$f":"'Amendment 1-Other Funds'!AH24+'Other Funds-Revision No. 2'!AH24","v":0},{"$f":"'Amendment 1-Other Funds'!AI24+'Other Funds-Revision No. 2'!AI24","v":0},{"$f":"'Amendment 1-Other Funds'!AJ24+'Other Funds-Revision No. 2'!AJ24","v":0},0,{"$f":"'Amendment 1-Other Funds'!AL24+'Other Funds-Revision No. 2'!AL24","v":23033},8840]
[{"$f":"+'Original ABG Allocation'!A25","v":"20"},{"$f":"+'Original ABG Allocation'!B25","v":"ADAMS"},{"$f":"'Amendment 1-Other Funds'!C25+'Other Funds-Revision No. 2'!C25","v":0},{"$f":"'Amendment 1-Other Funds'!D25+'Other Funds-Revision No. 2'!D25","v":0},{"$f":"'Amendment 1-Other Funds'!E25+'Other Funds-Revision No. 2'!E25","v":8840},{"$f":"'Amendment 1-Other Funds'!F25+'Other Funds-Revision No. 2'!F25","v":0},{"$f":"'Amendment 1-Other Funds'!G25+'Other Funds-Revision No. 2'!G25","v":0},{"$f":"'Amendment 1-Other Funds'!H25+'Other Funds-Revision No. 2'!H25","v":0},{"$f":"'Amendment 1-Other Funds'!I25+'Other Funds-Revision No. 2'!I25","v":0},{"$f":"'Amendment 1-Other Funds'!J25+'Other Funds-Revision No. 2'!J25","v":0},{"$f":"'Amendment 1-Other Funds'!K25+'Other Funds-Revision No. 2'!K25","v":0},{"$f":"'Amendment 1-Other Funds'!L25+'Other Funds-Revision No. 2'!L25","v":0},{"$f":"'Amendment 1-Other Funds'!M25+'Other Funds-Revision No. 2'!M25","v":0},{"$f":"'Amendment 1-Other Funds'!N25+'Other Funds-Revision No. 2'!N25","v":0},{"$f":"'Amendment 1-Other Funds'!O25+'Other Funds-Revision No. 2'!O25","v":0},{"$f":"'Amendment 1-Other Funds'!P25+'Other Funds-Revision No. 2'!P25","v":0},{"$f":"'Amendment 1-Other Funds'!Q25+'Other Funds-Revision No. 2'!Q25","v":0},{"$f":"'Amendment 1-Other Funds'!R25+'Other Funds-Revision No. 2'!R25","v":0},{"$f":"'Amendment 1-Other Funds'!S25+'Other Funds-Revision No. 3'!T29","v":0},{"$f":"'Amendment 1-Other Funds'!T25+'Other Funds-Revision No. 3'!U29","v":0},{"$f":"'Amendment 1-Other Funds'!U25+'Other Funds-Revision No. 2'!U25","v":0},{"$f":"'Amendment 1-Other Funds'!V25+'Other Funds-Revision No. 2'!V25","v":0},{"$f":"'Amendment 1-Other Funds'!W25+'Other Funds-Revision No. 2'!W25","v":0},{"$f":"'Amendment 1-Other Funds'!X25+'Other Funds-Revision No. 2'!X25","v":0},{"$f":"'Amendment 1-Other Funds'!Y25+'Other Funds-Revision No. 2'!Y25","v":0},{"$f":"'Amendment 1-Other Funds'!Z25+'Other Funds-Revision No. 2'!Z25","v":0},{"$f":"'Amendment 1-Other Funds'!AA25+'Other Funds-Revision No. 2'!AA25","v":0},{"$f":"'Amendment 1-Other Funds'!AB25+'Other Funds-Revision No. 2'!AB25","v":0},{"$f":"'Amendment 1-Other Funds'!AC25+'Other Funds-Revision No. 2'!AC25","v":0},{"$f":"'Amendment 1-Other Funds'!AD25+'Other Funds-Revision No. 2'!AD25","v":0},{"$f":"'Amendment 1-Other Funds'!AE25+'Other Funds-Revision No. 2'!AE25","v":0},{"$f":"'Amendment 1-Other Funds'!AF25+'Other Funds-Revision No. 2'!AF25","v":0},{"$f":"'Amendment 1-Other Funds'!AG25+'Other Funds-Revision No. 2'!AG25","v":0},{"$f":"'Amendment 1-Other Funds'!AH25+'Other Funds-Revision No. 2'!AH25","v":0},{"$f":"'Amendment 1-Other Funds'!AI25+'Other Funds-Revision No. 2'!AI25","v":0},{"$f":"'Amendment 1-Other Funds'!AJ25+'Other Funds-Revision No. 2'!AJ25","v":0},0,{"$f":"'Amendment 1-Other Funds'!AL25+'Other Funds-Revision No. 2'!AL25","v":20260},8840]
[{"$f":"+'Original ABG Allocation'!A26","v":"21"},{"$f":"+'Original ABG Allocation'!B26","v":"CUMBERLAND"},{"$f":"'Amendment 1-Other Funds'!C26+'Other Funds-Revision No. 2'!C26","v":0},{"$f":"'Amendment 1-Other Funds'!D26+'Other Funds-Revision No. 2'!D26","v":0},{"$f":"'Amendment 1-Other Funds'!E26+'Other Funds-Revision No. 2'!E26","v":8840},{"$f":"'Amendment 1-Other Funds'!F26+'Other Funds-Revision No. 2'!F26","v":0},{"$f":"'Amendment 1-Other Funds'!G26+'Other Funds-Revision No. 2'!G26","v":0},{"$f":"'Amendment 1-Other Funds'!H26+'Other Funds-Revision No. 2'!H26","v":0},{"$f":"'Amendment 1-Other Funds'!I26+'Other Funds-Revision No. 2'!I26","v":0},{"$f":"'Amendment 1-Other Funds'!J26+'Other Funds-Revision No. 2'!J26","v":0},{"$f":"'Amendment 1-Other Funds'!K26+'Other Funds-Revision No. 2'!K26","v":0},{"$f":"'Amendment 1-Other Funds'!L26+'Other Funds-Revision No. 2'!L26","v":0},{"$f":"'Amendment 1-Other Funds'!M26+'Other Funds-Revision No. 2'!M26","v":0},{"$f":"'Amendment 1-Other Funds'!N26+'Other Funds-Revision No. 2'!N26","v":0},{"$f":"'Amendment 1-Other Funds'!O26+'Other Funds-Revision No. 2'!O26","v":0},{"$f":"'Amendment 1-Other Funds'!P26+'Other Funds-Revision No. 2'!P26","v":0},{"$f":"'Amendment 1-Other Funds'!Q26+'Other Funds-Revision No. 2'!Q26","v":0},{"$f":"'Amendment 1-Other Funds'!R26+'Other Funds-Revision No. 2'!R26","v":0},{"$f":"'Amendment 1-Other Funds'!S26+'Other Funds-Revision No. 3'!T30","v":0},{"$f":"'Amendment 1-Other Funds'!T26+'Other Funds-Revision No. 3'!U30","v":0},{"$f":"'Amendment 1-Other Funds'!U26+'Other Funds-Revision No. 2'!U26","v":0},{"$f":"'Amendment 1-Other Funds'!V26+'Other Funds-Revision No. 2'!V26","v":0},{"$f":"'Amendment 1-Other Funds'!W26+'Other Funds-Revision No. 2'!W26","v":0},{"$f":"'Amendment 1-Other Funds'!X26+'Other Funds-Revision No. 2'!X26","v":0},{"$f":"'Amendment 1-Other Funds'!Y26+'Other Funds-Revision No. 2'!Y26","v":0},{"$f":"'Amendment 1-Other Funds'!Z26+'Other Funds-Revision No. 2'!Z26","v":0},{"$f":"'Amendment 1-Other Funds'!AA26+'Other Funds-Revision No. 2'!AA26","v":0},{"$f":"'Amendment 1-Other Funds'!AB26+'Other Funds-Revision No. 2'!AB26","v":0},{"$f":"'Amendment 1-Other Funds'!AC26+'Other Funds-Revision No. 2'!AC26","v":0},{"$f":"'Amendment 1-Other Funds'!AD26+'Other Funds-Revision No. 2'!AD26","v":0},{"$f":"'Amendment 1-Other Funds'!AE26+'Other Funds-Revision No. 2'!AE26","v":0},{"$f":"'Amendment 1-Other Funds'!AF26+'Other Funds-Revision No. 2'!AF26","v":0},{"$f":"'Amendment 1-Other Funds'!AG26+'Other Funds-Revision No. 2'!AG26","v":0},{"$f":"'Amendment 1-Other Funds'!AH26+'Other Funds-Revision No. 2'!AH26","v":0},{"$f":"'Amendment 1-Other Funds'!AI26+'Other Funds-Revision No. 2'!AI26","v":0},{"$f":"'Amendment 1-Other Funds'!AJ26+'Other Funds-Revision No. 2'!AJ26","v":0},0,{"$f":"'Amendment 1-Other Funds'!AL26+'Other Funds-Revision No. 2'!AL26","v":29706},8840]
[{"$f":"+'Original ABG Allocation'!A27","v":"22"},{"$f":"+'Original ABG Allocation'!B27","v":"PERRY"},{"$f":"'Amendment 1-Other Funds'!C27+'Other Funds-Revision No. 2'!C27","v":0},{"$f":"'Amendment 1-Other Funds'!D27+'Other Funds-Revision No. 2'!D27","v":0},{"$f":"'Amendment 1-Other Funds'!E27+'Other Funds-Revision No. 2'!E27","v":8840},{"$f":"'Amendment 1-Other Funds'!F27+'Other Funds-Revision No. 2'!F27","v":0},{"$f":"'Amendment 1-Other Funds'!G27+'Other Funds-Revision No. 2'!G27","v":0},{"$f":"'Amendment 1-Other Funds'!H27+'Other Funds-Revision No. 2'!H27","v":0},{"$f":"'Amendment 1-Other Funds'!I27+'Other Funds-Revision No. 2'!I27","v":0},{"$f":"'Amendment 1-Other Funds'!J27+'Other Funds-Revision No. 2'!J27","v":0},{"$f":"'Amendment 1-Other Funds'!K27+'Other Funds-Revision No. 2'!K27","v":0},{"$f":"'Amendment 1-Other Funds'!L27+'Other Funds-Revision No. 2'!L27","v":0},{"$f":"'Amendment 1-Other Funds'!M27+'Other Funds-Revision No. 2'!M27","v":0},{"$f":"'Amendment 1-Other Funds'!N27+'Other Funds-Revision No. 2'!N27","v":0},{"$f":"'Amendment 1-Other Funds'!O27+'Other Funds-Revision No. 2'!O27","v":0},{"$f":"'Amendment 1-Other Funds'!P27+'Other Funds-Revision No. 2'!P27","v":0},{"$f":"'Amendment 1-Other Funds'!Q27+'Other Funds-Revision No. 2'!Q27","v":0},{"$f":"'Amendment 1-Other Funds'!R27+'Other Funds-Revision No. 2'!R27","v":0},{"$f":"'Amendment 1-Other Funds'!S27+'Other Funds-Revision No. 3'!T31","v":0},{"$f":"'Amendment 1-Other Funds'!T27+'Other Funds-Revision No. 3'!U31","v":0},{"$f":"'Amendment 1-Other Funds'!U27+'Other Funds-Revision No. 2'!U27","v":0},{"$f":"'Amendment 1-Other Funds'!V27+'Other Funds-Revision No. 2'!V27","v":0},{"$f":"'Amendment 1-Other Funds'!W27+'Other Funds-Revision No. 2'!W27","v":0},{"$f":"'Amendment 1-Other Funds'!X27+'Other Funds-Revision No. 2'!X27","v":0},{"$f":"'Amendment 1-Other Funds'!Y27+'Other Funds-Revision No. 2'!Y27","v":0},{"$f":"'Amendment 1-Other Funds'!Z27+'Other Funds-Revision No. 2'!Z27","v":0},{"$f":"'Amendment 1-Other Funds'!AA27+'Other Funds-Revision No. 2'!AA27","v":0},{"$f":"'Amendment 1-Other Funds'!AB27+'Other Funds-Revision No. 2'!AB27","v":0},{"$f":"'Amendment 1-Other Funds'!AC27+'Other Funds-Revision No. 2'!AC27","v":0},{"$f":"'Amendment 1-Other Funds'!AD27+'Other Funds-Revision No. 2'!AD27","v":0},{"$f":"'Amendment 1-Other Funds'!AE27+'Other Funds-Revision No. 2'!AE27","v":0},{"$f":"'Amendment 1-Other Funds'!AF27+'Other Funds-Revision No. 2'!AF27","v":0},{"$f":"'Amendment 1-Other Funds'!AG27+'Other Funds-Revision No. 2'!AG27","v":0},{"$f":"'Amendment 1-Other Funds'!AH27+'Other Funds-Revision No. 2'!AH27","v":0},{"$f":"'Amendment 1-Other Funds'!AI27+'Other Funds-Revision No. 2'!AI27","v":0},{"$f":"'Amendment 1-Other Funds'!AJ27+'Other Funds-Revision No. 2'!AJ27","v":0},0,{"$f":"'Amendment 1-Other Funds'!AL27+'Other Funds-Revision No. 2'!AL27","v":10262},8840]
[{"$f":"+'Original ABG Allocation'!A28","v":"23"},{"$f":"+'Original ABG Allocation'!B28","v":"DAUPHIN"},{"$f":"'Amendment 1-Other Funds'!C28+'Other Funds-Revision No. 2'!C28","v":0},{"$f":"'Amendment 1-Other Funds'!D28+'Other Funds-Revision No. 2'!D28","v":0},{"$f":"'Amendment 1-Other Funds'!E28+'Other Funds-Revision No. 2'!E28","v":8840},{"$f":"'Amendment 1-Other Funds'!F28+'Other Funds-Revision No. 2'!F28","v":0},{"$f":"'Amendment 1-Other Funds'!G28+'Other Funds-Revision No. 2'!G28","v":0},{"$f":"'Amendment 1-Other Funds'!H28+'Other Funds-Revision No. 2'!H28","v":0},{"$f":"'Amendment 1-Other Funds'!I28+'Other Funds-Revision No. 2'!I28","v":0},{"$f":"'Amendment 1-Other Funds'!J28+'Other Funds-Revision No. 2'!J28","v":0},{"$f":"'Amendment 1-Other Funds'!K28+'Other Funds-Revision No. 2'!K28","v":0},{"$f":"'Amendment 1-Other Funds'!L28+'Other Funds-Revision No. 2'!L28","v":0},{"$f":"'Amendment 1-Other Funds'!M28+'Other Funds-Revision No. 2'!M28","v":0},{"$f":"'Amendment 1-Other Funds'!N28+'Other Funds-Revision No. 2'!N28","v":0},{"$f":"'Amendment 1-Other Funds'!O28+'Other Funds-Revision No. 2'!O28","v":0},{"$f":"'Amendment 1-Other Funds'!P28+'Other Funds-Revision No. 2'!P28","v":0},{"$f":"'Amendment 1-Other Funds'!Q28+'Other Funds-Revision No. 2'!Q28","v":0},{"$f":"'Amendment 1-Other Funds'!R28+'Other Funds-Revision No. 2'!R28","v":0},{"$f":"'Amendment 1-Other Funds'!S28+'Other Funds-Revision No. 3'!T32","v":0},{"$f":"'Amendment 1-Other Funds'!T28+'Other Funds-Revision No. 3'!U32","v":0},{"$f":"'Amendment 1-Other Funds'!U28+'Other Funds-Revision No. 2'!U28","v":0},{"$f":"'Amendment 1-Other Funds'!V28+'Other Funds-Revision No. 2'!V28","v":0},{"$f":"'Amendment 1-Other Funds'!W28+'Other Funds-Revision No. 2'!W28","v":0},{"$f":"'Amendment 1-Other Funds'!X28+'Other Funds-Revision No. 2'!X28","v":0},{"$f":"'Amendment 1-Other Funds'!Y28+'Other Funds-Revision No. 2'!Y28","v":0},{"$f":"'Amendment 1-Other Funds'!Z28+'Other Funds-Revision No. 2'!Z28","v":0},{"$f":"'Amendment 1-Other Funds'!AA28+'Other Funds-Revision No. 2'!AA28","v":0},{"$f":"'Amendment 1-Other Funds'!AB28+'Other Funds-Revision No. 2'!AB28","v":0},{"$f":"'Amendment 1-Other Funds'!AC28+'Other Funds-Revision No. 2'!AC28","v":0},{"$f":"'Amendment 1-Other Funds'!AD28+'Other Funds-Revision No. 2'!AD28","v":0},{"$f":"'Amendment 1-Other Funds'!AE28+'Other Funds-Revision No. 2'!AE28","v":0},{"$f":"'Amendment 1-Other Funds'!AF28+'Other Funds-Revision No. 2'!AF28","v":0},{"$f":"'Amendment 1-Other Funds'!AG28+'Other Funds-Revision No. 2'!AG28","v":0},{"$f":"'Amendment 1-Other Funds'!AH28+'Other Funds-Revision No. 2'!AH28","v":0},{"$f":"'Amendment 1-Other Funds'!AI28+'Other Funds-Revision No. 2'!AI28","v":0},{"$f":"'Amendment 1-Other Funds'!AJ28+'Other Funds-Revision No. 2'!AJ28","v":0},0,{"$f":"'Amendment 1-Other Funds'!AL28+'Other Funds-Revision No. 2'!AL28","v":41146},8840]
[{"$f":"+'Original ABG Allocation'!A29","v":"24"},{"$f":"+'Original ABG Allocation'!B29","v":"LEBANON"},{"$f":"'Amendment 1-Other Funds'!C29+'Other Funds-Revision No. 2'!C29","v":0},{"$f":"'Amendment 1-Other Funds'!D29+'Other Funds-Revision No. 2'!D29","v":0},{"$f":"'Amendment 1-Other Funds'!E29+'Other Funds-Revision No. 2'!E29","v":9215},{"$f":"'Amendment 1-Other Funds'!F29+'Other Funds-Revision No. 2'!F29","v":0},{"$f":"'Amendment 1-Other Funds'!G29+'Other Funds-Revision No. 2'!G29","v":0},{"$f":"'Amendment 1-Other Funds'!H29+'Other Funds-Revision No. 2'!H29","v":0},{"$f":"'Amendment 1-Other Funds'!I29+'Other Funds-Revision No. 2'!I29","v":0},{"$f":"'Amendment 1-Other Funds'!J29+'Other Funds-Revision No. 2'!J29","v":0},{"$f":"'Amendment 1-Other Funds'!K29+'Other Funds-Revision No. 2'!K29","v":0},{"$f":"'Amendment 1-Other Funds'!L29+'Other Funds-Revision No. 2'!L29","v":0},{"$f":"'Amendment 1-Other Funds'!M29+'Other Funds-Revision No. 2'!M29","v":0},{"$f":"'Amendment 1-Other Funds'!N29+'Other Funds-Revision No. 2'!N29","v":0},{"$f":"'Amendment 1-Other Funds'!O29+'Other Funds-Revision No. 2'!O29","v":0},{"$f":"'Amendment 1-Other Funds'!P29+'Other Funds-Revision No. 2'!P29","v":0},{"$f":"'Amendment 1-Other Funds'!Q29+'Other Funds-Revision No. 2'!Q29","v":0},{"$f":"'Amendment 1-Other Funds'!R29+'Other Funds-Revision No. 2'!R29","v":0},{"$f":"'Amendment 1-Other Funds'!S29+'Other Funds-Revision No. 3'!T33","v":0},{"$f":"'Amendment 1-Other Funds'!T29+'Other Funds-Revision No. 3'!U33","v":0},{"$f":"'Amendment 1-Other Funds'!U29+'Other Funds-Revision No. 2'!U29","v":0},{"$f":"'Amendment 1-Other Funds'!V29+'Other Funds-Revision No. 2'!V29","v":0},{"$f":"'Amendment 1-Other Funds'!W29+'Other Funds-Revision No. 2'!W29","v":0},{"$f":"'Amendment 1-Other Funds'!X29+'Other Funds-Revision No. 2'!X29","v":0},{"$f":"'Amendment 1-Other Funds'!Y29+'Other Funds-Revision No. 2'!Y29","v":0},{"$f":"'Amendment 1-Other Funds'!Z29+'Other Funds-Revision No. 2'!Z29","v":0},{"$f":"'Amendment 1-Other Funds'!AA29+'Other Funds-Revision No. 2'!AA29","v":0},{"$f":"'Amendment 1-Other Funds'!AB29+'Other Funds-Revision No. 2'!AB29","v":0},{"$f":"'Amendment 1-Other Funds'!AC29+'Other Funds-Revision No. 2'!AC29","v":0},{"$f":"'Amendment 1-Other Funds'!AD29+'Other Funds-Revision No. 2'!AD29","v":0},{"$f":"'Amendment 1-Other Funds'!AE29+'Other Funds-Revision No. 2'!AE29","v":0},{"$f":"'Amendment 1-Other Funds'!AF29+'Other Funds-Revision No. 2'!AF29","v":0},{"$f":"'Amendment 1-Other Funds'!AG29+'Other Funds-Revision No. 2'!AG29","v":0},{"$f":"'Amendment 1-Other Funds'!AH29+'Other Funds-Revision No. 2'!AH29","v":0},{"$f":"'Amendment 1-Other Funds'!AI29+'Other Funds-Revision No. 2'!AI29","v":0},{"$f":"'Amendment 1-Other Funds'!AJ29+'Other Funds-Revision No. 2'!AJ29","v":0},0,{"$f":"'Amendment 1-Other Funds'!AL29+'Other Funds-Revision No. 2'!AL29","v":19343},9215]
[{"$f":"+'Original ABG Allocation'!A30","v":"25"},{"$f":"+'Original ABG Allocation'!B30","v":"YORK"},{"$f":"'Amendment 1-Other Funds'!C30+'Other Funds-Revision No. 2'!C30","v":0},{"$f":"'Amendment 1-Other Funds'!D30+'Other Funds-Revision No. 2'!D30","v":0},{"$f":"'Amendment 1-Other Funds'!E30+'Other Funds-Revision No. 2'!E30","v":8840},{"$f":"'Amendment 1-Other Funds'!F30+'Other Funds-Revision No. 2'!F30","v":0},{"$f":"'Amendment 1-Other Funds'!G30+'Other Funds-Revision No. 2'!G30","v":0},{"$f":"'Amendment 1-Other Funds'!H30+'Other Funds-Revision No. 2'!H30","v":0},{"$f":"'Amendment 1-Other Funds'!I30+'Other Funds-Revision No. 2'!I30","v":0},{"$f":"'Amendment 1-Other Funds'!J30+'Other Funds-Revision No. 2'!J30","v":0},{"$f":"'Amendment 1-Other Funds'!K30+'Other Funds-Revision No. 2'!K30","v":0},{"$f":"'Amendment 1-Other Funds'!L30+'Other Funds-Revision No. 2'!L30","v":0},{"$f":"'Amendment 1-Other Funds'!M30+'Other Funds-Revision No. 2'!M30","v":0},{"$f":"'Amendment 1-Other Funds'!N30+'Other Funds-Revision No. 2'!N30","v":0},{"$f":"'Amendment 1-Other Funds'!O30+'Other Funds-Revision No. 2'!O30","v":0},{"$f":"'Amendment 1-Other Funds'!P30+'Other Funds-Revision No. 2'!P30","v":0},{"$f":"'Amendment 1-Other Funds'!Q30+'Other Funds-Revision No. 2'!Q30","v":0},{"$f":"'Amendment 1-Other Funds'!R30+'Other Funds-Revision No. 2'!R30","v":0},{"$f":"'Amendment 1-Other Funds'!S30+'Other Funds-Revision No. 3'!T34","v":0},{"$f":"'Amendment 1-Other Funds'!T30+'Other Funds-Revision No. 3'!U34","v":0},{"$f":"'Amendment 1-Other Funds'!U30+'Other Funds-Revision No. 2'!U30","v":0},{"$f":"'Amendment 1-Other Funds'!V30+'Other Funds-Revision No. 2'!V30","v":0},{"$f":"'Amendment 1-Other Funds'!W30+'Other Funds-Revision No. 2'!W30","v":0},{"$f":"'Amendment 1-Other Funds'!X30+'Other Funds-Revision No. 2'!X30","v":0},{"$f":"'Amendment 1-Other Funds'!Y30+'Other Funds-Revision No. 2'!Y30","v":0},{"$f":"'Amendment 1-Other Funds'!Z30+'Other Funds-Revision No. 2'!Z30","v":0},{"$f":"'Amendment 1-Other Funds'!AA30+'Other Funds-Revision No. 2'!AA30","v":0},{"$f":"'Amendment 1-Other Funds'!AB30+'Other Funds-Revision No. 2'!AB30","v":0},{"$f":"'Amendment 1-Other Funds'!AC30+'Other Funds-Revision No. 2'!AC30","v":0},{"$f":"'Amendment 1-Other Funds'!AD30+'Other Funds-Revision No. 2'!AD30","v":0},{"$f":"'Amendment 1-Other Funds'!AE30+'Other Funds-Revision No. 2'!AE30","v":0},{"$f":"'Amendment 1-Other Funds'!AF30+'Other Funds-Revision No. 2'!AF30","v":0},{"$f":"'Amendment 1-Other Funds'!AG30+'Other Funds-Revision No. 2'!AG30","v":0},{"$f":"'Amendment 1-Other Funds'!AH30+'Other Funds-Revision No. 2'!AH30","v":0},{"$f":"'Amendment 1-Other Funds'!AI30+'Other Funds-Revision No. 2'!AI30","v":0},{"$f":"'Amendment 1-Other Funds'!AJ30+'Other Funds-Revision No. 2'!AJ30","v":0},0,{"$f":"'Amendment 1-Other Funds'!AL30+'Other Funds-Revision No. 2'!AL30","v":60311},8840]
[{"$f":"+'Original ABG Allocation'!A31","v":"26"},{"$f":"+'Original ABG Allocation'!B31","v":"LANCASTER"},{"$f":"'Amendment 1-Other Funds'!C31+'Other Funds-Revision No. 2'!C31","v":0},{"$f":"'Amendment 1-Other Funds'!D31+'Other Funds-Revision No. 2'!D31","v":0},{"$f":"'Amendment 1-Other Funds'!E31+'Other Funds-Revision No. 2'!E31","v":8840},{"$f":"'Amendment 1-Other Funds'!F31+'Other Funds-Revision No. 2'!F31","v":0},{"$f":"'Amendment 1-Other Funds'!G31+'Other Funds-Revision No. 2'!G31","v":0},{"$f":"'Amendment 1-Other Funds'!H31+'Other Funds-Revision No. 2'!H31","v":0},{"$f":"'Amendment 1-Other Funds'!I31+'Other Funds-Revision No. 2'!I31","v":0},{"$f":"'Amendment 1-Other Funds'!J31+'Other Funds-Revision No. 2'!J31","v":0},{"$f":"'Amendment 1-Other Funds'!K31+'Other Funds-Revision No. 2'!K31","v":0},{"$f":"'Amendment 1-Other Funds'!L31+'Other Funds-Revision No. 2'!L31","v":0},{"$f":"'Amendment 1-Other Funds'!M31+'Other Funds-Revision No. 2'!M31","v":0},{"$f":"'Amendment 1-Other Funds'!N31+'Other Funds-Revision No. 2'!N31","v":0},{"$f":"'Amendment 1-Other Funds'!O31+'Other Funds-Revision No. 2'!O31","v":0},{"$f":"'Amendment 1-Other Funds'!P31+'Other Funds-Revision No. 2'!P31","v":0},{"$f":"'Amendment 1-Other Funds'!Q31+'Other Funds-Revision No. 2'!Q31","v":0},{"$f":"'Amendment 1-Other Funds'!R31+'Other Funds-Revision No. 2'!R31","v":0},{"$f":"'Amendment 1-Other Funds'!S31+'Other Funds-Revision No. 3'!T35","v":0},{"$f":"'Amendment 1-Other Funds'!T31+'Other Funds-Revision No. 3'!U35","v":0},{"$f":"'Amendment 1-Other Funds'!U31+'Other Funds-Revision No. 2'!U31","v":0},{"$f":"'Amendment 1-Other Funds'!V31+'Other Funds-Revision No. 2'!V31","v":0},{"$f":"'Amendment 1-Other Funds'!W31+'Other Funds-Revision No. 2'!W31","v":0},{"$f":"'Amendment 1-Other Funds'!X31+'Other Funds-Revision No. 2'!X31","v":0},{"$f":"'Amendment 1-Other Funds'!Y31+'Other Funds-Revision No. 2'!Y31","v":0},{"$f":"'Amendment 1-Other Funds'!Z31+'Other Funds-Revision No. 2'!Z31","v":0},{"$f":"'Amendment 1-Other Funds'!AA31+'Other Funds-Revision No. 2'!AA31","v":0},{"$f":"'Amendment 1-Other Funds'!AB31+'Other Funds-Revision No. 2'!AB31","v":0},{"$f":"'Amendment 1-Other Funds'!AC31+'Other Funds-Revision No. 2'!AC31","v":0},{"$f":"'Amendment 1-Other Funds'!AD31+'Other Funds-Revision No. 2'!AD31","v":0},{"$f":"'Amendment 1-Other Funds'!AE31+'Other Funds-Revision No. 2'!AE31","v":0},{"$f":"'Amendment 1-Other Funds'!AF31+'Other Funds-Revision No. 2'!AF31","v":0},{"$f":"'Amendment 1-Other Funds'!AG31+'Other Funds-Revision No. 2'!AG31","v":0},{"$f":"'Amendment 1-Other Funds'!AH31+'Other Funds-Revision No. 2'!AH31","v":0},{"$f":"'Amendment 1-Other Funds'!AI31+'Other Funds-Revision No. 2'!AI31","v":0},{"$f":"'Amendment 1-Other Funds'!AJ31+'Other Funds-Revision No. 2'!AJ31","v":0},0,{"$f":"'Amendment 1-Other Funds'!AL31+'Other Funds-Revision No. 2'!AL31","v":68547},8840]
[{"$f":"+'Original ABG Allocation'!A32","v":"27"},{"$f":"+'Original ABG Allocation'!B32","v":"CHESTER"},{"$f":"'Amendment 1-Other Funds'!C32+'Other Funds-Revision No. 2'!C32","v":0},{"$f":"'Amendment 1-Other Funds'!D32+'Other Funds-Revision No. 2'!D32","v":0},{"$f":"'Amendment 1-Other Funds'!E32+'Other Funds-Revision No. 2'!E32","v":8840},{"$f":"'Amendment 1-Other Funds'!F32+'Other Funds-Revision No. 2'!F32","v":0},{"$f":"'Amendment 1-Other Funds'!G32+'Other Funds-Revision No. 2'!G32","v":0},{"$f":"'Amendment 1-Other Funds'!H32+'Other Funds-Revision No. 2'!H32","v":0},{"$f":"'Amendment 1-Other Funds'!I32+'Other Funds-Revision No. 2'!I32","v":0},{"$f":"'Amendment 1-Other Funds'!J32+'Other Funds-Revision No. 2'!J32","v":0},{"$f":"'Amendment 1-Other Funds'!K32+'Other Funds-Revision No. 2'!K32","v":0},{"$f":"'Amendment 1-Other Funds'!L32+'Other Funds-Revision No. 2'!L32","v":0},{"$f":"'Amendment 1-Other Funds'!M32+'Other Funds-Revision No. 2'!M32","v":0},{"$f":"'Amendment 1-Other Funds'!N32+'Other Funds-Revision No. 2'!N32","v":0},{"$f":"'Amendment 1-Other Funds'!O32+'Other Funds-Revision No. 2'!O32","v":0},{"$f":"'Amendment 1-Other Funds'!P32+'Other Funds-Revision No. 2'!P32","v":0},{"$f":"'Amendment 1-Other Funds'!Q32+'Other Funds-Revision No. 2'!Q32","v":0},{"$f":"'Amendment 1-Other Funds'!R32+'Other Funds-Revision No. 2'!R32","v":0},{"$f":"'Amendment 1-Other Funds'!S32+'Other Funds-Revision No. 3'!T36","v":0},{"$f":"'Amendment 1-Other Funds'!T32+'Other Funds-Revision No. 3'!U36","v":0},{"$f":"'Amendment 1-Other Funds'!U32+'Other Funds-Revision No. 2'!U32","v":0},{"$f":"'Amendment 1-Other Funds'!V32+'Other Funds-Revision No. 2'!V32","v":0},{"$f":"'Amendment 1-Other Funds'!W32+'Other Funds-Revision No. 2'!W32","v":0},{"$f":"'Amendment 1-Other Funds'!X32+'Other Funds-Revision No. 2'!X32","v":0},{"$f":"'Amendment 1-Other Funds'!Y32+'Other Funds-Revision No. 2'!Y32","v":0},{"$f":"'Amendment 1-Other Funds'!Z32+'Other Funds-Revision No. 2'!Z32","v":0},{"$f":"'Amendment 1-Other Funds'!AA32+'Other Funds-Revision No. 2'!AA32","v":0},{"$f":"'Amendment 1-Other Funds'!AB32+'Other Funds-Revision No. 2'!AB32","v":0},{"$f":"'Amendment 1-Other Funds'!AC32+'Other Funds-Revision No. 2'!AC32","v":0},{"$f":"'Amendment 1-Other Funds'!AD32+'Other Funds-Revision No. 2'!AD32","v":0},{"$f":"'Amendment 1-Other Funds'!AE32+'Other Funds-Revision No. 2'!AE32","v":0},{"$f":"'Amendment 1-Other Funds'!AF32+'Other Funds-Revision No. 2'!AF32","v":0},{"$f":"'Amendment 1-Other Funds'!AG32+'Other Funds-Revision No. 2'!AG32","v":0},{"$f":"'Amendment 1-Other Funds'!AH32+'Other Funds-Revision No. 2'!AH32","v":0},{"$f":"'Amendment 1-Other Funds'!AI32+'Other Funds-Revision No. 2'!AI32","v":0},{"$f":"'Amendment 1-Other Funds'!AJ32+'Other Funds-Revision No. 2'!AJ32","v":0},0,{"$f":"'Amendment 1-Other Funds'!AL32+'Other Funds-Revision No. 2'!AL32","v":51134},8840]
[{"$f":"+'Original ABG Allocation'!A33","v":"28"},{"$f":"+'Original ABG Allocation'!B33","v":"MONTGOMERY"},{"$f":"'Amendment 1-Other Funds'!C33+'Other Funds-Revision No. 2'!C33","v":0},{"$f":"'Amendment 1-Other Funds'!D33+'Other Funds-Revision No. 2'!D33","v":0},{"$f":"'Amendment 1-Other Funds'!E33+'Other Funds-Revision No. 2'!E33","v":8840},{"$f":"'Amendment 1-Other Funds'!F33+'Other Funds-Revision No. 2'!F33","v":0},{"$f":"'Amendment 1-Other Funds'!G33+'Other Funds-Revision No. 2'!G33","v":0},{"$f":"'Amendment 1-Other Funds'!H33+'Other Funds-Revision No. 2'!H33","v":0},{"$f":"'Amendment 1-Other Funds'!I33+'Other Funds-Revision No. 2'!I33","v":0},{"$f":"'Amendment 1-Other Funds'!J33+'Other Funds-Revision No. 2'!J33","v":0},{"$f":"'Amendment 1-Other Funds'!K33+'Other Funds-Revision No. 2'!K33","v":0},{"$f":"'Amendment 1-Other Funds'!L33+'Other Funds-Revision No. 2'!L33","v":0},{"$f":"'Amendment 1-Other Funds'!M33+'Other Funds-Revision No. 2'!M33","v":0},{"$f":"'Amendment 1-Other Funds'!N33+'Other Funds-Revision No. 2'!N33","v":0},{"$f":"'Amendment 1-Other Funds'!O33+'Other Funds-Revision No. 2'!O33","v":0},{"$f":"'Amendment 1-Other Funds'!P33+'Other Funds-Revision No. 2'!P33","v":0},{"$f":"'Amendment 1-Other Funds'!Q33+'Other Funds-Revision No. 2'!Q33","v":0},{"$f":"'Amendment 1-Other Funds'!R33+'Other Funds-Revision No. 2'!R33","v":0},{"$f":"'Amendment 1-Other Funds'!S33+'Other Funds-Revision No. 3'!T37","v":0},{"$f":"'Amendment 1-Other Funds'!T33+'Other Funds-Revision No. 3'!U37","v":0},{"$f":"'Amendment 1-Other Funds'!U33+'Other Funds-Revision No. 2'!U33","v":0},{"$f":"'Amendment 1-Other Funds'!V33+'Other Funds-Revision No. 2'!V33","v":0},{"$f":"'Amendment 1-Other Funds'!W33+'Other Funds-Revision No. 2'!W33","v":0},{"$f":"'Amendment 1-Other Funds'!X33+'Other Funds-Revision No. 2'!X33","v":0},{"$f":"'Amendment 1-Other Funds'!Y33+'Other Funds-Revision No. 2'!Y33","v":0},{"$f":"'Amendment 1-Other Funds'!Z33+'Other Funds-Revision No. 2'!Z33","v":0},{"$f":"'Amendment 1-Other Funds'!AA33+'Other Funds-Revision No. 2'!AA33","v":0},{"$f":"'Amendment 1-Other Funds'!AB33+'Other Funds-Revision No. 2'!AB33","v":0},{"$f":"'Amendment 1-Other Funds'!AC33+'Other Funds-Revision No. 2'!AC33","v":0},{"$f":"'Amendment 1-Other Funds'!AD33+'Other Funds-Revision No. 2'!AD33","v":0},{"$f":"'Amendment 1-Other Funds'!AE33+'Other Funds-Revision No. 2'!AE33","v":0},{"$f":"'Amendment 1-Other Funds'!AF33+'Other Funds-Revision No. 2'!AF33","v":0},{"$f":"'Amendment 1-Other Funds'!AG33+'Other Funds-Revision No. 2'!AG33","v":0},{"$f":"'Amendment 1-Other Funds'!AH33+'Other Funds-Revision No. 2'!AH33","v":0},{"$f":"'Amendment 1-Other Funds'!AI33+'Other Funds-Revision No. 2'!AI33","v":0},{"$f":"'Amendment 1-Other Funds'!AJ33+'Other Funds-Revision No. 2'!AJ33","v":0},0,{"$f":"'Amendment 1-Other Funds'!AL33+'Other Funds-Revision No. 2'!AL33","v":92594},8840]
[{"$f":"+'Original ABG Allocation'!A34","v":"29"},{"$f":"+'Original ABG Allocation'!B34","v":"BUCKS"},{"$f":"'Amendment 1-Other Funds'!C34+'Other Funds-Revision No. 2'!C34","v":0},{"$f":"'Amendment 1-Other Funds'!D34+'Other Funds-Revision No. 2'!D34","v":0},{"$f":"'Amendment 1-Other Funds'!E34+'Other Funds-Revision No. 2'!E34","v":8840},{"$f":"'Amendment 1-Other Funds'!F34+'Other Funds-Revision No. 2'!F34","v":0},{"$f":"'Amendment 1-Other Funds'!G34+'Other Funds-Revision No. 2'!G34","v":0},{"$f":"'Amendment 1-Other Funds'!H34+'Other Funds-Revision No. 2'!H34","v":0},{"$f":"'Amendment 1-Other Funds'!I34+'Other Funds-Revision No. 2'!I34","v":0},{"$f":"'Amendment 1-Other Funds'!J34+'Other Funds-Revision No. 2'!J34","v":0},{"$f":"'Amendment 1-Other Funds'!K34+'Other Funds-Revision No. 2'!K34","v":0},{"$f":"'Amendment 1-Other Funds'!L34+'Other Funds-Revision No. 2'!L34","v":0},{"$f":"'Amendment 1-Other Funds'!M34+'Other Funds-Revision No. 2'!M34","v":0},{"$f":"'Amendment 1-Other Funds'!N34+'Other Funds-Revision No. 2'!N34","v":0},{"$f":"'Amendment 1-Other Funds'!O34+'Other Funds-Revision No. 2'!O34","v":0},{"$f":"'Amendment 1-Other Funds'!P34+'Other Funds-Revision No. 2'!P34","v":0},{"$f":"'Amendment 1-Other Funds'!Q34+'Other Funds-Revision No. 2'!Q34","v":0},{"$f":"'Amendment 1-Other Funds'!R34+'Other Funds-Revision No. 2'!R34","v":0},{"$f":"'Amendment 1-Other Funds'!S34+'Other Funds-Revision No. 3'!T38","v":0},{"$f":"'Amendment 1-Other Funds'!T34+'Other Funds-Revision No. 3'!U38","v":0},{"$f":"'Amendment 1-Other Funds'!U34+'Other Funds-Revision No. 2'!U34","v":0},{"$f":"'Amendment 1-Other Funds'!V34+'Other Funds-Revision No. 2'!V34","v":0},{"$f":"'Amendment 1-Other Funds'!W34+'Other Funds-Revision No. 2'!W34","v":0},{"$f":"'Amendment 1-Other Funds'!X34+'Other Funds-Revision No. 2'!X34","v":0},{"$f":"'Amendment 1-Other Funds'!Y34+'Other Funds-Revision No. 2'!Y34","v":0},{"$f":"'Amendment 1-Other Funds'!Z34+'Other Funds-Revision No. 2'!Z34","v":0},{"$f":"'Amendment 1-Other Funds'!AA34+'Other Funds-Revision No. 2'!AA34","v":0},{"$f":"'Amendment 1-Other Funds'!AB34+'Other Funds-Revision No. 2'!AB34","v":0},{"$f":"'Amendment 1-Other Funds'!AC34+'Other Funds-Revision No. 2'!AC34","v":0},{"$f":"'Amendment 1-Other Funds'!AD34+'Other Funds-Revision No. 2'!AD34","v":0},{"$f":"'Amendment 1-Other Funds'!AE34+'Other Funds-Revision No. 2'!AE34","v":0},{"$f":"'Amendment 1-Other Funds'!AF34+'Other Funds-Revision No. 2'!AF34","v":0},{"$f":"'Amendment 1-Other Funds'!AG34+'Other Funds-Revision No. 2'!AG34","v":0},{"$f":"'Amendment 1-Other Funds'!AH34+'Other Funds-Revision No. 2'!AH34","v":0},{"$f":"'Amendment 1-Other Funds'!AI34+'Other Funds-Revision No. 2'!AI34","v":0},{"$f":"'Amendment 1-Other Funds'!AJ34+'Other Funds-Revision No. 2'!AJ34","v":0},0,{"$f":"'Amendment 1-Other Funds'!AL34+'Other Funds-Revision No. 2'!AL34","v":67441},8840]
[{"$f":"+'Original ABG Allocation'!A35","v":"30"},{"$f":"+'Original ABG Allocation'!B35","v":"DELAWARE"},{"$f":"'Amendment 1-Other Funds'!C35+'Other Funds-Revision No. 2'!C35","v":0},{"$f":"'Amendment 1-Other Funds'!D35+'Other Funds-Revision No. 2'!D35","v":0},{"$f":"'Amendment 1-Other Funds'!E35+'Other Funds-Revision No. 2'!E35","v":8840},{"$f":"'Amendment 1-Other Funds'!F35+'Other Funds-Revision No. 2'!F35","v":0},{"$f":"'Amendment 1-Other Funds'!G35+'Other Funds-Revision No. 2'!G35","v":0},{"$f":"'Amendment 1-Other Funds'!H35+'Other Funds-Revision No. 2'!H35","v":0},{"$f":"'Amendment 1-Other Funds'!I35+'Other Funds-Revision No. 2'!I35","v":0},{"$f":"'Amendment 1-Other Funds'!J35+'Other Funds-Revision No. 2'!J35","v":0},{"$f":"'Amendment 1-Other Funds'!K35+'Other Funds-Revision No. 2'!K35","v":0},{"$f":"'Amendment 1-Other Funds'!L35+'Other Funds-Revision No. 2'!L35","v":0},{"$f":"'Amendment 1-Other Funds'!M35+'Other Funds-Revision No. 2'!M35","v":0},{"$f":"'Amendment 1-Other Funds'!N35+'Other Funds-Revision No. 2'!N35","v":0},{"$f":"'Amendment 1-Other Funds'!O35+'Other Funds-Revision No. 2'!O35","v":0},{"$f":"'Amendment 1-Other Funds'!P35+'Other Funds-Revision No. 2'!P35","v":0},{"$f":"'Amendment 1-Other Funds'!Q35+'Other Funds-Revision No. 2'!Q35","v":0},{"$f":"'Amendment 1-Other Funds'!R35+'Other Funds-Revision No. 2'!R35","v":0},{"$f":"'Amendment 1-Other Funds'!S35+'Other Funds-Revision No. 3'!T39","v":0},{"$f":"'Amendment 1-Other Funds'!T35+'Other Funds-Revision No. 3'!U39","v":0},{"$f":"'Amendment 1-Other Funds'!U35+'Other Funds-Revision No. 2'!U35","v":0},{"$f":"'Amendment 1-Other Funds'!V35+'Other Funds-Revision No. 2'!V35","v":0},{"$f":"'Amendment 1-Other Funds'!W35+'Other Funds-Revision No. 2'!W35","v":0},{"$f":"'Amendment 1-Other Funds'!X35+'Other Funds-Revision No. 2'!X35","v":0},{"$f":"'Amendment 1-Other Funds'!Y35+'Other Funds-Revision No. 2'!Y35","v":0},{"$f":"'Amendment 1-Other Funds'!Z35+'Other Funds-Revision No. 2'!Z35","v":0},{"$f":"'Amendment 1-Other Funds'!AA35+'Other Funds-Revision No. 2'!AA35","v":0},{"$f":"'Amendment 1-Other Funds'!AB35+'Other Funds-Revision No. 2'!AB35","v":0},{"$f":"'Amendment 1-Other Funds'!AC35+'Other Funds-Revision No. 2'!AC35","v":0},{"$f":"'Amendment 1-Other Funds'!AD35+'Other Funds-Revision No. 2'!AD35","v":0},{"$f":"'Amendment 1-Other Funds'!AE35+'Other Funds-Revision No. 2'!AE35","v":0},{"$f":"'Amendment 1-Other Funds'!AF35+'Other Funds-Revision No. 2'!AF35","v":0},{"$f":"'Amendment 1-Other Funds'!AG35+'Other Funds-Revision No. 2'!AG35","v":0},{"$f":"'Amendment 1-Other Funds'!AH35+'Other Funds-Revision No. 2'!AH35","v":0},{"$f":"'Amendment 1-Other Funds'!AI35+'Other Funds-Revision No. 2'!AI35","v":0},{"$f":"'Amendment 1-Other Funds'!AJ35+'Other Funds-Revision No. 2'!AJ35","v":0},0,{"$f":"'Amendment 1-Other Funds'!AL35+'Other Funds-Revision No. 2'!AL35","v":73647},8840]
[{"$f":"+'Original ABG Allocation'!A36","v":"31"},{"$f":"+'Original ABG Allocation'!B36","v":"PHILADELPHIA"},{"$f":"'Amendment 1-Other Funds'!C36+'Other Funds-Revision No. 2'!C36","v":0},{"$f":"'Amendment 1-Other Funds'!D36+'Other Funds-Revision No. 2'!D36","v":0},{"$f":"'Amendment 1-Other Funds'!E36+'Other Funds-Revision No. 2'!E36","v":10140},{"$f":"'Amendment 1-Other Funds'!F36+'Other Funds-Revision No. 2'!F36","v":0},{"$f":"'Amendment 1-Other Funds'!G36+'Other Funds-Revision No. 2'!G36","v":0},{"$f":"'Amendment 1-Other Funds'!H36+'Other Funds-Revision No. 2'!H36","v":0},{"$f":"'Amendment 1-Other Funds'!I36+'Other Funds-Revision No. 2'!I36","v":0},{"$f":"'Amendment 1-Other Funds'!J36+'Other Funds-Revision No. 2'!J36","v":0},{"$f":"'Amendment 1-Other Funds'!K36+'Other Funds-Revision No. 2'!K36","v":0},{"$f":"'Amendment 1-Other Funds'!L36+'Other Funds-Revision No. 2'!L36","v":0},{"$f":"'Amendment 1-Other Funds'!M36+'Other Funds-Revision No. 2'!M36","v":0},{"$f":"'Amendment 1-Other Funds'!N36+'Other Funds-Revision No. 2'!N36","v":0},{"$f":"'Amendment 1-Other Funds'!O36+'Other Funds-Revision No. 2'!O36","v":0},{"$f":"'Amendment 1-Other Funds'!P36+'Other Funds-Revision No. 2'!P36","v":0},{"$f":"'Amendment 1-Other Funds'!Q36+'Other Funds-Revision No. 2'!Q36","v":0},{"$f":"'Amendment 1-Other Funds'!R36+'Other Funds-Revision No. 2'!R36","v":0},{"$f":"'Amendment 1-Other Funds'!S36+'Other Funds-Revision No. 3'!T40","v":0},{"$f":"'Amendment 1-Other Funds'!T36+'Other Funds-Revision No. 3'!U40","v":0},{"$f":"'Amendment 1-Other Funds'!U36+'Other Funds-Revision No. 2'!U36","v":0},{"$f":"'Amendment 1-Other Funds'!V36+'Other Funds-Revision No. 2'!V36","v":0},{"$f":"'Amendment 1-Other Funds'!W36+'Other Funds-Revision No. 2'!W36","v":0},{"$f":"'Amendment 1-Other Funds'!X36+'Other Funds-Revision No. 2'!X36","v":0},{"$f":"'Amendment 1-Other Funds'!Y36+'Other Funds-Revision No. 2'!Y36","v":0},{"$f":"'Amendment 1-Other Funds'!Z36+'Other Funds-Revision No. 2'!Z36","v":0},{"$f":"'Amendment 1-Other Funds'!AA36+'Other Funds-Revision No. 2'!AA36","v":0},{"$f":"'Amendment 1-Other Funds'!AB36+'Other Funds-Revision No. 2'!AB36","v":0},{"$f":"'Amendment 1-Other Funds'!AC36+'Other Funds-Revision No. 2'!AC36","v":0},{"$f":"'Amendment 1-Other Funds'!AD36+'Other Funds-Revision No. 2'!AD36","v":0},{"$f":"'Amendment 1-Other Funds'!AE36+'Other Funds-Revision No. 2'!AE36","v":0},{"$f":"'Amendment 1-Other Funds'!AF36+'Other Funds-Revision No. 2'!AF36","v":0},{"$f":"'Amendment 1-Other Funds'!AG36+'Other Funds-Revision No. 2'!AG36","v":0},{"$f":"'Amendment 1-Other Funds'!AH36+'Other Funds-Revision No. 2'!AH36","v":0},{"$f":"'Amendment 1-Other Funds'!AI36+'Other Funds-Revision No. 2'!AI36","v":0},{"$f":"'Amendment 1-Other Funds'!AJ36+'Other Funds-Revision No. 2'!AJ36","v":0},0,{"$f":"'Amendment 1-Other Funds'!AL36+'Other Funds-Revision No. 2'!AL36","v":365098},10140]
[{"$f":"+'Original ABG Allocation'!A37","v":"32"},{"$f":"+'Original ABG Allocation'!B37","v":"BERKS"},{"$f":"'Amendment 1-Other Funds'!C37+'Other Funds-Revision No. 2'!C37","v":0},{"$f":"'Amendment 1-Other Funds'!D37+'Other Funds-Revision No. 2'!D37","v":0},{"$f":"'Amendment 1-Other Funds'!E37+'Other Funds-Revision No. 2'!E37","v":8840},{"$f":"'Amendment 1-Other Funds'!F37+'Other Funds-Revision No. 2'!F37","v":0},{"$f":"'Amendment 1-Other Funds'!G37+'Other Funds-Revision No. 2'!G37","v":0},{"$f":"'Amendment 1-Other Funds'!H37+'Other Funds-Revision No. 2'!H37","v":0},{"$f":"'Amendment 1-Other Funds'!I37+'Other Funds-Revision No. 2'!I37","v":0},{"$f":"'Amendment 1-Other Funds'!J37+'Other Funds-Revision No. 2'!J37","v":0},{"$f":"'Amendment 1-Other Funds'!K37+'Other Funds-Revision No. 2'!K37","v":0},{"$f":"'Amendment 1-Other Funds'!L37+'Other Funds-Revision No. 2'!L37","v":0},{"$f":"'Amendment 1-Other Funds'!M37+'Other Funds-Revision No. 2'!M37","v":0},{"$f":"'Amendment 1-Other Funds'!N37+'Other Funds-Revision No. 2'!N37","v":0},{"$f":"'Amendment 1-Other Funds'!O37+'Other Funds-Revision No. 2'!O37","v":0},{"$f":"'Amendment 1-Other Funds'!P37+'Other Funds-Revision No. 2'!P37","v":0},{"$f":"'Amendment 1-Other Funds'!Q37+'Other Funds-Revision No. 2'!Q37","v":0},{"$f":"'Amendment 1-Other Funds'!R37+'Other Funds-Revision No. 2'!R37","v":0},{"$f":"'Amendment 1-Other Funds'!S37+'Other Funds-Revision No. 3'!T41","v":0},{"$f":"'Amendment 1-Other Funds'!T37+'Other Funds-Revision No. 3'!U41","v":0},{"$f":"'Amendment 1-Other Funds'!U37+'Other Funds-Revision No. 2'!U37","v":0},{"$f":"'Amendment 1-Other Funds'!V37+'Other Funds-Revision No. 2'!V37","v":0},{"$f":"'Amendment 1-Other Funds'!W37+'Other Funds-Revision No. 2'!W37","v":0},{"$f":"'Amendment 1-Other Funds'!X37+'Other Funds-Revision No. 2'!X37","v":0},{"$f":"'Amendment 1-Other Funds'!Y37+'Other Funds-Revision No. 2'!Y37","v":0},{"$f":"'Amendment 1-Other Funds'!Z37+'Other Funds-Revision No. 2'!Z37","v":0},{"$f":"'Amendment 1-Other Funds'!AA37+'Other Funds-Revision No. 2'!AA37","v":0},{"$f":"'Amendment 1-Other Funds'!AB37+'Other Funds-Revision No. 2'!AB37","v":0},{"$f":"'Amendment 1-Other Funds'!AC37+'Other Funds-Revision No. 2'!AC37","v":0},{"$f":"'Amendment 1-Other Funds'!AD37+'Other Funds-Revision No. 2'!AD37","v":0},{"$f":"'Amendment 1-Other Funds'!AE37+'Other Funds-Revision No. 2'!AE37","v":0},{"$f":"'Amendment 1-Other Funds'!AF37+'Other Funds-Revision No. 2'!AF37","v":0},{"$f":"'Amendment 1-Other Funds'!AG37+'Other Funds-Revision No. 2'!AG37","v":0},{"$f":"'Amendment 1-Other Funds'!AH37+'Other Funds-Revision No. 2'!AH37","v":0},{"$f":"'Amendment 1-Other Funds'!AI37+'Other Funds-Revision No. 2'!AI37","v":0},{"$f":"'Amendment 1-Other Funds'!AJ37+'Other Funds-Revision No. 2'!AJ37","v":0},0,{"$f":"'Amendment 1-Other Funds'!AL37+'Other Funds-Revision No. 2'!AL37","v":61542},8840]
[{"$f":"+'Original ABG Allocation'!A38","v":"33"},{"$f":"+'Original ABG Allocation'!B38","v":"LEHIGH"},{"$f":"'Amendment 1-Other Funds'!C38+'Other Funds-Revision No. 2'!C38","v":0},{"$f":"'Amendment 1-Other Funds'!D38+'Other Funds-Revision No. 2'!D38","v":0},{"$f":"'Amendment 1-Other Funds'!E38+'Other Funds-Revision No. 2'!E38","v":8840},{"$f":"'Amendment 1-Other Funds'!F38+'Other Funds-Revision No. 2'!F38","v":0},{"$f":"'Amendment 1-Other Funds'!G38+'Other Funds-Revision No. 2'!G38","v":0},{"$f":"'Amendment 1-Other Funds'!H38+'Other Funds-Revision No. 2'!H38","v":0},{"$f":"'Amendment 1-Other Funds'!I38+'Other Funds-Revision No. 2'!I38","v":0},{"$f":"'Amendment 1-Other Funds'!J38+'Other Funds-Revision No. 2'!J38","v":0},{"$f":"'Amendment 1-Other Funds'!K38+'Other Funds-Revision No. 2'!K38","v":0},{"$f":"'Amendment 1-Other Funds'!L38+'Other Funds-Revision No. 2'!L38","v":0},{"$f":"'Amendment 1-Other Funds'!M38+'Other Funds-Revision No. 2'!M38","v":0},{"$f":"'Amendment 1-Other Funds'!N38+'Other Funds-Revision No. 2'!N38","v":0},{"$f":"'Amendment 1-Other Funds'!O38+'Other Funds-Revision No. 2'!O38","v":0},{"$f":"'Amendment 1-Other Funds'!P38+'Other Funds-Revision No. 2'!P38","v":0},{"$f":"'Amendment 1-Other Funds'!Q38+'Other Funds-Revision No. 2'!Q38","v":0},{"$f":"'Amendment 1-Other Funds'!R38+'Other Funds-Revision No. 2'!R38","v":0},{"$f":"'Amendment 1-Other Funds'!S38+'Other Funds-Revision No. 3'!T42","v":0},{"$f":"'Amendment 1-Other Funds'!T38+'Other Funds-Revision No. 3'!U42","v":0},{"$f":"'Amendment 1-Other Funds'!U38+'Other Funds-Revision No. 2'!U38","v":0},{"$f":"'Amendment 1-Other Funds'!V38+'Other Funds-Revision No. 2'!V38","v":0},{"$f":"'Amendment 1-Other Funds'!W38+'Other Funds-Revision No. 2'!W38","v":0},{"$f":"'Amendment 1-Other Funds'!X38+'Other Funds-Revision No. 2'!X38","v":0},{"$f":"'Amendment 1-Other Funds'!Y38+'Other Funds-Revision No. 2'!Y38","v":0},{"$f":"'Amendment 1-Other Funds'!Z38+'Other Funds-Revision No. 2'!Z38","v":0},{"$f":"'Amendment 1-Other Funds'!AA38+'Other Funds-Revision No. 2'!AA38","v":0},{"$f":"'Amendment 1-Other Funds'!AB38+'Other Funds-Revision No. 2'!AB38","v":0},{"$f":"'Amendment 1-Other Funds'!AC38+'Other Funds-Revision No. 2'!AC38","v":0},{"$f":"'Amendment 1-Other Funds'!AD38+'Other Funds-Revision No. 2'!AD38","v":0},{"$f":"'Amendment 1-Other Funds'!AE38+'Other Funds-Revision No. 2'!AE38","v":0},{"$f":"'Amendment 1-Other Funds'!AF38+'Other Funds-Revision No. 2'!AF38","v":0},{"$f":"'Amendment 1-Other Funds'!AG38+'Other Funds-Revision No. 2'!AG38","v":0},{"$f":"'Amendment 1-Other Funds'!AH38+'Other Funds-Revision No. 2'!AH38","v":0},{"$f":"'Amendment 1-Other Funds'!AI38+'Other Funds-Revision No. 2'!AI38","v":0},{"$f":"'Amendment 1-Other Funds'!AJ38+'Other Funds-Revision No. 2'!AJ38","v":0},0,{"$f":"'Amendment 1-Other Funds'!AL38+'Other Funds-Revision No. 2'!AL38","v":49049},8840]
[{"$f":"+'Original ABG Allocation'!A39","v":"34"},{"$f":"+'Original ABG Allocation'!B39","v":"NORTHAMPTON"},{"$f":"'Amendment 1-Other Funds'!C39+'Other Funds-Revision No. 2'!C39","v":0},{"$f":"'Amendment 1-Other Funds'!D39+'Other Funds-Revision No. 2'!D39","v":0},{"$f":"'Amendment 1-Other Funds'!E39+'Other Funds-Revision No. 2'!E39","v":8840},{"$f":"'Amendment 1-Other Funds'!F39+'Other Funds-Revision No. 2'!F39","v":0},{"$f":"'Amendment 1-Other Funds'!G39+'Other Funds-Revision No. 2'!G39","v":0},{"$f":"'Amendment 1-Other Funds'!H39+'Other Funds-Revision No. 2'!H39","v":0},{"$f":"'Amendment 1-Other Funds'!I39+'Other Funds-Revision No. 2'!I39","v":0},{"$f":"'Amendment 1-Other Funds'!J39+'Other Funds-Revision No. 2'!J39","v":0},{"$f":"'Amendment 1-Other Funds'!K39+'Other Funds-Revision No. 2'!K39","v":0},{"$f":"'Amendment 1-Other Funds'!L39+'Other Funds-Revision No. 2'!L39","v":0},{"$f":"'Amendment 1-Other Funds'!M39+'Other Funds-Revision No. 2'!M39","v":0},{"$f":"'Amendment 1-Other Funds'!N39+'Other Funds-Revision No. 2'!N39","v":0},{"$f":"'Amendment 1-Other Funds'!O39+'Other Funds-Revision No. 2'!O39","v":0},{"$f":"'Amendment 1-Other Funds'!P39+'Other Funds-Revision No. 2'!P39","v":0},{"$f":"'Amendment 1-Other Funds'!Q39+'Other Funds-Revision No. 2'!Q39","v":0},{"$f":"'Amendment 1-Other Funds'!R39+'Other Funds-Revision No. 2'!R39","v":0},{"$f":"'Amendment 1-Other Funds'!S39+'Other Funds-Revision No. 3'!T43","v":0},{"$f":"'Amendment 1-Other Funds'!T39+'Other Funds-Revision No. 3'!U43","v":0},{"$f":"'Amendment 1-Other Funds'!U39+'Other Funds-Revision No. 2'!U39","v":0},{"$f":"'Amendment 1-Other Funds'!V39+'Other Funds-Revision No. 2'!V39","v":0},{"$f":"'Amendment 1-Other Funds'!W39+'Other Funds-Revision No. 2'!W39","v":0},{"$f":"'Amendment 1-Other Funds'!X39+'Other Funds-Revision No. 2'!X39","v":0},{"$f":"'Amendment 1-Other Funds'!Y39+'Other Funds-Revision No. 2'!Y39","v":0},{"$f":"'Amendment 1-Other Funds'!Z39+'Other Funds-Revision No. 2'!Z39","v":0},{"$f":"'Amendment 1-Other Funds'!AA39+'Other Funds-Revision No. 2'!AA39","v":0},{"$f":"'Amendment 1-Other Funds'!AB39+'Other Funds-Revision No. 2'!AB39","v":0},{"$f":"'Amendment 1-Other Funds'!AC39+'Other Funds-Revision No. 2'!AC39","v":0},{"$f":"'Amendment 1-Other Funds'!AD39+'Other Funds-Revision No. 2'!AD39","v":0},{"$f":"'Amendment 1-Other Funds'!AE39+'Other Funds-Revision No. 2'!AE39","v":0},{"$f":"'Amendment 1-Other Funds'!AF39+'Other Funds-Revision No. 2'!AF39","v":0},{"$f":"'Amendment 1-Other Funds'!AG39+'Other Funds-Revision No. 2'!AG39","v":0},{"$f":"'Amendment 1-Other Funds'!AH39+'Other Funds-Revision No. 2'!AH39","v":0},{"$f":"'Amendment 1-Other Funds'!AI39+'Other Funds-Revision No. 2'!AI39","v":0},{"$f":"'Amendment 1-Other Funds'!AJ39+'Other Funds-Revision No. 2'!AJ39","v":0},0,{"$f":"'Amendment 1-Other Funds'!AL39+'Other Funds-Revision No. 2'!AL39","v":37573},8840]
[{"$f":"+'Original ABG Allocation'!A40","v":"35"},{"$f":"+'Original ABG Allocation'!B40","v":"PIKE"},{"$f":"'Amendment 1-Other Funds'!C40+'Other Funds-Revision No. 2'!C40","v":0},{"$f":"'Amendment 1-Other Funds'!D40+'Other Funds-Revision No. 2'!D40","v":0},{"$f":"'Amendment 1-Other Funds'!E40+'Other Funds-Revision No. 2'!E40","v":8840},{"$f":"'Amendment 1-Other Funds'!F40+'Other Funds-Revision No. 2'!F40","v":0},{"$f":"'Amendment 1-Other Funds'!G40+'Other Funds-Revision No. 2'!G40","v":0},{"$f":"'Amendment 1-Other Funds'!H40+'Other Funds-Revision No. 2'!H40","v":0},{"$f":"'Amendment 1-Other Funds'!I40+'Other Funds-Revision No. 2'!I40","v":0},{"$f":"'Amendment 1-Other Funds'!J40+'Other Funds-Revision No. 2'!J40","v":0},{"$f":"'Amendment 1-Other Funds'!K40+'Other Funds-Revision No. 2'!K40","v":0},{"$f":"'Amendment 1-Other Funds'!L40+'Other Funds-Revision No. 2'!L40","v":0},{"$f":"'Amendment 1-Other Funds'!M40+'Other Funds-Revision No. 2'!M40","v":0},{"$f":"'Amendment 1-Other Funds'!N40+'Other Funds-Revision No. 2'!N40","v":0},{"$f":"'Amendment 1-Other Funds'!O40+'Other Funds-Revision No. 2'!O40","v":0},{"$f":"'Amendment 1-Other Funds'!P40+'Other Funds-Revision No. 2'!P40","v":0},{"$f":"'Amendment 1-Other Funds'!Q40+'Other Funds-Revision No. 2'!Q40","v":0},{"$f":"'Amendment 1-Other Funds'!R40+'Other Funds-Revision No. 2'!R40","v":0},{"$f":"'Amendment 1-Other Funds'!S40+'Other Funds-Revision No. 3'!T44","v":0},{"$f":"'Amendment 1-Other Funds'!T40+'Other Funds-Revision No. 3'!U44","v":0},{"$f":"'Amendment 1-Other Funds'!U40+'Other Funds-Revision No. 2'!U40","v":0},{"$f":"'Amendment 1-Other Funds'!V40+'Other Funds-Revision No. 2'!V40","v":0},{"$f":"'Amendment 1-Other Funds'!W40+'Other Funds-Revision No. 2'!W40","v":0},{"$f":"'Amendment 1-Other Funds'!X40+'Other Funds-Revision No. 2'!X40","v":0},{"$f":"'Amendment 1-Other Funds'!Y40+'Other Funds-Revision No. 2'!Y40","v":0},{"$f":"'Amendment 1-Other Funds'!Z40+'Other Funds-Revision No. 2'!Z40","v":0},{"$f":"'Amendment 1-Other Funds'!AA40+'Other Funds-Revision No. 2'!AA40","v":0},{"$f":"'Amendment 1-Other Funds'!AB40+'Other Funds-Revision No. 2'!AB40","v":0},{"$f":"'Amendment 1-Other Funds'!AC40+'Other Funds-Revision No. 2'!AC40","v":0},{"$f":"'Amendment 1-Other Funds'!AD40+'Other Funds-Revision No. 2'!AD40","v":0},{"$f":"'Amendment 1-Other Funds'!AE40+'Other Funds-Revision No. 2'!AE40","v":0},{"$f":"'Amendment 1-Other Funds'!AF40+'Other Funds-Revision No. 2'!AF40","v":0},{"$f":"'Amendment 1-Other Funds'!AG40+'Other Funds-Revision No. 2'!AG40","v":0},{"$f":"'Amendment 1-Other Funds'!AH40+'Other Funds-Revision No. 2'!AH40","v":0},{"$f":"'Amendment 1-Other Funds'!AI40+'Other Funds-Revision No. 2'!AI40","v":0},{"$f":"'Amendment 1-Other Funds'!AJ40+'Other Funds-Revision No. 2'!AJ40","v":0},0,{"$f":"'Amendment 1-Other Funds'!AL40+'Other Funds-Revision No. 2'!AL40","v":15706},8840]
[{"$f":"+'Original ABG Allocation'!A41","v":"36"},{"$f":"+'Original ABG Allocation'!B41","v":"B/S/S/T"},{"$f":"'Amendment 1-Other Funds'!C41+'Other Funds-Revision No. 2'!C41","v":0},{"$f":"'Amendment 1-Other Funds'!D41+'Other Funds-Revision No. 2'!D41","v":0},{"$f":"'Amendment 1-Other Funds'!E41+'Other Funds-Revision No. 2'!E41","v":8840},{"$f":"'Amendment 1-Other Funds'!F41+'Other Funds-Revision No. 2'!F41","v":0},{"$f":"'Amendment 1-Other Funds'!G41+'Other Funds-Revision No. 2'!G41","v":0},{"$f":"'Amendment 1-Other Funds'!H41+'Other Funds-Revision No. 2'!H41","v":0},{"$f":"'Amendment 1-Other Funds'!I41+'Other Funds-Revision No. 2'!I41","v":0},{"$f":"'Amendment 1-Other Funds'!J41+'Other Funds-Revision No. 2'!J41","v":0},{"$f":"'Amendment 1-Other Funds'!K41+'Other Funds-Revision No. 2'!K41","v":0},{"$f":"'Amendment 1-Other Funds'!L41+'Other Funds-Revision No. 2'!L41","v":0},{"$f":"'Amendment 1-Other Funds'!M41+'Other Funds-Revision No. 2'!M41","v":0},{"$f":"'Amendment 1-Other Funds'!N41+'Other Funds-Revision No. 2'!N41","v":0},{"$f":"'Amendment 1-Other Funds'!O41+'Other Funds-Revision No. 2'!O41","v":0},{"$f":"'Amendment 1-Other Funds'!P41+'Other Funds-Revision No. 2'!P41","v":0},{"$f":"'Amendment 1-Other Funds'!Q41+'Other Funds-Revision No. 2'!Q41","v":0},{"$f":"'Amendment 1-Other Funds'!R41+'Other Funds-Revision No. 2'!R41","v":0},{"$f":"'Amendment 1-Other Funds'!S41+'Other Funds-Revision No. 3'!T45","v":0},{"$f":"'Amendment 1-Other Funds'!T41+'Other Funds-Revision No. 3'!U45","v":0},{"$f":"'Amendment 1-Other Funds'!U41+'Other Funds-Revision No. 2'!U41","v":0},{"$f":"'Amendment 1-Other Funds'!V41+'Other Funds-Revision No. 2'!V41","v":0},{"$f":"'Amendment 1-Other Funds'!W41+'Other Funds-Revision No. 2'!W41","v":0},{"$f":"'Amendment 1-Other Funds'!X41+'Other Funds-Revision No. 2'!X41","v":0},{"$f":"'Amendment 1-Other Funds'!Y41+'Other Funds-Revision No. 2'!Y41","v":0},{"$f":"'Amendment 1-Other Funds'!Z41+'Other Funds-Revision No. 2'!Z41","v":0},{"$f":"'Amendment 1-Other Funds'!AA41+'Other Funds-Revision No. 2'!AA41","v":0},{"$f":"'Amendment 1-Other Funds'!AB41+'Other Funds-Revision No. 2'!AB41","v":0},{"$f":"'Amendment 1-Other Funds'!AC41+'Other Funds-Revision No. 2'!AC41","v":0},{"$f":"'Amendment 1-Other Funds'!AD41+'Other Funds-Revision No. 2'!AD41","v":0},{"$f":"'Amendment 1-Other Funds'!AE41+'Other Funds-Revision No. 2'!AE41","v":0},{"$f":"'Amendment 1-Other Funds'!AF41+'Other Funds-Revision No. 2'!AF41","v":0},{"$f":"'Amendment 1-Other Funds'!AG41+'Other Funds-Revision No. 2'!AG41","v":0},{"$f":"'Amendment 1-Other Funds'!AH41+'Other Funds-Revision No. 2'!AH41","v":0},{"$f":"'Amendment 1-Other Funds'!AI41+'Other Funds-Revision No. 2'!AI41","v":0},{"$f":"'Amendment 1-Other Funds'!AJ41+'Other Funds-Revision No. 2'!AJ41","v":0},0,{"$f":"'Amendment 1-Other Funds'!AL41+'Other Funds-Revision No. 2'!AL41","v":39593},8840]
[{"$f":"+'Original ABG Allocation'!A42","v":"37"},{"$f":"+'Original ABG Allocation'!B42","v":"LUZERNE/WYOMING"},{"$f":"'Amendment 1-Other Funds'!C42+'Other Funds-Revision No. 2'!C42","v":0},{"$f":"'Amendment 1-Other Funds'!D42+'Other Funds-Revision No. 2'!D42","v":0},{"$f":"'Amendment 1-Other Funds'!E42+'Other Funds-Revision No. 2'!E42","v":8840},{"$f":"'Amendment 1-Other Funds'!F42+'Other Funds-Revision No. 2'!F42","v":0},{"$f":"'Amendment 1-Other Funds'!G42+'Other Funds-Revision No. 2'!G42","v":0},{"$f":"'Amendment 1-Other Funds'!H42+'Other Funds-Revision No. 2'!H42","v":0},{"$f":"'Amendment 1-Other Funds'!I42+'Other Funds-Revision No. 2'!I42","v":0},{"$f":"'Amendment 1-Other Funds'!J42+'Other Funds-Revision No. 2'!J42","v":0},{"$f":"'Amendment 1-Other Funds'!K42+'Other Funds-Revision No. 2'!K42","v":0},{"$f":"'Amendment 1-Other Funds'!L42+'Other Funds-Revision No. 2'!L42","v":0},{"$f":"'Amendment 1-Other Funds'!M42+'Other Funds-Revision No. 2'!M42","v":0},{"$f":"'Amendment 1-Other Funds'!N42+'Other Funds-Revision No. 2'!N42","v":0},{"$f":"'Amendment 1-Other Funds'!O42+'Other Funds-Revision No. 2'!O42","v":0},{"$f":"'Amendment 1-Other Funds'!P42+'Other Funds-Revision No. 2'!P42","v":0},{"$f":"'Amendment 1-Other Funds'!Q42+'Other Funds-Revision No. 2'!Q42","v":0},{"$f":"'Amendment 1-Other Funds'!R42+'Other Funds-Revision No. 2'!R42","v":0},{"$f":"'Amendment 1-Other Funds'!S42+'Other Funds-Revision No. 3'!T46","v":0},{"$f":"'Amendment 1-Other Funds'!T42+'Other Funds-Revision No. 3'!U46","v":0},{"$f":"'Amendment 1-Other Funds'!U42+'Other Funds-Revision No. 2'!U42","v":0},{"$f":"'Amendment 1-Other Funds'!V42+'Other Funds-Revision No. 2'!V42","v":0},{"$f":"'Amendment 1-Other Funds'!W42+'Other Funds-Revision No. 2'!W42","v":0},{"$f":"'Amendment 1-Other Funds'!X42+'Other Funds-Revision No. 2'!X42","v":0},{"$f":"'Amendment 1-Other Funds'!Y42+'Other Funds-Revision No. 2'!Y42","v":0},{"$f":"'Amendment 1-Other Funds'!Z42+'Other Funds-Revision No. 2'!Z42","v":0},{"$f":"'Amendment 1-Other Funds'!AA42+'Other Funds-Revision No. 2'!AA42","v":0},{"$f":"'Amendment 1-Other Funds'!AB42+'Other Funds-Revision No. 2'!AB42","v":0},{"$f":"'Amendment 1-Other Funds'!AC42+'Other Funds-Revision No. 2'!AC42","v":0},{"$f":"'Amendment 1-Other Funds'!AD42+'Other Funds-Revision No. 2'!AD42","v":0},{"$f":"'Amendment 1-Other Funds'!AE42+'Other Funds-Revision No. 2'!AE42","v":0},{"$f":"'Amendment 1-Other Funds'!AF42+'Other Funds-Revision No. 2'!AF42","v":0},{"$f":"'Amendment 1-Other Funds'!AG42+'Other Funds-Revision No. 2'!AG42","v":0},{"$f":"'Amendment 1-Other Funds'!AH42+'Other Funds-Revision No. 2'!AH42","v":0},{"$f":"'Amendment 1-Other Funds'!AI42+'Other Funds-Revision No. 2'!AI42","v":0},{"$f":"'Amendment 1-Other Funds'!AJ42+'Other Funds-Revision No. 2'!AJ42","v":0},0,{"$f":"'Amendment 1-Other Funds'!AL42+'Other Funds-Revision No. 2'!AL42","v":53811},8840]
[{"$f":"+'Original ABG Allocation'!A43","v":"38"},{"$f":"+'Original ABG Allocation'!B43","v":"LACKAWANNA"},{"$f":"'Amendment 1-Other Funds'!C43+'Other Funds-Revision No. 2'!C43","v":0},{"$f":"'Amendment 1-Other Funds'!D43+'Other Funds-Revision No. 2'!D43","v":0},{"$f":"'Amendment 1-Other Funds'!E43+'Other Funds-Revision No. 2'!E43","v":8840},{"$f":"'Amendment 1-Other Funds'!F43+'Other Funds-Revision No. 2'!F43","v":0},{"$f":"'Amendment 1-Other Funds'!G43+'Other Funds-Revision No. 2'!G43","v":0},{"$f":"'Amendment 1-Other Funds'!H43+'Other Funds-Revision No. 2'!H43","v":0},{"$f":"'Amendment 1-Other Funds'!I43+'Other Funds-Revision No. 2'!I43","v":0},{"$f":"'Amendment 1-Other Funds'!J43+'Other Funds-Revision No. 2'!J43","v":0},{"$f":"'Amendment 1-Other Funds'!K43+'Other Funds-Revision No. 2'!K43","v":0},{"$f":"'Amendment 1-Other Funds'!L43+'Other Funds-Revision No. 2'!L43","v":0},{"$f":"'Amendment 1-Other Funds'!M43+'Other Funds-Revision No. 2'!M43","v":0},{"$f":"'Amendment 1-Other Funds'!N43+'Other Funds-Revision No. 2'!N43","v":0},{"$f":"'Amendment 1-Other Funds'!O43+'Other Funds-Revision No. 2'!O43","v":0},{"$f":"'Amendment 1-Other Funds'!P43+'Other Funds-Revision No. 2'!P43","v":0},{"$f":"'Amendment 1-Other Funds'!Q43+'Other Funds-Revision No. 2'!Q43","v":0},{"$f":"'Amendment 1-Other Funds'!R43+'Other Funds-Revision No. 2'!R43","v":0},{"$f":"'Amendment 1-Other Funds'!S43+'Other Funds-Revision No. 3'!T47","v":0},{"$f":"'Amendment 1-Other Funds'!T43+'Other Funds-Revision No. 3'!U47","v":0},{"$f":"'Amendment 1-Other Funds'!U43+'Other Funds-Revision No. 2'!U43","v":0},{"$f":"'Amendment 1-Other Funds'!V43+'Other Funds-Revision No. 2'!V43","v":0},{"$f":"'Amendment 1-Other Funds'!W43+'Other Funds-Revision No. 2'!W43","v":0},{"$f":"'Amendment 1-Other Funds'!X43+'Other Funds-Revision No. 2'!X43","v":0},{"$f":"'Amendment 1-Other Funds'!Y43+'Other Funds-Revision No. 2'!Y43","v":0},{"$f":"'Amendment 1-Other Funds'!Z43+'Other Funds-Revision No. 2'!Z43","v":0},{"$f":"'Amendment 1-Other Funds'!AA43+'Other Funds-Revision No. 2'!AA43","v":0},{"$f":"'Amendment 1-Other Funds'!AB43+'Other Funds-Revision No. 2'!AB43","v":0},{"$f":"'Amendment 1-Other Funds'!AC43+'Other Funds-Revision No. 2'!AC43","v":0},{"$f":"'Amendment 1-Other Funds'!AD43+'Other Funds-Revision No. 2'!AD43","v":0},{"$f":"'Amendment 1-Other Funds'!AE43+'Other Funds-Revision No. 2'!AE43","v":0},{"$f":"'Amendment 1-Other Funds'!AF43+'Other Funds-Revision No. 2'!AF43","v":0},{"$f":"'Amendment 1-Other Funds'!AG43+'Other Funds-Revision No. 2'!AG43","v":0},{"$f":"'Amendment 1-Other Funds'!AH43+'Other Funds-Revision No. 2'!AH43","v":0},{"$f":"'Amendment 1-Other Funds'!AI43+'Other Funds-Revision No. 2'!AI43","v":0},{"$f":"'Amendment 1-Other Funds'!AJ43+'Other Funds-Revision No. 2'!AJ43","v":0},0,{"$f":"'Amendment 1-Other Funds'!AL43+'Other Funds-Revision No. 2'!AL43","v":33417},8840]
[{"$f":"+'Original ABG Allocation'!A44","v":"39"},{"$f":"+'Original ABG Allocation'!B44","v":"CARBON"},{"$f":"'Amendment 1-Other Funds'!C44+'Other Funds-Revision No. 2'!C44","v":0},{"$f":"'Amendment 1-Other Funds'!D44+'Other Funds-Revision No. 2'!D44","v":0},{"$f":"'Amendment 1-Other Funds'!E44+'Other Funds-Revision No. 2'!E44","v":8840},{"$f":"'Amendment 1-Other Funds'!F44+'Other Funds-Revision No. 2'!F44","v":0},{"$f":"'Amendment 1-Other Funds'!G44+'Other Funds-Revision No. 2'!G44","v":0},{"$f":"'Amendment 1-Other Funds'!H44+'Other Funds-Revision No. 2'!H44","v":0},{"$f":"'Amendment 1-Other Funds'!I44+'Other Funds-Revision No. 2'!I44","v":0},{"$f":"'Amendment 1-Other Funds'!J44+'Other Funds-Revision No. 2'!J44","v":0},{"$f":"'Amendment 1-Other Funds'!K44+'Other Funds-Revision No. 2'!K44","v":0},{"$f":"'Amendment 1-Other Funds'!L44+'Other Funds-Revision No. 2'!L44","v":0},{"$f":"'Amendment 1-Other Funds'!M44+'Other Funds-Revision No. 2'!M44","v":0},{"$f":"'Amendment 1-Other Funds'!N44+'Other Funds-Revision No. 2'!N44","v":0},{"$f":"'Amendment 1-Other Funds'!O44+'Other Funds-Revision No. 2'!O44","v":0},{"$f":"'Amendment 1-Other Funds'!P44+'Other Funds-Revision No. 2'!P44","v":0},{"$f":"'Amendment 1-Other Funds'!Q44+'Other Funds-Revision No. 2'!Q44","v":0},{"$f":"'Amendment 1-Other Funds'!R44+'Other Funds-Revision No. 2'!R44","v":0},{"$f":"'Amendment 1-Other Funds'!S44+'Other Funds-Revision No. 3'!T48","v":0},{"$f":"'Amendment 1-Other Funds'!T44+'Other Funds-Revision No. 3'!U48","v":0},{"$f":"'Amendment 1-Other Funds'!U44+'Other Funds-Revision No. 2'!U44","v":0},{"$f":"'Amendment 1-Other Funds'!V44+'Other Funds-Revision No. 2'!V44","v":0},{"$f":"'Amendment 1-Other Funds'!W44+'Other Funds-Revision No. 2'!W44","v":0},{"$f":"'Amendment 1-Other Funds'!X44+'Other Funds-Revision No. 2'!X44","v":0},{"$f":"'Amendment 1-Other Funds'!Y44+'Other Funds-Revision No. 2'!Y44","v":0},{"$f":"'Amendment 1-Other Funds'!Z44+'Other Funds-Revision No. 2'!Z44","v":0},{"$f":"'Amendment 1-Other Funds'!AA44+'Other Funds-Revision No. 2'!AA44","v":0},{"$f":"'Amendment 1-Other Funds'!AB44+'Other Funds-Revision No. 2'!AB44","v":0},{"$f":"'Amendment 1-Other Funds'!AC44+'Other Funds-Revision No. 2'!AC44","v":0},{"$f":"'Amendment 1-Other Funds'!AD44+'Other Funds-Revision No. 2'!AD44","v":0},{"$f":"'Amendment 1-Other Funds'!AE44+'Other Funds-Revision No. 2'!AE44","v":0},{"$f":"'Amendment 1-Other Funds'!AF44+'Other Funds-Revision No. 2'!AF44","v":0},{"$f":"'Amendment 1-Other Funds'!AG44+'Other Funds-Revision No. 2'!AG44","v":0},{"$f":"'Amendment 1-Other Funds'!AH44+'Other Funds-Revision No. 2'!AH44","v":0},{"$f":"'Amendment 1-Other Funds'!AI44+'Other Funds-Revision No. 2'!AI44","v":0},{"$f":"'Amendment 1-Other Funds'!AJ44+'Other Funds-Revision No. 2'!AJ44","v":0},0,{"$f":"'Amendment 1-Other Funds'!AL44+'Other Funds-Revision No. 2'!AL44","v":14416},8840]
[{"$f":"+'Original ABG Allocation'!A45","v":"40"},{"$f":"+'Original ABG Allocation'!B45","v":"SCHUYLKILL"},{"$f":"'Amendment 1-Other Funds'!C45+'Other Funds-Revision No. 2'!C45","v":0},{"$f":"'Amendment 1-Other Funds'!D45+'Other Funds-Revision No. 2'!D45","v":0},{"$f":"'Amendment 1-Other Funds'!E45+'Other Funds-Revision No. 2'!E45","v":11555},{"$f":"'Amendment 1-Other Funds'!F45+'Other Funds-Revision No. 2'!F45","v":0},{"$f":"'Amendment 1-Other Funds'!G45+'Other Funds-Revision No. 2'!G45","v":0},{"$f":"'Amendment 1-Other Funds'!H45+'Other Funds-Revision No. 2'!H45","v":0},{"$f":"'Amendment 1-Other Funds'!I45+'Other Funds-Revision No. 2'!I45","v":0},{"$f":"'Amendment 1-Other Funds'!J45+'Other Funds-Revision No. 2'!J45","v":0},{"$f":"'Amendment 1-Other Funds'!K45+'Other Funds-Revision No. 2'!K45","v":0},{"$f":"'Amendment 1-Other Funds'!L45+'Other Funds-Revision No. 2'!L45","v":0},{"$f":"'Amendment 1-Other Funds'!M45+'Other Funds-Revision No. 2'!M45","v":0},{"$f":"'Amendment 1-Other Funds'!N45+'Other Funds-Revision No. 2'!N45","v":0},{"$f":"'Amendment 1-Other Funds'!O45+'Other Funds-Revision No. 2'!O45","v":0},{"$f":"'Amendment 1-Other Funds'!P45+'Other Funds-Revision No. 2'!P45","v":0},{"$f":"'Amendment 1-Other Funds'!Q45+'Other Funds-Revision No. 2'!Q45","v":0},{"$f":"'Amendment 1-Other Funds'!R45+'Other Funds-Revision No. 2'!R45","v":0},{"$f":"'Amendment 1-Other Funds'!S45+'Other Funds-Revision No. 3'!T49","v":0},{"$f":"'Amendment 1-Other Funds'!T45+'Other Funds-Revision No. 3'!U49","v":0},{"$f":"'Amendment 1-Other Funds'!U45+'Other Funds-Revision No. 2'!U45","v":0},{"$f":"'Amendment 1-Other Funds'!V45+'Other Funds-Revision No. 2'!V45","v":0},{"$f":"'Amendment 1-Other Funds'!W45+'Other Funds-Revision No. 2'!W45","v":0},{"$f":"'Amendment 1-Other Funds'!X45+'Other Funds-Revision No. 2'!X45","v":0},{"$f":"'Amendment 1-Other Funds'!Y45+'Other Funds-Revision No. 2'!Y45","v":0},{"$f":"'Amendment 1-Other Funds'!Z45+'Other Funds-Revision No. 2'!Z45","v":0},{"$f":"'Amendment 1-Other Funds'!AA45+'Other Funds-Revision No. 2'!AA45","v":0},{"$f":"'Amendment 1-Other Funds'!AB45+'Other Funds-Revision No. 2'!AB45","v":0},{"$f":"'Amendment 1-Other Funds'!AC45+'Other Funds-Revision No. 2'!AC45","v":0},{"$f":"'Amendment 1-Other Funds'!AD45+'Other Funds-Revision No. 2'!AD45","v":0},{"$f":"'Amendment 1-Other Funds'!AE45+'Other Funds-Revision No. 2'!AE45","v":0},{"$f":"'Amendment 1-Other Funds'!AF45+'Other Funds-Revision No. 2'!AF45","v":0},{"$f":"'Amendment 1-Other Funds'!AG45+'Other Funds-Revision No. 2'!AG45","v":0},{"$f":"'Amendment 1-Other Funds'!AH45+'Other Funds-Revision No. 2'!AH45","v":0},{"$f":"'Amendment 1-Other Funds'!AI45+'Other Funds-Revision No. 2'!AI45","v":0},{"$f":"'Amendment 1-Other Funds'!AJ45+'Other Funds-Revision No. 2'!AJ45","v":0},0,{"$f":"'Amendment 1-Other Funds'!AL45+'Other Funds-Revision No. 2'!AL45","v":30878},11555]
[{"$f":"+'Original ABG Allocation'!A46","v":"41"},{"$f":"+'Original ABG Allocation'!B46","v":"CLEARFIELD"},{"$f":"'Amendment 1-Other Funds'!C46+'Other Funds-Revision No. 2'!C46","v":0},{"$f":"'Amendment 1-Other Funds'!D46+'Other Funds-Revision No. 2'!D46","v":0},{"$f":"'Amendment 1-Other Funds'!E46+'Other Funds-Revision No. 2'!E46","v":8840},{"$f":"'Amendment 1-Other Funds'!F46+'Other Funds-Revision No. 2'!F46","v":0},{"$f":"'Amendment 1-Other Funds'!G46+'Other Funds-Revision No. 2'!G46","v":0},{"$f":"'Amendment 1-Other Funds'!H46+'Other Funds-Revision No. 2'!H46","v":0},{"$f":"'Amendment 1-Other Funds'!I46+'Other Funds-Revision No. 2'!I46","v":0},{"$f":"'Amendment 1-Other Funds'!J46+'Other Funds-Revision No. 2'!J46","v":0},{"$f":"'Amendment 1-Other Funds'!K46+'Other Funds-Revision No. 2'!K46","v":0},{"$f":"'Amendment 1-Other Funds'!L46+'Other Funds-Revision No. 2'!L46","v":0},{"$f":"'Amendment 1-Other Funds'!M46+'Other Funds-Revision No. 2'!M46","v":0},{"$f":"'Amendment 1-Other Funds'!N46+'Other Funds-Revision No. 2'!N46","v":0},{"$f":"'Amendment 1-Other Funds'!O46+'Other Funds-Revision No. 2'!O46","v":0},{"$f":"'Amendment 1-Other Funds'!P46+'Other Funds-Revision No. 2'!P46","v":0},{"$f":"'Amendment 1-Other Funds'!Q46+'Other Funds-Revision No. 2'!Q46","v":0},{"$f":"'Amendment 1-Other Funds'!R46+'Other Funds-Revision No. 2'!R46","v":0},{"$f":"'Amendment 1-Other Funds'!S46+'Other Funds-Revision No. 3'!T50","v":0},{"$f":"'Amendment 1-Other Funds'!T46+'Other Funds-Revision No. 3'!U50","v":0},{"$f":"'Amendment 1-Other Funds'!U46+'Other Funds-Revision No. 2'!U46","v":0},{"$f":"'Amendment 1-Other Funds'!V46+'Other Funds-Revision No. 2'!V46","v":0},{"$f":"'Amendment 1-Other Funds'!W46+'Other Funds-Revision No. 2'!W46","v":0},{"$f":"'Amendment 1-Other Funds'!X46+'Other Funds-Revision No. 2'!X46","v":0},{"$f":"'Amendment 1-Other Funds'!Y46+'Other Funds-Revision No. 2'!Y46","v":0},{"$f":"'Amendment 1-Other Funds'!Z46+'Other Funds-Revision No. 2'!Z46","v":0},{"$f":"'Amendment 1-Other Funds'!AA46+'Other Funds-Revision No. 2'!AA46","v":0},{"$f":"'Amendment 1-Other Funds'!AB46+'Other Funds-Revision No. 2'!AB46","v":0},{"$f":"'Amendment 1-Other Funds'!AC46+'Other Funds-Revision No. 2'!AC46","v":0},{"$f":"'Amendment 1-Other Funds'!AD46+'Other Funds-Revision No. 2'!AD46","v":0},{"$f":"'Amendment 1-Other Funds'!AE46+'Other Funds-Revision No. 2'!AE46","v":0},{"$f":"'Amendment 1-Other Funds'!AF46+'Other Funds-Revision No. 2'!AF46","v":0},{"$f":"'Amendment 1-Other Funds'!AG46+'Other Funds-Revision No. 2'!AG46","v":0},{"$f":"'Amendment 1-Other Funds'!AH46+'Other Funds-Revision No. 2'!AH46","v":0},{"$f":"'Amendment 1-Other Funds'!AI46+'Other Funds-Revision No. 2'!AI46","v":0},{"$f":"'Amendment 1-Other Funds'!AJ46+'Other Funds-Revision No. 2'!AJ46","v":0},0,{"$f":"'Amendment 1-Other Funds'!AL46+'Other Funds-Revision No. 2'!AL46","v":19666},8840]
[{"$f":"+'Original ABG Allocation'!A47","v":"42"},{"$f":"+'Original ABG Allocation'!B47","v":"JEFFERSON"},{"$f":"'Amendment 1-Other Funds'!C47+'Other Funds-Revision No. 2'!C47","v":0},{"$f":"'Amendment 1-Other Funds'!D47+'Other Funds-Revision No. 2'!D47","v":0},{"$f":"'Amendment 1-Other Funds'!E47+'Other Funds-Revision No. 2'!E47","v":8840},{"$f":"'Amendment 1-Other Funds'!F47+'Other Funds-Revision No. 2'!F47","v":0},{"$f":"'Amendment 1-Other Funds'!G47+'Other Funds-Revision No. 2'!G47","v":0},{"$f":"'Amendment 1-Other Funds'!H47+'Other Funds-Revision No. 2'!H47","v":0},{"$f":"'Amendment 1-Other Funds'!I47+'Other Funds-Revision No. 2'!I47","v":0},{"$f":"'Amendment 1-Other Funds'!J47+'Other Funds-Revision No. 2'!J47","v":0},{"$f":"'Amendment 1-Other Funds'!K47+'Other Funds-Revision No. 2'!K47","v":0},{"$f":"'Amendment 1-Other Funds'!L47+'Other Funds-Revision No. 2'!L47","v":0},{"$f":"'Amendment 1-Other Funds'!M47+'Other Funds-Revision No. 2'!M47","v":0},{"$f":"'Amendment 1-Other Funds'!N47+'Other Funds-Revision No. 2'!N47","v":0},{"$f":"'Amendment 1-Other Funds'!O47+'Other Funds-Revision No. 2'!O47","v":0},{"$f":"'Amendment 1-Other Funds'!P47+'Other Funds-Revision No. 2'!P47","v":0},{"$f":"'Amendment 1-Other Funds'!Q47+'Other Funds-Revision No. 2'!Q47","v":0},{"$f":"'Amendment 1-Other Funds'!R47+'Other Funds-Revision No. 2'!R47","v":0},{"$f":"'Amendment 1-Other Funds'!S47+'Other Funds-Revision No. 3'!T51","v":0},{"$f":"'Amendment 1-Other Funds'!T47+'Other Funds-Revision No. 3'!U51","v":0},{"$f":"'Amendment 1-Other Funds'!U47+'Other Funds-Revision No. 2'!U47","v":0},{"$f":"'Amendment 1-Other Funds'!V47+'Other Funds-Revision No. 2'!V47","v":0},{"$f":"'Amendment 1-Other Funds'!W47+'Other Funds-Revision No. 2'!W47","v":0},{"$f":"'Amendment 1-Other Funds'!X47+'Other Funds-Revision No. 2'!X47","v":0},{"$f":"'Amendment 1-Other Funds'!Y47+'Other Funds-Revision No. 2'!Y47","v":0},{"$f":"'Amendment 1-Other Funds'!Z47+'Other Funds-Revision No. 2'!Z47","v":0},{"$f":"'Amendment 1-Other Funds'!AA47+'Other Funds-Revision No. 2'!AA47","v":0},{"$f":"'Amendment 1-Other Funds'!AB47+'Other Funds-Revision No. 2'!AB47","v":0},{"$f":"'Amendment 1-Other Funds'!AC47+'Other Funds-Revision No. 2'!AC47","v":0},{"$f":"'Amendment 1-Other Funds'!AD47+'Other Funds-Revision No. 2'!AD47","v":0},{"$f":"'Amendment 1-Other Funds'!AE47+'Other Funds-Revision No. 2'!AE47","v":0},{"$f":"'Amendment 1-Other Funds'!AF47+'Other Funds-Revision No. 2'!AF47","v":0},{"$f":"'Amendment 1-Other Funds'!AG47+'Other Funds-Revision No. 2'!AG47","v":0},{"$f":"'Amendment 1-Other Funds'!AH47+'Other Funds-Revision No. 2'!AH47","v":0},{"$f":"'Amendment 1-Other Funds'!AI47+'Other Funds-Revision No. 2'!AI47","v":0},{"$f":"'Amendment 1-Other Funds'!AJ47+'Other Funds-Revision No. 2'!AJ47","v":0},0,{"$f":"'Amendment 1-Other Funds'!AL47+'Other Funds-Revision No. 2'!AL47","v":10201},8840]
[{"$f":"+'Original ABG Allocation'!A48","v":"43"},{"$f":"+'Original ABG Allocation'!B48","v":"FOREST/WARREN"},{"$f":"'Amendment 1-Other Funds'!C48+'Other Funds-Revision No. 2'!C48","v":0},{"$f":"'Amendment 1-Other Funds'!D48+'Other Funds-Revision No. 2'!D48","v":0},{"$f":"'Amendment 1-Other Funds'!E48+'Other Funds-Revision No. 2'!E48","v":8840},{"$f":"'Amendment 1-Other Funds'!F48+'Other Funds-Revision No. 2'!F48","v":0},{"$f":"'Amendment 1-Other Funds'!G48+'Other Funds-Revision No. 2'!G48","v":0},{"$f":"'Amendment 1-Other Funds'!H48+'Other Funds-Revision No. 2'!H48","v":0},{"$f":"'Amendment 1-Other Funds'!I48+'Other Funds-Revision No. 2'!I48","v":0},{"$f":"'Amendment 1-Other Funds'!J48+'Other Funds-Revision No. 2'!J48","v":0},{"$f":"'Amendment 1-Other Funds'!K48+'Other Funds-Revision No. 2'!K48","v":0},{"$f":"'Amendment 1-Other Funds'!L48+'Other Funds-Revision No. 2'!L48","v":0},{"$f":"'Amendment 1-Other Funds'!M48+'Other Funds-Revision No. 2'!M48","v":0},{"$f":"'Amendment 1-Other Funds'!N48+'Other Funds-Revision No. 2'!N48","v":0},{"$f":"'Amendment 1-Other Funds'!O48+'Other Funds-Revision No. 2'!O48","v":0},{"$f":"'Amendment 1-Other Funds'!P48+'Other Funds-Revision No. 2'!P48","v":0},{"$f":"'Amendment 1-Other Funds'!Q48+'Other Funds-Revision No. 2'!Q48","v":0},{"$f":"'Amendment 1-Other Funds'!R48+'Other Funds-Revision No. 2'!R48","v":0},{"$f":"'Amendment 1-Other Funds'!S48+'Other Funds-Revision No. 3'!T52","v":0},{"$f":"'Amendment 1-Other Funds'!T48+'Other Funds-Revision No. 3'!U52","v":0},{"$f":"'Amendment 1-Other Funds'!U48+'Other Funds-Revision No. 2'!U48","v":0},{"$f":"'Amendment 1-Other Funds'!V48+'Other Funds-Revision No. 2'!V48","v":0},{"$f":"'Amendment 1-Other Funds'!W48+'Other Funds-Revision No. 2'!W48","v":0},{"$f":"'Amendment 1-Other Funds'!X48+'Other Funds-Revision No. 2'!X48","v":0},{"$f":"'Amendment 1-Other Funds'!Y48+'Other Funds-Revision No. 2'!Y48","v":0},{"$f":"'Amendment 1-Other Funds'!Z48+'Other Funds-Revision No. 2'!Z48","v":0},{"$f":"'Amendment 1-Other Funds'!AA48+'Other Funds-Revision No. 2'!AA48","v":0},{"$f":"'Amendment 1-Other Funds'!AB48+'Other Funds-Revision No. 2'!AB48","v":0},{"$f":"'Amendment 1-Other Funds'!AC48+'Other Funds-Revision No. 2'!AC48","v":0},{"$f":"'Amendment 1-Other Funds'!AD48+'Other Funds-Revision No. 2'!AD48","v":0},{"$f":"'Amendment 1-Other Funds'!AE48+'Other Funds-Revision No. 2'!AE48","v":0},{"$f":"'Amendment 1-Other Funds'!AF48+'Other Funds-Revision No. 2'!AF48","v":0},{"$f":"'Amendment 1-Other Funds'!AG48+'Other Funds-Revision No. 2'!AG48","v":0},{"$f":"'Amendment 1-Other Funds'!AH48+'Other Funds-Revision No. 2'!AH48","v":0},{"$f":"'Amendment 1-Other Funds'!AI48+'Other Funds-Revision No. 2'!AI48","v":0},{"$f":"'Amendment 1-Other Funds'!AJ48+'Other Funds-Revision No. 2'!AJ48","v":0},0,{"$f":"'Amendment 1-Other Funds'!AL48+'Other Funds-Revision No. 2'!AL48","v":12228},8840]
[{"$f":"+'Original ABG Allocation'!A49","v":"44"},{"$f":"+'Original ABG Allocation'!B49","v":"VENANGO"},{"$f":"'Amendment 1-Other Funds'!C49+'Other Funds-Revision No. 2'!C49","v":0},{"$f":"'Amendment 1-Other Funds'!D49+'Other Funds-Revision No. 2'!D49","v":0},{"$f":"'Amendment 1-Other Funds'!E49+'Other Funds-Revision No. 2'!E49","v":8840},{"$f":"'Amendment 1-Other Funds'!F49+'Other Funds-Revision No. 2'!F49","v":0},{"$f":"'Amendment 1-Other Funds'!G49+'Other Funds-Revision No. 2'!G49","v":0},{"$f":"'Amendment 1-Other Funds'!H49+'Other Funds-Revision No. 2'!H49","v":0},{"$f":"'Amendment 1-Other Funds'!I49+'Other Funds-Revision No. 2'!I49","v":0},{"$f":"'Amendment 1-Other Funds'!J49+'Other Funds-Revision No. 2'!J49","v":0},{"$f":"'Amendment 1-Other Funds'!K49+'Other Funds-Revision No. 2'!K49","v":0},{"$f":"'Amendment 1-Other Funds'!L49+'Other Funds-Revision No. 2'!L49","v":0},{"$f":"'Amendment 1-Other Funds'!M49+'Other Funds-Revision No. 2'!M49","v":0},{"$f":"'Amendment 1-Other Funds'!N49+'Other Funds-Revision No. 2'!N49","v":0},{"$f":"'Amendment 1-Other Funds'!O49+'Other Funds-Revision No. 2'!O49","v":0},{"$f":"'Amendment 1-Other Funds'!P49+'Other Funds-Revision No. 2'!P49","v":0},{"$f":"'Amendment 1-Other Funds'!Q49+'Other Funds-Revision No. 2'!Q49","v":0},{"$f":"'Amendment 1-Other Funds'!R49+'Other Funds-Revision No. 2'!R49","v":0},{"$f":"'Amendment 1-Other Funds'!S49+'Other Funds-Revision No. 3'!T53","v":0},{"$f":"'Amendment 1-Other Funds'!T49+'Other Funds-Revision No. 3'!U53","v":0},{"$f":"'Amendment 1-Other Funds'!U49+'Other Funds-Revision No. 2'!U49","v":0},{"$f":"'Amendment 1-Other Funds'!V49+'Other Funds-Revision No. 2'!V49","v":0},{"$f":"'Amendment 1-Other Funds'!W49+'Other Funds-Revision No. 2'!W49","v":0},{"$f":"'Amendment 1-Other Funds'!X49+'Other Funds-Revision No. 2'!X49","v":0},{"$f":"'Amendment 1-Other Funds'!Y49+'Other Funds-Revision No. 2'!Y49","v":0},{"$f":"'Amendment 1-Other Funds'!Z49+'Other Funds-Revision No. 2'!Z49","v":0},{"$f":"'Amendment 1-Other Funds'!AA49+'Other Funds-Revision No. 2'!AA49","v":0},{"$f":"'Amendment 1-Other Funds'!AB49+'Other Funds-Revision No. 2'!AB49","v":0},{"$f":"'Amendment 1-Other Funds'!AC49+'Other Funds-Revision No. 2'!AC49","v":0},{"$f":"'Amendment 1-Other Funds'!AD49+'Other Funds-Revision No. 2'!AD49","v":0},{"$f":"'Amendment 1-Other Funds'!AE49+'Other Funds-Revision No. 2'!AE49","v":0},{"$f":"'Amendment 1-Other Funds'!AF49+'Other Funds-Revision No. 2'!AF49","v":0},{"$f":"'Amendment 1-Other Funds'!AG49+'Other Funds-Revision No. 2'!AG49","v":0},{"$f":"'Amendment 1-Other Funds'!AH49+'Other Funds-Revision No. 2'!AH49","v":0},{"$f":"'Amendment 1-Other Funds'!AI49+'Other Funds-Revision No. 2'!AI49","v":0},{"$f":"'Amendment 1-Other Funds'!AJ49+'Other Funds-Revision No. 2'!AJ49","v":0},0,{"$f":"'Amendment 1-Other Funds'!AL49+'Other Funds-Revision No. 2'!AL49","v":13095},8840]
[{"$f":"+'Original ABG Allocation'!A50","v":"45"},{"$f":"+'Original ABG Allocation'!B50","v":"ARMSTRONG"},{"$f":"'Amendment 1-Other Funds'!C50+'Other Funds-Revision No. 2'!C50","v":0},{"$f":"'Amendment 1-Other Funds'!D50+'Other Funds-Revision No. 2'!D50","v":0},{"$f":"'Amendment 1-Other Funds'!E50+'Other Funds-Revision No. 2'!E50","v":8840},{"$f":"'Amendment 1-Other Funds'!F50+'Other Funds-Revision No. 2'!F50","v":0},{"$f":"'Amendment 1-Other Funds'!G50+'Other Funds-Revision No. 2'!G50","v":0},{"$f":"'Amendment 1-Other Funds'!H50+'Other Funds-Revision No. 2'!H50","v":0},{"$f":"'Amendment 1-Other Funds'!I50+'Other Funds-Revision No. 2'!I50","v":0},{"$f":"'Amendment 1-Other Funds'!J50+'Other Funds-Revision No. 2'!J50","v":0},{"$f":"'Amendment 1-Other Funds'!K50+'Other Funds-Revision No. 2'!K50","v":0},{"$f":"'Amendment 1-Other Funds'!L50+'Other Funds-Revision No. 2'!L50","v":0},{"$f":"'Amendment 1-Other Funds'!M50+'Other Funds-Revision No. 2'!M50","v":0},{"$f":"'Amendment 1-Other Funds'!N50+'Other Funds-Revision No. 2'!N50","v":0},{"$f":"'Amendment 1-Other Funds'!O50+'Other Funds-Revision No. 2'!O50","v":0},{"$f":"'Amendment 1-Other Funds'!P50+'Other Funds-Revision No. 2'!P50","v":0},{"$f":"'Amendment 1-Other Funds'!Q50+'Other Funds-Revision No. 2'!Q50","v":0},{"$f":"'Amendment 1-Other Funds'!R50+'Other Funds-Revision No. 2'!R50","v":0},{"$f":"'Amendment 1-Other Funds'!S50+'Other Funds-Revision No. 3'!T54","v":0},{"$f":"'Amendment 1-Other Funds'!T50+'Other Funds-Revision No. 3'!U54","v":0},{"$f":"'Amendment 1-Other Funds'!U50+'Other Funds-Revision No. 2'!U50","v":0},{"$f":"'Amendment 1-Other Funds'!V50+'Other Funds-Revision No. 2'!V50","v":0},{"$f":"'Amendment 1-Other Funds'!W50+'Other Funds-Revision No. 2'!W50","v":0},{"$f":"'Amendment 1-Other Funds'!X50+'Other Funds-Revision No. 2'!X50","v":0},{"$f":"'Amendment 1-Other Funds'!Y50+'Other Funds-Revision No. 2'!Y50","v":0},{"$f":"'Amendment 1-Other Funds'!Z50+'Other Funds-Revision No. 2'!Z50","v":0},{"$f":"'Amendment 1-Other Funds'!AA50+'Other Funds-Revision No. 2'!AA50","v":0},{"$f":"'Amendment 1-Other Funds'!AB50+'Other Funds-Revision No. 2'!AB50","v":0},{"$f":"'Amendment 1-Other Funds'!AC50+'Other Funds-Revision No. 2'!AC50","v":0},{"$f":"'Amendment 1-Other Funds'!AD50+'Other Funds-Revision No. 2'!AD50","v":0},{"$f":"'Amendment 1-Other Funds'!AE50+'Other Funds-Revision No. 2'!AE50","v":0},{"$f":"'Amendment 1-Other Funds'!AF50+'Other Funds-Revision No. 2'!AF50","v":0},{"$f":"'Amendment 1-Other Funds'!AG50+'Other Funds-Revision No. 2'!AG50","v":0},{"$f":"'Amendment 1-Other Funds'!AH50+'Other Funds-Revision No. 2'!AH50","v":0},{"$f":"'Amendment 1-Other Funds'!AI50+'Other Funds-Revision No. 2'!AI50","v":0},{"$f":"'Amendment 1-Other Funds'!AJ50+'Other Funds-Revision No. 2'!AJ50","v":0},0,{"$f":"'Amendment 1-Other Funds'!AL50+'Other Funds-Revision No. 2'!AL50","v":17468},8840]
[{"$f":"+'Original ABG Allocation'!A51","v":"46"},{"$f":"+'Original ABG Allocation'!B51","v":"LAWRENCE"},{"$f":"'Amendment 1-Other Funds'!C51+'Other Funds-Revision No. 2'!C51","v":0},{"$f":"'Amendment 1-Other Funds'!D51+'Other Funds-Revision No. 2'!D51","v":0},{"$f":"'Amendment 1-Other Funds'!E51+'Other Funds-Revision No. 2'!E51","v":8840},{"$f":"'Amendment 1-Other Funds'!F51+'Other Funds-Revision No. 2'!F51","v":0},{"$f":"'Amendment 1-Other Funds'!G51+'Other Funds-Revision No. 2'!G51","v":0},{"$f":"'Amendment 1-Other Funds'!H51+'Other Funds-Revision No. 2'!H51","v":0},{"$f":"'Amendment 1-Other Funds'!I51+'Other Funds-Revision No. 2'!I51","v":0},{"$f":"'Amendment 1-Other Funds'!J51+'Other Funds-Revision No. 2'!J51","v":0},{"$f":"'Amendment 1-Other Funds'!K51+'Other Funds-Revision No. 2'!K51","v":0},{"$f":"'Amendment 1-Other Funds'!L51+'Other Funds-Revision No. 2'!L51","v":0},{"$f":"'Amendment 1-Other Funds'!M51+'Other Funds-Revision No. 2'!M51","v":0},{"$f":"'Amendment 1-Other Funds'!N51+'Other Funds-Revision No. 2'!N51","v":0},{"$f":"'Amendment 1-Other Funds'!O51+'Other Funds-Revision No. 2'!O51","v":0},{"$f":"'Amendment 1-Other Funds'!P51+'Other Funds-Revision No. 2'!P51","v":0},{"$f":"'Amendment 1-Other Funds'!Q51+'Other Funds-Revision No. 2'!Q51","v":0},{"$f":"'Amendment 1-Other Funds'!R51+'Other Funds-Revision No. 2'!R51","v":0},{"$f":"'Amendment 1-Other Funds'!S51+'Other Funds-Revision No. 3'!T55","v":0},{"$f":"'Amendment 1-Other Funds'!T51+'Other Funds-Revision No. 3'!U55","v":0},{"$f":"'Amendment 1-Other Funds'!U51+'Other Funds-Revision No. 2'!U51","v":0},{"$f":"'Amendment 1-Other Funds'!V51+'Other Funds-Revision No. 2'!V51","v":0},{"$f":"'Amendment 1-Other Funds'!W51+'Other Funds-Revision No. 2'!W51","v":0},{"$f":"'Amendment 1-Other Funds'!X51+'Other Funds-Revision No. 2'!X51","v":0},{"$f":"'Amendment 1-Other Funds'!Y51+'Other Funds-Revision No. 2'!Y51","v":0},{"$f":"'Amendment 1-Other Funds'!Z51+'Other Funds-Revision No. 2'!Z51","v":0},{"$f":"'Amendment 1-Other Funds'!AA51+'Other Funds-Revision No. 2'!AA51","v":0},{"$f":"'Amendment 1-Other Funds'!AB51+'Other Funds-Revision No. 2'!AB51","v":0},{"$f":"'Amendment 1-Other Funds'!AC51+'Other Funds-Revision No. 2'!AC51","v":0},{"$f":"'Amendment 1-Other Funds'!AD51+'Other Funds-Revision No. 2'!AD51","v":0},{"$f":"'Amendment 1-Other Funds'!AE51+'Other Funds-Revision No. 2'!AE51","v":0},{"$f":"'Amendment 1-Other Funds'!AF51+'Other Funds-Revision No. 2'!AF51","v":0},{"$f":"'Amendment 1-Other Funds'!AG51+'Other Funds-Revision No. 2'!AG51","v":0},{"$f":"'Amendment 1-Other Funds'!AH51+'Other Funds-Revision No. 2'!AH51","v":0},{"$f":"'Amendment 1-Other Funds'!AI51+'Other Funds-Revision No. 2'!AI51","v":0},{"$f":"'Amendment 1-Other Funds'!AJ51+'Other Funds-Revision No. 2'!AJ51","v":0},0,{"$f":"'Amendment 1-Other Funds'!AL51+'Other Funds-Revision No. 2'!AL51","v":17606},8840]
[{"$f":"+'Original ABG Allocation'!A52","v":"47"},{"$f":"+'Original ABG Allocation'!B52","v":"MERCER"},{"$f":"'Amendment 1-Other Funds'!C52+'Other Funds-Revision No. 2'!C52","v":0},{"$f":"'Amendment 1-Other Funds'!D52+'Other Funds-Revision No. 2'!D52","v":0},{"$f":"'Amendment 1-Other Funds'!E52+'Other Funds-Revision No. 2'!E52","v":8840},{"$f":"'Amendment 1-Other Funds'!F52+'Other Funds-Revision No. 2'!F52","v":0},{"$f":"'Amendment 1-Other Funds'!G52+'Other Funds-Revision No. 2'!G52","v":0},{"$f":"'Amendment 1-Other Funds'!H52+'Other Funds-Revision No. 2'!H52","v":0},{"$f":"'Amendment 1-Other Funds'!I52+'Other Funds-Revision No. 2'!I52","v":0},{"$f":"'Amendment 1-Other Funds'!J52+'Other Funds-Revision No. 2'!J52","v":0},{"$f":"'Amendment 1-Other Funds'!K52+'Other Funds-Revision No. 2'!K52","v":0},{"$f":"'Amendment 1-Other Funds'!L52+'Other Funds-Revision No. 2'!L52","v":0},{"$f":"'Amendment 1-Other Funds'!M52+'Other Funds-Revision No. 2'!M52","v":0},{"$f":"'Amendment 1-Other Funds'!N52+'Other Funds-Revision No. 2'!N52","v":0},{"$f":"'Amendment 1-Other Funds'!O52+'Other Funds-Revision No. 2'!O52","v":0},{"$f":"'Amendment 1-Other Funds'!P52+'Other Funds-Revision No. 2'!P52","v":0},{"$f":"'Amendment 1-Other Funds'!Q52+'Other Funds-Revision No. 2'!Q52","v":0},{"$f":"'Amendment 1-Other Funds'!R52+'Other Funds-Revision No. 2'!R52","v":0},{"$f":"'Amendment 1-Other Funds'!S52+'Other Funds-Revision No. 3'!T56","v":0},{"$f":"'Amendment 1-Other Funds'!T52+'Other Funds-Revision No. 3'!U56","v":0},{"$f":"'Amendment 1-Other Funds'!U52+'Other Funds-Revision No. 2'!U52","v":0},{"$f":"'Amendment 1-Other Funds'!V52+'Other Funds-Revision No. 2'!V52","v":0},{"$f":"'Amendment 1-Other Funds'!W52+'Other Funds-Revision No. 2'!W52","v":0},{"$f":"'Amendment 1-Other Funds'!X52+'Other Funds-Revision No. 2'!X52","v":0},{"$f":"'Amendment 1-Other Funds'!Y52+'Other Funds-Revision No. 2'!Y52","v":0},{"$f":"'Amendment 1-Other Funds'!Z52+'Other Funds-Revision No. 2'!Z52","v":0},{"$f":"'Amendment 1-Other Funds'!AA52+'Other Funds-Revision No. 2'!AA52","v":0},{"$f":"'Amendment 1-Other Funds'!AB52+'Other Funds-Revision No. 2'!AB52","v":0},{"$f":"'Amendment 1-Other Funds'!AC52+'Other Funds-Revision No. 2'!AC52","v":0},{"$f":"'Amendment 1-Other Funds'!AD52+'Other Funds-Revision No. 2'!AD52","v":0},{"$f":"'Amendment 1-Other Funds'!AE52+'Other Funds-Revision No. 2'!AE52","v":0},{"$f":"'Amendment 1-Other Funds'!AF52+'Other Funds-Revision No. 2'!AF52","v":0},{"$f":"'Amendment 1-Other Funds'!AG52+'Other Funds-Revision No. 2'!AG52","v":0},{"$f":"'Amendment 1-Other Funds'!AH52+'Other Funds-Revision No. 2'!AH52","v":0},{"$f":"'Amendment 1-Other Funds'!AI52+'Other Funds-Revision No. 2'!AI52","v":0},{"$f":"'Amendment 1-Other Funds'!AJ52+'Other Funds-Revision No. 2'!AJ52","v":0},0,{"$f":"'Amendment 1-Other Funds'!AL52+'Other Funds-Revision No. 2'!AL52","v":22459},8840]
[{"$f":"+'Original ABG Allocation'!A53","v":"48"},{"$f":"+'Original ABG Allocation'!B53","v":"MONROE"},{"$f":"'Amendment 1-Other Funds'!C53+'Other Funds-Revision No. 2'!C53","v":0},{"$f":"'Amendment 1-Other Funds'!D53+'Other Funds-Revision No. 2'!D53","v":0},{"$f":"'Amendment 1-Other Funds'!E53+'Other Funds-Revision No. 2'!E53","v":8840},{"$f":"'Amendment 1-Other Funds'!F53+'Other Funds-Revision No. 2'!F53","v":0},{"$f":"'Amendment 1-Other Funds'!G53+'Other Funds-Revision No. 2'!G53","v":0},{"$f":"'Amendment 1-Other Funds'!H53+'Other Funds-Revision No. 2'!H53","v":0},{"$f":"'Amendment 1-Other Funds'!I53+'Other Funds-Revision No. 2'!I53","v":0},{"$f":"'Amendment 1-Other Funds'!J53+'Other Funds-Revision No. 2'!J53","v":0},{"$f":"'Amendment 1-Other Funds'!K53+'Other Funds-Revision No. 2'!K53","v":0},{"$f":"'Amendment 1-Other Funds'!L53+'Other Funds-Revision No. 2'!L53","v":0},{"$f":"'Amendment 1-Other Funds'!M53+'Other Funds-Revision No. 2'!M53","v":0},{"$f":"'Amendment 1-Other Funds'!N53+'Other Funds-Revision No. 2'!N53","v":0},{"$f":"'Amendment 1-Other Funds'!O53+'Other Funds-Revision No. 2'!O53","v":0},{"$f":"'Amendment 1-Other Funds'!P53+'Other Funds-Revision No. 2'!P53","v":0},{"$f":"'Amendment 1-Other Funds'!Q53+'Other Funds-Revision No. 2'!Q53","v":0},{"$f":"'Amendment 1-Other Funds'!R53+'Other Funds-Revision No. 2'!R53","v":0},{"$f":"'Amendment 1-Other Funds'!S53+'Other Funds-Revision No. 3'!T57","v":0},{"$f":"'Amendment 1-Other Funds'!T53+'Other Funds-Revision No. 3'!U57","v":0},{"$f":"'Amendment 1-Other Funds'!U53+'Other Funds-Revision No. 2'!U53","v":0},{"$f":"'Amendment 1-Other Funds'!V53+'Other Funds-Revision No. 2'!V53","v":0},{"$f":"'Amendment 1-Other Funds'!W53+'Other Funds-Revision No. 2'!W53","v":0},{"$f":"'Amendment 1-Other Funds'!X53+'Other Funds-Revision No. 2'!X53","v":0},{"$f":"'Amendment 1-Other Funds'!Y53+'Other Funds-Revision No. 2'!Y53","v":0},{"$f":"'Amendment 1-Other Funds'!Z53+'Other Funds-Revision No. 2'!Z53","v":0},{"$f":"'Amendment 1-Other Funds'!AA53+'Other Funds-Revision No. 2'!AA53","v":0},{"$f":"'Amendment 1-Other Funds'!AB53+'Other Funds-Revision No. 2'!AB53","v":0},{"$f":"'Amendment 1-Other Funds'!AC53+'Other Funds-Revision No. 2'!AC53","v":0},{"$f":"'Amendment 1-Other Funds'!AD53+'Other Funds-Revision No. 2'!AD53","v":0},{"$f":"'Amendment 1-Other Funds'!AE53+'Other Funds-Revision No. 2'!AE53","v":0},{"$f":"'Amendment 1-Other Funds'!AF53+'Other Funds-Revision No. 2'!AF53","v":0},{"$f":"'Amendment 1-Other Funds'!AG53+'Other Funds-Revision No. 2'!AG53","v":0},{"$f":"'Amendment 1-Other Funds'!AH53+'Other Funds-Revision No. 2'!AH53","v":0},{"$f":"'Amendment 1-Other Funds'!AI53+'Other Funds-Revision No. 2'!AI53","v":0},{"$f":"'Amendment 1-Other Funds'!AJ53+'Other Funds-Revision No. 2'!AJ53","v":0},0,{"$f":"'Amendment 1-Other Funds'!AL53+'Other Funds-Revision No. 2'!AL53","v":33334},8840]
[{"$f":"+'Original ABG Allocation'!A54","v":"49"},{"$f":"+'Original ABG Allocation'!B54","v":"CLARION"},{"$f":"'Amendment 1-Other Funds'!C54+'Other Funds-Revision No. 2'!C54","v":0},{"$f":"'Amendment 1-Other Funds'!D54+'Other Funds-Revision No. 2'!D54","v":0},{"$f":"'Amendment 1-Other Funds'!E54+'Other Funds-Revision No. 2'!E54","v":8840},{"$f":"'Amendment 1-Other Funds'!F54+'Other Funds-Revision No. 2'!F54","v":0},{"$f":"'Amendment 1-Other Funds'!G54+'Other Funds-Revision No. 2'!G54","v":0},{"$f":"'Amendment 1-Other Funds'!H54+'Other Funds-Revision No. 2'!H54","v":0},{"$f":"'Amendment 1-Other Funds'!I54+'Other Funds-Revision No. 2'!I54","v":0},{"$f":"'Amendment 1-Other Funds'!J54+'Other Funds-Revision No. 2'!J54","v":0},{"$f":"'Amendment 1-Other Funds'!K54+'Other Funds-Revision No. 2'!K54","v":0},{"$f":"'Amendment 1-Other Funds'!L54+'Other Funds-Revision No. 2'!L54","v":0},{"$f":"'Amendment 1-Other Funds'!M54+'Other Funds-Revision No. 2'!M54","v":0},{"$f":"'Amendment 1-Other Funds'!N54+'Other Funds-Revision No. 2'!N54","v":0},{"$f":"'Amendment 1-Other Funds'!O54+'Other Funds-Revision No. 2'!O54","v":0},{"$f":"'Amendment 1-Other Funds'!P54+'Other Funds-Revision No. 2'!P54","v":0},{"$f":"'Amendment 1-Other Funds'!Q54+'Other Funds-Revision No. 2'!Q54","v":0},{"$f":"'Amendment 1-Other Funds'!R54+'Other Funds-Revision No. 2'!R54","v":0},{"$f":"'Amendment 1-Other Funds'!S54+'Other Funds-Revision No. 3'!T58","v":0},{"$f":"'Amendment 1-Other Funds'!T54+'Other Funds-Revision No. 3'!U58","v":0},{"$f":"'Amendment 1-Other Funds'!U54+'Other Funds-Revision No. 2'!U54","v":0},{"$f":"'Amendment 1-Other Funds'!V54+'Other Funds-Revision No. 2'!V54","v":0},{"$f":"'Amendment 1-Other Funds'!W54+'Other Funds-Revision No. 2'!W54","v":0},{"$f":"'Amendment 1-Other Funds'!X54+'Other Funds-Revision No. 2'!X54","v":0},{"$f":"'Amendment 1-Other Funds'!Y54+'Other Funds-Revision No. 2'!Y54","v":0},{"$f":"'Amendment 1-Other Funds'!Z54+'Other Funds-Revision No. 2'!Z54","v":0},{"$f":"'Amendment 1-Other Funds'!AA54+'Other Funds-Revision No. 2'!AA54","v":0},{"$f":"'Amendment 1-Other Funds'!AB54+'Other Funds-Revision No. 2'!AB54","v":0},{"$f":"'Amendment 1-Other Funds'!AC54+'Other Funds-Revision No. 2'!AC54","v":0},{"$f":"'Amendment 1-Other Funds'!AD54+'Other Funds-Revision No. 2'!AD54","v":0},{"$f":"'Amendment 1-Other Funds'!AE54+'Other Funds-Revision No. 2'!AE54","v":0},{"$f":"'Amendment 1-Other Funds'!AF54+'Other Funds-Revision No. 2'!AF54","v":0},{"$f":"'Amendment 1-Other Funds'!AG54+'Other Funds-Revision No. 2'!AG54","v":0},{"$f":"'Amendment 1-Other Funds'!AH54+'Other Funds-Revision No. 2'!AH54","v":0},{"$f":"'Amendment 1-Other Funds'!AI54+'Other Funds-Revision No. 2'!AI54","v":0},{"$f":"'Amendment 1-Other Funds'!AJ54+'Other Funds-Revision No. 2'!AJ54","v":0},0,{"$f":"'Amendment 1-Other Funds'!AL54+'Other Funds-Revision No. 2'!AL54","v":9909},8840]
[{"$f":"+'Original ABG Allocation'!A55","v":"50"},{"$f":"+'Original ABG Allocation'!B55","v":"BUTLER"},{"$f":"'Amendment 1-Other Funds'!C55+'Other Funds-Revision No. 2'!C55","v":0},{"$f":"'Amendment 1-Other Funds'!D55+'Other Funds-Revision No. 2'!D55","v":0},{"$f":"'Amendment 1-Other Funds'!E55+'Other Funds-Revision No. 2'!E55","v":8840},{"$f":"'Amendment 1-Other Funds'!F55+'Other Funds-Revision No. 2'!F55","v":0},{"$f":"'Amendment 1-Other Funds'!G55+'Other Funds-Revision No. 2'!G55","v":0},{"$f":"'Amendment 1-Other Funds'!H55+'Other Funds-Revision No. 2'!H55","v":0},{"$f":"'Amendment 1-Other Funds'!I55+'Other Funds-Revision No. 2'!I55","v":0},{"$f":"'Amendment 1-Other Funds'!J55+'Other Funds-Revision No. 2'!J55","v":0},{"$f":"'Amendment 1-Other Funds'!K55+'Other Funds-Revision No. 2'!K55","v":0},{"$f":"'Amendment 1-Other Funds'!L55+'Other Funds-Revision No. 2'!L55","v":0},{"$f":"'Amendment 1-Other Funds'!M55+'Other Funds-Revision No. 2'!M55","v":0},{"$f":"'Amendment 1-Other Funds'!N55+'Other Funds-Revision No. 2'!N55","v":0},{"$f":"'Amendment 1-Other Funds'!O55+'Other Funds-Revision No. 2'!O55","v":0},{"$f":"'Amendment 1-Other Funds'!P55+'Other Funds-Revision No. 2'!P55","v":0},{"$f":"'Amendment 1-Other Funds'!Q55+'Other Funds-Revision No. 2'!Q55","v":0},{"$f":"'Amendment 1-Other Funds'!R55+'Other Funds-Revision No. 2'!R55","v":0},{"$f":"'Amendment 1-Other Funds'!S55+'Other Funds-Revision No. 3'!T59","v":0},{"$f":"'Amendment 1-Other Funds'!T55+'Other Funds-Revision No. 3'!U59","v":0},{"$f":"'Amendment 1-Other Funds'!U55+'Other Funds-Revision No. 2'!U55","v":0},{"$f":"'Amendment 1-Other Funds'!V55+'Other Funds-Revision No. 2'!V55","v":0},{"$f":"'Amendment 1-Other Funds'!W55+'Other Funds-Revision No. 2'!W55","v":0},{"$f":"'Amendment 1-Other Funds'!X55+'Other Funds-Revision No. 2'!X55","v":0},{"$f":"'Amendment 1-Other Funds'!Y55+'Other Funds-Revision No. 2'!Y55","v":0},{"$f":"'Amendment 1-Other Funds'!Z55+'Other Funds-Revision No. 2'!Z55","v":0},{"$f":"'Amendment 1-Other Funds'!AA55+'Other Funds-Revision No. 2'!AA55","v":0},{"$f":"'Amendment 1-Other Funds'!AB55+'Other Funds-Revision No. 2'!AB55","v":0},{"$f":"'Amendment 1-Other Funds'!AC55+'Other Funds-Revision No. 2'!AC55","v":0},{"$f":"'Amendment 1-Other Funds'!AD55+'Other Funds-Revision No. 2'!AD55","v":0},{"$f":"'Amendment 1-Other Funds'!AE55+'Other Funds-Revision No. 2'!AE55","v":0},{"$f":"'Amendment 1-Other Funds'!AF55+'Other Funds-Revision No. 2'!AF55","v":0},{"$f":"'Amendment 1-Other Funds'!AG55+'Other Funds-Revision No. 2'!AG55","v":0},{"$f":"'Amendment 1-Other Funds'!AH55+'Other Funds-Revision No. 2'!AH55","v":0},{"$f":"'Amendment 1-Other Funds'!AI55+'Other Funds-Revision No. 2'!AI55","v":0},{"$f":"'Amendment 1-Other Funds'!AJ55+'Other Funds-Revision No. 2'!AJ55","v":0},0,{"$f":"'Amendment 1-Other Funds'!AL55+'Other Funds-Revision No. 2'!AL55","v":29771},8840]
[{"$f":"+'Original ABG Allocation'!A56","v":"51"},{"$f":"+'Original ABG Allocation'!B56","v":"POTTER"},{"$f":"'Amendment 1-Other Funds'!C56+'Other Funds-Revision No. 2'!C56","v":0},{"$f":"'Amendment 1-Other Funds'!D56+'Other Funds-Revision No. 2'!D56","v":0},{"$f":"'Amendment 1-Other Funds'!E56+'Other Funds-Revision No. 2'!E56","v":8840},{"$f":"'Amendment 1-Other Funds'!F56+'Other Funds-Revision No. 2'!F56","v":0},{"$f":"'Amendment 1-Other Funds'!G56+'Other Funds-Revision No. 2'!G56","v":0},{"$f":"'Amendment 1-Other Funds'!H56+'Other Funds-Revision No. 2'!H56","v":0},{"$f":"'Amendment 1-Other Funds'!I56+'Other Funds-Revision No. 2'!I56","v":0},{"$f":"'Amendment 1-Other Funds'!J56+'Other Funds-Revision No. 2'!J56","v":0},{"$f":"'Amendment 1-Other Funds'!K56+'Other Funds-Revision No. 2'!K56","v":0},{"$f":"'Amendment 1-Other Funds'!L56+'Other Funds-Revision No. 2'!L56","v":0},{"$f":"'Amendment 1-Other Funds'!M56+'Other Funds-Revision No. 2'!M56","v":0},{"$f":"'Amendment 1-Other Funds'!N56+'Other Funds-Revision No. 2'!N56","v":0},{"$f":"'Amendment 1-Other Funds'!O56+'Other Funds-Revision No. 2'!O56","v":0},{"$f":"'Amendment 1-Other Funds'!P56+'Other Funds-Revision No. 2'!P56","v":0},{"$f":"'Amendment 1-Other Funds'!Q56+'Other Funds-Revision No. 2'!Q56","v":0},{"$f":"'Amendment 1-Other Funds'!R56+'Other Funds-Revision No. 2'!R56","v":0},{"$f":"'Amendment 1-Other Funds'!S56+'Other Funds-Revision No. 2'!S56","v":0},{"$f":"'Amendment 1-Other Funds'!T56+'Other Funds-Revision No. 2'!T56","v":0},{"$f":"'Amendment 1-Other Funds'!U56+'Other Funds-Revision No. 2'!U56","v":0},{"$f":"'Amendment 1-Other Funds'!V56+'Other Funds-Revision No. 2'!V56","v":0},{"$f":"'Amendment 1-Other Funds'!W56+'Other Funds-Revision No. 2'!W56","v":0},{"$f":"'Amendment 1-Other Funds'!X56+'Other Funds-Revision No. 2'!X56","v":0},{"$f":"'Amendment 1-Other Funds'!Y56+'Other Funds-Revision No. 2'!Y56","v":0},{"$f":"'Amendment 1-Other Funds'!Z56+'Other Funds-Revision No. 2'!Z56","v":0},{"$f":"'Amendment 1-Other Funds'!AA56+'Other Funds-Revision No. 2'!AA56","v":0},{"$f":"'Amendment 1-Other Funds'!AB56+'Other Funds-Revision No. 2'!AB56","v":0},{"$f":"'Amendment 1-Other Funds'!AC56+'Other Funds-Revision No. 2'!AC56","v":0},{"$f":"'Amendment 1-Other Funds'!AD56+'Other Funds-Revision No. 2'!AD56","v":0},{"$f":"'Amendment 1-Other Funds'!AE56+'Other Funds-Revision No. 2'!AE56","v":0},{"$f":"'Amendment 1-Other Funds'!AF56+'Other Funds-Revision No. 2'!AF56","v":0},{"$f":"'Amendment 1-Other Funds'!AG56+'Other Funds-Revision No. 2'!AG56","v":0},{"$f":"'Amendment 1-Other Funds'!AH56+'Other Funds-Revision No. 2'!AH56","v":0},{"$f":"'Amendment 1-Other Funds'!AI56+'Other Funds-Revision No. 2'!AI56","v":0},{"$f":"'Amendment 1-Other Funds'!AJ56+'Other Funds-Revision No. 2'!AJ56","v":0},{"$f":"'Amendment 1-Other Funds'!AK56+'Other Funds-Revision No. 2'!AK56","v":0},{"$f":"'Amendment 1-Other Funds'!AL56+'Other Funds-Revision No. 2'!AL56","v":4511},{"$f":"'Amendment 1-Other Funds'!AM56+'Other Funds-Revision No. 2'!AM56","v":13351}]
[{"$f":"+'Original ABG Allocation'!A57","v":"52"},{"$f":"+'Original ABG Allocation'!B57","v":"WAYNE"},{"$f":"'Amendment 1-Other Funds'!C57+'Other Funds-Revision No. 2'!C57","v":0},{"$f":"'Amendment 1-Other Funds'!D57+'Other Funds-Revision No. 2'!D57","v":0},{"$f":"'Amendment 1-Other Funds'!E57+'Other Funds-Revision No. 2'!E57","v":8840},{"$f":"'Amendment 1-Other Funds'!F57+'Other Funds-Revision No. 2'!F57","v":0},{"$f":"'Amendment 1-Other Funds'!G57+'Other Funds-Revision No. 2'!G57","v":0},{"$f":"'Amendment 1-Other Funds'!H57+'Other Funds-Revision No. 2'!H57","v":0},{"$f":"'Amendment 1-Other Funds'!I57+'Other Funds-Revision No. 2'!I57","v":0},{"$f":"'Amendment 1-Other Funds'!J57+'Other Funds-Revision No. 2'!J57","v":0},{"$f":"'Amendment 1-Other Funds'!K57+'Other Funds-Revision No. 2'!K57","v":0},{"$f":"'Amendment 1-Other Funds'!L57+'Other Funds-Revision No. 2'!L57","v":0},{"$f":"'Amendment 1-Other Funds'!M57+'Other Funds-Revision No. 2'!M57","v":0},{"$f":"'Amendment 1-Other Funds'!N57+'Other Funds-Revision No. 2'!N57","v":0},{"$f":"'Amendment 1-Other Funds'!O57+'Other Funds-Revision No. 2'!O57","v":0},{"$f":"'Amendment 1-Other Funds'!P57+'Other Funds-Revision No. 2'!P57","v":0},{"$f":"'Amendment 1-Other Funds'!Q57+'Other Funds-Revision No. 2'!Q57","v":0},{"$f":"'Amendment 1-Other Funds'!R57+'Other Funds-Revision No. 2'!R57","v":0},{"$f":"'Amendment 1-Other Funds'!S57+'Other Funds-Revision No. 2'!S57","v":0},{"$f":"'Amendment 1-Other Funds'!T57+'Other Funds-Revision No. 2'!T57","v":0},{"$f":"'Amendment 1-Other Funds'!U57+'Other Funds-Revision No. 2'!U57","v":0},{"$f":"'Amendment 1-Other Funds'!V57+'Other Funds-Revision No. 2'!V57","v":0},{"$f":"'Amendment 1-Other Funds'!W57+'Other Funds-Revision No. 2'!W57","v":0},{"$f":"'Amendment 1-Other Funds'!X57+'Other Funds-Revision No. 2'!X57","v":0},{"$f":"'Amendment 1-Other Funds'!Y57+'Other Funds-Revision No. 2'!Y57","v":0},{"$f":"'Amendment 1-Other Funds'!Z57+'Other Funds-Revision No. 2'!Z57","v":0},{"$f":"'Amendment 1-Other Funds'!AA57+'Other Funds-Revision No. 2'!AA57","v":0},{"$f":"'Amendment 1-Other Funds'!AB57+'Other Funds-Revision No. 2'!AB57","v":0},{"$f":"'Amendment 1-Other Funds'!AC57+'Other Funds-Revision No. 2'!AC57","v":0},{"$f":"'Amendment 1-Other Funds'!AD57+'Other Funds-Revision No. 2'!AD57","v":0},{"$f":"'Amendment 1-Other Funds'!AE57+'Other Funds-Revision No. 2'!AE57","v":0},{"$f":"'Amendment 1-Other Funds'!AF57+'Other Funds-Revision No. 2'!AF57","v":0},{"$f":"'Amendment 1-Other Funds'!AG57+'Other Funds-Revision No. 2'!AG57","v":0},{"$f":"'Amendment 1-Other Funds'!AH57+'Other Funds-Revision No. 2'!AH57","v":0},{"$f":"'Amendment 1-Other Funds'!AI57+'Other Funds-Revision No. 2'!AI57","v":0},{"$f":"'Amendment 1-Other Funds'!AJ57+'Other Funds-Revision No. 2'!AJ57","v":0},{"$f":"'Amendment 1-Other Funds'!AK57+'Other Funds-Revision No. 2'!AK57","v":0},{"$f":"'Amendment 1-Other Funds'!AL57+'Other Funds-Revision No. 2'!AL57","v":13948},{"$f":"'Amendment 1-Other Funds'!AM57+'Other Funds-Revision No. 2'!AM57","v":22788}]
[null,"     TOTALS",{"$f":"SUM(C6:C57)","v":0},0,464070,0,0,0,{"$f":"SUM(I6:I57)","v":0},0,0,0,0,0,0,0,0,0,0,{"$f":"SUM(T6:T57)","v":0},0,0,0,0,0,0,0,0,0,0,0,0,0,0,0,0,0,null,{"$f":"SUM(AM6:AM57)","v":524443}]
[]
[null,"PennCare Funding",null,null,null,null,null,{"$f":"+H58","v":0},{"$f":"+I58","v":0},{"$f":"+J58","v":0},null,null,null,null,{"$f":"+O58","v":0}]

{"sheet":"Other Funds-Revision No. 3","index":18,"n_rows":59,"n_cols":39,"rows_kept":59,"cut":false,"hidden":true,"merged":[]}
["CHANGE NO. 3"]
["OTHER FUNDS"]
[{"$f":"+'Original ABG Allocation'!A3","v":"FY 2022-23"},null,{"$f":"+'Other Funds Summary'!C3","v":"(1)"},{"$f":"+'Other Funds Summary'!D3","v":"(2)"},{"$f":"+'Other Funds Summary'!E3","v":"(3)"},{"$f":"+'Other Funds Summary'!F3","v":"(3)"},{"$f":"+'Other Funds Summary'!G3","v":"(4)"},{"$f":"+'Other Funds Summary'!H3","v":"(5)"},{"$f":"+'Other Funds Summary'!I3","v":"(6)"},{"$f":"+'Other Funds Summary'!J3","v":"(7)"},{"$f":"+'Other Funds Summary'!K3","v":"(8)"},{"$f":"+'Other Funds Summary'!L3","v":"(9)"},{"$f":"+'Other Funds Summary'!M3","v":"(10)"},{"$f":"+'Other Funds Summary'!N3","v":"(11)"},{"$f":"+'Other Funds Summary'!O3","v":"(12)"},{"$f":"+'Other Funds Summary'!P3","v":"(13)"},{"$f":"+'Other Funds Summary'!Q3","v":"(14)"},{"$f":"+'Other Funds Summary'!R3","v":"(15)"},{"$f":"+'Other Funds Summary'!S3","v":"(16)"},{"$f":"+'Other Funds Summary'!T3","v":"(17)"},{"$f":"+'Other Funds Summary'!U3","v":"(18)"},{"$f":"+'Other Funds Summary'!V3","v":"(19)"},{"$f":"+'Other Funds Summary'!W3","v":"(20)"},{"$f":"+'Other Funds Summary'!X3","v":"(21)"},{"$f":"+'Other Funds Summary'!Y3","v":"(22)"},{"$f":"+'Other Funds Summary'!Z3","v":"(23)"},{"$f":"+'Other Funds Summary'!AA3","v":"(24)"},{"$f":"+'Other Funds Summary'!AB3","v":"(25)"},{"$f":"+'Other Funds Summary'!AC3","v":"(26)"},{"$f":"+'Other Funds Summary'!AD3","v":"(27)"},{"$f":"+'Other Funds Summary'!AE3","v":"(28)"},{"$f":"+'Other Funds Summary'!AF3","v":"(29)"},{"$f":"+'Other Funds Summary'!AG3","v":"(30)"},{"$f":"+'Other Funds Summary'!AH3","v":"(31)"},{"$f":"+'Other Funds Summary'!AI3","v":"(32)"},{"$f":"+'Other Funds Summary'!AJ3","v":"(33)"},{"$f":"+'Other Funds Summary'!AK3","v":"(34)"},{"$f":"+'Other Funds Summary'!AL3","v":"(35)"}]
[null,null,{"$f":"+'Other Funds Summary'!C4","v":"Ombudsman"},{"$f":"+'Other Funds Summary'!D4","v":"Ombudsman"},{"$f":"+'Other Funds Summary'!E4","v":"Ombudsman"},{"$f":"+'Other Funds Summary'!F4","v":"Ombudsman"},{"$f":"+'Other Funds Summary'!G4","v":"PA MEDI"},{"$f":"+'Other Funds Summary'!H4","v":"PA MEDI"},{"$f":"+'Other Funds Summary'!I4","v":"PA MEDI"},{"$f":"+'Other Funds Summary'!J4","v":"PA MEDI"},{"$f":"+'Other Funds Summary'!K4","v":"PA MEDI"},{"$f":"+'Other Funds Summary'!L4","v":"OPTIONS"},{"$f":"+'Other Funds Summary'!M4","v":"Block Grant"},{"$f":"+'Other Funds Summary'!N4","v":0},{"$f":"+'Other Funds Summary'!O4","v":"Protective"},{"$f":"+'Other Funds Summary'!P4","v":"PS"},{"$f":"+'Other Funds Summary'!Q4","v":"OPTIONS"},{"$f":"+'Other Funds Summary'!R4","v":"Block Grant"},{"$f":"+'Other Funds Summary'!S4","v":"ARPA "},{"$f":"+'Other Funds Summary'!T4","v":"ARPA"},{"$f":"+'Other Funds Summary'!U4","v":"ARPA"},{"$f":"+'Other Funds Summary'!V4","v":"ARPA"},{"$f":"+'Other Funds Summary'!W4","v":"ARPA"},{"$f":"+'Other Funds Summary'!X4","v":"ADRC"},{"$f":"+'Other Funds Summary'!Y4","v":"FFCRA"},{"$f":"+'Other Funds Summary'!Z4","v":"FFCRA "},{"$f":"+'Other Funds Summary'!AA4","v":"CARES"},{"$f":"+'Other Funds Summary'!AB4","v":"CARES"},{"$f":"+'Other Funds Summary'!AC4","v":"CARES"},{"$f":"+'Other Funds Summary'!AD4","v":"PS Reserve Staff"},{"$f":"+'Other Funds Summary'!AE4","v":"Senior Center"},{"$f":"'Other Funds Summary'!AF4","v":"MIPPA-AAA"},{"$f":"'Other Funds Summary'!AG4","v":"MIPPA-ADRC"},{"$f":"'Other Funds Summary'!AH4","v":"MIPPA-SHIP"},{"$f":"'Other Funds Summary'!AI4","v":"MIPPA-SHIP"},{"$f":"'Other Funds Summary'!AJ4","v":"MIPPA-SHIP"},{"$f":"'Other Funds Summary'!AK4","v":"ADRC"},{"$f":"'Other Funds Summary'!AL4","v":"Covid Vaccine "},{"$f":"+'Other Funds Summary'!AM4","v":"TOTAL"}]
[null,null,{"$f":"+'Other Funds Summary'!C5","v":"ROC"},{"$f":"+'Other Funds Summary'!D5","v":"Volunteers"},{"$f":"+'Other Funds Summary'!E5","v":"Fed Care Act "},{"$f":"+'Other Funds Summary'!F5","v":"Fed Addl Care Act"},{"$f":"+'Other Funds Summary'!G5","v":"Reg. Staff"},{"$f":"+'Other Funds Summary'!H5","v":"Helpline"},{"$f":"+'Other Funds Summary'!I5","v":"Telecenter "},{"$f":"+'Other Funds Summary'!J5","v":"Base"},{"$f":"+'Other Funds Summary'!K5","v":"PHLP"},{"$f":"+'Other Funds Summary'!L5","v":"Services"},{"$f":"+'Other Funds Summary'!M5","v":"Supplement"},{"$f":"+'Other Funds Summary'!N5","v":"SNHT"},{"$f":"+'Other Funds Summary'!O5","v":"Services"},{"$f":"+'Other Funds Summary'!P5","v":"Personnel"},{"$f":"+'Other Funds Summary'!Q5","v":"Services (2)"},{"$f":"+'Other Funds Summary'!R5","v":"Supplement (2)"},{"$f":"+'Other Funds Summary'!S5","v":"Suppt Svs"},{"$f":"+'Other Funds Summary'!T5","v":"HD Meals"},{"$f":"+'Other Funds Summary'!U5","v":"Cong Meals"},{"$f":"+'Other Funds Summary'!V5","v":"Prev Health"},{"$f":"+'Other Funds Summary'!W5","v":"Family Caregiver"},{"$f":"+'Other Funds Summary'!X5","v":"Vaccine Suppt "},{"$f":"+'Other Funds Summary'!Y5","v":"HDMs"},{"$f":"+'Other Funds Summary'!Z5","v":"CMs"},{"$f":"+'Other Funds Summary'!AA5","v":"Services"},{"$f":"+'Other Funds Summary'!AB5","v":"Meals"},{"$f":"+'Other Funds Summary'!AC5","v":"Caregiver"},{"$f":"+'Other Funds Summary'!AD5","v":"Grant"},{"$f":"+'Other Funds Summary'!AE5","v":"Grant"},{"$f":"'Other Funds Summary'!AF5","v":"Priority 2"},{"$f":"'Other Funds Summary'!AG5","v":"Priority 3"},{"$f":"'Other Funds Summary'!AH5","v":"BDT"},{"$f":"'Other Funds Summary'!AI5","v":"PHLP"},{"$f":"'Other Funds Summary'!AJ5","v":"Performance"},{"$f":"'Other Funds Summary'!AK5","v":"Award"},{"$f":"'Other Funds Summary'!AL5","v":"Access"},{"$f":"+'Other Funds Summary'!AM5","v":"OTHER"}]
[{"$f":"+'Original ABG Allocation'!A6","v":"01"},{"$f":"+'Original ABG Allocation'!B6","v":"ERIE"},null,null,null,null,null,null,null,null,null,null,null,null,null,null,null,null,null,null,null,null,null,null,0,0,0,0,0,null,null,0,0,0,0,0,0,0,{"$f":"SUM(C6:AL6)","v":0}]
[{"$f":"+'Original ABG Allocation'!A7","v":"02"},{"$f":"+'Original ABG Allocation'!B7","v":"CRAWFORD"},null,null,null,null,null,null,null,null,null,null,null,null,null,null,null,null,null,null,null,null,null,null,0,0,0,0,0,null,null,0,0,0,0,0,0,0,{"$f":"SUM(C7:AL7)","v":0}]
[{"$f":"+'Original ABG Allocation'!A8","v":"03"},{"$f":"+'Original ABG Allocation'!B8","v":"CAM/ELK/MCKEAN"},null,null,null,null,null,null,null,null,null,null,null,null,null,null,null,null,null,null,null,null,null,null,0,0,0,0,0,null,null,0,0,0,0,0,0,0,0]
[{"$f":"+'Original ABG Allocation'!A9","v":"04"},{"$f":"+'Original ABG Allocation'!B9","v":"BEAVER"},null,null,null,null,null,null,null,null,null,null,null,null,null,null,null,null,null,null,null,null,null,null,0,0,0,0,0,null,null,0,0,0,0,0,0,0,0]
[{"$f":"+'Original ABG Allocation'!A10","v":"05"},{"$f":"+'Original ABG Allocation'!B10","v":"INDIANA"},null,null,null,null,null,null,null,null,null,null,null,null,null,null,null,null,null,null,null,null,null,null,0,0,0,0,0,null,null,0,0,0,0,0,0,0,0]
[{"$f":"+'Original ABG Allocation'!A11","v":"06"},{"$f":"+'Original ABG Allocation'!B11","v":"ALLEGHENY"},null,null,null,null,null,null,null,null,null,null,null,null,null,null,null,null,null,null,null,null,null,null,0,0,0,0,0,null,null,0,0,0,0,0,0,0,0]
[{"$f":"+'Original ABG Allocation'!A12","v":"07"},{"$f":"+'Original ABG Allocation'!B12","v":"WESTMORELAND"},null,null,null,null,null,null,null,null,null,null,null,null,null,null,null,null,null,null,null,null,null,null,0,0,0,0,0,null,null,0,0,0,0,0,0,0,0]
[{"$f":"+'Original ABG Allocation'!A13","v":"08"},{"$f":"+'Original ABG Allocation'!B13","v":"WASH/FAY/GREENE"},null,null,null,null,null,null,null,null,null,null,null,null,null,null,null,null,null,null,null,null,null,null,0,0,0,0,0,null,null,0,0,0,0,0,0,0,0]
[{"$f":"+'Original ABG Allocation'!A14","v":"09"},{"$f":"+'Original ABG Allocation'!B14","v":"SOMERSET"},null,null,null,null,null,null,null,null,null,null,null,null,null,null,null,null,null,null,null,null,null,null,0,0,0,0,0,null,null,0,0,0,0,0,0,0,0]
[{"$f":"+'Original ABG Allocation'!A15","v":"10"},{"$f":"+'Original ABG Allocation'!B15","v":"CAMBRIA"},null,null,null,null,null,null,null,null,null,null,null,null,null,null,null,null,null,null,null,null,null,null,0,0,0,0,0,null,null,0,0,0,0,0,0,0,0]
[{"$f":"+'Original ABG Allocation'!A16","v":"11"},{"$f":"+'Original ABG Allocation'!B16","v":"BLAIR"},null,null,null,null,null,null,null,null,null,null,null,null,null,null,null,null,null,null,null,null,null,null,0,0,0,0,0,null,null,0,0,0,0,0,0,0,0]
[{"$f":"+'Original ABG Allocation'!A17","v":"12"},{"$f":"+'Original ABG Allocation'!B17","v":"BED/FULT/HUNT"},null,null,null,null,null,null,null,null,null,null,null,null,null,null,null,null,null,null,null,null,null,null,0,0,0,0,0,null,null,0,0,0,0,0,0,0,0]
[{"$f":"+'Original ABG Allocation'!A18","v":"13"},{"$f":"+'Original ABG Allocation'!B18","v":"CENTRE"},null,null,null,null,null,null,null,null,null,null,null,null,null,null,null,null,null,null,null,null,null,null,0,0,0,0,0,null,null,0,0,0,0,0,0,0,0]
[{"$f":"+'Original ABG Allocation'!A19","v":"14"},{"$f":"+'Original ABG Allocation'!B19","v":"LYCOM/CLINTON"},null,null,null,null,null,null,null,null,null,null,null,null,null,null,null,null,null,null,null,null,null,null,0,0,0,0,0,null,null,0,0,0,0,0,0,0,0]
[{"$f":"+'Original ABG Allocation'!A20","v":"15"},{"$f":"+'Original ABG Allocation'!B20","v":"COLUM/MONT"},null,null,null,null,null,null,null,null,null,null,null,null,null,null,null,null,null,null,null,null,null,null,0,0,0,0,0,null,null,0,0,0,0,0,0,0,0]
[{"$f":"+'Original ABG Allocation'!A21","v":"16"},{"$f":"+'Original ABG Allocation'!B21","v":"NORTHUMBERLND"},null,null,null,null,null,null,null,null,null,null,null,null,null,null,null,null,null,null,null,null,null,null,0,0,0,0,0,null,null,0,0,0,0,0,0,0,0]
[{"$f":"+'Original ABG Allocation'!A22","v":"17"},{"$f":"+'Original ABG Allocation'!B22","v":"UNION/SNYDER"},null,null,null,null,null,null,null,null,null,null,null,null,null,null,null,null,null,null,null,null,null,null,0,0,0,0,0,null,null,0,0,0,0,0,0,0,0]
[{"$f":"+'Original ABG Allocation'!A23","v":"18"},{"$f":"+'Original ABG Allocation'!B23","v":"MIFF/JUNIATA"},null,null,null,null,null,null,null,null,null,null,null,null,null,null,null,null,null,null,null,null,null,null,0,0,0,0,0,null,null,0,0,0,0,0,0,0,0]
[{"$f":"+'Original ABG Allocation'!A24","v":"19"},{"$f":"+'Original ABG Allocation'!B24","v":"FRANKLIN"},null,null,null,null,null,null,null,null,null,null,null,null,null,null,null,null,null,null,null,null,null,null,0,0,0,0,0,null,null,0,0,0,0,0,0,0,0]
[{"$f":"+'Original ABG Allocation'!A25","v":"20"},{"$f":"+'Original ABG Allocation'!B25","v":"ADAMS"},null,null,null,null,null,null,null,null,null,null,null,null,null,null,null,null,null,null,null,null,null,null,0,0,0,0,0,null,null,0,0,0,0,0,0,0,0]
[{"$f":"+'Original ABG Allocation'!A26","v":"21"},{"$f":"+'Original ABG Allocation'!B26","v":"CUMBERLAND"},null,null,null,null,null,null,null,null,null,null,null,null,null,null,null,null,null,null,null,null,null,null,0,0,0,0,0,null,null,0,0,0,0,0,0,0,0]
[{"$f":"+'Original ABG Allocation'!A27","v":"22"},{"$f":"+'Original ABG Allocation'!B27","v":"PERRY"},null,null,null,null,null,null,null,null,null,null,null,null,null,null,null,null,null,null,null,null,null,null,0,0,0,0,0,null,null,0,0,0,0,0,0,0,0]
[{"$f":"+'Original ABG Allocation'!A28","v":"23"},{"$f":"+'Original ABG Allocation'!B28","v":"DAUPHIN"},null,null,null,null,null,null,null,null,null,null,null,null,null,null,null,null,null,null,null,null,null,null,0,0,0,0,0,null,null,0,0,0,0,0,0,0,0]
[{"$f":"+'Original ABG Allocation'!A29","v":"24"},{"$f":"+'Original ABG Allocation'!B29","v":"LEBANON"},null,null,null,null,null,null,null,null,null,null,null,null,null,null,null,null,null,null,null,null,null,null,0,0,0,0,0,null,null,0,0,0,0,0,0,0,0]
[{"$f":"+'Original ABG Allocation'!A30","v":"25"},{"$f":"+'Original ABG Allocation'!B30","v":"YORK"},null,null,null,null,null,null,null,null,null,null,null,null,null,null,null,null,null,null,null,null,null,null,0,0,0,0,0,null,null,0,0,0,0,0,0,0,0]
[{"$f":"+'Original ABG Allocation'!A31","v":"26"},{"$f":"+'Original ABG Allocation'!B31","v":"LANCASTER"},null,null,null,null,null,null,null,null,null,null,null,null,null,null,null,null,null,null,null,null,null,null,0,0,0,0,0,null,null,0,0,0,0,0,0,0,0]
[{"$f":"+'Original ABG Allocation'!A32","v":"27"},{"$f":"+'Original ABG Allocation'!B32","v":"CHESTER"},null,null,null,null,null,null,null,null,null,null,null,null,null,null,null,null,null,null,null,null,null,null,0,0,0,0,0,null,null,0,0,0,0,0,0,0,0]
[{"$f":"+'Original ABG Allocation'!A33","v":"28"},{"$f":"+'Original ABG Allocation'!B33","v":"MONTGOMERY"},null,null,null,null,null,null,null,null,null,null,null,null,null,null,null,null,null,null,null,null,null,null,0,0,0,0,0,null,null,0,0,0,0,0,0,0,0]
[{"$f":"+'Original ABG Allocation'!A34","v":"29"},{"$f":"+'Original ABG Allocation'!B34","v":"BUCKS"},null,null,null,null,null,null,null,null,null,null,null,null,null,null,null,null,null,null,null,null,null,null,0,0,0,0,0,null,null,0,0,0,0,0,0,0,0]
[{"$f":"+'Original ABG Allocation'!A35","v":"30"},{"$f":"+'Original ABG Allocation'!B35","v":"DELAWARE"},null,null,null,null,null,null,null,null,null,null,null,null,null,null,null,null,null,null,null,null,null,null,0,0,0,0,0,null,null,0,0,0,0,0,0,0,0]
[{"$f":"+'Original ABG Allocation'!A36","v":"31"},{"$f":"+'Original ABG Allocation'!B36","v":"PHILADELPHIA"},null,null,null,null,null,null,null,null,null,null,null,null,null,null,null,null,null,null,null,null,null,null,0,0,0,0,0,null,null,0,0,0,0,0,0,0,0]
[{"$f":"+'Original ABG Allocation'!A37","v":"32"},{"$f":"+'Original ABG Allocation'!B37","v":"BERKS"},null,null,null,null,null,null,null,null,null,null,null,null,null,null,null,null,null,null,null,null,null,null,0,0,0,0,0,null,null,0,0,0,0,0,0,0,0]
[{"$f":"+'Original ABG Allocation'!A38","v":"33"},{"$f":"+'Original ABG Allocation'!B38","v":"LEHIGH"},null,null,null,null,null,null,null,null,null,null,null,null,null,null,null,null,null,null,null,null,null,null,0,0,0,0,0,null,null,0,0,0,0,0,0,0,0]
[{"$f":"+'Original ABG Allocation'!A39","v":"34"},{"$f":"+'Original ABG Allocation'!B39","v":"NORTHAMPTON"},null,null,null,null,null,null,null,null,null,null,null,null,null,null,null,null,null,null,null,null,null,null,0,0,0,0,0,null,null,0,0,0,0,0,0,0,0]
[{"$f":"+'Original ABG Allocation'!A40","v":"35"},{"$f":"+'Original ABG Allocation'!B40","v":"PIKE"},null,null,null,null,null,null,null,null,null,null,null,null,null,null,null,null,null,null,null,null,null,null,0,0,0,0,0,null,null,0,0,0,0,0,0,0,0]
[{"$f":"+'Original ABG Allocation'!A41","v":"36"},{"$f":"+'Original ABG Allocation'!B41","v":"B/S/S/T"},null,null,null,null,null,null,null,null,null,null,null,null,null,null,null,null,null,null,null,null,null,null,0,0,0,0,0,null,null,0,0,0,0,0,0,0,0]
[{"$f":"+'Original ABG Allocation'!A42","v":"37"},{"$f":"+'Original ABG Allocation'!B42","v":"LUZERNE/WYOMING"},null,null,null,null,null,null,null,null,null,null,null,null,null,null,null,null,null,null,null,null,null,null,0,0,0,0,0,null,null,0,0,0,0,0,0,0,0]
[{"$f":"+'Original ABG Allocation'!A43","v":"38"},{"$f":"+'Original ABG Allocation'!B43","v":"LACKAWANNA"},null,null,null,null,null,null,null,null,null,null,null,null,null,null,null,null,null,null,null,null,null,null,0,0,0,0,0,null,null,0,0,0,0,0,0,0,0]
[{"$f":"+'Original ABG Allocation'!A44","v":"39"},{"$f":"+'Original ABG Allocation'!B44","v":"CARBON"},null,null,null,null,null,null,null,null,null,null,null,null,null,null,null,null,null,null,null,null,null,null,0,0,0,0,0,null,null,0,0,0,0,0,0,0,0]
[{"$f":"+'Original ABG Allocation'!A45","v":"40"},{"$f":"+'Original ABG Allocation'!B45","v":"SCHUYLKILL"},null,null,null,null,null,null,null,null,null,null,null,null,null,null,null,null,null,null,null,null,null,null,0,0,0,0,0,null,null,0,0,0,0,0,0,0,0]
[{"$f":"+'Original ABG Allocation'!A46","v":"41"},{"$f":"+'Original ABG Allocation'!B46","v":"CLEARFIELD"},null,null,null,null,null,null,null,null,null,null,null,null,null,null,null,null,null,null,null,null,null,null,0,0,0,0,0,null,null,0,0,0,0,0,0,0,0]
[{"$f":"+'Original ABG Allocation'!A47","v":"42"},{"$f":"+'Original ABG Allocation'!B47","v":"JEFFERSON"},null,null,null,null,null,null,null,null,null,null,null,null,null,null,null,null,null,null,null,null,null,null,0,0,0,0,0,null,null,0,0,0,0,0,0,0,0]
[{"$f":"+'Original ABG Allocation'!A48","v":"43"},{"$f":"+'Original ABG Allocation'!B48","v":"FOREST/WARREN"},null,null,null,null,null,null,null,null,null,null,null,null,null,null,null,null,null,null,null,null,null,null,0,0,0,0,0,null,null,0,0,0,0,0,0,0,0]
[{"$f":"+'Original ABG Allocation'!A49","v":"44"},{"$f":"+'Original ABG Allocation'!B49","v":"VENANGO"},null,null,null,null,null,null,null,null,null,null,null,null,null,null,null,null,null,null,null,null,null,null,0,0,0,0,0,null,null,0,0,0,0,0,0,0,0]
[{"$f":"+'Original ABG Allocation'!A50","v":"45"},{"$f":"+'Original ABG Allocation'!B50","v":"ARMSTRONG"},null,null,null,null,null,null,null,null,null,null,null,null,null,null,null,null,null,null,null,null,null,null,0,0,0,0,0,null,null,0,0,0,0,0,0,0,0]
[{"$f":"+'Original ABG Allocation'!A51","v":"46"},{"$f":"+'Original ABG Allocation'!B51","v":"LAWRENCE"},null,null,null,null,null,null,null,null,null,null,null,null,null,null,null,null,null,null,null,null,null,null,0,0,0,0,0,null,null,0,0,0,0,0,0,0,0]
[{"$f":"+'Original ABG Allocation'!A52","v":"47"},{"$f":"+'Original ABG Allocation'!B52","v":"MERCER"},null,null,null,null,null,null,null,null,null,null,null,null,null,null,null,null,null,null,null,null,null,null,0,0,0,0,0,null,null,0,0,0,0,0,0,0,0]
[{"$f":"+'Original ABG Allocation'!A53","v":"48"},{"$f":"+'Original ABG Allocation'!B53","v":"MONROE"},null,null,null,null,null,null,null,null,null,null,null,null,null,null,null,null,null,null,null,null,null,null,0,0,0,0,0,null,null,0,0,0,0,0,0,0,0]
[{"$f":"+'Original ABG Allocation'!A54","v":"49"},{"$f":"+'Original ABG Allocation'!B54","v":"CLARION"},null,null,null,null,null,null,null,null,null,null,null,null,null,null,null,null,null,null,null,null,null,null,0,0,0,0,0,null,null,0,0,0,0,0,0,0,0]
[{"$f":"+'Original ABG Allocation'!A55","v":"50"},{"$f":"+'Original ABG Allocation'!B55","v":"BUTLER"},null,null,null,null,null,null,null,null,null,null,null,null,null,null,null,null,null,null,null,null,null,null,0,0,0,0,0,null,null,0,0,0,0,0,0,0,0]
[{"$f":"+'Original ABG Allocation'!A56","v":"51"},{"$f":"+'Original ABG Allocation'!B56","v":"POTTER"},null,null,null,null,null,null,null,null,null,null,null,null,null,null,null,null,null,null,null,null,null,null,0,0,0,0,0,null,null,0,0,0,0,0,0,0,0]
[{"$f":"+'Original ABG Allocation'!A57","v":"52"},{"$f":"+'Original ABG Allocation'!B57","v":"WAYNE"},null,null,null,null,null,null,null,null,null,null,null,null,null,null,null,null,null,null,null,null,null,null,0,0,0,0,0,0,0,0,0,0,0,0,0,0,0]
[null,"     TOTALS",{"$f":"SUM(C6:C57)","v":0},{"$f":"SUM(D6:D57)","v":0},0,0,0,0,0,0,0,0,0,0,0,0,0,0,0,0,0,0,0,0,0,0,0,0,0,0,0,0,0,0,0,0,0,0,0]
[null,null,null,null,0]

{"sheet":"Amendment 3-Other Funds","index":19,"n_rows":60,"n_cols":39,"rows_kept":60,"cut":false,"hidden":true,"merged":[]}
["AMENDMENT NO. 3"]
["OTHER FUNDS"]
[{"$f":"+'Original ABG Allocation'!A3","v":"FY 2022-23"},null,{"$f":"+'Other Funds-Revision No. 2'!C3","v":"(1)"},{"$f":"+'Other Funds-Revision No. 2'!D3","v":"(2)"},{"$f":"+'Other Funds-Revision No. 2'!E3","v":"(3)"},{"$f":"+'Other Funds-Revision No. 2'!F3","v":"(3)"},{"$f":"+'Other Funds-Revision No. 2'!G3","v":"(4)"},{"$f":"+'Other Funds-Revision No. 2'!H3","v":"(5)"},{"$f":"+'Other Funds-Revision No. 2'!I3","v":"(6)"},{"$f":"+'Other Funds-Revision No. 2'!J3","v":"(7)"},{"$f":"+'Other Funds-Revision No. 2'!K3","v":"(8)"},{"$f":"+'Other Funds-Revision No. 2'!L3","v":"(9)"},{"$f":"+'Other Funds-Revision No. 2'!M3","v":"(10)"},{"$f":"+'Other Funds-Revision No. 2'!N3","v":"(11)"},{"$f":"+'Other Funds-Revision No. 2'!O3","v":"(12)"},{"$f":"+'Other Funds-Revision No. 2'!P3","v":"(13)"},{"$f":"+'Other Funds-Revision No. 2'!Q3","v":"(14)"},{"$f":"+'Other Funds-Revision No. 2'!R3","v":"(15)"},{"$f":"+'Other Funds-Revision No. 2'!S3","v":"(16)"},{"$f":"+'Other Funds-Revision No. 2'!T3","v":"(17)"},{"$f":"+'Other Funds-Revision No. 2'!U3","v":"(18)"},{"$f":"+'Other Funds-Revision No. 2'!V3","v":"(19)"},{"$f":"+'Other Funds-Revision No. 2'!W3","v":"(20)"},{"$f":"+'Other Funds-Revision No. 2'!X3","v":"(21)"},{"$f":"+'Other Funds-Revision No. 2'!Y3","v":"(22)"},{"$f":"+'Other Funds-Revision No. 2'!Z3","v":"(23)"},{"$f":"+'Other Funds-Revision No. 2'!AA3","v":"(24)"},{"$f":"+'Other Funds-Revision No. 2'!AB3","v":"(25)"},{"$f":"+'Other Funds-Revision No. 2'!AC3","v":"(26)"},{"$f":"+'Other Funds-Revision No. 2'!AD3","v":"(27)"},{"$f":"+'Other Funds-Revision No. 2'!AE3","v":"(28)"},{"$f":"+'Other Funds-Revision No. 2'!AF3","v":"(29)"},{"$f":"+'Other Funds-Revision No. 2'!AG3","v":"(30)"},{"$f":"+'Other Funds-Revision No. 2'!AH3","v":"(31)"},{"$f":"+'Other Funds-Revision No. 2'!AI3","v":"(32)"},{"$f":"+'Other Funds-Revision No. 2'!AJ3","v":"(33)"},{"$f":"+'Other Funds-Revision No. 2'!AK3","v":"(34)"},{"$f":"+'Other Funds-Revision No. 2'!AL3","v":"(35)"}]
[null,null,{"$f":"+'Other Funds-Revision No. 2'!C4","v":"Ombudsman"},{"$f":"+'Other Funds-Revision No. 2'!D4","v":"Ombudsman"},{"$f":"+'Other Funds-Revision No. 2'!E4","v":"Ombudsman"},{"$f":"+'Other Funds-Revision No. 2'!F4","v":"Ombudsman"},{"$f":"+'Other Funds-Revision No. 2'!G4","v":"PA MEDI"},{"$f":"+'Other Funds-Revision No. 2'!H4","v":"PA MEDI"},{"$f":"+'Other Funds-Revision No. 2'!I4","v":"PA MEDI"},{"$f":"+'Other Funds-Revision No. 2'!J4","v":"PA MEDI"},{"$f":"+'Other Funds-Revision No. 2'!K4","v":"PA MEDI"},{"$f":"+'Other Funds-Revision No. 2'!L4","v":"OPTIONS"},{"$f":"+'Other Funds-Revision No. 2'!M4","v":"Block Grant"},{"$f":"+'Other Funds-Revision No. 2'!N4","v":0},{"$f":"+'Other Funds-Revision No. 2'!O4","v":"Protective"},{"$f":"+'Other Funds-Revision No. 2'!P4","v":"PS"},{"$f":"+'Other Funds-Revision No. 2'!Q4","v":"OPTIONS"},{"$f":"+'Other Funds-Revision No. 2'!R4","v":"Block Grant"},{"$f":"+'Other Funds-Revision No. 2'!S4","v":"ARPA "},{"$f":"+'Other Funds-Revision No. 2'!T4","v":"ARPA"},{"$f":"+'Other Funds-Revision No. 2'!U4","v":"ARPA"},{"$f":"+'Other Funds-Revision No. 2'!V4","v":"ARPA"},{"$f":"+'Other Funds-Revision No. 2'!W4","v":"ARPA"},{"$f":"+'Other Funds-Revision No. 2'!X4","v":"ADRC"},{"$f":"+'Other Funds-Revision No. 2'!Y4","v":"FFCRA"},{"$f":"+'Other Funds-Revision No. 2'!Z4","v":"FFCRA "},{"$f":"+'Other Funds-Revision No. 2'!AA4","v":"CARES"},{"$f":"+'Other Funds-Revision No. 2'!AB4","v":"CARES"},{"$f":"+'Other Funds-Revision No. 2'!AC4","v":"CARES"},{"$f":"+'Other Funds-Revision No. 2'!AD4","v":"PS Reserve Staff"},{"$f":"+'Other Funds-Revision No. 2'!AE4","v":"Senior Center"},{"$f":"'Other Funds Summary'!AF4","v":"MIPPA-AAA"},{"$f":"'Other Funds Summary'!AG4","v":"MIPPA-ADRC"},{"$f":"'Other Funds Summary'!AH4","v":"MIPPA-SHIP"},{"$f":"'Other Funds Summary'!AI4","v":"MIPPA-SHIP"},{"$f":"'Other Funds Summary'!AJ4","v":"MIPPA-SHIP"},{"$f":"'Other Funds Summary'!AK4","v":"ADRC"},{"$f":"'Other Funds Summary'!AL4","v":"Covid Vaccine "},{"$f":"+'Other Funds-Revision No. 2'!AM4","v":"TOTAL"}]
[null,null,{"$f":"+'Other Funds-Revision No. 2'!C5","v":"ROC"},{"$f":"+'Other Funds-Revision No. 2'!D5","v":"Volunteers"},{"$f":"+'Other Funds-Revision No. 2'!E5","v":"Fed Care Act "},{"$f":"+'Other Funds-Revision No. 2'!F5","v":"Fed Addl Care Act"},{"$f":"+'Other Funds-Revision No. 2'!G5","v":"Reg. Staff"},{"$f":"+'Other Funds-Revision No. 2'!H5","v":"Helpline"},{"$f":"+'Other Funds-Revision No. 2'!I5","v":"Telecenter "},{"$f":"+'Other Funds-Revision No. 2'!J5","v":"Base"},{"$f":"+'Other Funds-Revision No. 2'!K5","v":"PHLP"},{"$f":"+'Other Funds-Revision No. 2'!L5","v":"Services"},{"$f":"+'Other Funds-Revision No. 2'!M5","v":"Supplement"},{"$f":"+'Other Funds-Revision No. 2'!N5","v":"SNHT"},{"$f":"+'Other Funds-Revision No. 2'!O5","v":"Services"},{"$f":"+'Other Funds-Revision No. 2'!P5","v":"Personnel"},{"$f":"+'Other Funds-Revision No. 2'!Q5","v":"Services (2)"},{"$f":"+'Other Funds-Revision No. 2'!R5","v":"Supplement (2)"},{"$f":"+'Other Funds-Revision No. 2'!S5","v":"Suppt Svs"},{"$f":"+'Other Funds-Revision No. 2'!T5","v":"HD Meals"},{"$f":"+'Other Funds-Revision No. 2'!U5","v":"Cong Meals"},{"$f":"+'Other Funds-Revision No. 2'!V5","v":"Prev Health"},{"$f":"+'Other Funds-Revision No. 2'!W5","v":"Family Caregiver"},{"$f":"+'Other Funds-Revision No. 2'!X5","v":"Vaccine Suppt "},{"$f":"+'Other Funds-Revision No. 2'!Y5","v":"HDMs"},{"$f":"+'Other Funds-Revision No. 2'!Z5","v":"CMs"},{"$f":"+'Other Funds-Revision No. 2'!AA5","v":"Services"},{"$f":"+'Other Funds-Revision No. 2'!AB5","v":"Meals"},{"$f":"+'Other Funds-Revision No. 2'!AC5","v":"Caregiver"},{"$f":"+'Other Funds-Revision No. 2'!AD5","v":"Grant"},{"$f":"+'Other Funds-Revision No. 2'!AE5","v":"Grant"},{"$f":"'Other Funds Summary'!AF5","v":"Priority 2"},{"$f":"'Other Funds Summary'!AG5","v":"Priority 3"},{"$f":"'Other Funds Summary'!AH5","v":"BDT"},{"$f":"'Other Funds Summary'!AI5","v":"PHLP"},{"$f":"'Other Funds Summary'!AJ5","v":"Performance"},{"$f":"'Other Funds Summary'!AK5","v":"Award"},{"$f":"'Other Funds Summary'!AL5","v":"Access"},{"$f":"+'Other Funds-Revision No. 2'!AM5","v":"OTHER"}]
[{"$f":"+'Original ABG Allocation'!A6","v":"01"},{"$f":"+'Original ABG Allocation'!B6","v":"ERIE"},{"$f":"'Amendment 1-Other Funds'!C6+'Other Funds-Revision No. 2'!C6+'Other Funds-Revision No. 3'!C6","v":0},{"$f":"'Amendment 1-Other Funds'!D6+'Other Funds-Revision No. 2'!D6+'Other Funds-Revision No. 3'!D6","v":0},{"$f":"'Amendment 1-Other Funds'!E6+'Other Funds-Revision No. 2'!E6+'Other Funds-Revision No. 3'!E6","v":8840},{"$f":"'Amendment 1-Other Funds'!F6+'Other Funds-Revision No. 2'!F6+'Other Funds-Revision No. 3'!F6","v":0},{"$f":"'Amendment 1-Other Funds'!G6+'Other Funds-Revision No. 2'!G6+'Other Funds-Revision No. 3'!G6","v":0},{"$f":"'Amendment 1-Other Funds'!H6+'Other Funds-Revision No. 2'!H6+'Other Funds-Revision No. 3'!H6","v":0},{"$f":"'Amendment 1-Other Funds'!I6+'Other Funds-Revision No. 2'!I6+'Other Funds-Revision No. 3'!I6","v":0},{"$f":"'Amendment 1-Other Funds'!J6+'Other Funds-Revision No. 2'!J6+'Other Funds-Revision No. 3'!J6","v":0},{"$f":"'Amendment 1-Other Funds'!K6+'Other Funds-Revision No. 2'!K6+'Other Funds-Revision No. 3'!K6","v":0},{"$f":"'Amendment 1-Other Funds'!L6+'Other Funds-Revision No. 2'!L6+'Other Funds-Revision No. 3'!L6","v":0},{"$f":"'Amendment 1-Other Funds'!M6+'Other Funds-Revision No. 2'!M6+'Other Funds-Revision No. 3'!M6","v":0},{"$f":"'Amendment 1-Other Funds'!N6+'Other Funds-Revision No. 2'!N6+'Other Funds-Revision No. 3'!N6","v":0},{"$f":"'Amendment 1-Other Funds'!O6+'Other Funds-Revision No. 2'!O6+'Other Funds-Revision No. 3'!O6","v":0},{"$f":"'Amendment 1-Other Funds'!P6+'Other Funds-Revision No. 2'!P6+'Other Funds-Revision No. 3'!P6","v":0},{"$f":"'Amendment 1-Other Funds'!Q6+'Other Funds-Revision No. 2'!Q6+'Other Funds-Revision No. 3'!Q6","v":0},{"$f":"'Amendment 1-Other Funds'!R6+'Other Funds-Revision No. 2'!R6+'Other Funds-Revision No. 3'!R6","v":0},{"$f":"'Amendment 1-Other Funds'!S6+'Other Funds-Revision No. 2'!S6+'Other Funds-Revision No. 3'!S6","v":0},{"$f":"'Amendment 1-Other Funds'!T6+'Other Funds-Revision No. 2'!T6+'Other Funds-Revision No. 3'!T6","v":0},{"$f":"'Amendment 1-Other Funds'!U6+'Other Funds-Revision No. 2'!U6+'Other Funds-Revision No. 3'!U6","v":0},{"$f":"'Amendment 1-Other Funds'!V6+'Other Funds-Revision No. 2'!V6+'Other Funds-Revision No. 3'!V6","v":0},{"$f":"'Amendment 1-Other Funds'!W6+'Other Funds-Revision No. 2'!W6+'Other Funds-Revision No. 3'!W6","v":0},{"$f":"'Amendment 1-Other Funds'!X6+'Other Funds-Revision No. 2'!X6+'Other Funds-Revision No. 3'!X6","v":0},{"$f":"'Amendment 1-Other Funds'!Y6+'Other Funds-Revision No. 2'!Y6+'Other Funds-Revision No. 3'!Y6","v":0},{"$f":"'Amendment 1-Other Funds'!Z6+'Other Funds-Revision No. 2'!Z6+'Other Funds-Revision No. 3'!Z6","v":0},{"$f":"'Amendment 1-Other Funds'!AA6+'Other Funds-Revision No. 2'!AA6+'Other Funds-Revision No. 3'!AA6","v":0},{"$f":"'Amendment 1-Other Funds'!AB6+'Other Funds-Revision No. 2'!AB6+'Other Funds-Revision No. 3'!AB6","v":0},{"$f":"'Amendment 1-Other Funds'!AC6+'Other Funds-Revision No. 2'!AC6+'Other Funds-Revision No. 3'!AC6","v":0},{"$f":"'Amendment 1-Other Funds'!AD6+'Other Funds-Revision No. 2'!AD6+'Other Funds-Revision No. 3'!AD6","v":0},{"$f":"'Amendment 1-Other Funds'!AE6+'Other Funds-Revision No. 2'!AE6+'Other Funds-Revision No. 3'!AE6","v":0},{"$f":"'Amendment 1-Other Funds'!AF6+'Other Funds-Revision No. 2'!AF6+'Other Funds-Revision No. 3'!AF6","v":0},{"$f":"'Amendment 1-Other Funds'!AG6+'Other Funds-Revision No. 2'!AG6+'Other Funds-Revision No. 3'!AG6","v":0},{"$f":"'Amendment 1-Other Funds'!AH6+'Other Funds-Revision No. 2'!AH6+'Other Funds-Revision No. 3'!AH6","v":0},{"$f":"'Amendment 1-Other Funds'!AI6+'Other Funds-Revision No. 2'!AI6+'Other Funds-Revision No. 3'!AI6","v":0},{"$f":"'Amendment 1-Other Funds'!AJ6+'Other Funds-Revision No. 2'!AJ6+'Other Funds-Revision No. 3'!AJ6","v":0},{"$f":"'Amendment 1-Other Funds'!AK6+'Other Funds-Revision No. 2'!AK6+'Other Funds-Revision No. 3'!AK6","v":0},{"$f":"'Amendment 1-Other Funds'!AL6+'Other Funds-Revision No. 2'!AL6+'Other Funds-Revision No. 3'!AL6","v":41914},{"$f":"SUM(C6:AK6)","v":8840}]
[{"$f":"+'Original ABG Allocation'!A7","v":"02"},{"$f":"+'Original ABG Allocation'!B7","v":"CRAWFORD"},{"$f":"'Amendment 1-Other Funds'!C7+'Other Funds-Revision No. 2'!C7+'Other Funds-Revision No. 3'!C7","v":0},{"$f":"'Amendment 1-Other Funds'!D7+'Other Funds-Revision No. 2'!D7+'Other Funds-Revision No. 3'!D7","v":0},{"$f":"'Amendment 1-Other Funds'!E7+'Other Funds-Revision No. 2'!E7+'Other Funds-Revision No. 3'!E7","v":8840},{"$f":"'Amendment 1-Other Funds'!F7+'Other Funds-Revision No. 2'!F7+'Other Funds-Revision No. 3'!F7","v":0},{"$f":"'Amendment 1-Other Funds'!G7+'Other Funds-Revision No. 2'!G7+'Other Funds-Revision No. 3'!G7","v":0},{"$f":"'Amendment 1-Other Funds'!H7+'Other Funds-Revision No. 2'!H7+'Other Funds-Revision No. 3'!H7","v":0},{"$f":"'Amendment 1-Other Funds'!I7+'Other Funds-Revision No. 2'!I7+'Other Funds-Revision No. 3'!I7","v":0},{"$f":"'Amendment 1-Other Funds'!J7+'Other Funds-Revision No. 2'!J7+'Other Funds-Revision No. 3'!J7","v":0},{"$f":"'Amendment 1-Other Funds'!K7+'Other Funds-Revision No. 2'!K7+'Other Funds-Revision No. 3'!K7","v":0},{"$f":"'Amendment 1-Other Funds'!L7+'Other Funds-Revision No. 2'!L7+'Other Funds-Revision No. 3'!L7","v":0},{"$f":"'Amendment 1-Other Funds'!M7+'Other Funds-Revision No. 2'!M7+'Other Funds-Revision No. 3'!M7","v":0},{"$f":"'Amendment 1-Other Funds'!N7+'Other Funds-Revision No. 2'!N7+'Other Funds-Revision No. 3'!N7","v":0},{"$f":"'Amendment 1-Other Funds'!O7+'Other Funds-Revision No. 2'!O7+'Other Funds-Revision No. 3'!O7","v":0},{"$f":"'Amendment 1-Other Funds'!P7+'Other Funds-Revision No. 2'!P7+'Other Funds-Revision No. 3'!P7","v":0},{"$f":"'Amendment 1-Other Funds'!Q7+'Other Funds-Revision No. 2'!Q7+'Other Funds-Revision No. 3'!Q7","v":0},{"$f":"'Amendment 1-Other Funds'!R7+'Other Funds-Revision No. 2'!R7+'Other Funds-Revision No. 3'!R7","v":0},{"$f":"'Amendment 1-Other Funds'!S7+'Other Funds-Revision No. 2'!S7+'Other Funds-Revision No. 3'!S7","v":0},{"$f":"'Amendment 1-Other Funds'!T7+'Other Funds-Revision No. 2'!T7+'Other Funds-Revision No. 3'!T7","v":0},{"$f":"'Amendment 1-Other Funds'!U7+'Other Funds-Revision No. 2'!U7+'Other Funds-Revision No. 3'!U7","v":0},{"$f":"'Amendment 1-Other Funds'!V7+'Other Funds-Revision No. 2'!V7+'Other Funds-Revision No. 3'!V7","v":0},{"$f":"'Amendment 1-Other Funds'!W7+'Other Funds-Revision No. 2'!W7+'Other Funds-Revision No. 3'!W7","v":0},{"$f":"'Amendment 1-Other Funds'!X7+'Other Funds-Revision No. 2'!X7+'Other Funds-Revision No. 3'!X7","v":0},{"$f":"'Amendment 1-Other Funds'!Y7+'Other Funds-Revision No. 2'!Y7+'Other Funds-Revision No. 3'!Y7","v":0},{"$f":"'Amendment 1-Other Funds'!Z7+'Other Funds-Revision No. 2'!Z7+'Other Funds-Revision No. 3'!Z7","v":0},{"$f":"'Amendment 1-Other Funds'!AA7+'Other Funds-Revision No. 2'!AA7+'Other Funds-Revision No. 3'!AA7","v":0},{"$f":"'Amendment 1-Other Funds'!AB7+'Other Funds-Revision No. 2'!AB7+'Other Funds-Revision No. 3'!AB7","v":0},{"$f":"'Amendment 1-Other Funds'!AC7+'Other Funds-Revision No. 2'!AC7+'Other Funds-Revision No. 3'!AC7","v":0},{"$f":"'Amendment 1-Other Funds'!AD7+'Other Funds-Revision No. 2'!AD7+'Other Funds-Revision No. 3'!AD7","v":0},{"$f":"'Amendment 1-Other Funds'!AE7+'Other Funds-Revision No. 2'!AE7+'Other Funds-Revision No. 3'!AE7","v":0},{"$f":"'Amendment 1-Other Funds'!AF7+'Other Funds-Revision No. 2'!AF7+'Other Funds-Revision No. 3'!AF7","v":0},{"$f":"'Amendment 1-Other Funds'!AG7+'Other Funds-Revision No. 2'!AG7+'Other Funds-Revision No. 3'!AG7","v":0},{"$f":"'Amendment 1-Other Funds'!AH7+'Other Funds-Revision No. 2'!AH7+'Other Funds-Revision No. 3'!AH7","v":0},{"$f":"'Amendment 1-Other Funds'!AI7+'Other Funds-Revision No. 2'!AI7+'Other Funds-Revision No. 3'!AI7","v":0},{"$f":"'Amendment 1-Other Funds'!AJ7+'Other Funds-Revision No. 2'!AJ7+'Other Funds-Revision No. 3'!AJ7","v":0},{"$f":"'Amendment 1-Other Funds'!AK7+'Other Funds-Revision No. 2'!AK7+'Other Funds-Revision No. 3'!AK7","v":0},{"$f":"'Amendment 1-Other Funds'!AL7+'Other Funds-Revision No. 2'!AL7+'Other Funds-Revision No. 3'!AL7","v":19112},{"$f":"SUM(C7:AK7)","v":8840}]
[{"$f":"+'Original ABG Allocation'!A8","v":"03"},{"$f":"+'Original ABG Allocation'!B8","v":"CAM/ELK/MCKEAN"},{"$f":"'Amendment 1-Other Funds'!C8+'Other Funds-Revision No. 2'!C8+'Other Funds-Revision No. 3'!C8","v":0},{"$f":"'Amendment 1-Other Funds'!D8+'Other Funds-Revision No. 2'!D8+'Other Funds-Revision No. 3'!D8","v":0},{"$f":"'Amendment 1-Other Funds'!E8+'Other Funds-Revision No. 2'!E8+'Other Funds-Revision No. 3'!E8","v":8840},{"$f":"'Amendment 1-Other Funds'!F8+'Other Funds-Revision No. 2'!F8+'Other Funds-Revision No. 3'!F8","v":0},{"$f":"'Amendment 1-Other Funds'!G8+'Other Funds-Revision No. 2'!G8+'Other Funds-Revision No. 3'!G8","v":0},{"$f":"'Amendment 1-Other Funds'!H8+'Other Funds-Revision No. 2'!H8+'Other Funds-Revision No. 3'!H8","v":0},{"$f":"'Amendment 1-Other Funds'!I8+'Other Funds-Revision No. 2'!I8+'Other Funds-Revision No. 3'!I8","v":0},{"$f":"'Amendment 1-Other Funds'!J8+'Other Funds-Revision No. 2'!J8+'Other Funds-Revision No. 3'!J8","v":0},{"$f":"'Amendment 1-Other Funds'!K8+'Other Funds-Revision No. 2'!K8+'Other Funds-Revision No. 3'!K8","v":0},{"$f":"'Amendment 1-Other Funds'!L8+'Other Funds-Revision No. 2'!L8+'Other Funds-Revision No. 3'!L8","v":0},{"$f":"'Amendment 1-Other Funds'!M8+'Other Funds-Revision No. 2'!M8+'Other Funds-Revision No. 3'!M8","v":0},{"$f":"'Amendment 1-Other Funds'!N8+'Other Funds-Revision No. 2'!N8+'Other Funds-Revision No. 3'!N8","v":0},{"$f":"'Amendment 1-Other Funds'!O8+'Other Funds-Revision No. 2'!O8+'Other Funds-Revision No. 3'!O8","v":0},{"$f":"'Amendment 1-Other Funds'!P8+'Other Funds-Revision No. 2'!P8+'Other Funds-Revision No. 3'!P8","v":0},{"$f":"'Amendment 1-Other Funds'!Q8+'Other Funds-Revision No. 2'!Q8+'Other Funds-Revision No. 3'!Q8","v":0},{"$f":"'Amendment 1-Other Funds'!R8+'Other Funds-Revision No. 2'!R8+'Other Funds-Revision No. 3'!R8","v":0},{"$f":"'Amendment 1-Other Funds'!S8+'Other Funds-Revision No. 2'!S8+'Other Funds-Revision No. 3'!S8","v":0},{"$f":"'Amendment 1-Other Funds'!T8+'Other Funds-Revision No. 2'!T8+'Other Funds-Revision No. 3'!T8","v":0},{"$f":"'Amendment 1-Other Funds'!U8+'Other Funds-Revision No. 2'!U8+'Other Funds-Revision No. 3'!U8","v":0},{"$f":"'Amendment 1-Other Funds'!V8+'Other Funds-Revision No. 2'!V8+'Other Funds-Revision No. 3'!V8","v":0},{"$f":"'Amendment 1-Other Funds'!W8+'Other Funds-Revision No. 2'!W8+'Other Funds-Revision No. 3'!W8","v":0},{"$f":"'Amendment 1-Other Funds'!X8+'Other Funds-Revision No. 2'!X8+'Other Funds-Revision No. 3'!X8","v":0},{"$f":"'Amendment 1-Other Funds'!Y8+'Other Funds-Revision No. 2'!Y8+'Other Funds-Revision No. 3'!Y8","v":0},{"$f":"'Amendment 1-Other Funds'!Z8+'Other Funds-Revision No. 2'!Z8+'Other Funds-Revision No. 3'!Z8","v":0},{"$f":"'Amendment 1-Other Funds'!AA8+'Other Funds-Revision No. 2'!AA8+'Other Funds-Revision No. 3'!AA8","v":0},{"$f":"'Amendment 1-Other Funds'!AB8+'Other Funds-Revision No. 2'!AB8+'Other Funds-Revision No. 3'!AB8","v":0},{"$f":"'Amendment 1-Other Funds'!AC8+'Other Funds-Revision No. 2'!AC8+'Other Funds-Revision No. 3'!AC8","v":0},{"$f":"'Amendment 1-Other Funds'!AD8+'Other Funds-Revision No. 2'!AD8+'Other Funds-Revision No. 3'!AD8","v":0},{"$f":"'Amendment 1-Other Funds'!AE8+'Other Funds-Revision No. 2'!AE8+'Other Funds-Revision No. 3'!AE8","v":0},{"$f":"'Amendment 1-Other Funds'!AF8+'Other Funds-Revision No. 2'!AF8+'Other Funds-Revision No. 3'!AF8","v":0},{"$f":"'Amendment 1-Other Funds'!AG8+'Other Funds-Revision No. 2'!AG8+'Other Funds-Revision No. 3'!AG8","v":0},{"$f":"'Amendment 1-Other Funds'!AH8+'Other Funds-Revision No. 2'!AH8+'Other Funds-Revision No. 3'!AH8","v":0},{"$f":"'Amendment 1-Other Funds'!AI8+'Other Funds-Revision No. 2'!AI8+'Other Funds-Revision No. 3'!AI8","v":0},{"$f":"'Amendment 1-Other Funds'!AJ8+'Other Funds-Revision No. 2'!AJ8+'Other Funds-Revision No. 3'!AJ8","v":0},{"$f":"'Amendment 1-Other Funds'!AK8+'Other Funds-Revision No. 2'!AK8+'Other Funds-Revision No. 3'!AK8","v":0},{"$f":"'Amendment 1-Other Funds'!AL8+'Other Funds-Revision No. 2'!AL8+'Other Funds-Revision No. 3'!AL8","v":17686},8840]
[{"$f":"+'Original ABG Allocation'!A9","v":"04"},{"$f":"+'Original ABG Allocation'!B9","v":"BEAVER"},{"$f":"'Amendment 1-Other Funds'!C9+'Other Funds-Revision No. 2'!C9+'Other Funds-Revision No. 3'!C9","v":0},{"$f":"'Amendment 1-Other Funds'!D9+'Other Funds-Revision No. 2'!D9+'Other Funds-Revision No. 3'!D9","v":0},{"$f":"'Amendment 1-Other Funds'!E9+'Other Funds-Revision No. 2'!E9+'Other Funds-Revision No. 3'!E9","v":8840},{"$f":"'Amendment 1-Other Funds'!F9+'Other Funds-Revision No. 2'!F9+'Other Funds-Revision No. 3'!F9","v":0},{"$f":"'Amendment 1-Other Funds'!G9+'Other Funds-Revision No. 2'!G9+'Other Funds-Revision No. 3'!G9","v":0},{"$f":"'Amendment 1-Other Funds'!H9+'Other Funds-Revision No. 2'!H9+'Other Funds-Revision No. 3'!H9","v":0},{"$f":"'Amendment 1-Other Funds'!I9+'Other Funds-Revision No. 2'!I9+'Other Funds-Revision No. 3'!I9","v":0},{"$f":"'Amendment 1-Other Funds'!J9+'Other Funds-Revision No. 2'!J9+'Other Funds-Revision No. 3'!J9","v":0},{"$f":"'Amendment 1-Other Funds'!K9+'Other Funds-Revision No. 2'!K9+'Other Funds-Revision No. 3'!K9","v":0},{"$f":"'Amendment 1-Other Funds'!L9+'Other Funds-Revision No. 2'!L9+'Other Funds-Revision No. 3'!L9","v":0},{"$f":"'Amendment 1-Other Funds'!M9+'Other Funds-Revision No. 2'!M9+'Other Funds-Revision No. 3'!M9","v":0},{"$f":"'Amendment 1-Other Funds'!N9+'Other Funds-Revision No. 2'!N9+'Other Funds-Revision No. 3'!N9","v":0},{"$f":"'Amendment 1-Other Funds'!O9+'Other Funds-Revision No. 2'!O9+'Other Funds-Revision No. 3'!O9","v":0},{"$f":"'Amendment 1-Other Funds'!P9+'Other Funds-Revision No. 2'!P9+'Other Funds-Revision No. 3'!P9","v":0},{"$f":"'Amendment 1-Other Funds'!Q9+'Other Funds-Revision No. 2'!Q9+'Other Funds-Revision No. 3'!Q9","v":0},{"$f":"'Amendment 1-Other Funds'!R9+'Other Funds-Revision No. 2'!R9+'Other Funds-Revision No. 3'!R9","v":0},{"$f":"'Amendment 1-Other Funds'!S9+'Other Funds-Revision No. 2'!S9+'Other Funds-Revision No. 3'!S9","v":0},{"$f":"'Amendment 1-Other Funds'!T9+'Other Funds-Revision No. 2'!T9+'Other Funds-Revision No. 3'!T9","v":0},{"$f":"'Amendment 1-Other Funds'!U9+'Other Funds-Revision No. 2'!U9+'Other Funds-Revision No. 3'!U9","v":0},{"$f":"'Amendment 1-Other Funds'!V9+'Other Funds-Revision No. 2'!V9+'Other Funds-Revision No. 3'!V9","v":0},{"$f":"'Amendment 1-Other Funds'!W9+'Other Funds-Revision No. 2'!W9+'Other Funds-Revision No. 3'!W9","v":0},{"$f":"'Amendment 1-Other Funds'!X9+'Other Funds-Revision No. 2'!X9+'Other Funds-Revision No. 3'!X9","v":0},{"$f":"'Amendment 1-Other Funds'!Y9+'Other Funds-Revision No. 2'!Y9+'Other Funds-Revision No. 3'!Y9","v":0},{"$f":"'Amendment 1-Other Funds'!Z9+'Other Funds-Revision No. 2'!Z9+'Other Funds-Revision No. 3'!Z9","v":0},{"$f":"'Amendment 1-Other Funds'!AA9+'Other Funds-Revision No. 2'!AA9+'Other Funds-Revision No. 3'!AA9","v":0},{"$f":"'Amendment 1-Other Funds'!AB9+'Other Funds-Revision No. 2'!AB9+'Other Funds-Revision No. 3'!AB9","v":0},{"$f":"'Amendment 1-Other Funds'!AC9+'Other Funds-Revision No. 2'!AC9+'Other Funds-Revision No. 3'!AC9","v":0},{"$f":"'Amendment 1-Other Funds'!AD9+'Other Funds-Revision No. 2'!AD9+'Other Funds-Revision No. 3'!AD9","v":0},{"$f":"'Amendment 1-Other Funds'!AE9+'Other Funds-Revision No. 2'!AE9+'Other Funds-Revision No. 3'!AE9","v":0},{"$f":"'Amendment 1-Other Funds'!AF9+'Other Funds-Revision No. 2'!AF9+'Other Funds-Revision No. 3'!AF9","v":0},{"$f":"'Amendment 1-Other Funds'!AG9+'Other Funds-Revision No. 2'!AG9+'Other Funds-Revision No. 3'!AG9","v":0},{"$f":"'Amendment 1-Other Funds'!AH9+'Other Funds-Revision No. 2'!AH9+'Other Funds-Revision No. 3'!AH9","v":0},{"$f":"'Amendment 1-Other Funds'!AI9+'Other Funds-Revision No. 2'!AI9+'Other Funds-Revision No. 3'!AI9","v":0},{"$f":"'Amendment 1-Other Funds'!AJ9+'Other Funds-Revision No. 2'!AJ9+'Other Funds-Revision No. 3'!AJ9","v":0},{"$f":"'Amendment 1-Other Funds'!AK9+'Other Funds-Revision No. 2'!AK9+'Other Funds-Revision No. 3'!AK9","v":0},{"$f":"'Amendment 1-Other Funds'!AL9+'Other Funds-Revision No. 2'!AL9+'Other Funds-Revision No. 3'!AL9","v":28437},8840]
[{"$f":"+'Original ABG Allocation'!A10","v":"05"},{"$f":"+'Original ABG Allocation'!B10","v":"INDIANA"},{"$f":"'Amendment 1-Other Funds'!C10+'Other Funds-Revision No. 2'!C10+'Other Funds-Revision No. 3'!C10","v":0},{"$f":"'Amendment 1-Other Funds'!D10+'Other Funds-Revision No. 2'!D10+'Other Funds-Revision No. 3'!D10","v":0},{"$f":"'Amendment 1-Other Funds'!E10+'Other Funds-Revision No. 2'!E10+'Other Funds-Revision No. 3'!E10","v":8840},{"$f":"'Amendment 1-Other Funds'!F10+'Other Funds-Revision No. 2'!F10+'Other Funds-Revision No. 3'!F10","v":0},{"$f":"'Amendment 1-Other Funds'!G10+'Other Funds-Revision No. 2'!G10+'Other Funds-Revision No. 3'!G10","v":0},{"$f":"'Amendment 1-Other Funds'!H10+'Other Funds-Revision No. 2'!H10+'Other Funds-Revision No. 3'!H10","v":0},{"$f":"'Amendment 1-Other Funds'!I10+'Other Funds-Revision No. 2'!I10+'Other Funds-Revision No. 3'!I10","v":0},{"$f":"'Amendment 1-Other Funds'!J10+'Other Funds-Revision No. 2'!J10+'Other Funds-Revision No. 3'!J10","v":0},{"$f":"'Amendment 1-Other Funds'!K10+'Other Funds-Revision No. 2'!K10+'Other Funds-Revision No. 3'!K10","v":0},{"$f":"'Amendment 1-Other Funds'!L10+'Other Funds-Revision No. 2'!L10+'Other Funds-Revision No. 3'!L10","v":0},{"$f":"'Amendment 1-Other Funds'!M10+'Other Funds-Revision No. 2'!M10+'Other Funds-Revision No. 3'!M10","v":0},{"$f":"'Amendment 1-Other Funds'!N10+'Other Funds-Revision No. 2'!N10+'Other Funds-Revision No. 3'!N10","v":0},{"$f":"'Amendment 1-Other Funds'!O10+'Other Funds-Revision No. 2'!O10+'Other Funds-Revision No. 3'!O10","v":0},{"$f":"'Amendment 1-Other Funds'!P10+'Other Funds-Revision No. 2'!P10+'Other Funds-Revision No. 3'!P10","v":0},{"$f":"'Amendment 1-Other Funds'!Q10+'Other Funds-Revision No. 2'!Q10+'Other Funds-Revision No. 3'!Q10","v":0},{"$f":"'Amendment 1-Other Funds'!R10+'Other Funds-Revision No. 2'!R10+'Other Funds-Revision No. 3'!R10","v":0},{"$f":"'Amendment 1-Other Funds'!S10+'Other Funds-Revision No. 2'!S10+'Other Funds-Revision No. 3'!S10","v":0},{"$f":"'Amendment 1-Other Funds'!T10+'Other Funds-Revision No. 2'!T10+'Other Funds-Revision No. 3'!T10","v":0},{"$f":"'Amendment 1-Other Funds'!U10+'Other Funds-Revision No. 2'!U10+'Other Funds-Revision No. 3'!U10","v":0},{"$f":"'Amendment 1-Other Funds'!V10+'Other Funds-Revision No. 2'!V10+'Other Funds-Revision No. 3'!V10","v":0},{"$f":"'Amendment 1-Other Funds'!W10+'Other Funds-Revision No. 2'!W10+'Other Funds-Revision No. 3'!W10","v":0},{"$f":"'Amendment 1-Other Funds'!X10+'Other Funds-Revision No. 2'!X10+'Other Funds-Revision No. 3'!X10","v":0},{"$f":"'Amendment 1-Other Funds'!Y10+'Other Funds-Revision No. 2'!Y10+'Other Funds-Revision No. 3'!Y10","v":0},{"$f":"'Amendment 1-Other Funds'!Z10+'Other Funds-Revision No. 2'!Z10+'Other Funds-Revision No. 3'!Z10","v":0},{"$f":"'Amendment 1-Other Funds'!AA10+'Other Funds-Revision No. 2'!AA10+'Other Funds-Revision No. 3'!AA10","v":0},{"$f":"'Amendment 1-Other Funds'!AB10+'Other Funds-Revision No. 2'!AB10+'Other Funds-Revision No. 3'!AB10","v":0},{"$f":"'Amendment 1-Other Funds'!AC10+'Other Funds-Revision No. 2'!AC10+'Other Funds-Revision No. 3'!AC10","v":0},{"$f":"'Amendment 1-Other Funds'!AD10+'Other Funds-Revision No. 2'!AD10+'Other Funds-Revision No. 3'!AD10","v":0},{"$f":"'Amendment 1-Other Funds'!AE10+'Other Funds-Revision No. 2'!AE10+'Other Funds-Revision No. 3'!AE10","v":0},{"$f":"'Amendment 1-Other Funds'!AF10+'Other Funds-Revision No. 2'!AF10+'Other Funds-Revision No. 3'!AF10","v":0},{"$f":"'Amendment 1-Other Funds'!AG10+'Other Funds-Revision No. 2'!AG10+'Other Funds-Revision No. 3'!AG10","v":0},{"$f":"'Amendment 1-Other Funds'!AH10+'Other Funds-Revision No. 2'!AH10+'Other Funds-Revision No. 3'!AH10","v":0},{"$f":"'Amendment 1-Other Funds'!AI10+'Other Funds-Revision No. 2'!AI10+'Other Funds-Revision No. 3'!AI10","v":0},{"$f":"'Amendment 1-Other Funds'!AJ10+'Other Funds-Revision No. 2'!AJ10+'Other Funds-Revision No. 3'!AJ10","v":0},{"$f":"'Amendment 1-Other Funds'!AK10+'Other Funds-Revision No. 2'!AK10+'Other Funds-Revision No. 3'!AK10","v":0},{"$f":"'Amendment 1-Other Funds'!AL10+'Other Funds-Revision No. 2'!AL10+'Other Funds-Revision No. 3'!AL10","v":17663},8840]
[{"$f":"+'Original ABG Allocation'!A11","v":"06"},{"$f":"+'Original ABG Allocation'!B11","v":"ALLEGHENY"},{"$f":"'Amendment 1-Other Funds'!C11+'Other Funds-Revision No. 2'!C11+'Other Funds-Revision No. 3'!C11","v":0},{"$f":"'Amendment 1-Other Funds'!D11+'Other Funds-Revision No. 2'!D11+'Other Funds-Revision No. 3'!D11","v":0},{"$f":"'Amendment 1-Other Funds'!E11+'Other Funds-Revision No. 2'!E11+'Other Funds-Revision No. 3'!E11","v":8840},{"$f":"'Amendment 1-Other Funds'!F11+'Other Funds-Revision No. 2'!F11+'Other Funds-Revision No. 3'!F11","v":0},{"$f":"'Amendment 1-Other Funds'!G11+'Other Funds-Revision No. 2'!G11+'Other Funds-Revision No. 3'!G11","v":0},{"$f":"'Amendment 1-Other Funds'!H11+'Other Funds-Revision No. 2'!H11+'Other Funds-Revision No. 3'!H11","v":0},{"$f":"'Amendment 1-Other Funds'!I11+'Other Funds-Revision No. 2'!I11+'Other Funds-Revision No. 3'!I11","v":0},{"$f":"'Amendment 1-Other Funds'!J11+'Other Funds-Revision No. 2'!J11+'Other Funds-Revision No. 3'!J11","v":0},{"$f":"'Amendment 1-Other Funds'!K11+'Other Funds-Revision No. 2'!K11+'Other Funds-Revision No. 3'!K11","v":0},{"$f":"'Amendment 1-Other Funds'!L11+'Other Funds-Revision No. 2'!L11+'Other Funds-Revision No. 3'!L11","v":0},{"$f":"'Amendment 1-Other Funds'!M11+'Other Funds-Revision No. 2'!M11+'Other Funds-Revision No. 3'!M11","v":0},{"$f":"'Amendment 1-Other Funds'!N11+'Other Funds-Revision No. 2'!N11+'Other Funds-Revision No. 3'!N11","v":0},{"$f":"'Amendment 1-Other Funds'!O11+'Other Funds-Revision No. 2'!O11+'Other Funds-Revision No. 3'!O11","v":0},{"$f":"'Amendment 1-Other Funds'!P11+'Other Funds-Revision No. 2'!P11+'Other Funds-Revision No. 3'!P11","v":0},{"$f":"'Amendment 1-Other Funds'!Q11+'Other Funds-Revision No. 2'!Q11+'Other Funds-Revision No. 3'!Q11","v":0},{"$f":"'Amendment 1-Other Funds'!R11+'Other Funds-Revision No. 2'!R11+'Other Funds-Revision No. 3'!R11","v":0},{"$f":"'Amendment 1-Other Funds'!S11+'Other Funds-Revision No. 2'!S11+'Other Funds-Revision No. 3'!S11","v":0},{"$f":"'Amendment 1-Other Funds'!T11+'Other Funds-Revision No. 2'!T11+'Other Funds-Revision No. 3'!T11","v":0},{"$f":"'Amendment 1-Other Funds'!U11+'Other Funds-Revision No. 2'!U11+'Other Funds-Revision No. 3'!U11","v":0},{"$f":"'Amendment 1-Other Funds'!V11+'Other Funds-Revision No. 2'!V11+'Other Funds-Revision No. 3'!V11","v":0},{"$f":"'Amendment 1-Other Funds'!W11+'Other Funds-Revision No. 2'!W11+'Other Funds-Revision No. 3'!W11","v":0},{"$f":"'Amendment 1-Other Funds'!X11+'Other Funds-Revision No. 2'!X11+'Other Funds-Revision No. 3'!X11","v":0},{"$f":"'Amendment 1-Other Funds'!Y11+'Other Funds-Revision No. 2'!Y11+'Other Funds-Revision No. 3'!Y11","v":0},{"$f":"'Amendment 1-Other Funds'!Z11+'Other Funds-Revision No. 2'!Z11+'Other Funds-Revision No. 3'!Z11","v":0},{"$f":"'Amendment 1-Other Funds'!AA11+'Other Funds-Revision No. 2'!AA11+'Other Funds-Revision No. 3'!AA11","v":0},{"$f":"'Amendment 1-Other Funds'!AB11+'Other Funds-Revision No. 2'!AB11+'Other Funds-Revision No. 3'!AB11","v":0},{"$f":"'Amendment 1-Other Funds'!AC11+'Other Funds-Revision No. 2'!AC11+'Other Funds-Revision No. 3'!AC11","v":0},{"$f":"'Amendment 1-Other Funds'!AD11+'Other Funds-Revision No. 2'!AD11+'Other Funds-Revision No. 3'!AD11","v":0},{"$f":"'Amendment 1-Other Funds'!AE11+'Other Funds-Revision No. 2'!AE11+'Other Funds-Revision No. 3'!AE11","v":0},{"$f":"'Amendment 1-Other Funds'!AF11+'Other Funds-Revision No. 2'!AF11+'Other Funds-Revision No. 3'!AF11","v":0},{"$f":"'Amendment 1-Other Funds'!AG11+'Other Funds-Revision No. 2'!AG11+'Other Funds-Revision No. 3'!AG11","v":0},{"$f":"'Amendment 1-Other Funds'!AH11+'Other Funds-Revision No. 2'!AH11+'Other Funds-Revision No. 3'!AH11","v":0},{"$f":"'Amendment 1-Other Funds'!AI11+'Other Funds-Revision No. 2'!AI11+'Other Funds-Revision No. 3'!AI11","v":0},{"$f":"'Amendment 1-Other Funds'!AJ11+'Other Funds-Revision No. 2'!AJ11+'Other Funds-Revision No. 3'!AJ11","v":0},{"$f":"'Amendment 1-Other Funds'!AK11+'Other Funds-Revision No. 2'!AK11+'Other Funds-Revision No. 3'!AK11","v":0},{"$f":"'Amendment 1-Other Funds'!AL11+'Other Funds-Revision No. 2'!AL11+'Other Funds-Revision No. 3'!AL11","v":180964},8840]
[{"$f":"+'Original ABG Allocation'!A12","v":"07"},{"$f":"+'Original ABG Allocation'!B12","v":"WESTMORELAND"},{"$f":"'Amendment 1-Other Funds'!C12+'Other Funds-Revision No. 2'!C12+'Other Funds-Revision No. 3'!C12","v":0},{"$f":"'Amendment 1-Other Funds'!D12+'Other Funds-Revision No. 2'!D12+'Other Funds-Revision No. 3'!D12","v":0},{"$f":"'Amendment 1-Other Funds'!E12+'Other Funds-Revision No. 2'!E12+'Other Funds-Revision No. 3'!E12","v":8840},{"$f":"'Amendment 1-Other Funds'!F12+'Other Funds-Revision No. 2'!F12+'Other Funds-Revision No. 3'!F12","v":0},{"$f":"'Amendment 1-Other Funds'!G12+'Other Funds-Revision No. 2'!G12+'Other Funds-Revision No. 3'!G12","v":0},{"$f":"'Amendment 1-Other Funds'!H12+'Other Funds-Revision No. 2'!H12+'Other Funds-Revision No. 3'!H12","v":0},{"$f":"'Amendment 1-Other Funds'!I12+'Other Funds-Revision No. 2'!I12+'Other Funds-Revision No. 3'!I12","v":0},{"$f":"'Amendment 1-Other Funds'!J12+'Other Funds-Revision No. 2'!J12+'Other Funds-Revision No. 3'!J12","v":0},{"$f":"'Amendment 1-Other Funds'!K12+'Other Funds-Revision No. 2'!K12+'Other Funds-Revision No. 3'!K12","v":0},{"$f":"'Amendment 1-Other Funds'!L12+'Other Funds-Revision No. 2'!L12+'Other Funds-Revision No. 3'!L12","v":0},{"$f":"'Amendment 1-Other Funds'!M12+'Other Funds-Revision No. 2'!M12+'Other Funds-Revision No. 3'!M12","v":0},{"$f":"'Amendment 1-Other Funds'!N12+'Other Funds-Revision No. 2'!N12+'Other Funds-Revision No. 3'!N12","v":0},{"$f":"'Amendment 1-Other Funds'!O12+'Other Funds-Revision No. 2'!O12+'Other Funds-Revision No. 3'!O12","v":0},{"$f":"'Amendment 1-Other Funds'!P12+'Other Funds-Revision No. 2'!P12+'Other Funds-Revision No. 3'!P12","v":0},{"$f":"'Amendment 1-Other Funds'!Q12+'Other Funds-Revision No. 2'!Q12+'Other Funds-Revision No. 3'!Q12","v":0},{"$f":"'Amendment 1-Other Funds'!R12+'Other Funds-Revision No. 2'!R12+'Other Funds-Revision No. 3'!R12","v":0},{"$f":"'Amendment 1-Other Funds'!S12+'Other Funds-Revision No. 2'!S12+'Other Funds-Revision No. 3'!S12","v":0},{"$f":"'Amendment 1-Other Funds'!T12+'Other Funds-Revision No. 2'!T12+'Other Funds-Revision No. 3'!T12","v":0},{"$f":"'Amendment 1-Other Funds'!U12+'Other Funds-Revision No. 2'!U12+'Other Funds-Revision No. 3'!U12","v":0},{"$f":"'Amendment 1-Other Funds'!V12+'Other Funds-Revision No. 2'!V12+'Other Funds-Revision No. 3'!V12","v":0},{"$f":"'Amendment 1-Other Funds'!W12+'Other Funds-Revision No. 2'!W12+'Other Funds-Revision No. 3'!W12","v":0},{"$f":"'Amendment 1-Other Funds'!X12+'Other Funds-Revision No. 2'!X12+'Other Funds-Revision No. 3'!X12","v":0},{"$f":"'Amendment 1-Other Funds'!Y12+'Other Funds-Revision No. 2'!Y12+'Other Funds-Revision No. 3'!Y12","v":0},{"$f":"'Amendment 1-Other Funds'!Z12+'Other Funds-Revision No. 2'!Z12+'Other Funds-Revision No. 3'!Z12","v":0},{"$f":"'Amendment 1-Other Funds'!AA12+'Other Funds-Revision No. 2'!AA12+'Other Funds-Revision No. 3'!AA12","v":0},{"$f":"'Amendment 1-Other Funds'!AB12+'Other Funds-Revision No. 2'!AB12+'Other Funds-Revision No. 3'!AB12","v":0},{"$f":"'Amendment 1-Other Funds'!AC12+'Other Funds-Revision No. 2'!AC12+'Other Funds-Revision No. 3'!AC12","v":0},{"$f":"'Amendment 1-Other Funds'!AD12+'Other Funds-Revision No. 2'!AD12+'Other Funds-Revision No. 3'!AD12","v":0},{"$f":"'Amendment 1-Other Funds'!AE12+'Other Funds-Revision No. 2'!AE12+'Other Funds-Revision No. 3'!AE12","v":0},{"$f":"'Amendment 1-Other Funds'!AF12+'Other Funds-Revision No. 2'!AF12+'Other Funds-Revision No. 3'!AF12","v":0},{"$f":"'Amendment 1-Other Funds'!AG12+'Other Funds-Revision No. 2'!AG12+'Other Funds-Revision No. 3'!AG12","v":0},{"$f":"'Amendment 1-Other Funds'!AH12+'Other Funds-Revision No. 2'!AH12+'Other Funds-Revision No. 3'!AH12","v":0},{"$f":"'Amendment 1-Other Funds'!AI12+'Other Funds-Revision No. 2'!AI12+'Other Funds-Revision No. 3'!AI12","v":0},{"$f":"'Amendment 1-Other Funds'!AJ12+'Other Funds-Revision No. 2'!AJ12+'Other Funds-Revision No. 3'!AJ12","v":0},{"$f":"'Amendment 1-Other Funds'!AK12+'Other Funds-Revision No. 2'!AK12+'Other Funds-Revision No. 3'!AK12","v":0},{"$f":"'Amendment 1-Other Funds'!AL12+'Other Funds-Revision No. 2'!AL12+'Other Funds-Revision No. 3'!AL12","v":57991},8840]
[{"$f":"+'Original ABG Allocation'!A13","v":"08"},{"$f":"+'Original ABG Allocation'!B13","v":"WASH/FAY/GREENE"},{"$f":"'Amendment 1-Other Funds'!C13+'Other Funds-Revision No. 2'!C13+'Other Funds-Revision No. 3'!C13","v":0},{"$f":"'Amendment 1-Other Funds'!D13+'Other Funds-Revision No. 2'!D13+'Other Funds-Revision No. 3'!D13","v":0},{"$f":"'Amendment 1-Other Funds'!E13+'Other Funds-Revision No. 2'!E13+'Other Funds-Revision No. 3'!E13","v":8840},{"$f":"'Amendment 1-Other Funds'!F13+'Other Funds-Revision No. 2'!F13+'Other Funds-Revision No. 3'!F13","v":0},{"$f":"'Amendment 1-Other Funds'!G13+'Other Funds-Revision No. 2'!G13+'Other Funds-Revision No. 3'!G13","v":0},{"$f":"'Amendment 1-Other Funds'!H13+'Other Funds-Revision No. 2'!H13+'Other Funds-Revision No. 3'!H13","v":0},{"$f":"'Amendment 1-Other Funds'!I13+'Other Funds-Revision No. 2'!I13+'Other Funds-Revision No. 3'!I13","v":0},{"$f":"'Amendment 1-Other Funds'!J13+'Other Funds-Revision No. 2'!J13+'Other Funds-Revision No. 3'!J13","v":0},{"$f":"'Amendment 1-Other Funds'!K13+'Other Funds-Revision No. 2'!K13+'Other Funds-Revision No. 3'!K13","v":0},{"$f":"'Amendment 1-Other Funds'!L13+'Other Funds-Revision No. 2'!L13+'Other Funds-Revision No. 3'!L13","v":0},{"$f":"'Amendment 1-Other Funds'!M13+'Other Funds-Revision No. 2'!M13+'Other Funds-Revision No. 3'!M13","v":0},{"$f":"'Amendment 1-Other Funds'!N13+'Other Funds-Revision No. 2'!N13+'Other Funds-Revision No. 3'!N13","v":0},{"$f":"'Amendment 1-Other Funds'!O13+'Other Funds-Revision No. 2'!O13+'Other Funds-Revision No. 3'!O13","v":0},{"$f":"'Amendment 1-Other Funds'!P13+'Other Funds-Revision No. 2'!P13+'Other Funds-Revision No. 3'!P13","v":0},{"$f":"'Amendment 1-Other Funds'!Q13+'Other Funds-Revision No. 2'!Q13+'Other Funds-Revision No. 3'!Q13","v":0},{"$f":"'Amendment 1-Other Funds'!R13+'Other Funds-Revision No. 2'!R13+'Other Funds-Revision No. 3'!R13","v":0},{"$f":"'Amendment 1-Other Funds'!S13+'Other Funds-Revision No. 2'!S13+'Other Funds-Revision No. 3'!S13","v":0},{"$f":"'Amendment 1-Other Funds'!T13+'Other Funds-Revision No. 2'!T13+'Other Funds-Revision No. 3'!T13","v":0},{"$f":"'Amendment 1-Other Funds'!U13+'Other Funds-Revision No. 2'!U13+'Other Funds-Revision No. 3'!U13","v":0},{"$f":"'Amendment 1-Other Funds'!V13+'Other Funds-Revision No. 2'!V13+'Other Funds-Revision No. 3'!V13","v":0},{"$f":"'Amendment 1-Other Funds'!W13+'Other Funds-Revision No. 2'!W13+'Other Funds-Revision No. 3'!W13","v":0},{"$f":"'Amendment 1-Other Funds'!X13+'Other Funds-Revision No. 2'!X13+'Other Funds-Revision No. 3'!X13","v":0},{"$f":"'Amendment 1-Other Funds'!Y13+'Other Funds-Revision No. 2'!Y13+'Other Funds-Revision No. 3'!Y13","v":0},{"$f":"'Amendment 1-Other Funds'!Z13+'Other Funds-Revision No. 2'!Z13+'Other Funds-Revision No. 3'!Z13","v":0},{"$f":"'Amendment 1-Other Funds'!AA13+'Other Funds-Revision No. 2'!AA13+'Other Funds-Revision No. 3'!AA13","v":0},{"$f":"'Amendment 1-Other Funds'!AB13+'Other Funds-Revision No. 2'!AB13+'Other Funds-Revision No. 3'!AB13","v":0},{"$f":"'Amendment 1-Other Funds'!AC13+'Other Funds-Revision No. 2'!AC13+'Other Funds-Revision No. 3'!AC13","v":0},{"$f":"'Amendment 1-Other Funds'!AD13+'Other Funds-Revision No. 2'!AD13+'Other Funds-Revision No. 3'!AD13","v":0},{"$f":"'Amendment 1-Other Funds'!AE13+'Other Funds-Revision No. 2'!AE13+'Other Funds-Revision No. 3'!AE13","v":0},{"$f":"'Amendment 1-Other Funds'!AF13+'Other Funds-Revision No. 2'!AF13+'Other Funds-Revision No. 3'!AF13","v":0},{"$f":"'Amendment 1-Other Funds'!AG13+'Other Funds-Revision No. 2'!AG13+'Other Funds-Revision No. 3'!AG13","v":0},{"$f":"'Amendment 1-Other Funds'!AH13+'Other Funds-Revision No. 2'!AH13+'Other Funds-Revision No. 3'!AH13","v":0},{"$f":"'Amendment 1-Other Funds'!AI13+'Other Funds-Revision No. 2'!AI13+'Other Funds-Revision No. 3'!AI13","v":0},{"$f":"'Amendment 1-Other Funds'!AJ13+'Other Funds-Revision No. 2'!AJ13+'Other Funds-Revision No. 3'!AJ13","v":0},{"$f":"'Amendment 1-Other Funds'!AK13+'Other Funds-Revision No. 2'!AK13+'Other Funds-Revision No. 3'!AK13","v":0},{"$f":"'Amendment 1-Other Funds'!AL13+'Other Funds-Revision No. 2'!AL13+'Other Funds-Revision No. 3'!AL13","v":72090},8840]
[{"$f":"+'Original ABG Allocation'!A14","v":"09"},{"$f":"+'Original ABG Allocation'!B14","v":"SOMERSET"},{"$f":"'Amendment 1-Other Funds'!C14+'Other Funds-Revision No. 2'!C14+'Other Funds-Revision No. 3'!C14","v":0},{"$f":"'Amendment 1-Other Funds'!D14+'Other Funds-Revision No. 2'!D14+'Other Funds-Revision No. 3'!D14","v":0},{"$f":"'Amendment 1-Other Funds'!E14+'Other Funds-Revision No. 2'!E14+'Other Funds-Revision No. 3'!E14","v":8840},{"$f":"'Amendment 1-Other Funds'!F14+'Other Funds-Revision No. 2'!F14+'Other Funds-Revision No. 3'!F14","v":0},{"$f":"'Amendment 1-Other Funds'!G14+'Other Funds-Revision No. 2'!G14+'Other Funds-Revision No. 3'!G14","v":0},{"$f":"'Amendment 1-Other Funds'!H14+'Other Funds-Revision No. 2'!H14+'Other Funds-Revision No. 3'!H14","v":0},{"$f":"'Amendment 1-Other Funds'!I14+'Other Funds-Revision No. 2'!I14+'Other Funds-Revision No. 3'!I14","v":0},{"$f":"'Amendment 1-Other Funds'!J14+'Other Funds-Revision No. 2'!J14+'Other Funds-Revision No. 3'!J14","v":0},{"$f":"'Amendment 1-Other Funds'!K14+'Other Funds-Revision No. 2'!K14+'Other Funds-Revision No. 3'!K14","v":0},{"$f":"'Amendment 1-Other Funds'!L14+'Other Funds-Revision No. 2'!L14+'Other Funds-Revision No. 3'!L14","v":0},{"$f":"'Amendment 1-Other Funds'!M14+'Other Funds-Revision No. 2'!M14+'Other Funds-Revision No. 3'!M14","v":0},{"$f":"'Amendment 1-Other Funds'!N14+'Other Funds-Revision No. 2'!N14+'Other Funds-Revision No. 3'!N14","v":0},{"$f":"'Amendment 1-Other Funds'!O14+'Other Funds-Revision No. 2'!O14+'Other Funds-Revision No. 3'!O14","v":0},{"$f":"'Amendment 1-Other Funds'!P14+'Other Funds-Revision No. 2'!P14+'Other Funds-Revision No. 3'!P14","v":0},{"$f":"'Amendment 1-Other Funds'!Q14+'Other Funds-Revision No. 2'!Q14+'Other Funds-Revision No. 3'!Q14","v":0},{"$f":"'Amendment 1-Other Funds'!R14+'Other Funds-Revision No. 2'!R14+'Other Funds-Revision No. 3'!R14","v":0},{"$f":"'Amendment 1-Other Funds'!S14+'Other Funds-Revision No. 2'!S14+'Other Funds-Revision No. 3'!S14","v":0},{"$f":"'Amendment 1-Other Funds'!T14+'Other Funds-Revision No. 2'!T14+'Other Funds-Revision No. 3'!T14","v":0},{"$f":"'Amendment 1-Other Funds'!U14+'Other Funds-Revision No. 2'!U14+'Other Funds-Revision No. 3'!U14","v":0},{"$f":"'Amendment 1-Other Funds'!V14+'Other Funds-Revision No. 2'!V14+'Other Funds-Revision No. 3'!V14","v":0},{"$f":"'Amendment 1-Other Funds'!W14+'Other Funds-Revision No. 2'!W14+'Other Funds-Revision No. 3'!W14","v":0},{"$f":"'Amendment 1-Other Funds'!X14+'Other Funds-Revision No. 2'!X14+'Other Funds-Revision No. 3'!X14","v":0},{"$f":"'Amendment 1-Other Funds'!Y14+'Other Funds-Revision No. 2'!Y14+'Other Funds-Revision No. 3'!Y14","v":0},{"$f":"'Amendment 1-Other Funds'!Z14+'Other Funds-Revision No. 2'!Z14+'Other Funds-Revision No. 3'!Z14","v":0},{"$f":"'Amendment 1-Other Funds'!AA14+'Other Funds-Revision No. 2'!AA14+'Other Funds-Revision No. 3'!AA14","v":0},{"$f":"'Amendment 1-Other Funds'!AB14+'Other Funds-Revision No. 2'!AB14+'Other Funds-Revision No. 3'!AB14","v":0},{"$f":"'Amendment 1-Other Funds'!AC14+'Other Funds-Revision No. 2'!AC14+'Other Funds-Revision No. 3'!AC14","v":0},{"$f":"'Amendment 1-Other Funds'!AD14+'Other Funds-Revision No. 2'!AD14+'Other Funds-Revision No. 3'!AD14","v":0},{"$f":"'Amendment 1-Other Funds'!AE14+'Other Funds-Revision No. 2'!AE14+'Other Funds-Revision No. 3'!AE14","v":0},{"$f":"'Amendment 1-Other Funds'!AF14+'Other Funds-Revision No. 2'!AF14+'Other Funds-Revision No. 3'!AF14","v":0},{"$f":"'Amendment 1-Other Funds'!AG14+'Other Funds-Revision No. 2'!AG14+'Other Funds-Revision No. 3'!AG14","v":0},{"$f":"'Amendment 1-Other Funds'!AH14+'Other Funds-Revision No. 2'!AH14+'Other Funds-Revision No. 3'!AH14","v":0},{"$f":"'Amendment 1-Other Funds'!AI14+'Other Funds-Revision No. 2'!AI14+'Other Funds-Revision No. 3'!AI14","v":0},{"$f":"'Amendment 1-Other Funds'!AJ14+'Other Funds-Revision No. 2'!AJ14+'Other Funds-Revision No. 3'!AJ14","v":0},{"$f":"'Amendment 1-Other Funds'!AK14+'Other Funds-Revision No. 2'!AK14+'Other Funds-Revision No. 3'!AK14","v":0},{"$f":"'Amendment 1-Other Funds'!AL14+'Other Funds-Revision No. 2'!AL14+'Other Funds-Revision No. 3'!AL14","v":18722},8840]
[{"$f":"+'Original ABG Allocation'!A15","v":"10"},{"$f":"+'Original ABG Allocation'!B15","v":"CAMBRIA"},{"$f":"'Amendment 1-Other Funds'!C15+'Other Funds-Revision No. 2'!C15+'Other Funds-Revision No. 3'!C15","v":0},{"$f":"'Amendment 1-Other Funds'!D15+'Other Funds-Revision No. 2'!D15+'Other Funds-Revision No. 3'!D15","v":0},{"$f":"'Amendment 1-Other Funds'!E15+'Other Funds-Revision No. 2'!E15+'Other Funds-Revision No. 3'!E15","v":8840},{"$f":"'Amendment 1-Other Funds'!F15+'Other Funds-Revision No. 2'!F15+'Other Funds-Revision No. 3'!F15","v":0},{"$f":"'Amendment 1-Other Funds'!G15+'Other Funds-Revision No. 2'!G15+'Other Funds-Revision No. 3'!G15","v":0},{"$f":"'Amendment 1-Other Funds'!H15+'Other Funds-Revision No. 2'!H15+'Other Funds-Revision No. 3'!H15","v":0},{"$f":"'Amendment 1-Other Funds'!I15+'Other Funds-Revision No. 2'!I15+'Other Funds-Revision No. 3'!I15","v":0},{"$f":"'Amendment 1-Other Funds'!J15+'Other Funds-Revision No. 2'!J15+'Other Funds-Revision No. 3'!J15","v":0},{"$f":"'Amendment 1-Other Funds'!K15+'Other Funds-Revision No. 2'!K15+'Other Funds-Revision No. 3'!K15","v":0},{"$f":"'Amendment 1-Other Funds'!L15+'Other Funds-Revision No. 2'!L15+'Other Funds-Revision No. 3'!L15","v":0},{"$f":"'Amendment 1-Other Funds'!M15+'Other Funds-Revision No. 2'!M15+'Other Funds-Revision No. 3'!M15","v":0},{"$f":"'Amendment 1-Other Funds'!N15+'Other Funds-Revision No. 2'!N15+'Other Funds-Revision No. 3'!N15","v":0},{"$f":"'Amendment 1-Other Funds'!O15+'Other Funds-Revision No. 2'!O15+'Other Funds-Revision No. 3'!O15","v":0},{"$f":"'Amendment 1-Other Funds'!P15+'Other Funds-Revision No. 2'!P15+'Other Funds-Revision No. 3'!P15","v":0},{"$f":"'Amendment 1-Other Funds'!Q15+'Other Funds-Revision No. 2'!Q15+'Other Funds-Revision No. 3'!Q15","v":0},{"$f":"'Amendment 1-Other Funds'!R15+'Other Funds-Revision No. 2'!R15+'Other Funds-Revision No. 3'!R15","v":0},{"$f":"'Amendment 1-Other Funds'!S15+'Other Funds-Revision No. 2'!S15+'Other Funds-Revision No. 3'!S15","v":0},{"$f":"'Amendment 1-Other Funds'!T15+'Other Funds-Revision No. 2'!T15+'Other Funds-Revision No. 3'!T15","v":0},{"$f":"'Amendment 1-Other Funds'!U15+'Other Funds-Revision No. 2'!U15+'Other Funds-Revision No. 3'!U15","v":0},{"$f":"'Amendment 1-Other Funds'!V15+'Other Funds-Revision No. 2'!V15+'Other Funds-Revision No. 3'!V15","v":0},{"$f":"'Amendment 1-Other Funds'!W15+'Other Funds-Revision No. 2'!W15+'Other Funds-Revision No. 3'!W15","v":0},{"$f":"'Amendment 1-Other Funds'!X15+'Other Funds-Revision No. 2'!X15+'Other Funds-Revision No. 3'!X15","v":0},{"$f":"'Amendment 1-Other Funds'!Y15+'Other Funds-Revision No. 2'!Y15+'Other Funds-Revision No. 3'!Y15","v":0},{"$f":"'Amendment 1-Other Funds'!Z15+'Other Funds-Revision No. 2'!Z15+'Other Funds-Revision No. 3'!Z15","v":0},{"$f":"'Amendment 1-Other Funds'!AA15+'Other Funds-Revision No. 2'!AA15+'Other Funds-Revision No. 3'!AA15","v":0},{"$f":"'Amendment 1-Other Funds'!AB15+'Other Funds-Revision No. 2'!AB15+'Other Funds-Revision No. 3'!AB15","v":0},{"$f":"'Amendment 1-Other Funds'!AC15+'Other Funds-Revision No. 2'!AC15+'Other Funds-Revision No. 3'!AC15","v":0},{"$f":"'Amendment 1-Other Funds'!AD15+'Other Funds-Revision No. 2'!AD15+'Other Funds-Revision No. 3'!AD15","v":0},{"$f":"'Amendment 1-Other Funds'!AE15+'Other Funds-Revision No. 2'!AE15+'Other Funds-Revision No. 3'!AE15","v":0},{"$f":"'Amendment 1-Other Funds'!AF15+'Other Funds-Revision No. 2'!AF15+'Other Funds-Revision No. 3'!AF15","v":0},{"$f":"'Amendment 1-Other Funds'!AG15+'Other Funds-Revision No. 2'!AG15+'Other Funds-Revision No. 3'!AG15","v":0},{"$f":"'Amendment 1-Other Funds'!AH15+'Other Funds-Revision No. 2'!AH15+'Other Funds-Revision No. 3'!AH15","v":0},{"$f":"'Amendment 1-Other Funds'!AI15+'Other Funds-Revision No. 2'!AI15+'Other Funds-Revision No. 3'!AI15","v":0},{"$f":"'Amendment 1-Other Funds'!AJ15+'Other Funds-Revision No. 2'!AJ15+'Other Funds-Revision No. 3'!AJ15","v":0},{"$f":"'Amendment 1-Other Funds'!AK15+'Other Funds-Revision No. 2'!AK15+'Other Funds-Revision No. 3'!AK15","v":0},{"$f":"'Amendment 1-Other Funds'!AL15+'Other Funds-Revision No. 2'!AL15+'Other Funds-Revision No. 3'!AL15","v":28922},8840]
[{"$f":"+'Original ABG Allocation'!A16","v":"11"},{"$f":"+'Original ABG Allocation'!B16","v":"BLAIR"},{"$f":"'Amendment 1-Other Funds'!C16+'Other Funds-Revision No. 2'!C16+'Other Funds-Revision No. 3'!C16","v":0},{"$f":"'Amendment 1-Other Funds'!D16+'Other Funds-Revision No. 2'!D16+'Other Funds-Revision No. 3'!D16","v":0},{"$f":"'Amendment 1-Other Funds'!E16+'Other Funds-Revision No. 2'!E16+'Other Funds-Revision No. 3'!E16","v":8840},{"$f":"'Amendment 1-Other Funds'!F16+'Other Funds-Revision No. 2'!F16+'Other Funds-Revision No. 3'!F16","v":0},{"$f":"'Amendment 1-Other Funds'!G16+'Other Funds-Revision No. 2'!G16+'Other Funds-Revision No. 3'!G16","v":0},{"$f":"'Amendment 1-Other Funds'!H16+'Other Funds-Revision No. 2'!H16+'Other Funds-Revision No. 3'!H16","v":0},{"$f":"'Amendment 1-Other Funds'!I16+'Other Funds-Revision No. 2'!I16+'Other Funds-Revision No. 3'!I16","v":0},{"$f":"'Amendment 1-Other Funds'!J16+'Other Funds-Revision No. 2'!J16+'Other Funds-Revision No. 3'!J16","v":0},{"$f":"'Amendment 1-Other Funds'!K16+'Other Funds-Revision No. 2'!K16+'Other Funds-Revision No. 3'!K16","v":0},{"$f":"'Amendment 1-Other Funds'!L16+'Other Funds-Revision No. 2'!L16+'Other Funds-Revision No. 3'!L16","v":0},{"$f":"'Amendment 1-Other Funds'!M16+'Other Funds-Revision No. 2'!M16+'Other Funds-Revision No. 3'!M16","v":0},{"$f":"'Amendment 1-Other Funds'!N16+'Other Funds-Revision No. 2'!N16+'Other Funds-Revision No. 3'!N16","v":0},{"$f":"'Amendment 1-Other Funds'!O16+'Other Funds-Revision No. 2'!O16+'Other Funds-Revision No. 3'!O16","v":0},{"$f":"'Amendment 1-Other Funds'!P16+'Other Funds-Revision No. 2'!P16+'Other Funds-Revision No. 3'!P16","v":0},{"$f":"'Amendment 1-Other Funds'!Q16+'Other Funds-Revision No. 2'!Q16+'Other Funds-Revision No. 3'!Q16","v":0},{"$f":"'Amendment 1-Other Funds'!R16+'Other Funds-Revision No. 2'!R16+'Other Funds-Revision No. 3'!R16","v":0},{"$f":"'Amendment 1-Other Funds'!S16+'Other Funds-Revision No. 2'!S16+'Other Funds-Revision No. 3'!S16","v":0},{"$f":"'Amendment 1-Other Funds'!T16+'Other Funds-Revision No. 2'!T16+'Other Funds-Revision No. 3'!T16","v":0},{"$f":"'Amendment 1-Other Funds'!U16+'Other Funds-Revision No. 2'!U16+'Other Funds-Revision No. 3'!U16","v":0},{"$f":"'Amendment 1-Other Funds'!V16+'Other Funds-Revision No. 2'!V16+'Other Funds-Revision No. 3'!V16","v":0},{"$f":"'Amendment 1-Other Funds'!W16+'Other Funds-Revision No. 2'!W16+'Other Funds-Revision No. 3'!W16","v":0},{"$f":"'Amendment 1-Other Funds'!X16+'Other Funds-Revision No. 2'!X16+'Other Funds-Revision No. 3'!X16","v":0},{"$f":"'Amendment 1-Other Funds'!Y16+'Other Funds-Revision No. 2'!Y16+'Other Funds-Revision No. 3'!Y16","v":0},{"$f":"'Amendment 1-Other Funds'!Z16+'Other Funds-Revision No. 2'!Z16+'Other Funds-Revision No. 3'!Z16","v":0},{"$f":"'Amendment 1-Other Funds'!AA16+'Other Funds-Revision No. 2'!AA16+'Other Funds-Revision No. 3'!AA16","v":0},{"$f":"'Amendment 1-Other Funds'!AB16+'Other Funds-Revision No. 2'!AB16+'Other Funds-Revision No. 3'!AB16","v":0},{"$f":"'Amendment 1-Other Funds'!AC16+'Other Funds-Revision No. 2'!AC16+'Other Funds-Revision No. 3'!AC16","v":0},{"$f":"'Amendment 1-Other Funds'!AD16+'Other Funds-Revision No. 2'!AD16+'Other Funds-Revision No. 3'!AD16","v":0},{"$f":"'Amendment 1-Other Funds'!AE16+'Other Funds-Revision No. 2'!AE16+'Other Funds-Revision No. 3'!AE16","v":0},{"$f":"'Amendment 1-Other Funds'!AF16+'Other Funds-Revision No. 2'!AF16+'Other Funds-Revision No. 3'!AF16","v":0},{"$f":"'Amendment 1-Other Funds'!AG16+'Other Funds-Revision No. 2'!AG16+'Other Funds-Revision No. 3'!AG16","v":0},{"$f":"'Amendment 1-Other Funds'!AH16+'Other Funds-Revision No. 2'!AH16+'Other Funds-Revision No. 3'!AH16","v":0},{"$f":"'Amendment 1-Other Funds'!AI16+'Other Funds-Revision No. 2'!AI16+'Other Funds-Revision No. 3'!AI16","v":0},{"$f":"'Amendment 1-Other Funds'!AJ16+'Other Funds-Revision No. 2'!AJ16+'Other Funds-Revision No. 3'!AJ16","v":0},{"$f":"'Amendment 1-Other Funds'!AK16+'Other Funds-Revision No. 2'!AK16+'Other Funds-Revision No. 3'!AK16","v":0},{"$f":"'Amendment 1-Other Funds'!AL16+'Other Funds-Revision No. 2'!AL16+'Other Funds-Revision No. 3'!AL16","v":21456},8840]
[{"$f":"+'Original ABG Allocation'!A17","v":"12"},{"$f":"+'Original ABG Allocation'!B17","v":"BED/FULT/HUNT"},{"$f":"'Amendment 1-Other Funds'!C17+'Other Funds-Revision No. 2'!C17+'Other Funds-Revision No. 3'!C17","v":0},{"$f":"'Amendment 1-Other Funds'!D17+'Other Funds-Revision No. 2'!D17+'Other Funds-Revision No. 3'!D17","v":0},{"$f":"'Amendment 1-Other Funds'!E17+'Other Funds-Revision No. 2'!E17+'Other Funds-Revision No. 3'!E17","v":8840},{"$f":"'Amendment 1-Other Funds'!F17+'Other Funds-Revision No. 2'!F17+'Other Funds-Revision No. 3'!F17","v":0},{"$f":"'Amendment 1-Other Funds'!G17+'Other Funds-Revision No. 2'!G17+'Other Funds-Revision No. 3'!G17","v":0},{"$f":"'Amendment 1-Other Funds'!H17+'Other Funds-Revision No. 2'!H17+'Other Funds-Revision No. 3'!H17","v":0},{"$f":"'Amendment 1-Other Funds'!I17+'Other Funds-Revision No. 2'!I17+'Other Funds-Revision No. 3'!I17","v":0},{"$f":"'Amendment 1-Other Funds'!J17+'Other Funds-Revision No. 2'!J17+'Other Funds-Revision No. 3'!J17","v":0},{"$f":"'Amendment 1-Other Funds'!K17+'Other Funds-Revision No. 2'!K17+'Other Funds-Revision No. 3'!K17","v":0},{"$f":"'Amendment 1-Other Funds'!L17+'Other Funds-Revision No. 2'!L17+'Other Funds-Revision No. 3'!L17","v":0},{"$f":"'Amendment 1-Other Funds'!M17+'Other Funds-Revision No. 2'!M17+'Other Funds-Revision No. 3'!M17","v":0},{"$f":"'Amendment 1-Other Funds'!N17+'Other Funds-Revision No. 2'!N17+'Other Funds-Revision No. 3'!N17","v":0},{"$f":"'Amendment 1-Other Funds'!O17+'Other Funds-Revision No. 2'!O17+'Other Funds-Revision No. 3'!O17","v":0},{"$f":"'Amendment 1-Other Funds'!P17+'Other Funds-Revision No. 2'!P17+'Other Funds-Revision No. 3'!P17","v":0},{"$f":"'Amendment 1-Other Funds'!Q17+'Other Funds-Revision No. 2'!Q17+'Other Funds-Revision No. 3'!Q17","v":0},{"$f":"'Amendment 1-Other Funds'!R17+'Other Funds-Revision No. 2'!R17+'Other Funds-Revision No. 3'!R17","v":0},{"$f":"'Amendment 1-Other Funds'!S17+'Other Funds-Revision No. 2'!S17+'Other Funds-Revision No. 3'!S17","v":0},{"$f":"'Amendment 1-Other Funds'!T17+'Other Funds-Revision No. 2'!T17+'Other Funds-Revision No. 3'!T17","v":0},{"$f":"'Amendment 1-Other Funds'!U17+'Other Funds-Revision No. 2'!U17+'Other Funds-Revision No. 3'!U17","v":0},{"$f":"'Amendment 1-Other Funds'!V17+'Other Funds-Revision No. 2'!V17+'Other Funds-Revision No. 3'!V17","v":0},{"$f":"'Amendment 1-Other Funds'!W17+'Other Funds-Revision No. 2'!W17+'Other Funds-Revision No. 3'!W17","v":0},{"$f":"'Amendment 1-Other Funds'!X17+'Other Funds-Revision No. 2'!X17+'Other Funds-Revision No. 3'!X17","v":0},{"$f":"'Amendment 1-Other Funds'!Y17+'Other Funds-Revision No. 2'!Y17+'Other Funds-Revision No. 3'!Y17","v":0},{"$f":"'Amendment 1-Other Funds'!Z17+'Other Funds-Revision No. 2'!Z17+'Other Funds-Revision No. 3'!Z17","v":0},{"$f":"'Amendment 1-Other Funds'!AA17+'Other Funds-Revision No. 2'!AA17+'Other Funds-Revision No. 3'!AA17","v":0},{"$f":"'Amendment 1-Other Funds'!AB17+'Other Funds-Revision No. 2'!AB17+'Other Funds-Revision No. 3'!AB17","v":0},{"$f":"'Amendment 1-Other Funds'!AC17+'Other Funds-Revision No. 2'!AC17+'Other Funds-Revision No. 3'!AC17","v":0},{"$f":"'Amendment 1-Other Funds'!AD17+'Other Funds-Revision No. 2'!AD17+'Other Funds-Revision No. 3'!AD17","v":0},{"$f":"'Amendment 1-Other Funds'!AE17+'Other Funds-Revision No. 2'!AE17+'Other Funds-Revision No. 3'!AE17","v":0},{"$f":"'Amendment 1-Other Funds'!AF17+'Other Funds-Revision No. 2'!AF17+'Other Funds-Revision No. 3'!AF17","v":0},{"$f":"'Amendment 1-Other Funds'!AG17+'Other Funds-Revision No. 2'!AG17+'Other Funds-Revision No. 3'!AG17","v":0},{"$f":"'Amendment 1-Other Funds'!AH17+'Other Funds-Revision No. 2'!AH17+'Other Funds-Revision No. 3'!AH17","v":0},{"$f":"'Amendment 1-Other Funds'!AI17+'Other Funds-Revision No. 2'!AI17+'Other Funds-Revision No. 3'!AI17","v":0},{"$f":"'Amendment 1-Other Funds'!AJ17+'Other Funds-Revision No. 2'!AJ17+'Other Funds-Revision No. 3'!AJ17","v":0},{"$f":"'Amendment 1-Other Funds'!AK17+'Other Funds-Revision No. 2'!AK17+'Other Funds-Revision No. 3'!AK17","v":0},{"$f":"'Amendment 1-Other Funds'!AL17+'Other Funds-Revision No. 2'!AL17+'Other Funds-Revision No. 3'!AL17","v":28502},8840]
[{"$f":"+'Original ABG Allocation'!A18","v":"13"},{"$f":"+'Original ABG Allocation'!B18","v":"CENTRE"},{"$f":"'Amendment 1-Other Funds'!C18+'Other Funds-Revision No. 2'!C18+'Other Funds-Revision No. 3'!C18","v":0},{"$f":"'Amendment 1-Other Funds'!D18+'Other Funds-Revision No. 2'!D18+'Other Funds-Revision No. 3'!D18","v":0},{"$f":"'Amendment 1-Other Funds'!E18+'Other Funds-Revision No. 2'!E18+'Other Funds-Revision No. 3'!E18","v":8840},{"$f":"'Amendment 1-Other Funds'!F18+'Other Funds-Revision No. 2'!F18+'Other Funds-Revision No. 3'!F18","v":0},{"$f":"'Amendment 1-Other Funds'!G18+'Other Funds-Revision No. 2'!G18+'Other Funds-Revision No. 3'!G18","v":0},{"$f":"'Amendment 1-Other Funds'!H18+'Other Funds-Revision No. 2'!H18+'Other Funds-Revision No. 3'!H18","v":0},{"$f":"'Amendment 1-Other Funds'!I18+'Other Funds-Revision No. 2'!I18+'Other Funds-Revision No. 3'!I18","v":0},{"$f":"'Amendment 1-Other Funds'!J18+'Other Funds-Revision No. 2'!J18+'Other Funds-Revision No. 3'!J18","v":0},{"$f":"'Amendment 1-Other Funds'!K18+'Other Funds-Revision No. 2'!K18+'Other Funds-Revision No. 3'!K18","v":0},{"$f":"'Amendment 1-Other Funds'!L18+'Other Funds-Revision No. 2'!L18+'Other Funds-Revision No. 3'!L18","v":0},{"$f":"'Amendment 1-Other Funds'!M18+'Other Funds-Revision No. 2'!M18+'Other Funds-Revision No. 3'!M18","v":0},{"$f":"'Amendment 1-Other Funds'!N18+'Other Funds-Revision No. 2'!N18+'Other Funds-Revision No. 3'!N18","v":0},{"$f":"'Amendment 1-Other Funds'!O18+'Other Funds-Revision No. 2'!O18+'Other Funds-Revision No. 3'!O18","v":0},{"$f":"'Amendment 1-Other Funds'!P18+'Other Funds-Revision No. 2'!P18+'Other Funds-Revision No. 3'!P18","v":0},{"$f":"'Amendment 1-Other Funds'!Q18+'Other Funds-Revision No. 2'!Q18+'Other Funds-Revision No. 3'!Q18","v":0},{"$f":"'Amendment 1-Other Funds'!R18+'Other Funds-Revision No. 2'!R18+'Other Funds-Revision No. 3'!R18","v":0},{"$f":"'Amendment 1-Other Funds'!S18+'Other Funds-Revision No. 2'!S18+'Other Funds-Revision No. 3'!S18","v":0},{"$f":"'Amendment 1-Other Funds'!T18+'Other Funds-Revision No. 2'!T18+'Other Funds-Revision No. 3'!T18","v":0},{"$f":"'Amendment 1-Other Funds'!U18+'Other Funds-Revision No. 2'!U18+'Other Funds-Revision No. 3'!U18","v":0},{"$f":"'Amendment 1-Other Funds'!V18+'Other Funds-Revision No. 2'!V18+'Other Funds-Revision No. 3'!V18","v":0},{"$f":"'Amendment 1-Other Funds'!W18+'Other Funds-Revision No. 2'!W18+'Other Funds-Revision No. 3'!W18","v":0},{"$f":"'Amendment 1-Other Funds'!X18+'Other Funds-Revision No. 2'!X18+'Other Funds-Revision No. 3'!X18","v":0},{"$f":"'Amendment 1-Other Funds'!Y18+'Other Funds-Revision No. 2'!Y18+'Other Funds-Revision No. 3'!Y18","v":0},{"$f":"'Amendment 1-Other Funds'!Z18+'Other Funds-Revision No. 2'!Z18+'Other Funds-Revision No. 3'!Z18","v":0},{"$f":"'Amendment 1-Other Funds'!AA18+'Other Funds-Revision No. 2'!AA18+'Other Funds-Revision No. 3'!AA18","v":0},{"$f":"'Amendment 1-Other Funds'!AB18+'Other Funds-Revision No. 2'!AB18+'Other Funds-Revision No. 3'!AB18","v":0},{"$f":"'Amendment 1-Other Funds'!AC18+'Other Funds-Revision No. 2'!AC18+'Other Funds-Revision No. 3'!AC18","v":0},{"$f":"'Amendment 1-Other Funds'!AD18+'Other Funds-Revision No. 2'!AD18+'Other Funds-Revision No. 3'!AD18","v":0},{"$f":"'Amendment 1-Other Funds'!AE18+'Other Funds-Revision No. 2'!AE18+'Other Funds-Revision No. 3'!AE18","v":0},{"$f":"'Amendment 1-Other Funds'!AF18+'Other Funds-Revision No. 2'!AF18+'Other Funds-Revision No. 3'!AF18","v":0},{"$f":"'Amendment 1-Other Funds'!AG18+'Other Funds-Revision No. 2'!AG18+'Other Funds-Revision No. 3'!AG18","v":0},{"$f":"'Amendment 1-Other Funds'!AH18+'Other Funds-Revision No. 2'!AH18+'Other Funds-Revision No. 3'!AH18","v":0},{"$f":"'Amendment 1-Other Funds'!AI18+'Other Funds-Revision No. 2'!AI18+'Other Funds-Revision No. 3'!AI18","v":0},{"$f":"'Amendment 1-Other Funds'!AJ18+'Other Funds-Revision No. 2'!AJ18+'Other Funds-Revision No. 3'!AJ18","v":0},{"$f":"'Amendment 1-Other Funds'!AK18+'Other Funds-Revision No. 2'!AK18+'Other Funds-Revision No. 3'!AK18","v":0},{"$f":"'Amendment 1-Other Funds'!AL18+'Other Funds-Revision No. 2'!AL18+'Other Funds-Revision No. 3'!AL18","v":18588},8840]
[{"$f":"+'Original ABG Allocation'!A19","v":"14"},{"$f":"+'Original ABG Allocation'!B19","v":"LYCOM/CLINTON"},{"$f":"'Amendment 1-Other Funds'!C19+'Other Funds-Revision No. 2'!C19+'Other Funds-Revision No. 3'!C19","v":0},{"$f":"'Amendment 1-Other Funds'!D19+'Other Funds-Revision No. 2'!D19+'Other Funds-Revision No. 3'!D19","v":0},{"$f":"'Amendment 1-Other Funds'!E19+'Other Funds-Revision No. 2'!E19+'Other Funds-Revision No. 3'!E19","v":8840},{"$f":"'Amendment 1-Other Funds'!F19+'Other Funds-Revision No. 2'!F19+'Other Funds-Revision No. 3'!F19","v":0},{"$f":"'Amendment 1-Other Funds'!G19+'Other Funds-Revision No. 2'!G19+'Other Funds-Revision No. 3'!G19","v":0},{"$f":"'Amendment 1-Other Funds'!H19+'Other Funds-Revision No. 2'!H19+'Other Funds-Revision No. 3'!H19","v":0},{"$f":"'Amendment 1-Other Funds'!I19+'Other Funds-Revision No. 2'!I19+'Other Funds-Revision No. 3'!I19","v":0},{"$f":"'Amendment 1-Other Funds'!J19+'Other Funds-Revision No. 2'!J19+'Other Funds-Revision No. 3'!J19","v":0},{"$f":"'Amendment 1-Other Funds'!K19+'Other Funds-Revision No. 2'!K19+'Other Funds-Revision No. 3'!K19","v":0},{"$f":"'Amendment 1-Other Funds'!L19+'Other Funds-Revision No. 2'!L19+'Other Funds-Revision No. 3'!L19","v":0},{"$f":"'Amendment 1-Other Funds'!M19+'Other Funds-Revision No. 2'!M19+'Other Funds-Revision No. 3'!M19","v":0},{"$f":"'Amendment 1-Other Funds'!N19+'Other Funds-Revision No. 2'!N19+'Other Funds-Revision No. 3'!N19","v":0},{"$f":"'Amendment 1-Other Funds'!O19+'Other Funds-Revision No. 2'!O19+'Other Funds-Revision No. 3'!O19","v":0},{"$f":"'Amendment 1-Other Funds'!P19+'Other Funds-Revision No. 2'!P19+'Other Funds-Revision No. 3'!P19","v":0},{"$f":"'Amendment 1-Other Funds'!Q19+'Other Funds-Revision No. 2'!Q19+'Other Funds-Revision No. 3'!Q19","v":0},{"$f":"'Amendment 1-Other Funds'!R19+'Other Funds-Revision No. 2'!R19+'Other Funds-Revision No. 3'!R19","v":0},{"$f":"'Amendment 1-Other Funds'!S19+'Other Funds-Revision No. 2'!S19+'Other Funds-Revision No. 3'!S19","v":0},{"$f":"'Amendment 1-Other Funds'!T19+'Other Funds-Revision No. 2'!T19+'Other Funds-Revision No. 3'!T19","v":0},{"$f":"'Amendment 1-Other Funds'!U19+'Other Funds-Revision No. 2'!U19+'Other Funds-Revision No. 3'!U19","v":0},{"$f":"'Amendment 1-Other Funds'!V19+'Other Funds-Revision No. 2'!V19+'Other Funds-Revision No. 3'!V19","v":0},{"$f":"'Amendment 1-Other Funds'!W19+'Other Funds-Revision No. 2'!W19+'Other Funds-Revision No. 3'!W19","v":0},{"$f":"'Amendment 1-Other Funds'!X19+'Other Funds-Revision No. 2'!X19+'Other Funds-Revision No. 3'!X19","v":0},{"$f":"'Amendment 1-Other Funds'!Y19+'Other Funds-Revision No. 2'!Y19+'Other Funds-Revision No. 3'!Y19","v":0},{"$f":"'Amendment 1-Other Funds'!Z19+'Other Funds-Revision No. 2'!Z19+'Other Funds-Revision No. 3'!Z19","v":0},{"$f":"'Amendment 1-Other Funds'!AA19+'Other Funds-Revision No. 2'!AA19+'Other Funds-Revision No. 3'!AA19","v":0},{"$f":"'Amendment 1-Other Funds'!AB19+'Other Funds-Revision No. 2'!AB19+'Other Funds-Revision No. 3'!AB19","v":0},{"$f":"'Amendment 1-Other Funds'!AC19+'Other Funds-Revision No. 2'!AC19+'Other Funds-Revision No. 3'!AC19","v":0},{"$f":"'Amendment 1-Other Funds'!AD19+'Other Funds-Revision No. 2'!AD19+'Other Funds-Revision No. 3'!AD19","v":0},{"$f":"'Amendment 1-Other Funds'!AE19+'Other Funds-Revision No. 2'!AE19+'Other Funds-Revision No. 3'!AE19","v":0},{"$f":"'Amendment 1-Other Funds'!AF19+'Other Funds-Revision No. 2'!AF19+'Other Funds-Revision No. 3'!AF19","v":0},{"$f":"'Amendment 1-Other Funds'!AG19+'Other Funds-Revision No. 2'!AG19+'Other Funds-Revision No. 3'!AG19","v":0},{"$f":"'Amendment 1-Other Funds'!AH19+'Other Funds-Revision No. 2'!AH19+'Other Funds-Revision No. 3'!AH19","v":0},{"$f":"'Amendment 1-Other Funds'!AI19+'Other Funds-Revision No. 2'!AI19+'Other Funds-Revision No. 3'!AI19","v":0},{"$f":"'Amendment 1-Other Funds'!AJ19+'Other Funds-Revision No. 2'!AJ19+'Other Funds-Revision No. 3'!AJ19","v":0},{"$f":"'Amendment 1-Other Funds'!AK19+'Other Funds-Revision No. 2'!AK19+'Other Funds-Revision No. 3'!AK19","v":0},{"$f":"'Amendment 1-Other Funds'!AL19+'Other Funds-Revision No. 2'!AL19+'Other Funds-Revision No. 3'!AL19","v":29172},8840]
[{"$f":"+'Original ABG Allocation'!A20","v":"15"},{"$f":"+'Original ABG Allocation'!B20","v":"COLUM/MONT"},{"$f":"'Amendment 1-Other Funds'!C20+'Other Funds-Revision No. 2'!C20+'Other Funds-Revision No. 3'!C20","v":0},{"$f":"'Amendment 1-Other Funds'!D20+'Other Funds-Revision No. 2'!D20+'Other Funds-Revision No. 3'!D20","v":0},{"$f":"'Amendment 1-Other Funds'!E20+'Other Funds-Revision No. 2'!E20+'Other Funds-Revision No. 3'!E20","v":8840},{"$f":"'Amendment 1-Other Funds'!F20+'Other Funds-Revision No. 2'!F20+'Other Funds-Revision No. 3'!F20","v":0},{"$f":"'Amendment 1-Other Funds'!G20+'Other Funds-Revision No. 2'!G20+'Other Funds-Revision No. 3'!G20","v":0},{"$f":"'Amendment 1-Other Funds'!H20+'Other Funds-Revision No. 2'!H20+'Other Funds-Revision No. 3'!H20","v":0},{"$f":"'Amendment 1-Other Funds'!I20+'Other Funds-Revision No. 2'!I20+'Other Funds-Revision No. 3'!I20","v":0},{"$f":"'Amendment 1-Other Funds'!J20+'Other Funds-Revision No. 2'!J20+'Other Funds-Revision No. 3'!J20","v":0},{"$f":"'Amendment 1-Other Funds'!K20+'Other Funds-Revision No. 2'!K20+'Other Funds-Revision No. 3'!K20","v":0},{"$f":"'Amendment 1-Other Funds'!L20+'Other Funds-Revision No. 2'!L20+'Other Funds-Revision No. 3'!L20","v":0},{"$f":"'Amendment 1-Other Funds'!M20+'Other Funds-Revision No. 2'!M20+'Other Funds-Revision No. 3'!M20","v":0},{"$f":"'Amendment 1-Other Funds'!N20+'Other Funds-Revision No. 2'!N20+'Other Funds-Revision No. 3'!N20","v":0},{"$f":"'Amendment 1-Other Funds'!O20+'Other Funds-Revision No. 2'!O20+'Other Funds-Revision No. 3'!O20","v":0},{"$f":"'Amendment 1-Other Funds'!P20+'Other Funds-Revision No. 2'!P20+'Other Funds-Revision No. 3'!P20","v":0},{"$f":"'Amendment 1-Other Funds'!Q20+'Other Funds-Revision No. 2'!Q20+'Other Funds-Revision No. 3'!Q20","v":0},{"$f":"'Amendment 1-Other Funds'!R20+'Other Funds-Revision No. 2'!R20+'Other Funds-Revision No. 3'!R20","v":0},{"$f":"'Amendment 1-Other Funds'!S20+'Other Funds-Revision No. 2'!S20+'Other Funds-Revision No. 3'!S20","v":0},{"$f":"'Amendment 1-Other Funds'!T20+'Other Funds-Revision No. 2'!T20+'Other Funds-Revision No. 3'!T20","v":0},{"$f":"'Amendment 1-Other Funds'!U20+'Other Funds-Revision No. 2'!U20+'Other Funds-Revision No. 3'!U20","v":0},{"$f":"'Amendment 1-Other Funds'!V20+'Other Funds-Revision No. 2'!V20+'Other Funds-Revision No. 3'!V20","v":0},{"$f":"'Amendment 1-Other Funds'!W20+'Other Funds-Revision No. 2'!W20+'Other Funds-Revision No. 3'!W20","v":0},{"$f":"'Amendment 1-Other Funds'!X20+'Other Funds-Revision No. 2'!X20+'Other Funds-Revision No. 3'!X20","v":0},{"$f":"'Amendment 1-Other Funds'!Y20+'Other Funds-Revision No. 2'!Y20+'Other Funds-Revision No. 3'!Y20","v":0},{"$f":"'Amendment 1-Other Funds'!Z20+'Other Funds-Revision No. 2'!Z20+'Other Funds-Revision No. 3'!Z20","v":0},{"$f":"'Amendment 1-Other Funds'!AA20+'Other Funds-Revision No. 2'!AA20+'Other Funds-Revision No. 3'!AA20","v":0},{"$f":"'Amendment 1-Other Funds'!AB20+'Other Funds-Revision No. 2'!AB20+'Other Funds-Revision No. 3'!AB20","v":0},{"$f":"'Amendment 1-Other Funds'!AC20+'Other Funds-Revision No. 2'!AC20+'Other Funds-Revision No. 3'!AC20","v":0},{"$f":"'Amendment 1-Other Funds'!AD20+'Other Funds-Revision No. 2'!AD20+'Other Funds-Revision No. 3'!AD20","v":0},{"$f":"'Amendment 1-Other Funds'!AE20+'Other Funds-Revision No. 2'!AE20+'Other Funds-Revision No. 3'!AE20","v":0},{"$f":"'Amendment 1-Other Funds'!AF20+'Other Funds-Revision No. 2'!AF20+'Other Funds-Revision No. 3'!AF20","v":0},{"$f":"'Amendment 1-Other Funds'!AG20+'Other Funds-Revision No. 2'!AG20+'Other Funds-Revision No. 3'!AG20","v":0},{"$f":"'Amendment 1-Other Funds'!AH20+'Other Funds-Revision No. 2'!AH20+'Other Funds-Revision No. 3'!AH20","v":0},{"$f":"'Amendment 1-Other Funds'!AI20+'Other Funds-Revision No. 2'!AI20+'Other Funds-Revision No. 3'!AI20","v":0},{"$f":"'Amendment 1-Other Funds'!AJ20+'Other Funds-Revision No. 2'!AJ20+'Other Funds-Revision No. 3'!AJ20","v":0},{"$f":"'Amendment 1-Other Funds'!AK20+'Other Funds-Revision No. 2'!AK20+'Other Funds-Revision No. 3'!AK20","v":0},{"$f":"'Amendment 1-Other Funds'!AL20+'Other Funds-Revision No. 2'!AL20+'Other Funds-Revision No. 3'!AL20","v":16498},8840]
[{"$f":"+'Original ABG Allocation'!A21","v":"16"},{"$f":"+'Original ABG Allocation'!B21","v":"NORTHUMBERLND"},{"$f":"'Amendment 1-Other Funds'!C21+'Other Funds-Revision No. 2'!C21+'Other Funds-Revision No. 3'!C21","v":0},{"$f":"'Amendment 1-Other Funds'!D21+'Other Funds-Revision No. 2'!D21+'Other Funds-Revision No. 3'!D21","v":0},{"$f":"'Amendment 1-Other Funds'!E21+'Other Funds-Revision No. 2'!E21+'Other Funds-Revision No. 3'!E21","v":8840},{"$f":"'Amendment 1-Other Funds'!F21+'Other Funds-Revision No. 2'!F21+'Other Funds-Revision No. 3'!F21","v":0},{"$f":"'Amendment 1-Other Funds'!G21+'Other Funds-Revision No. 2'!G21+'Other Funds-Revision No. 3'!G21","v":0},{"$f":"'Amendment 1-Other Funds'!H21+'Other Funds-Revision No. 2'!H21+'Other Funds-Revision No. 3'!H21","v":0},{"$f":"'Amendment 1-Other Funds'!I21+'Other Funds-Revision No. 2'!I21+'Other Funds-Revision No. 3'!I21","v":0},{"$f":"'Amendment 1-Other Funds'!J21+'Other Funds-Revision No. 2'!J21+'Other Funds-Revision No. 3'!J21","v":0},{"$f":"'Amendment 1-Other Funds'!K21+'Other Funds-Revision No. 2'!K21+'Other Funds-Revision No. 3'!K21","v":0},{"$f":"'Amendment 1-Other Funds'!L21+'Other Funds-Revision No. 2'!L21+'Other Funds-Revision No. 3'!L21","v":0},{"$f":"'Amendment 1-Other Funds'!M21+'Other Funds-Revision No. 2'!M21+'Other Funds-Revision No. 3'!M21","v":0},{"$f":"'Amendment 1-Other Funds'!N21+'Other Funds-Revision No. 2'!N21+'Other Funds-Revision No. 3'!N21","v":0},{"$f":"'Amendment 1-Other Funds'!O21+'Other Funds-Revision No. 2'!O21+'Other Funds-Revision No. 3'!O21","v":0},{"$f":"'Amendment 1-Other Funds'!P21+'Other Funds-Revision No. 2'!P21+'Other Funds-Revision No. 3'!P21","v":0},{"$f":"'Amendment 1-Other Funds'!Q21+'Other Funds-Revision No. 2'!Q21+'Other Funds-Revision No. 3'!Q21","v":0},{"$f":"'Amendment 1-Other Funds'!R21+'Other Funds-Revision No. 2'!R21+'Other Funds-Revision No. 3'!R21","v":0},{"$f":"'Amendment 1-Other Funds'!S21+'Other Funds-Revision No. 2'!S21+'Other Funds-Revision No. 3'!S21","v":0},{"$f":"'Amendment 1-Other Funds'!T21+'Other Funds-Revision No. 2'!T21+'Other Funds-Revision No. 3'!T21","v":0},{"$f":"'Amendment 1-Other Funds'!U21+'Other Funds-Revision No. 2'!U21+'Other Funds-Revision No. 3'!U21","v":0},{"$f":"'Amendment 1-Other Funds'!V21+'Other Funds-Revision No. 2'!V21+'Other Funds-Revision No. 3'!V21","v":0},{"$f":"'Amendment 1-Other Funds'!W21+'Other Funds-Revision No. 2'!W21+'Other Funds-Revision No. 3'!W21","v":0},{"$f":"'Amendment 1-Other Funds'!X21+'Other Funds-Revision No. 2'!X21+'Other Funds-Revision No. 3'!X21","v":0},{"$f":"'Amendment 1-Other Funds'!Y21+'Other Funds-Revision No. 2'!Y21+'Other Funds-Revision No. 3'!Y21","v":0},{"$f":"'Amendment 1-Other Funds'!Z21+'Other Funds-Revision No. 2'!Z21+'Other Funds-Revision No. 3'!Z21","v":0},{"$f":"'Amendment 1-Other Funds'!AA21+'Other Funds-Revision No. 2'!AA21+'Other Funds-Revision No. 3'!AA21","v":0},{"$f":"'Amendment 1-Other Funds'!AB21+'Other Funds-Revision No. 2'!AB21+'Other Funds-Revision No. 3'!AB21","v":0},{"$f":"'Amendment 1-Other Funds'!AC21+'Other Funds-Revision No. 2'!AC21+'Other Funds-Revision No. 3'!AC21","v":0},{"$f":"'Amendment 1-Other Funds'!AD21+'Other Funds-Revision No. 2'!AD21+'Other Funds-Revision No. 3'!AD21","v":0},{"$f":"'Amendment 1-Other Funds'!AE21+'Other Funds-Revision No. 2'!AE21+'Other Funds-Revision No. 3'!AE21","v":0},{"$f":"'Amendment 1-Other Funds'!AF21+'Other Funds-Revision No. 2'!AF21+'Other Funds-Revision No. 3'!AF21","v":0},{"$f":"'Amendment 1-Other Funds'!AG21+'Other Funds-Revision No. 2'!AG21+'Other Funds-Revision No. 3'!AG21","v":0},{"$f":"'Amendment 1-Other Funds'!AH21+'Other Funds-Revision No. 2'!AH21+'Other Funds-Revision No. 3'!AH21","v":0},{"$f":"'Amendment 1-Other Funds'!AI21+'Other Funds-Revision No. 2'!AI21+'Other Funds-Revision No. 3'!AI21","v":0},{"$f":"'Amendment 1-Other Funds'!AJ21+'Other Funds-Revision No. 2'!AJ21+'Other Funds-Revision No. 3'!AJ21","v":0},{"$f":"'Amendment 1-Other Funds'!AK21+'Other Funds-Revision No. 2'!AK21+'Other Funds-Revision No. 3'!AK21","v":0},{"$f":"'Amendment 1-Other Funds'!AL21+'Other Funds-Revision No. 2'!AL21+'Other Funds-Revision No. 3'!AL21","v":18995},8840]
[{"$f":"+'Original ABG Allocation'!A22","v":"17"},{"$f":"+'Original ABG Allocation'!B22","v":"UNION/SNYDER"},{"$f":"'Amendment 1-Other Funds'!C22+'Other Funds-Revision No. 2'!C22+'Other Funds-Revision No. 3'!C22","v":0},{"$f":"'Amendment 1-Other Funds'!D22+'Other Funds-Revision No. 2'!D22+'Other Funds-Revision No. 3'!D22","v":0},{"$f":"'Amendment 1-Other Funds'!E22+'Other Funds-Revision No. 2'!E22+'Other Funds-Revision No. 3'!E22","v":8840},{"$f":"'Amendment 1-Other Funds'!F22+'Other Funds-Revision No. 2'!F22+'Other Funds-Revision No. 3'!F22","v":0},{"$f":"'Amendment 1-Other Funds'!G22+'Other Funds-Revision No. 2'!G22+'Other Funds-Revision No. 3'!G22","v":0},{"$f":"'Amendment 1-Other Funds'!H22+'Other Funds-Revision No. 2'!H22+'Other Funds-Revision No. 3'!H22","v":0},{"$f":"'Amendment 1-Other Funds'!I22+'Other Funds-Revision No. 2'!I22+'Other Funds-Revision No. 3'!I22","v":0},{"$f":"'Amendment 1-Other Funds'!J22+'Other Funds-Revision No. 2'!J22+'Other Funds-Revision No. 3'!J22","v":0},{"$f":"'Amendment 1-Other Funds'!K22+'Other Funds-Revision No. 2'!K22+'Other Funds-Revision No. 3'!K22","v":0},{"$f":"'Amendment 1-Other Funds'!L22+'Other Funds-Revision No. 2'!L22+'Other Funds-Revision No. 3'!L22","v":0},{"$f":"'Amendment 1-Other Funds'!M22+'Other Funds-Revision No. 2'!M22+'Other Funds-Revision No. 3'!M22","v":0},{"$f":"'Amendment 1-Other Funds'!N22+'Other Funds-Revision No. 2'!N22+'Other Funds-Revision No. 3'!N22","v":0},{"$f":"'Amendment 1-Other Funds'!O22+'Other Funds-Revision No. 2'!O22+'Other Funds-Revision No. 3'!O22","v":0},{"$f":"'Amendment 1-Other Funds'!P22+'Other Funds-Revision No. 2'!P22+'Other Funds-Revision No. 3'!P22","v":0},{"$f":"'Amendment 1-Other Funds'!Q22+'Other Funds-Revision No. 2'!Q22+'Other Funds-Revision No. 3'!Q22","v":0},{"$f":"'Amendment 1-Other Funds'!R22+'Other Funds-Revision No. 2'!R22+'Other Funds-Revision No. 3'!R22","v":0},{"$f":"'Amendment 1-Other Funds'!S22+'Other Funds-Revision No. 2'!S22+'Other Funds-Revision No. 3'!S22","v":0},{"$f":"'Amendment 1-Other Funds'!T22+'Other Funds-Revision No. 2'!T22+'Other Funds-Revision No. 3'!T22","v":0},{"$f":"'Amendment 1-Other Funds'!U22+'Other Funds-Revision No. 2'!U22+'Other Funds-Revision No. 3'!U22","v":0},{"$f":"'Amendment 1-Other Funds'!V22+'Other Funds-Revision No. 2'!V22+'Other Funds-Revision No. 3'!V22","v":0},{"$f":"'Amendment 1-Other Funds'!W22+'Other Funds-Revision No. 2'!W22+'Other Funds-Revision No. 3'!W22","v":0},{"$f":"'Amendment 1-Other Funds'!X22+'Other Funds-Revision No. 2'!X22+'Other Funds-Revision No. 3'!X22","v":0},{"$f":"'Amendment 1-Other Funds'!Y22+'Other Funds-Revision No. 2'!Y22+'Other Funds-Revision No. 3'!Y22","v":0},{"$f":"'Amendment 1-Other Funds'!Z22+'Other Funds-Revision No. 2'!Z22+'Other Funds-Revision No. 3'!Z22","v":0},{"$f":"'Amendment 1-Other Funds'!AA22+'Other Funds-Revision No. 2'!AA22+'Other Funds-Revision No. 3'!AA22","v":0},{"$f":"'Amendment 1-Other Funds'!AB22+'Other Funds-Revision No. 2'!AB22+'Other Funds-Revision No. 3'!AB22","v":0},{"$f":"'Amendment 1-Other Funds'!AC22+'Other Funds-Revision No. 2'!AC22+'Other Funds-Revision No. 3'!AC22","v":0},{"$f":"'Amendment 1-Other Funds'!AD22+'Other Funds-Revision No. 2'!AD22+'Other Funds-Revision No. 3'!AD22","v":0},{"$f":"'Amendment 1-Other Funds'!AE22+'Other Funds-Revision No. 2'!AE22+'Other Funds-Revision No. 3'!AE22","v":0},{"$f":"'Amendment 1-Other Funds'!AF22+'Other Funds-Revision No. 2'!AF22+'Other Funds-Revision No. 3'!AF22","v":0},{"$f":"'Amendment 1-Other Funds'!AG22+'Other Funds-Revision No. 2'!AG22+'Other Funds-Revision No. 3'!AG22","v":0},{"$f":"'Amendment 1-Other Funds'!AH22+'Other Funds-Revision No. 2'!AH22+'Other Funds-Revision No. 3'!AH22","v":0},{"$f":"'Amendment 1-Other Funds'!AI22+'Other Funds-Revision No. 2'!AI22+'Other Funds-Revision No. 3'!AI22","v":0},{"$f":"'Amendment 1-Other Funds'!AJ22+'Other Funds-Revision No. 2'!AJ22+'Other Funds-Revision No. 3'!AJ22","v":0},{"$f":"'Amendment 1-Other Funds'!AK22+'Other Funds-Revision No. 2'!AK22+'Other Funds-Revision No. 3'!AK22","v":0},{"$f":"'Amendment 1-Other Funds'!AL22+'Other Funds-Revision No. 2'!AL22+'Other Funds-Revision No. 3'!AL22","v":16338},8840]
[{"$f":"+'Original ABG Allocation'!A23","v":"18"},{"$f":"+'Original ABG Allocation'!B23","v":"MIFF/JUNIATA"},{"$f":"'Amendment 1-Other Funds'!C23+'Other Funds-Revision No. 2'!C23+'Other Funds-Revision No. 3'!C23","v":0},{"$f":"'Amendment 1-Other Funds'!D23+'Other Funds-Revision No. 2'!D23+'Other Funds-Revision No. 3'!D23","v":0},{"$f":"'Amendment 1-Other Funds'!E23+'Other Funds-Revision No. 2'!E23+'Other Funds-Revision No. 3'!E23","v":8840},{"$f":"'Amendment 1-Other Funds'!F23+'Other Funds-Revision No. 2'!F23+'Other Funds-Revision No. 3'!F23","v":0},{"$f":"'Amendment 1-Other Funds'!G23+'Other Funds-Revision No. 2'!G23+'Other Funds-Revision No. 3'!G23","v":0},{"$f":"'Amendment 1-Other Funds'!H23+'Other Funds-Revision No. 2'!H23+'Other Funds-Revision No. 3'!H23","v":0},{"$f":"'Amendment 1-Other Funds'!I23+'Other Funds-Revision No. 2'!I23+'Other Funds-Revision No. 3'!I23","v":0},{"$f":"'Amendment 1-Other Funds'!J23+'Other Funds-Revision No. 2'!J23+'Other Funds-Revision No. 3'!J23","v":0},{"$f":"'Amendment 1-Other Funds'!K23+'Other Funds-Revision No. 2'!K23+'Other Funds-Revision No. 3'!K23","v":0},{"$f":"'Amendment 1-Other Funds'!L23+'Other Funds-Revision No. 2'!L23+'Other Funds-Revision No. 3'!L23","v":0},{"$f":"'Amendment 1-Other Funds'!M23+'Other Funds-Revision No. 2'!M23+'Other Funds-Revision No. 3'!M23","v":0},{"$f":"'Amendment 1-Other Funds'!N23+'Other Funds-Revision No. 2'!N23+'Other Funds-Revision No. 3'!N23","v":0},{"$f":"'Amendment 1-Other Funds'!O23+'Other Funds-Revision No. 2'!O23+'Other Funds-Revision No. 3'!O23","v":0},{"$f":"'Amendment 1-Other Funds'!P23+'Other Funds-Revision No. 2'!P23+'Other Funds-Revision No. 3'!P23","v":0},{"$f":"'Amendment 1-Other Funds'!Q23+'Other Funds-Revision No. 2'!Q23+'Other Funds-Revision No. 3'!Q23","v":0},{"$f":"'Amendment 1-Other Funds'!R23+'Other Funds-Revision No. 2'!R23+'Other Funds-Revision No. 3'!R23","v":0},{"$f":"'Amendment 1-Other Funds'!S23+'Other Funds-Revision No. 2'!S23+'Other Funds-Revision No. 3'!S23","v":0},{"$f":"'Amendment 1-Other Funds'!T23+'Other Funds-Revision No. 2'!T23+'Other Funds-Revision No. 3'!T23","v":0},{"$f":"'Amendment 1-Other Funds'!U23+'Other Funds-Revision No. 2'!U23+'Other Funds-Revision No. 3'!U23","v":0},{"$f":"'Amendment 1-Other Funds'!V23+'Other Funds-Revision No. 2'!V23+'Other Funds-Revision No. 3'!V23","v":0},{"$f":"'Amendment 1-Other Funds'!W23+'Other Funds-Revision No. 2'!W23+'Other Funds-Revision No. 3'!W23","v":0},{"$f":"'Amendment 1-Other Funds'!X23+'Other Funds-Revision No. 2'!X23+'Other Funds-Revision No. 3'!X23","v":0},{"$f":"'Amendment 1-Other Funds'!Y23+'Other Funds-Revision No. 2'!Y23+'Other Funds-Revision No. 3'!Y23","v":0},{"$f":"'Amendment 1-Other Funds'!Z23+'Other Funds-Revision No. 2'!Z23+'Other Funds-Revision No. 3'!Z23","v":0},{"$f":"'Amendment 1-Other Funds'!AA23+'Other Funds-Revision No. 2'!AA23+'Other Funds-Revision No. 3'!AA23","v":0},{"$f":"'Amendment 1-Other Funds'!AB23+'Other Funds-Revision No. 2'!AB23+'Other Funds-Revision No. 3'!AB23","v":0},{"$f":"'Amendment 1-Other Funds'!AC23+'Other Funds-Revision No. 2'!AC23+'Other Funds-Revision No. 3'!AC23","v":0},{"$f":"'Amendment 1-Other Funds'!AD23+'Other Funds-Revision No. 2'!AD23+'Other Funds-Revision No. 3'!AD23","v":0},{"$f":"'Amendment 1-Other Funds'!AE23+'Other Funds-Revision No. 2'!AE23+'Other Funds-Revision No. 3'!AE23","v":0},{"$f":"'Amendment 1-Other Funds'!AF23+'Other Funds-Revision No. 2'!AF23+'Other Funds-Revision No. 3'!AF23","v":0},{"$f":"'Amendment 1-Other Funds'!AG23+'Other Funds-Revision No. 2'!AG23+'Other Funds-Revision No. 3'!AG23","v":0},{"$f":"'Amendment 1-Other Funds'!AH23+'Other Funds-Revision No. 2'!AH23+'Other Funds-Revision No. 3'!AH23","v":0},{"$f":"'Amendment 1-Other Funds'!AI23+'Other Funds-Revision No. 2'!AI23+'Other Funds-Revision No. 3'!AI23","v":0},{"$f":"'Amendment 1-Other Funds'!AJ23+'Other Funds-Revision No. 2'!AJ23+'Other Funds-Revision No. 3'!AJ23","v":0},{"$f":"'Amendment 1-Other Funds'!AK23+'Other Funds-Revision No. 2'!AK23+'Other Funds-Revision No. 3'!AK23","v":0},{"$f":"'Amendment 1-Other Funds'!AL23+'Other Funds-Revision No. 2'!AL23+'Other Funds-Revision No. 3'!AL23","v":17134},8840]
[{"$f":"+'Original ABG Allocation'!A24","v":"19"},{"$f":"+'Original ABG Allocation'!B24","v":"FRANKLIN"},{"$f":"'Amendment 1-Other Funds'!C24+'Other Funds-Revision No. 2'!C24+'Other Funds-Revision No. 3'!C24","v":0},{"$f":"'Amendment 1-Other Funds'!D24+'Other Funds-Revision No. 2'!D24+'Other Funds-Revision No. 3'!D24","v":0},{"$f":"'Amendment 1-Other Funds'!E24+'Other Funds-Revision No. 2'!E24+'Other Funds-Revision No. 3'!E24","v":8840},{"$f":"'Amendment 1-Other Funds'!F24+'Other Funds-Revision No. 2'!F24+'Other Funds-Revision No. 3'!F24","v":0},{"$f":"'Amendment 1-Other Funds'!G24+'Other Funds-Revision No. 2'!G24+'Other Funds-Revision No. 3'!G24","v":0},{"$f":"'Amendment 1-Other Funds'!H24+'Other Funds-Revision No. 2'!H24+'Other Funds-Revision No. 3'!H24","v":0},{"$f":"'Amendment 1-Other Funds'!I24+'Other Funds-Revision No. 2'!I24+'Other Funds-Revision No. 3'!I24","v":0},{"$f":"'Amendment 1-Other Funds'!J24+'Other Funds-Revision No. 2'!J24+'Other Funds-Revision No. 3'!J24","v":0},{"$f":"'Amendment 1-Other Funds'!K24+'Other Funds-Revision No. 2'!K24+'Other Funds-Revision No. 3'!K24","v":0},{"$f":"'Amendment 1-Other Funds'!L24+'Other Funds-Revision No. 2'!L24+'Other Funds-Revision No. 3'!L24","v":0},{"$f":"'Amendment 1-Other Funds'!M24+'Other Funds-Revision No. 2'!M24+'Other Funds-Revision No. 3'!M24","v":0},{"$f":"'Amendment 1-Other Funds'!N24+'Other Funds-Revision No. 2'!N24+'Other Funds-Revision No. 3'!N24","v":0},{"$f":"'Amendment 1-Other Funds'!O24+'Other Funds-Revision No. 2'!O24+'Other Funds-Revision No. 3'!O24","v":0},{"$f":"'Amendment 1-Other Funds'!P24+'Other Funds-Revision No. 2'!P24+'Other Funds-Revision No. 3'!P24","v":0},{"$f":"'Amendment 1-Other Funds'!Q24+'Other Funds-Revision No. 2'!Q24+'Other Funds-Revision No. 3'!Q24","v":0},{"$f":"'Amendment 1-Other Funds'!R24+'Other Funds-Revision No. 2'!R24+'Other Funds-Revision No. 3'!R24","v":0},{"$f":"'Amendment 1-Other Funds'!S24+'Other Funds-Revision No. 2'!S24+'Other Funds-Revision No. 3'!S24","v":0},{"$f":"'Amendment 1-Other Funds'!T24+'Other Funds-Revision No. 2'!T24+'Other Funds-Revision No. 3'!T24","v":0},{"$f":"'Amendment 1-Other Funds'!U24+'Other Funds-Revision No. 2'!U24+'Other Funds-Revision No. 3'!U24","v":0},{"$f":"'Amendment 1-Other Funds'!V24+'Other Funds-Revision No. 2'!V24+'Other Funds-Revision No. 3'!V24","v":0},{"$f":"'Amendment 1-Other Funds'!W24+'Other Funds-Revision No. 2'!W24+'Other Funds-Revision No. 3'!W24","v":0},{"$f":"'Amendment 1-Other Funds'!X24+'Other Funds-Revision No. 2'!X24+'Other Funds-Revision No. 3'!X24","v":0},{"$f":"'Amendment 1-Other Funds'!Y24+'Other Funds-Revision No. 2'!Y24+'Other Funds-Revision No. 3'!Y24","v":0},{"$f":"'Amendment 1-Other Funds'!Z24+'Other Funds-Revision No. 2'!Z24+'Other Funds-Revision No. 3'!Z24","v":0},{"$f":"'Amendment 1-Other Funds'!AA24+'Other Funds-Revision No. 2'!AA24+'Other Funds-Revision No. 3'!AA24","v":0},{"$f":"'Amendment 1-Other Funds'!AB24+'Other Funds-Revision No. 2'!AB24+'Other Funds-Revision No. 3'!AB24","v":0},{"$f":"'Amendment 1-Other Funds'!AC24+'Other Funds-Revision No. 2'!AC24+'Other Funds-Revision No. 3'!AC24","v":0},{"$f":"'Amendment 1-Other Funds'!AD24+'Other Funds-Revision No. 2'!AD24+'Other Funds-Revision No. 3'!AD24","v":0},{"$f":"'Amendment 1-Other Funds'!AE24+'Other Funds-Revision No. 2'!AE24+'Other Funds-Revision No. 3'!AE24","v":0},{"$f":"'Amendment 1-Other Funds'!AF24+'Other Funds-Revision No. 2'!AF24+'Other Funds-Revision No. 3'!AF24","v":0},{"$f":"'Amendment 1-Other Funds'!AG24+'Other Funds-Revision No. 2'!AG24+'Other Funds-Revision No. 3'!AG24","v":0},{"$f":"'Amendment 1-Other Funds'!AH24+'Other Funds-Revision No. 2'!AH24+'Other Funds-Revision No. 3'!AH24","v":0},{"$f":"'Amendment 1-Other Funds'!AI24+'Other Funds-Revision No. 2'!AI24+'Other Funds-Revision No. 3'!AI24","v":0},{"$f":"'Amendment 1-Other Funds'!AJ24+'Other Funds-Revision No. 2'!AJ24+'Other Funds-Revision No. 3'!AJ24","v":0},{"$f":"'Amendment 1-Other Funds'!AK24+'Other Funds-Revision No. 2'!AK24+'Other Funds-Revision No. 3'!AK24","v":0},{"$f":"'Amendment 1-Other Funds'!AL24+'Other Funds-Revision No. 2'!AL24+'Other Funds-Revision No. 3'!AL24","v":23033},8840]
[{"$f":"+'Original ABG Allocation'!A25","v":"20"},{"$f":"+'Original ABG Allocation'!B25","v":"ADAMS"},{"$f":"'Amendment 1-Other Funds'!C25+'Other Funds-Revision No. 2'!C25+'Other Funds-Revision No. 3'!C25","v":0},{"$f":"'Amendment 1-Other Funds'!D25+'Other Funds-Revision No. 2'!D25+'Other Funds-Revision No. 3'!D25","v":0},{"$f":"'Amendment 1-Other Funds'!E25+'Other Funds-Revision No. 2'!E25+'Other Funds-Revision No. 3'!E25","v":8840},{"$f":"'Amendment 1-Other Funds'!F25+'Other Funds-Revision No. 2'!F25+'Other Funds-Revision No. 3'!F25","v":0},{"$f":"'Amendment 1-Other Funds'!G25+'Other Funds-Revision No. 2'!G25+'Other Funds-Revision No. 3'!G25","v":0},{"$f":"'Amendment 1-Other Funds'!H25+'Other Funds-Revision No. 2'!H25+'Other Funds-Revision No. 3'!H25","v":0},{"$f":"'Amendment 1-Other Funds'!I25+'Other Funds-Revision No. 2'!I25+'Other Funds-Revision No. 3'!I25","v":0},{"$f":"'Amendment 1-Other Funds'!J25+'Other Funds-Revision No. 2'!J25+'Other Funds-Revision No. 3'!J25","v":0},{"$f":"'Amendment 1-Other Funds'!K25+'Other Funds-Revision No. 2'!K25+'Other Funds-Revision No. 3'!K25","v":0},{"$f":"'Amendment 1-Other Funds'!L25+'Other Funds-Revision No. 2'!L25+'Other Funds-Revision No. 3'!L25","v":0},{"$f":"'Amendment 1-Other Funds'!M25+'Other Funds-Revision No. 2'!M25+'Other Funds-Revision No. 3'!M25","v":0},{"$f":"'Amendment 1-Other Funds'!N25+'Other Funds-Revision No. 2'!N25+'Other Funds-Revision No. 3'!N25","v":0},{"$f":"'Amendment 1-Other Funds'!O25+'Other Funds-Revision No. 2'!O25+'Other Funds-Revision No. 3'!O25","v":0},{"$f":"'Amendment 1-Other Funds'!P25+'Other Funds-Revision No. 2'!P25+'Other Funds-Revision No. 3'!P25","v":0},{"$f":"'Amendment 1-Other Funds'!Q25+'Other Funds-Revision No. 2'!Q25+'Other Funds-Revision No. 3'!Q25","v":0},{"$f":"'Amendment 1-Other Funds'!R25+'Other Funds-Revision No. 2'!R25+'Other Funds-Revision No. 3'!R25","v":0},{"$f":"'Amendment 1-Other Funds'!S25+'Other Funds-Revision No. 2'!S25+'Other Funds-Revision No. 3'!S25","v":0},{"$f":"'Amendment 1-Other Funds'!T25+'Other Funds-Revision No. 2'!T25+'Other Funds-Revision No. 3'!T25","v":0},{"$f":"'Amendment 1-Other Funds'!U25+'Other Funds-Revision No. 2'!U25+'Other Funds-Revision No. 3'!U25","v":0},{"$f":"'Amendment 1-Other Funds'!V25+'Other Funds-Revision No. 2'!V25+'Other Funds-Revision No. 3'!V25","v":0},{"$f":"'Amendment 1-Other Funds'!W25+'Other Funds-Revision No. 2'!W25+'Other Funds-Revision No. 3'!W25","v":0},{"$f":"'Amendment 1-Other Funds'!X25+'Other Funds-Revision No. 2'!X25+'Other Funds-Revision No. 3'!X25","v":0},{"$f":"'Amendment 1-Other Funds'!Y25+'Other Funds-Revision No. 2'!Y25+'Other Funds-Revision No. 3'!Y25","v":0},{"$f":"'Amendment 1-Other Funds'!Z25+'Other Funds-Revision No. 2'!Z25+'Other Funds-Revision No. 3'!Z25","v":0},{"$f":"'Amendment 1-Other Funds'!AA25+'Other Funds-Revision No. 2'!AA25+'Other Funds-Revision No. 3'!AA25","v":0},{"$f":"'Amendment 1-Other Funds'!AB25+'Other Funds-Revision No. 2'!AB25+'Other Funds-Revision No. 3'!AB25","v":0},{"$f":"'Amendment 1-Other Funds'!AC25+'Other Funds-Revision No. 2'!AC25+'Other Funds-Revision No. 3'!AC25","v":0},{"$f":"'Amendment 1-Other Funds'!AD25+'Other Funds-Revision No. 2'!AD25+'Other Funds-Revision No. 3'!AD25","v":0},{"$f":"'Amendment 1-Other Funds'!AE25+'Other Funds-Revision No. 2'!AE25+'Other Funds-Revision No. 3'!AE25","v":0},{"$f":"'Amendment 1-Other Funds'!AF25+'Other Funds-Revision No. 2'!AF25+'Other Funds-Revision No. 3'!AF25","v":0},{"$f":"'Amendment 1-Other Funds'!AG25+'Other Funds-Revision No. 2'!AG25+'Other Funds-Revision No. 3'!AG25","v":0},{"$f":"'Amendment 1-Other Funds'!AH25+'Other Funds-Revision No. 2'!AH25+'Other Funds-Revision No. 3'!AH25","v":0},{"$f":"'Amendment 1-Other Funds'!AI25+'Other Funds-Revision No. 2'!AI25+'Other Funds-Revision No. 3'!AI25","v":0},{"$f":"'Amendment 1-Other Funds'!AJ25+'Other Funds-Revision No. 2'!AJ25+'Other Funds-Revision No. 3'!AJ25","v":0},{"$f":"'Amendment 1-Other Funds'!AK25+'Other Funds-Revision No. 2'!AK25+'Other Funds-Revision No. 3'!AK25","v":0},{"$f":"'Amendment 1-Other Funds'!AL25+'Other Funds-Revision No. 2'!AL25+'Other Funds-Revision No. 3'!AL25","v":20260},8840]
[{"$f":"+'Original ABG Allocation'!A26","v":"21"},{"$f":"+'Original ABG Allocation'!B26","v":"CUMBERLAND"},{"$f":"'Amendment 1-Other Funds'!C26+'Other Funds-Revision No. 2'!C26+'Other Funds-Revision No. 3'!C26","v":0},{"$f":"'Amendment 1-Other Funds'!D26+'Other Funds-Revision No. 2'!D26+'Other Funds-Revision No. 3'!D26","v":0},{"$f":"'Amendment 1-Other Funds'!E26+'Other Funds-Revision No. 2'!E26+'Other Funds-Revision No. 3'!E26","v":8840},{"$f":"'Amendment 1-Other Funds'!F26+'Other Funds-Revision No. 2'!F26+'Other Funds-Revision No. 3'!F26","v":0},{"$f":"'Amendment 1-Other Funds'!G26+'Other Funds-Revision No. 2'!G26+'Other Funds-Revision No. 3'!G26","v":0},{"$f":"'Amendment 1-Other Funds'!H26+'Other Funds-Revision No. 2'!H26+'Other Funds-Revision No. 3'!H26","v":0},{"$f":"'Amendment 1-Other Funds'!I26+'Other Funds-Revision No. 2'!I26+'Other Funds-Revision No. 3'!I26","v":0},{"$f":"'Amendment 1-Other Funds'!J26+'Other Funds-Revision No. 2'!J26+'Other Funds-Revision No. 3'!J26","v":0},{"$f":"'Amendment 1-Other Funds'!K26+'Other Funds-Revision No. 2'!K26+'Other Funds-Revision No. 3'!K26","v":0},{"$f":"'Amendment 1-Other Funds'!L26+'Other Funds-Revision No. 2'!L26+'Other Funds-Revision No. 3'!L26","v":0},{"$f":"'Amendment 1-Other Funds'!M26+'Other Funds-Revision No. 2'!M26+'Other Funds-Revision No. 3'!M26","v":0},{"$f":"'Amendment 1-Other Funds'!N26+'Other Funds-Revision No. 2'!N26+'Other Funds-Revision No. 3'!N26","v":0},{"$f":"'Amendment 1-Other Funds'!O26+'Other Funds-Revision No. 2'!O26+'Other Funds-Revision No. 3'!O26","v":0},{"$f":"'Amendment 1-Other Funds'!P26+'Other Funds-Revision No. 2'!P26+'Other Funds-Revision No. 3'!P26","v":0},{"$f":"'Amendment 1-Other Funds'!Q26+'Other Funds-Revision No. 2'!Q26+'Other Funds-Revision No. 3'!Q26","v":0},{"$f":"'Amendment 1-Other Funds'!R26+'Other Funds-Revision No. 2'!R26+'Other Funds-Revision No. 3'!R26","v":0},{"$f":"'Amendment 1-Other Funds'!S26+'Other Funds-Revision No. 2'!S26+'Other Funds-Revision No. 3'!S26","v":0},{"$f":"'Amendment 1-Other Funds'!T26+'Other Funds-Revision No. 2'!T26+'Other Funds-Revision No. 3'!T26","v":0},{"$f":"'Amendment 1-Other Funds'!U26+'Other Funds-Revision No. 2'!U26+'Other Funds-Revision No. 3'!U26","v":0},{"$f":"'Amendment 1-Other Funds'!V26+'Other Funds-Revision No. 2'!V26+'Other Funds-Revision No. 3'!V26","v":0},{"$f":"'Amendment 1-Other Funds'!W26+'Other Funds-Revision No. 2'!W26+'Other Funds-Revision No. 3'!W26","v":0},{"$f":"'Amendment 1-Other Funds'!X26+'Other Funds-Revision No. 2'!X26+'Other Funds-Revision No. 3'!X26","v":0},{"$f":"'Amendment 1-Other Funds'!Y26+'Other Funds-Revision No. 2'!Y26+'Other Funds-Revision No. 3'!Y26","v":0},{"$f":"'Amendment 1-Other Funds'!Z26+'Other Funds-Revision No. 2'!Z26+'Other Funds-Revision No. 3'!Z26","v":0},{"$f":"'Amendment 1-Other Funds'!AA26+'Other Funds-Revision No. 2'!AA26+'Other Funds-Revision No. 3'!AA26","v":0},{"$f":"'Amendment 1-Other Funds'!AB26+'Other Funds-Revision No. 2'!AB26+'Other Funds-Revision No. 3'!AB26","v":0},{"$f":"'Amendment 1-Other Funds'!AC26+'Other Funds-Revision No. 2'!AC26+'Other Funds-Revision No. 3'!AC26","v":0},{"$f":"'Amendment 1-Other Funds'!AD26+'Other Funds-Revision No. 2'!AD26+'Other Funds-Revision No. 3'!AD26","v":0},{"$f":"'Amendment 1-Other Funds'!AE26+'Other Funds-Revision No. 2'!AE26+'Other Funds-Revision No. 3'!AE26","v":0},{"$f":"'Amendment 1-Other Funds'!AF26+'Other Funds-Revision No. 2'!AF26+'Other Funds-Revision No. 3'!AF26","v":0},{"$f":"'Amendment 1-Other Funds'!AG26+'Other Funds-Revision No. 2'!AG26+'Other Funds-Revision No. 3'!AG26","v":0},{"$f":"'Amendment 1-Other Funds'!AH26+'Other Funds-Revision No. 2'!AH26+'Other Funds-Revision No. 3'!AH26","v":0},{"$f":"'Amendment 1-Other Funds'!AI26+'Other Funds-Revision No. 2'!AI26+'Other Funds-Revision No. 3'!AI26","v":0},{"$f":"'Amendment 1-Other Funds'!AJ26+'Other Funds-Revision No. 2'!AJ26+'Other Funds-Revision No. 3'!AJ26","v":0},{"$f":"'Amendment 1-Other Funds'!AK26+'Other Funds-Revision No. 2'!AK26+'Other Funds-Revision No. 3'!AK26","v":0},{"$f":"'Amendment 1-Other Funds'!AL26+'Other Funds-Revision No. 2'!AL26+'Other Funds-Revision No. 3'!AL26","v":29706},8840]
[{"$f":"+'Original ABG Allocation'!A27","v":"22"},{"$f":"+'Original ABG Allocation'!B27","v":"PERRY"},{"$f":"'Amendment 1-Other Funds'!C27+'Other Funds-Revision No. 2'!C27+'Other Funds-Revision No. 3'!C27","v":0},{"$f":"'Amendment 1-Other Funds'!D27+'Other Funds-Revision No. 2'!D27+'Other Funds-Revision No. 3'!D27","v":0},{"$f":"'Amendment 1-Other Funds'!E27+'Other Funds-Revision No. 2'!E27+'Other Funds-Revision No. 3'!E27","v":8840},{"$f":"'Amendment 1-Other Funds'!F27+'Other Funds-Revision No. 2'!F27+'Other Funds-Revision No. 3'!F27","v":0},{"$f":"'Amendment 1-Other Funds'!G27+'Other Funds-Revision No. 2'!G27+'Other Funds-Revision No. 3'!G27","v":0},{"$f":"'Amendment 1-Other Funds'!H27+'Other Funds-Revision No. 2'!H27+'Other Funds-Revision No. 3'!H27","v":0},{"$f":"'Amendment 1-Other Funds'!I27+'Other Funds-Revision No. 2'!I27+'Other Funds-Revision No. 3'!I27","v":0},{"$f":"'Amendment 1-Other Funds'!J27+'Other Funds-Revision No. 2'!J27+'Other Funds-Revision No. 3'!J27","v":0},{"$f":"'Amendment 1-Other Funds'!K27+'Other Funds-Revision No. 2'!K27+'Other Funds-Revision No. 3'!K27","v":0},{"$f":"'Amendment 1-Other Funds'!L27+'Other Funds-Revision No. 2'!L27+'Other Funds-Revision No. 3'!L27","v":0},{"$f":"'Amendment 1-Other Funds'!M27+'Other Funds-Revision No. 2'!M27+'Other Funds-Revision No. 3'!M27","v":0},{"$f":"'Amendment 1-Other Funds'!N27+'Other Funds-Revision No. 2'!N27+'Other Funds-Revision No. 3'!N27","v":0},{"$f":"'Amendment 1-Other Funds'!O27+'Other Funds-Revision No. 2'!O27+'Other Funds-Revision No. 3'!O27","v":0},{"$f":"'Amendment 1-Other Funds'!P27+'Other Funds-Revision No. 2'!P27+'Other Funds-Revision No. 3'!P27","v":0},{"$f":"'Amendment 1-Other Funds'!Q27+'Other Funds-Revision No. 2'!Q27+'Other Funds-Revision No. 3'!Q27","v":0},{"$f":"'Amendment 1-Other Funds'!R27+'Other Funds-Revision No. 2'!R27+'Other Funds-Revision No. 3'!R27","v":0},{"$f":"'Amendment 1-Other Funds'!S27+'Other Funds-Revision No. 2'!S27+'Other Funds-Revision No. 3'!S27","v":0},{"$f":"'Amendment 1-Other Funds'!T27+'Other Funds-Revision No. 2'!T27+'Other Funds-Revision No. 3'!T27","v":0},{"$f":"'Amendment 1-Other Funds'!U27+'Other Funds-Revision No. 2'!U27+'Other Funds-Revision No. 3'!U27","v":0},{"$f":"'Amendment 1-Other Funds'!V27+'Other Funds-Revision No. 2'!V27+'Other Funds-Revision No. 3'!V27","v":0},{"$f":"'Amendment 1-Other Funds'!W27+'Other Funds-Revision No. 2'!W27+'Other Funds-Revision No. 3'!W27","v":0},{"$f":"'Amendment 1-Other Funds'!X27+'Other Funds-Revision No. 2'!X27+'Other Funds-Revision No. 3'!X27","v":0},{"$f":"'Amendment 1-Other Funds'!Y27+'Other Funds-Revision No. 2'!Y27+'Other Funds-Revision No. 3'!Y27","v":0},{"$f":"'Amendment 1-Other Funds'!Z27+'Other Funds-Revision No. 2'!Z27+'Other Funds-Revision No. 3'!Z27","v":0},{"$f":"'Amendment 1-Other Funds'!AA27+'Other Funds-Revision No. 2'!AA27+'Other Funds-Revision No. 3'!AA27","v":0},{"$f":"'Amendment 1-Other Funds'!AB27+'Other Funds-Revision No. 2'!AB27+'Other Funds-Revision No. 3'!AB27","v":0},{"$f":"'Amendment 1-Other Funds'!AC27+'Other Funds-Revision No. 2'!AC27+'Other Funds-Revision No. 3'!AC27","v":0},{"$f":"'Amendment 1-Other Funds'!AD27+'Other Funds-Revision No. 2'!AD27+'Other Funds-Revision No. 3'!AD27","v":0},{"$f":"'Amendment 1-Other Funds'!AE27+'Other Funds-Revision No. 2'!AE27+'Other Funds-Revision No. 3'!AE27","v":0},{"$f":"'Amendment 1-Other Funds'!AF27+'Other Funds-Revision No. 2'!AF27+'Other Funds-Revision No. 3'!AF27","v":0},{"$f":"'Amendment 1-Other Funds'!AG27+'Other Funds-Revision No. 2'!AG27+'Other Funds-Revision No. 3'!AG27","v":0},{"$f":"'Amendment 1-Other Funds'!AH27+'Other Funds-Revision No. 2'!AH27+'Other Funds-Revision No. 3'!AH27","v":0},{"$f":"'Amendment 1-Other Funds'!AI27+'Other Funds-Revision No. 2'!AI27+'Other Funds-Revision No. 3'!AI27","v":0},{"$f":"'Amendment 1-Other Funds'!AJ27+'Other Funds-Revision No. 2'!AJ27+'Other Funds-Revision No. 3'!AJ27","v":0},{"$f":"'Amendment 1-Other Funds'!AK27+'Other Funds-Revision No. 2'!AK27+'Other Funds-Revision No. 3'!AK27","v":0},{"$f":"'Amendment 1-Other Funds'!AL27+'Other Funds-Revision No. 2'!AL27+'Other Funds-Revision No. 3'!AL27","v":10262},8840]
[{"$f":"+'Original ABG Allocation'!A28","v":"23"},{"$f":"+'Original ABG Allocation'!B28","v":"DAUPHIN"},{"$f":"'Amendment 1-Other Funds'!C28+'Other Funds-Revision No. 2'!C28+'Other Funds-Revision No. 3'!C28","v":0},{"$f":"'Amendment 1-Other Funds'!D28+'Other Funds-Revision No. 2'!D28+'Other Funds-Revision No. 3'!D28","v":0},{"$f":"'Amendment 1-Other Funds'!E28+'Other Funds-Revision No. 2'!E28+'Other Funds-Revision No. 3'!E28","v":8840},{"$f":"'Amendment 1-Other Funds'!F28+'Other Funds-Revision No. 2'!F28+'Other Funds-Revision No. 3'!F28","v":0},{"$f":"'Amendment 1-Other Funds'!G28+'Other Funds-Revision No. 2'!G28+'Other Funds-Revision No. 3'!G28","v":0},{"$f":"'Amendment 1-Other Funds'!H28+'Other Funds-Revision No. 2'!H28+'Other Funds-Revision No. 3'!H28","v":0},{"$f":"'Amendment 1-Other Funds'!I28+'Other Funds-Revision No. 2'!I28+'Other Funds-Revision No. 3'!I28","v":0},{"$f":"'Amendment 1-Other Funds'!J28+'Other Funds-Revision No. 2'!J28+'Other Funds-Revision No. 3'!J28","v":0},{"$f":"'Amendment 1-Other Funds'!K28+'Other Funds-Revision No. 2'!K28+'Other Funds-Revision No. 3'!K28","v":0},{"$f":"'Amendment 1-Other Funds'!L28+'Other Funds-Revision No. 2'!L28+'Other Funds-Revision No. 3'!L28","v":0},{"$f":"'Amendment 1-Other Funds'!M28+'Other Funds-Revision No. 2'!M28+'Other Funds-Revision No. 3'!M28","v":0},{"$f":"'Amendment 1-Other Funds'!N28+'Other Funds-Revision No. 2'!N28+'Other Funds-Revision No. 3'!N28","v":0},{"$f":"'Amendment 1-Other Funds'!O28+'Other Funds-Revision No. 2'!O28+'Other Funds-Revision No. 3'!O28","v":0},{"$f":"'Amendment 1-Other Funds'!P28+'Other Funds-Revision No. 2'!P28+'Other Funds-Revision No. 3'!P28","v":0},{"$f":"'Amendment 1-Other Funds'!Q28+'Other Funds-Revision No. 2'!Q28+'Other Funds-Revision No. 3'!Q28","v":0},{"$f":"'Amendment 1-Other Funds'!R28+'Other Funds-Revision No. 2'!R28+'Other Funds-Revision No. 3'!R28","v":0},{"$f":"'Amendment 1-Other Funds'!S28+'Other Funds-Revision No. 2'!S28+'Other Funds-Revision No. 3'!S28","v":0},{"$f":"'Amendment 1-Other Funds'!T28+'Other Funds-Revision No. 2'!T28+'Other Funds-Revision No. 3'!T28","v":0},{"$f":"'Amendment 1-Other Funds'!U28+'Other Funds-Revision No. 2'!U28+'Other Funds-Revision No. 3'!U28","v":0},{"$f":"'Amendment 1-Other Funds'!V28+'Other Funds-Revision No. 2'!V28+'Other Funds-Revision No. 3'!V28","v":0},{"$f":"'Amendment 1-Other Funds'!W28+'Other Funds-Revision No. 2'!W28+'Other Funds-Revision No. 3'!W28","v":0},{"$f":"'Amendment 1-Other Funds'!X28+'Other Funds-Revision No. 2'!X28+'Other Funds-Revision No. 3'!X28","v":0},{"$f":"'Amendment 1-Other Funds'!Y28+'Other Funds-Revision No. 2'!Y28+'Other Funds-Revision No. 3'!Y28","v":0},{"$f":"'Amendment 1-Other Funds'!Z28+'Other Funds-Revision No. 2'!Z28+'Other Funds-Revision No. 3'!Z28","v":0},{"$f":"'Amendment 1-Other Funds'!AA28+'Other Funds-Revision No. 2'!AA28+'Other Funds-Revision No. 3'!AA28","v":0},{"$f":"'Amendment 1-Other Funds'!AB28+'Other Funds-Revision No. 2'!AB28+'Other Funds-Revision No. 3'!AB28","v":0},{"$f":"'Amendment 1-Other Funds'!AC28+'Other Funds-Revision No. 2'!AC28+'Other Funds-Revision No. 3'!AC28","v":0},{"$f":"'Amendment 1-Other Funds'!AD28+'Other Funds-Revision No. 2'!AD28+'Other Funds-Revision No. 3'!AD28","v":0},{"$f":"'Amendment 1-Other Funds'!AE28+'Other Funds-Revision No. 2'!AE28+'Other Funds-Revision No. 3'!AE28","v":0},{"$f":"'Amendment 1-Other Funds'!AF28+'Other Funds-Revision No. 2'!AF28+'Other Funds-Revision No. 3'!AF28","v":0},{"$f":"'Amendment 1-Other Funds'!AG28+'Other Funds-Revision No. 2'!AG28+'Other Funds-Revision No. 3'!AG28","v":0},{"$f":"'Amendment 1-Other Funds'!AH28+'Other Funds-Revision No. 2'!AH28+'Other Funds-Revision No. 3'!AH28","v":0},{"$f":"'Amendment 1-Other Funds'!AI28+'Other Funds-Revision No. 2'!AI28+'Other Funds-Revision No. 3'!AI28","v":0},{"$f":"'Amendment 1-Other Funds'!AJ28+'Other Funds-Revision No. 2'!AJ28+'Other Funds-Revision No. 3'!AJ28","v":0},{"$f":"'Amendment 1-Other Funds'!AK28+'Other Funds-Revision No. 2'!AK28+'Other Funds-Revision No. 3'!AK28","v":0},{"$f":"'Amendment 1-Other Funds'!AL28+'Other Funds-Revision No. 2'!AL28+'Other Funds-Revision No. 3'!AL28","v":41146},8840]
[{"$f":"+'Original ABG Allocation'!A29","v":"24"},{"$f":"+'Original ABG Allocation'!B29","v":"LEBANON"},{"$f":"'Amendment 1-Other Funds'!C29+'Other Funds-Revision No. 2'!C29+'Other Funds-Revision No. 3'!C29","v":0},{"$f":"'Amendment 1-Other Funds'!D29+'Other Funds-Revision No. 2'!D29+'Other Funds-Revision No. 3'!D29","v":0},{"$f":"'Amendment 1-Other Funds'!E29+'Other Funds-Revision No. 2'!E29+'Other Funds-Revision No. 3'!E29","v":9215},{"$f":"'Amendment 1-Other Funds'!F29+'Other Funds-Revision No. 2'!F29+'Other Funds-Revision No. 3'!F29","v":0},{"$f":"'Amendment 1-Other Funds'!G29+'Other Funds-Revision No. 2'!G29+'Other Funds-Revision No. 3'!G29","v":0},{"$f":"'Amendment 1-Other Funds'!H29+'Other Funds-Revision No. 2'!H29+'Other Funds-Revision No. 3'!H29","v":0},{"$f":"'Amendment 1-Other Funds'!I29+'Other Funds-Revision No. 2'!I29+'Other Funds-Revision No. 3'!I29","v":0},{"$f":"'Amendment 1-Other Funds'!J29+'Other Funds-Revision No. 2'!J29+'Other Funds-Revision No. 3'!J29","v":0},{"$f":"'Amendment 1-Other Funds'!K29+'Other Funds-Revision No. 2'!K29+'Other Funds-Revision No. 3'!K29","v":0},{"$f":"'Amendment 1-Other Funds'!L29+'Other Funds-Revision No. 2'!L29+'Other Funds-Revision No. 3'!L29","v":0},{"$f":"'Amendment 1-Other Funds'!M29+'Other Funds-Revision No. 2'!M29+'Other Funds-Revision No. 3'!M29","v":0},{"$f":"'Amendment 1-Other Funds'!N29+'Other Funds-Revision No. 2'!N29+'Other Funds-Revision No. 3'!N29","v":0},{"$f":"'Amendment 1-Other Funds'!O29+'Other Funds-Revision No. 2'!O29+'Other Funds-Revision No. 3'!O29","v":0},{"$f":"'Amendment 1-Other Funds'!P29+'Other Funds-Revision No. 2'!P29+'Other Funds-Revision No. 3'!P29","v":0},{"$f":"'Amendment 1-Other Funds'!Q29+'Other Funds-Revision No. 2'!Q29+'Other Funds-Revision No. 3'!Q29","v":0},{"$f":"'Amendment 1-Other Funds'!R29+'Other Funds-Revision No. 2'!R29+'Other Funds-Revision No. 3'!R29","v":0},{"$f":"'Amendment 1-Other Funds'!S29+'Other Funds-Revision No. 2'!S29+'Other Funds-Revision No. 3'!S29","v":0},{"$f":"'Amendment 1-Other Funds'!T29+'Other Funds-Revision No. 2'!T29+'Other Funds-Revision No. 3'!T29","v":0},{"$f":"'Amendment 1-Other Funds'!U29+'Other Funds-Revision No. 2'!U29+'Other Funds-Revision No. 3'!U29","v":0},{"$f":"'Amendment 1-Other Funds'!V29+'Other Funds-Revision No. 2'!V29+'Other Funds-Revision No. 3'!V29","v":0},{"$f":"'Amendment 1-Other Funds'!W29+'Other Funds-Revision No. 2'!W29+'Other Funds-Revision No. 3'!W29","v":0},{"$f":"'Amendment 1-Other Funds'!X29+'Other Funds-Revision No. 2'!X29+'Other Funds-Revision No. 3'!X29","v":0},{"$f":"'Amendment 1-Other Funds'!Y29+'Other Funds-Revision No. 2'!Y29+'Other Funds-Revision No. 3'!Y29","v":0},{"$f":"'Amendment 1-Other Funds'!Z29+'Other Funds-Revision No. 2'!Z29+'Other Funds-Revision No. 3'!Z29","v":0},{"$f":"'Amendment 1-Other Funds'!AA29+'Other Funds-Revision No. 2'!AA29+'Other Funds-Revision No. 3'!AA29","v":0},{"$f":"'Amendment 1-Other Funds'!AB29+'Other Funds-Revision No. 2'!AB29+'Other Funds-Revision No. 3'!AB29","v":0},{"$f":"'Amendment 1-Other Funds'!AC29+'Other Funds-Revision No. 2'!AC29+'Other Funds-Revision No. 3'!AC29","v":0},{"$f":"'Amendment 1-Other Funds'!AD29+'Other Funds-Revision No. 2'!AD29+'Other Funds-Revision No. 3'!AD29","v":0},{"$f":"'Amendment 1-Other Funds'!AE29+'Other Funds-Revision No. 2'!AE29+'Other Funds-Revision No. 3'!AE29","v":0},{"$f":"'Amendment 1-Other Funds'!AF29+'Other Funds-Revision No. 2'!AF29+'Other Funds-Revision No. 3'!AF29","v":0},{"$f":"'Amendment 1-Other Funds'!AG29+'Other Funds-Revision No. 2'!AG29+'Other Funds-Revision No. 3'!AG29","v":0},{"$f":"'Amendment 1-Other Funds'!AH29+'Other Funds-Revision No. 2'!AH29+'Other Funds-Revision No. 3'!AH29","v":0},{"$f":"'Amendment 1-Other Funds'!AI29+'Other Funds-Revision No. 2'!AI29+'Other Funds-Revision No. 3'!AI29","v":0},{"$f":"'Amendment 1-Other Funds'!AJ29+'Other Funds-Revision No. 2'!AJ29+'Other Funds-Revision No. 3'!AJ29","v":0},{"$f":"'Amendment 1-Other Funds'!AK29+'Other Funds-Revision No. 2'!AK29+'Other Funds-Revision No. 3'!AK29","v":0},{"$f":"'Amendment 1-Other Funds'!AL29+'Other Funds-Revision No. 2'!AL29+'Other Funds-Revision No. 3'!AL29","v":19343},9215]
[{"$f":"+'Original ABG Allocation'!A30","v":"25"},{"$f":"+'Original ABG Allocation'!B30","v":"YORK"},{"$f":"'Amendment 1-Other Funds'!C30+'Other Funds-Revision No. 2'!C30+'Other Funds-Revision No. 3'!C30","v":0},{"$f":"'Amendment 1-Other Funds'!D30+'Other Funds-Revision No. 2'!D30+'Other Funds-Revision No. 3'!D30","v":0},{"$f":"'Amendment 1-Other Funds'!E30+'Other Funds-Revision No. 2'!E30+'Other Funds-Revision No. 3'!E30","v":8840},{"$f":"'Amendment 1-Other Funds'!F30+'Other Funds-Revision No. 2'!F30+'Other Funds-Revision No. 3'!F30","v":0},{"$f":"'Amendment 1-Other Funds'!G30+'Other Funds-Revision No. 2'!G30+'Other Funds-Revision No. 3'!G30","v":0},{"$f":"'Amendment 1-Other Funds'!H30+'Other Funds-Revision No. 2'!H30+'Other Funds-Revision No. 3'!H30","v":0},{"$f":"'Amendment 1-Other Funds'!I30+'Other Funds-Revision No. 2'!I30+'Other Funds-Revision No. 3'!I30","v":0},{"$f":"'Amendment 1-Other Funds'!J30+'Other Funds-Revision No. 2'!J30+'Other Funds-Revision No. 3'!J30","v":0},{"$f":"'Amendment 1-Other Funds'!K30+'Other Funds-Revision No. 2'!K30+'Other Funds-Revision No. 3'!K30","v":0},{"$f":"'Amendment 1-Other Funds'!L30+'Other Funds-Revision No. 2'!L30+'Other Funds-Revision No. 3'!L30","v":0},{"$f":"'Amendment 1-Other Funds'!M30+'Other Funds-Revision No. 2'!M30+'Other Funds-Revision No. 3'!M30","v":0},{"$f":"'Amendment 1-Other Funds'!N30+'Other Funds-Revision No. 2'!N30+'Other Funds-Revision No. 3'!N30","v":0},{"$f":"'Amendment 1-Other Funds'!O30+'Other Funds-Revision No. 2'!O30+'Other Funds-Revision No. 3'!O30","v":0},{"$f":"'Amendment 1-Other Funds'!P30+'Other Funds-Revision No. 2'!P30+'Other Funds-Revision No. 3'!P30","v":0},{"$f":"'Amendment 1-Other Funds'!Q30+'Other Funds-Revision No. 2'!Q30+'Other Funds-Revision No. 3'!Q30","v":0},{"$f":"'Amendment 1-Other Funds'!R30+'Other Funds-Revision No. 2'!R30+'Other Funds-Revision No. 3'!R30","v":0},{"$f":"'Amendment 1-Other Funds'!S30+'Other Funds-Revision No. 2'!S30+'Other Funds-Revision No. 3'!S30","v":0},{"$f":"'Amendment 1-Other Funds'!T30+'Other Funds-Revision No. 2'!T30+'Other Funds-Revision No. 3'!T30","v":0},{"$f":"'Amendment 1-Other Funds'!U30+'Other Funds-Revision No. 2'!U30+'Other Funds-Revision No. 3'!U30","v":0},{"$f":"'Amendment 1-Other Funds'!V30+'Other Funds-Revision No. 2'!V30+'Other Funds-Revision No. 3'!V30","v":0},{"$f":"'Amendment 1-Other Funds'!W30+'Other Funds-Revision No. 2'!W30+'Other Funds-Revision No. 3'!W30","v":0},{"$f":"'Amendment 1-Other Funds'!X30+'Other Funds-Revision No. 2'!X30+'Other Funds-Revision No. 3'!X30","v":0},{"$f":"'Amendment 1-Other Funds'!Y30+'Other Funds-Revision No. 2'!Y30+'Other Funds-Revision No. 3'!Y30","v":0},{"$f":"'Amendment 1-Other Funds'!Z30+'Other Funds-Revision No. 2'!Z30+'Other Funds-Revision No. 3'!Z30","v":0},{"$f":"'Amendment 1-Other Funds'!AA30+'Other Funds-Revision No. 2'!AA30+'Other Funds-Revision No. 3'!AA30","v":0},{"$f":"'Amendment 1-Other Funds'!AB30+'Other Funds-Revision No. 2'!AB30+'Other Funds-Revision No. 3'!AB30","v":0},{"$f":"'Amendment 1-Other Funds'!AC30+'Other Funds-Revision No. 2'!AC30+'Other Funds-Revision No. 3'!AC30","v":0},{"$f":"'Amendment 1-Other Funds'!AD30+'Other Funds-Revision No. 2'!AD30+'Other Funds-Revision No. 3'!AD30","v":0},{"$f":"'Amendment 1-Other Funds'!AE30+'Other Funds-Revision No. 2'!AE30+'Other Funds-Revision No. 3'!AE30","v":0},{"$f":"'Amendment 1-Other Funds'!AF30+'Other Funds-Revision No. 2'!AF30+'Other Funds-Revision No. 3'!AF30","v":0},{"$f":"'Amendment 1-Other Funds'!AG30+'Other Funds-Revision No. 2'!AG30+'Other Funds-Revision No. 3'!AG30","v":0},{"$f":"'Amendment 1-Other Funds'!AH30+'Other Funds-Revision No. 2'!AH30+'Other Funds-Revision No. 3'!AH30","v":0},{"$f":"'Amendment 1-Other Funds'!AI30+'Other Funds-Revision No. 2'!AI30+'Other Funds-Revision No. 3'!AI30","v":0},{"$f":"'Amendment 1-Other Funds'!AJ30+'Other Funds-Revision No. 2'!AJ30+'Other Funds-Revision No. 3'!AJ30","v":0},{"$f":"'Amendment 1-Other Funds'!AK30+'Other Funds-Revision No. 2'!AK30+'Other Funds-Revision No. 3'!AK30","v":0},{"$f":"'Amendment 1-Other Funds'!AL30+'Other Funds-Revision No. 2'!AL30+'Other Funds-Revision No. 3'!AL30","v":60311},8840]
[{"$f":"+'Original ABG Allocation'!A31","v":"26"},{"$f":"+'Original ABG Allocation'!B31","v":"LANCASTER"},{"$f":"'Amendment 1-Other Funds'!C31+'Other Funds-Revision No. 2'!C31+'Other Funds-Revision No. 3'!C31","v":0},{"$f":"'Amendment 1-Other Funds'!D31+'Other Funds-Revision No. 2'!D31+'Other Funds-Revision No. 3'!D31","v":0},{"$f":"'Amendment 1-Other Funds'!E31+'Other Funds-Revision No. 2'!E31+'Other Funds-Revision No. 3'!E31","v":8840},{"$f":"'Amendment 1-Other Funds'!F31+'Other Funds-Revision No. 2'!F31+'Other Funds-Revision No. 3'!F31","v":0},{"$f":"'Amendment 1-Other Funds'!G31+'Other Funds-Revision No. 2'!G31+'Other Funds-Revision No. 3'!G31","v":0},{"$f":"'Amendment 1-Other Funds'!H31+'Other Funds-Revision No. 2'!H31+'Other Funds-Revision No. 3'!H31","v":0},{"$f":"'Amendment 1-Other Funds'!I31+'Other Funds-Revision No. 2'!I31+'Other Funds-Revision No. 3'!I31","v":0},{"$f":"'Amendment 1-Other Funds'!J31+'Other Funds-Revision No. 2'!J31+'Other Funds-Revision No. 3'!J31","v":0},{"$f":"'Amendment 1-Other Funds'!K31+'Other Funds-Revision No. 2'!K31+'Other Funds-Revision No. 3'!K31","v":0},{"$f":"'Amendment 1-Other Funds'!L31+'Other Funds-Revision No. 2'!L31+'Other Funds-Revision No. 3'!L31","v":0},{"$f":"'Amendment 1-Other Funds'!M31+'Other Funds-Revision No. 2'!M31+'Other Funds-Revision No. 3'!M31","v":0},{"$f":"'Amendment 1-Other Funds'!N31+'Other Funds-Revision No. 2'!N31+'Other Funds-Revision No. 3'!N31","v":0},{"$f":"'Amendment 1-Other Funds'!O31+'Other Funds-Revision No. 2'!O31+'Other Funds-Revision No. 3'!O31","v":0},{"$f":"'Amendment 1-Other Funds'!P31+'Other Funds-Revision No. 2'!P31+'Other Funds-Revision No. 3'!P31","v":0},{"$f":"'Amendment 1-Other Funds'!Q31+'Other Funds-Revision No. 2'!Q31+'Other Funds-Revision No. 3'!Q31","v":0},{"$f":"'Amendment 1-Other Funds'!R31+'Other Funds-Revision No. 2'!R31+'Other Funds-Revision No. 3'!R31","v":0},{"$f":"'Amendment 1-Other Funds'!S31+'Other Funds-Revision No. 2'!S31+'Other Funds-Revision No. 3'!S31","v":0},{"$f":"'Amendment 1-Other Funds'!T31+'Other Funds-Revision No. 2'!T31+'Other Funds-Revision No. 3'!T31","v":0},{"$f":"'Amendment 1-Other Funds'!U31+'Other Funds-Revision No. 2'!U31+'Other Funds-Revision No. 3'!U31","v":0},{"$f":"'Amendment 1-Other Funds'!V31+'Other Funds-Revision No. 2'!V31+'Other Funds-Revision No. 3'!V31","v":0},{"$f":"'Amendment 1-Other Funds'!W31+'Other Funds-Revision No. 2'!W31+'Other Funds-Revision No. 3'!W31","v":0},{"$f":"'Amendment 1-Other Funds'!X31+'Other Funds-Revision No. 2'!X31+'Other Funds-Revision No. 3'!X31","v":0},{"$f":"'Amendment 1-Other Funds'!Y31+'Other Funds-Revision No. 2'!Y31+'Other Funds-Revision No. 3'!Y31","v":0},{"$f":"'Amendment 1-Other Funds'!Z31+'Other Funds-Revision No. 2'!Z31+'Other Funds-Revision No. 3'!Z31","v":0},{"$f":"'Amendment 1-Other Funds'!AA31+'Other Funds-Revision No. 2'!AA31+'Other Funds-Revision No. 3'!AA31","v":0},{"$f":"'Amendment 1-Other Funds'!AB31+'Other Funds-Revision No. 2'!AB31+'Other Funds-Revision No. 3'!AB31","v":0},{"$f":"'Amendment 1-Other Funds'!AC31+'Other Funds-Revision No. 2'!AC31+'Other Funds-Revision No. 3'!AC31","v":0},{"$f":"'Amendment 1-Other Funds'!AD31+'Other Funds-Revision No. 2'!AD31+'Other Funds-Revision No. 3'!AD31","v":0},{"$f":"'Amendment 1-Other Funds'!AE31+'Other Funds-Revision No. 2'!AE31+'Other Funds-Revision No. 3'!AE31","v":0},{"$f":"'Amendment 1-Other Funds'!AF31+'Other Funds-Revision No. 2'!AF31+'Other Funds-Revision No. 3'!AF31","v":0},{"$f":"'Amendment 1-Other Funds'!AG31+'Other Funds-Revision No. 2'!AG31+'Other Funds-Revision No. 3'!AG31","v":0},{"$f":"'Amendment 1-Other Funds'!AH31+'Other Funds-Revision No. 2'!AH31+'Other Funds-Revision No. 3'!AH31","v":0},{"$f":"'Amendment 1-Other Funds'!AI31+'Other Funds-Revision No. 2'!AI31+'Other Funds-Revision No. 3'!AI31","v":0},{"$f":"'Amendment 1-Other Funds'!AJ31+'Other Funds-Revision No. 2'!AJ31+'Other Funds-Revision No. 3'!AJ31","v":0},{"$f":"'Amendment 1-Other Funds'!AK31+'Other Funds-Revision No. 2'!AK31+'Other Funds-Revision No. 3'!AK31","v":0},{"$f":"'Amendment 1-Other Funds'!AL31+'Other Funds-Revision No. 2'!AL31+'Other Funds-Revision No. 3'!AL31","v":68547},8840]
[{"$f":"+'Original ABG Allocation'!A32","v":"27"},{"$f":"+'Original ABG Allocation'!B32","v":"CHESTER"},{"$f":"'Amendment 1-Other Funds'!C32+'Other Funds-Revision No. 2'!C32+'Other Funds-Revision No. 3'!C32","v":0},{"$f":"'Amendment 1-Other Funds'!D32+'Other Funds-Revision No. 2'!D32+'Other Funds-Revision No. 3'!D32","v":0},{"$f":"'Amendment 1-Other Funds'!E32+'Other Funds-Revision No. 2'!E32+'Other Funds-Revision No. 3'!E32","v":8840},{"$f":"'Amendment 1-Other Funds'!F32+'Other Funds-Revision No. 2'!F32+'Other Funds-Revision No. 3'!F32","v":0},{"$f":"'Amendment 1-Other Funds'!G32+'Other Funds-Revision No. 2'!G32+'Other Funds-Revision No. 3'!G32","v":0},{"$f":"'Amendment 1-Other Funds'!H32+'Other Funds-Revision No. 2'!H32+'Other Funds-Revision No. 3'!H32","v":0},{"$f":"'Amendment 1-Other Funds'!I32+'Other Funds-Revision No. 2'!I32+'Other Funds-Revision No. 3'!I32","v":0},{"$f":"'Amendment 1-Other Funds'!J32+'Other Funds-Revision No. 2'!J32+'Other Funds-Revision No. 3'!J32","v":0},{"$f":"'Amendment 1-Other Funds'!K32+'Other Funds-Revision No. 2'!K32+'Other Funds-Revision No. 3'!K32","v":0},{"$f":"'Amendment 1-Other Funds'!L32+'Other Funds-Revision No. 2'!L32+'Other Funds-Revision No. 3'!L32","v":0},{"$f":"'Amendment 1-Other Funds'!M32+'Other Funds-Revision No. 2'!M32+'Other Funds-Revision No. 3'!M32","v":0},{"$f":"'Amendment 1-Other Funds'!N32+'Other Funds-Revision No. 2'!N32+'Other Funds-Revision No. 3'!N32","v":0},{"$f":"'Amendment 1-Other Funds'!O32+'Other Funds-Revision No. 2'!O32+'Other Funds-Revision No. 3'!O32","v":0},{"$f":"'Amendment 1-Other Funds'!P32+'Other Funds-Revision No. 2'!P32+'Other Funds-Revision No. 3'!P32","v":0},{"$f":"'Amendment 1-Other Funds'!Q32+'Other Funds-Revision No. 2'!Q32+'Other Funds-Revision No. 3'!Q32","v":0},{"$f":"'Amendment 1-Other Funds'!R32+'Other Funds-Revision No. 2'!R32+'Other Funds-Revision No. 3'!R32","v":0},{"$f":"'Amendment 1-Other Funds'!S32+'Other Funds-Revision No. 2'!S32+'Other Funds-Revision No. 3'!S32","v":0},{"$f":"'Amendment 1-Other Funds'!T32+'Other Funds-Revision No. 2'!T32+'Other Funds-Revision No. 3'!T32","v":0},{"$f":"'Amendment 1-Other Funds'!U32+'Other Funds-Revision No. 2'!U32+'Other Funds-Revision No. 3'!U32","v":0},{"$f":"'Amendment 1-Other Funds'!V32+'Other Funds-Revision No. 2'!V32+'Other Funds-Revision No. 3'!V32","v":0},{"$f":"'Amendment 1-Other Funds'!W32+'Other Funds-Revision No. 2'!W32+'Other Funds-Revision No. 3'!W32","v":0},{"$f":"'Amendment 1-Other Funds'!X32+'Other Funds-Revision No. 2'!X32+'Other Funds-Revision No. 3'!X32","v":0},{"$f":"'Amendment 1-Other Funds'!Y32+'Other Funds-Revision No. 2'!Y32+'Other Funds-Revision No. 3'!Y32","v":0},{"$f":"'Amendment 1-Other Funds'!Z32+'Other Funds-Revision No. 2'!Z32+'Other Funds-Revision No. 3'!Z32","v":0},{"$f":"'Amendment 1-Other Funds'!AA32+'Other Funds-Revision No. 2'!AA32+'Other Funds-Revision No. 3'!AA32","v":0},{"$f":"'Amendment 1-Other Funds'!AB32+'Other Funds-Revision No. 2'!AB32+'Other Funds-Revision No. 3'!AB32","v":0},{"$f":"'Amendment 1-Other Funds'!AC32+'Other Funds-Revision No. 2'!AC32+'Other Funds-Revision No. 3'!AC32","v":0},{"$f":"'Amendment 1-Other Funds'!AD32+'Other Funds-Revision No. 2'!AD32+'Other Funds-Revision No. 3'!AD32","v":0},{"$f":"'Amendment 1-Other Funds'!AE32+'Other Funds-Revision No. 2'!AE32+'Other Funds-Revision No. 3'!AE32","v":0},{"$f":"'Amendment 1-Other Funds'!AF32+'Other Funds-Revision No. 2'!AF32+'Other Funds-Revision No. 3'!AF32","v":0},{"$f":"'Amendment 1-Other Funds'!AG32+'Other Funds-Revision No. 2'!AG32+'Other Funds-Revision No. 3'!AG32","v":0},{"$f":"'Amendment 1-Other Funds'!AH32+'Other Funds-Revision No. 2'!AH32+'Other Funds-Revision No. 3'!AH32","v":0},{"$f":"'Amendment 1-Other Funds'!AI32+'Other Funds-Revision No. 2'!AI32+'Other Funds-Revision No. 3'!AI32","v":0},{"$f":"'Amendment 1-Other Funds'!AJ32+'Other Funds-Revision No. 2'!AJ32+'Other Funds-Revision No. 3'!AJ32","v":0},{"$f":"'Amendment 1-Other Funds'!AK32+'Other Funds-Revision No. 2'!AK32+'Other Funds-Revision No. 3'!AK32","v":0},{"$f":"'Amendment 1-Other Funds'!AL32+'Other Funds-Revision No. 2'!AL32+'Other Funds-Revision No. 3'!AL32","v":51134},8840]
[{"$f":"+'Original ABG Allocation'!A33","v":"28"},{"$f":"+'Original ABG Allocation'!B33","v":"MONTGOMERY"},{"$f":"'Amendment 1-Other Funds'!C33+'Other Funds-Revision No. 2'!C33+'Other Funds-Revision No. 3'!C33","v":0},{"$f":"'Amendment 1-Other Funds'!D33+'Other Funds-Revision No. 2'!D33+'Other Funds-Revision No. 3'!D33","v":0},{"$f":"'Amendment 1-Other Funds'!E33+'Other Funds-Revision No. 2'!E33+'Other Funds-Revision No. 3'!E33","v":8840},{"$f":"'Amendment 1-Other Funds'!F33+'Other Funds-Revision No. 2'!F33+'Other Funds-Revision No. 3'!F33","v":0},{"$f":"'Amendment 1-Other Funds'!G33+'Other Funds-Revision No. 2'!G33+'Other Funds-Revision No. 3'!G33","v":0},{"$f":"'Amendment 1-Other Funds'!H33+'Other Funds-Revision No. 2'!H33+'Other Funds-Revision No. 3'!H33","v":0},{"$f":"'Amendment 1-Other Funds'!I33+'Other Funds-Revision No. 2'!I33+'Other Funds-Revision No. 3'!I33","v":0},{"$f":"'Amendment 1-Other Funds'!J33+'Other Funds-Revision No. 2'!J33+'Other Funds-Revision No. 3'!J33","v":0},{"$f":"'Amendment 1-Other Funds'!K33+'Other Funds-Revision No. 2'!K33+'Other Funds-Revision No. 3'!K33","v":0},{"$f":"'Amendment 1-Other Funds'!L33+'Other Funds-Revision No. 2'!L33+'Other Funds-Revision No. 3'!L33","v":0},{"$f":"'Amendment 1-Other Funds'!M33+'Other Funds-Revision No. 2'!M33+'Other Funds-Revision No. 3'!M33","v":0},{"$f":"'Amendment 1-Other Funds'!N33+'Other Funds-Revision No. 2'!N33+'Other Funds-Revision No. 3'!N33","v":0},{"$f":"'Amendment 1-Other Funds'!O33+'Other Funds-Revision No. 2'!O33+'Other Funds-Revision No. 3'!O33","v":0},{"$f":"'Amendment 1-Other Funds'!P33+'Other Funds-Revision No. 2'!P33+'Other Funds-Revision No. 3'!P33","v":0},{"$f":"'Amendment 1-Other Funds'!Q33+'Other Funds-Revision No. 2'!Q33+'Other Funds-Revision No. 3'!Q33","v":0},{"$f":"'Amendment 1-Other Funds'!R33+'Other Funds-Revision No. 2'!R33+'Other Funds-Revision No. 3'!R33","v":0},{"$f":"'Amendment 1-Other Funds'!S33+'Other Funds-Revision No. 2'!S33+'Other Funds-Revision No. 3'!S33","v":0},{"$f":"'Amendment 1-Other Funds'!T33+'Other Funds-Revision No. 2'!T33+'Other Funds-Revision No. 3'!T33","v":0},{"$f":"'Amendment 1-Other Funds'!U33+'Other Funds-Revision No. 2'!U33+'Other Funds-Revision No. 3'!U33","v":0},{"$f":"'Amendment 1-Other Funds'!V33+'Other Funds-Revision No. 2'!V33+'Other Funds-Revision No. 3'!V33","v":0},{"$f":"'Amendment 1-Other Funds'!W33+'Other Funds-Revision No. 2'!W33+'Other Funds-Revision No. 3'!W33","v":0},{"$f":"'Amendment 1-Other Funds'!X33+'Other Funds-Revision No. 2'!X33+'Other Funds-Revision No. 3'!X33","v":0},{"$f":"'Amendment 1-Other Funds'!Y33+'Other Funds-Revision No. 2'!Y33+'Other Funds-Revision No. 3'!Y33","v":0},{"$f":"'Amendment 1-Other Funds'!Z33+'Other Funds-Revision No. 2'!Z33+'Other Funds-Revision No. 3'!Z33","v":0},{"$f":"'Amendment 1-Other Funds'!AA33+'Other Funds-Revision No. 2'!AA33+'Other Funds-Revision No. 3'!AA33","v":0},{"$f":"'Amendment 1-Other Funds'!AB33+'Other Funds-Revision No. 2'!AB33+'Other Funds-Revision No. 3'!AB33","v":0},{"$f":"'Amendment 1-Other Funds'!AC33+'Other Funds-Revision No. 2'!AC33+'Other Funds-Revision No. 3'!AC33","v":0},{"$f":"'Amendment 1-Other Funds'!AD33+'Other Funds-Revision No. 2'!AD33+'Other Funds-Revision No. 3'!AD33","v":0},{"$f":"'Amendment 1-Other Funds'!AE33+'Other Funds-Revision No. 2'!AE33+'Other Funds-Revision No. 3'!AE33","v":0},{"$f":"'Amendment 1-Other Funds'!AF33+'Other Funds-Revision No. 2'!AF33+'Other Funds-Revision No. 3'!AF33","v":0},{"$f":"'Amendment 1-Other Funds'!AG33+'Other Funds-Revision No. 2'!AG33+'Other Funds-Revision No. 3'!AG33","v":0},{"$f":"'Amendment 1-Other Funds'!AH33+'Other Funds-Revision No. 2'!AH33+'Other Funds-Revision No. 3'!AH33","v":0},{"$f":"'Amendment 1-Other Funds'!AI33+'Other Funds-Revision No. 2'!AI33+'Other Funds-Revision No. 3'!AI33","v":0},{"$f":"'Amendment 1-Other Funds'!AJ33+'Other Funds-Revision No. 2'!AJ33+'Other Funds-Revision No. 3'!AJ33","v":0},{"$f":"'Amendment 1-Other Funds'!AK33+'Other Funds-Revision No. 2'!AK33+'Other Funds-Revision No. 3'!AK33","v":0},{"$f":"'Amendment 1-Other Funds'!AL33+'Other Funds-Revision No. 2'!AL33+'Other Funds-Revision No. 3'!AL33","v":92594},8840]
[{"$f":"+'Original ABG Allocation'!A34","v":"29"},{"$f":"+'Original ABG Allocation'!B34","v":"BUCKS"},{"$f":"'Amendment 1-Other Funds'!C34+'Other Funds-Revision No. 2'!C34+'Other Funds-Revision No. 3'!C34","v":0},{"$f":"'Amendment 1-Other Funds'!D34+'Other Funds-Revision No. 2'!D34+'Other Funds-Revision No. 3'!D34","v":0},{"$f":"'Amendment 1-Other Funds'!E34+'Other Funds-Revision No. 2'!E34+'Other Funds-Revision No. 3'!E34","v":8840},{"$f":"'Amendment 1-Other Funds'!F34+'Other Funds-Revision No. 2'!F34+'Other Funds-Revision No. 3'!F34","v":0},{"$f":"'Amendment 1-Other Funds'!G34+'Other Funds-Revision No. 2'!G34+'Other Funds-Revision No. 3'!G34","v":0},{"$f":"'Amendment 1-Other Funds'!H34+'Other Funds-Revision No. 2'!H34+'Other Funds-Revision No. 3'!H34","v":0},{"$f":"'Amendment 1-Other Funds'!I34+'Other Funds-Revision No. 2'!I34+'Other Funds-Revision No. 3'!I34","v":0},{"$f":"'Amendment 1-Other Funds'!J34+'Other Funds-Revision No. 2'!J34+'Other Funds-Revision No. 3'!J34","v":0},{"$f":"'Amendment 1-Other Funds'!K34+'Other Funds-Revision No. 2'!K34+'Other Funds-Revision No. 3'!K34","v":0},{"$f":"'Amendment 1-Other Funds'!L34+'Other Funds-Revision No. 2'!L34+'Other Funds-Revision No. 3'!L34","v":0},{"$f":"'Amendment 1-Other Funds'!M34+'Other Funds-Revision No. 2'!M34+'Other Funds-Revision No. 3'!M34","v":0},{"$f":"'Amendment 1-Other Funds'!N34+'Other Funds-Revision No. 2'!N34+'Other Funds-Revision No. 3'!N34","v":0},{"$f":"'Amendment 1-Other Funds'!O34+'Other Funds-Revision No. 2'!O34+'Other Funds-Revision No. 3'!O34","v":0},{"$f":"'Amendment 1-Other Funds'!P34+'Other Funds-Revision No. 2'!P34+'Other Funds-Revision No. 3'!P34","v":0},{"$f":"'Amendment 1-Other Funds'!Q34+'Other Funds-Revision No. 2'!Q34+'Other Funds-Revision No. 3'!Q34","v":0},{"$f":"'Amendment 1-Other Funds'!R34+'Other Funds-Revision No. 2'!R34+'Other Funds-Revision No. 3'!R34","v":0},{"$f":"'Amendment 1-Other Funds'!S34+'Other Funds-Revision No. 2'!S34+'Other Funds-Revision No. 3'!S34","v":0},{"$f":"'Amendment 1-Other Funds'!T34+'Other Funds-Revision No. 2'!T34+'Other Funds-Revision No. 3'!T34","v":0},{"$f":"'Amendment 1-Other Funds'!U34+'Other Funds-Revision No. 2'!U34+'Other Funds-Revision No. 3'!U34","v":0},{"$f":"'Amendment 1-Other Funds'!V34+'Other Funds-Revision No. 2'!V34+'Other Funds-Revision No. 3'!V34","v":0},{"$f":"'Amendment 1-Other Funds'!W34+'Other Funds-Revision No. 2'!W34+'Other Funds-Revision No. 3'!W34","v":0},{"$f":"'Amendment 1-Other Funds'!X34+'Other Funds-Revision No. 2'!X34+'Other Funds-Revision No. 3'!X34","v":0},{"$f":"'Amendment 1-Other Funds'!Y34+'Other Funds-Revision No. 2'!Y34+'Other Funds-Revision No. 3'!Y34","v":0},{"$f":"'Amendment 1-Other Funds'!Z34+'Other Funds-Revision No. 2'!Z34+'Other Funds-Revision No. 3'!Z34","v":0},{"$f":"'Amendment 1-Other Funds'!AA34+'Other Funds-Revision No. 2'!AA34+'Other Funds-Revision No. 3'!AA34","v":0},{"$f":"'Amendment 1-Other Funds'!AB34+'Other Funds-Revision No. 2'!AB34+'Other Funds-Revision No. 3'!AB34","v":0},{"$f":"'Amendment 1-Other Funds'!AC34+'Other Funds-Revision No. 2'!AC34+'Other Funds-Revision No. 3'!AC34","v":0},{"$f":"'Amendment 1-Other Funds'!AD34+'Other Funds-Revision No. 2'!AD34+'Other Funds-Revision No. 3'!AD34","v":0},{"$f":"'Amendment 1-Other Funds'!AE34+'Other Funds-Revision No. 2'!AE34+'Other Funds-Revision No. 3'!AE34","v":0},{"$f":"'Amendment 1-Other Funds'!AF34+'Other Funds-Revision No. 2'!AF34+'Other Funds-Revision No. 3'!AF34","v":0},{"$f":"'Amendment 1-Other Funds'!AG34+'Other Funds-Revision No. 2'!AG34+'Other Funds-Revision No. 3'!AG34","v":0},{"$f":"'Amendment 1-Other Funds'!AH34+'Other Funds-Revision No. 2'!AH34+'Other Funds-Revision No. 3'!AH34","v":0},{"$f":"'Amendment 1-Other Funds'!AI34+'Other Funds-Revision No. 2'!AI34+'Other Funds-Revision No. 3'!AI34","v":0},{"$f":"'Amendment 1-Other Funds'!AJ34+'Other Funds-Revision No. 2'!AJ34+'Other Funds-Revision No. 3'!AJ34","v":0},{"$f":"'Amendment 1-Other Funds'!AK34+'Other Funds-Revision No. 2'!AK34+'Other Funds-Revision No. 3'!AK34","v":0},{"$f":"'Amendment 1-Other Funds'!AL34+'Other Funds-Revision No. 2'!AL34+'Other Funds-Revision No. 3'!AL34","v":67441},8840]
[{"$f":"+'Original ABG Allocation'!A35","v":"30"},{"$f":"+'Original ABG Allocation'!B35","v":"DELAWARE"},{"$f":"'Amendment 1-Other Funds'!C35+'Other Funds-Revision No. 2'!C35+'Other Funds-Revision No. 3'!C35","v":0},{"$f":"'Amendment 1-Other Funds'!D35+'Other Funds-Revision No. 2'!D35+'Other Funds-Revision No. 3'!D35","v":0},{"$f":"'Amendment 1-Other Funds'!E35+'Other Funds-Revision No. 2'!E35+'Other Funds-Revision No. 3'!E35","v":8840},{"$f":"'Amendment 1-Other Funds'!F35+'Other Funds-Revision No. 2'!F35+'Other Funds-Revision No. 3'!F35","v":0},{"$f":"'Amendment 1-Other Funds'!G35+'Other Funds-Revision No. 2'!G35+'Other Funds-Revision No. 3'!G35","v":0},{"$f":"'Amendment 1-Other Funds'!H35+'Other Funds-Revision No. 2'!H35+'Other Funds-Revision No. 3'!H35","v":0},{"$f":"'Amendment 1-Other Funds'!I35+'Other Funds-Revision No. 2'!I35+'Other Funds-Revision No. 3'!I35","v":0},{"$f":"'Amendment 1-Other Funds'!J35+'Other Funds-Revision No. 2'!J35+'Other Funds-Revision No. 3'!J35","v":0},{"$f":"'Amendment 1-Other Funds'!K35+'Other Funds-Revision No. 2'!K35+'Other Funds-Revision No. 3'!K35","v":0},{"$f":"'Amendment 1-Other Funds'!L35+'Other Funds-Revision No. 2'!L35+'Other Funds-Revision No. 3'!L35","v":0},{"$f":"'Amendment 1-Other Funds'!M35+'Other Funds-Revision No. 2'!M35+'Other Funds-Revision No. 3'!M35","v":0},{"$f":"'Amendment 1-Other Funds'!N35+'Other Funds-Revision No. 2'!N35+'Other Funds-Revision No. 3'!N35","v":0},{"$f":"'Amendment 1-Other Funds'!O35+'Other Funds-Revision No. 2'!O35+'Other Funds-Revision No. 3'!O35","v":0},{"$f":"'Amendment 1-Other Funds'!P35+'Other Funds-Revision No. 2'!P35+'Other Funds-Revision No. 3'!P35","v":0},{"$f":"'Amendment 1-Other Funds'!Q35+'Other Funds-Revision No. 2'!Q35+'Other Funds-Revision No. 3'!Q35","v":0},{"$f":"'Amendment 1-Other Funds'!R35+'Other Funds-Revision No. 2'!R35+'Other Funds-Revision No. 3'!R35","v":0},{"$f":"'Amendment 1-Other Funds'!S35+'Other Funds-Revision No. 2'!S35+'Other Funds-Revision No. 3'!S35","v":0},{"$f":"'Amendment 1-Other Funds'!T35+'Other Funds-Revision No. 2'!T35+'Other Funds-Revision No. 3'!T35","v":0},{"$f":"'Amendment 1-Other Funds'!U35+'Other Funds-Revision No. 2'!U35+'Other Funds-Revision No. 3'!U35","v":0},{"$f":"'Amendment 1-Other Funds'!V35+'Other Funds-Revision No. 2'!V35+'Other Funds-Revision No. 3'!V35","v":0},{"$f":"'Amendment 1-Other Funds'!W35+'Other Funds-Revision No. 2'!W35+'Other Funds-Revision No. 3'!W35","v":0},{"$f":"'Amendment 1-Other Funds'!X35+'Other Funds-Revision No. 2'!X35+'Other Funds-Revision No. 3'!X35","v":0},{"$f":"'Amendment 1-Other Funds'!Y35+'Other Funds-Revision No. 2'!Y35+'Other Funds-Revision No. 3'!Y35","v":0},{"$f":"'Amendment 1-Other Funds'!Z35+'Other Funds-Revision No. 2'!Z35+'Other Funds-Revision No. 3'!Z35","v":0},{"$f":"'Amendment 1-Other Funds'!AA35+'Other Funds-Revision No. 2'!AA35+'Other Funds-Revision No. 3'!AA35","v":0},{"$f":"'Amendment 1-Other Funds'!AB35+'Other Funds-Revision No. 2'!AB35+'Other Funds-Revision No. 3'!AB35","v":0},{"$f":"'Amendment 1-Other Funds'!AC35+'Other Funds-Revision No. 2'!AC35+'Other Funds-Revision No. 3'!AC35","v":0},{"$f":"'Amendment 1-Other Funds'!AD35+'Other Funds-Revision No. 2'!AD35+'Other Funds-Revision No. 3'!AD35","v":0},{"$f":"'Amendment 1-Other Funds'!AE35+'Other Funds-Revision No. 2'!AE35+'Other Funds-Revision No. 3'!AE35","v":0},{"$f":"'Amendment 1-Other Funds'!AF35+'Other Funds-Revision No. 2'!AF35+'Other Funds-Revision No. 3'!AF35","v":0},{"$f":"'Amendment 1-Other Funds'!AG35+'Other Funds-Revision No. 2'!AG35+'Other Funds-Revision No. 3'!AG35","v":0},{"$f":"'Amendment 1-Other Funds'!AH35+'Other Funds-Revision No. 2'!AH35+'Other Funds-Revision No. 3'!AH35","v":0},{"$f":"'Amendment 1-Other Funds'!AI35+'Other Funds-Revision No. 2'!AI35+'Other Funds-Revision No. 3'!AI35","v":0},{"$f":"'Amendment 1-Other Funds'!AJ35+'Other Funds-Revision No. 2'!AJ35+'Other Funds-Revision No. 3'!AJ35","v":0},{"$f":"'Amendment 1-Other Funds'!AK35+'Other Funds-Revision No. 2'!AK35+'Other Funds-Revision No. 3'!AK35","v":0},{"$f":"'Amendment 1-Other Funds'!AL35+'Other Funds-Revision No. 2'!AL35+'Other Funds-Revision No. 3'!AL35","v":73647},8840]
[{"$f":"+'Original ABG Allocation'!A36","v":"31"},{"$f":"+'Original ABG Allocation'!B36","v":"PHILADELPHIA"},{"$f":"'Amendment 1-Other Funds'!C36+'Other Funds-Revision No. 2'!C36+'Other Funds-Revision No. 3'!C36","v":0},{"$f":"'Amendment 1-Other Funds'!D36+'Other Funds-Revision No. 2'!D36+'Other Funds-Revision No. 3'!D36","v":0},{"$f":"'Amendment 1-Other Funds'!E36+'Other Funds-Revision No. 2'!E36+'Other Funds-Revision No. 3'!E36","v":10140},{"$f":"'Amendment 1-Other Funds'!F36+'Other Funds-Revision No. 2'!F36+'Other Funds-Revision No. 3'!F36","v":0},{"$f":"'Amendment 1-Other Funds'!G36+'Other Funds-Revision No. 2'!G36+'Other Funds-Revision No. 3'!G36","v":0},{"$f":"'Amendment 1-Other Funds'!H36+'Other Funds-Revision No. 2'!H36+'Other Funds-Revision No. 3'!H36","v":0},{"$f":"'Amendment 1-Other Funds'!I36+'Other Funds-Revision No. 2'!I36+'Other Funds-Revision No. 3'!I36","v":0},{"$f":"'Amendment 1-Other Funds'!J36+'Other Funds-Revision No. 2'!J36+'Other Funds-Revision No. 3'!J36","v":0},{"$f":"'Amendment 1-Other Funds'!K36+'Other Funds-Revision No. 2'!K36+'Other Funds-Revision No. 3'!K36","v":0},{"$f":"'Amendment 1-Other Funds'!L36+'Other Funds-Revision No. 2'!L36+'Other Funds-Revision No. 3'!L36","v":0},{"$f":"'Amendment 1-Other Funds'!M36+'Other Funds-Revision No. 2'!M36+'Other Funds-Revision No. 3'!M36","v":0},{"$f":"'Amendment 1-Other Funds'!N36+'Other Funds-Revision No. 2'!N36+'Other Funds-Revision No. 3'!N36","v":0},{"$f":"'Amendment 1-Other Funds'!O36+'Other Funds-Revision No. 2'!O36+'Other Funds-Revision No. 3'!O36","v":0},{"$f":"'Amendment 1-Other Funds'!P36+'Other Funds-Revision No. 2'!P36+'Other Funds-Revision No. 3'!P36","v":0},{"$f":"'Amendment 1-Other Funds'!Q36+'Other Funds-Revision No. 2'!Q36+'Other Funds-Revision No. 3'!Q36","v":0},{"$f":"'Amendment 1-Other Funds'!R36+'Other Funds-Revision No. 2'!R36+'Other Funds-Revision No. 3'!R36","v":0},{"$f":"'Amendment 1-Other Funds'!S36+'Other Funds-Revision No. 2'!S36+'Other Funds-Revision No. 3'!S36","v":0},{"$f":"'Amendment 1-Other Funds'!T36+'Other Funds-Revision No. 2'!T36+'Other Funds-Revision No. 3'!T36","v":0},{"$f":"'Amendment 1-Other Funds'!U36+'Other Funds-Revision No. 2'!U36+'Other Funds-Revision No. 3'!U36","v":0},{"$f":"'Amendment 1-Other Funds'!V36+'Other Funds-Revision No. 2'!V36+'Other Funds-Revision No. 3'!V36","v":0},{"$f":"'Amendment 1-Other Funds'!W36+'Other Funds-Revision No. 2'!W36+'Other Funds-Revision No. 3'!W36","v":0},{"$f":"'Amendment 1-Other Funds'!X36+'Other Funds-Revision No. 2'!X36+'Other Funds-Revision No. 3'!X36","v":0},{"$f":"'Amendment 1-Other Funds'!Y36+'Other Funds-Revision No. 2'!Y36+'Other Funds-Revision No. 3'!Y36","v":0},{"$f":"'Amendment 1-Other Funds'!Z36+'Other Funds-Revision No. 2'!Z36+'Other Funds-Revision No. 3'!Z36","v":0},{"$f":"'Amendment 1-Other Funds'!AA36+'Other Funds-Revision No. 2'!AA36+'Other Funds-Revision No. 3'!AA36","v":0},{"$f":"'Amendment 1-Other Funds'!AB36+'Other Funds-Revision No. 2'!AB36+'Other Funds-Revision No. 3'!AB36","v":0},{"$f":"'Amendment 1-Other Funds'!AC36+'Other Funds-Revision No. 2'!AC36+'Other Funds-Revision No. 3'!AC36","v":0},{"$f":"'Amendment 1-Other Funds'!AD36+'Other Funds-Revision No. 2'!AD36+'Other Funds-Revision No. 3'!AD36","v":0},{"$f":"'Amendment 1-Other Funds'!AE36+'Other Funds-Revision No. 2'!AE36+'Other Funds-Revision No. 3'!AE36","v":0},{"$f":"'Amendment 1-Other Funds'!AF36+'Other Funds-Revision No. 2'!AF36+'Other Funds-Revision No. 3'!AF36","v":0},{"$f":"'Amendment 1-Other Funds'!AG36+'Other Funds-Revision No. 2'!AG36+'Other Funds-Revision No. 3'!AG36","v":0},{"$f":"'Amendment 1-Other Funds'!AH36+'Other Funds-Revision No. 2'!AH36+'Other Funds-Revision No. 3'!AH36","v":0},{"$f":"'Amendment 1-Other Funds'!AI36+'Other Funds-Revision No. 2'!AI36+'Other Funds-Revision No. 3'!AI36","v":0},{"$f":"'Amendment 1-Other Funds'!AJ36+'Other Funds-Revision No. 2'!AJ36+'Other Funds-Revision No. 3'!AJ36","v":0},{"$f":"'Amendment 1-Other Funds'!AK36+'Other Funds-Revision No. 2'!AK36+'Other Funds-Revision No. 3'!AK36","v":0},{"$f":"'Amendment 1-Other Funds'!AL36+'Other Funds-Revision No. 2'!AL36+'Other Funds-Revision No. 3'!AL36","v":365098},10140]
[{"$f":"+'Original ABG Allocation'!A37","v":"32"},{"$f":"+'Original ABG Allocation'!B37","v":"BERKS"},{"$f":"'Amendment 1-Other Funds'!C37+'Other Funds-Revision No. 2'!C37+'Other Funds-Revision No. 3'!C37","v":0},{"$f":"'Amendment 1-Other Funds'!D37+'Other Funds-Revision No. 2'!D37+'Other Funds-Revision No. 3'!D37","v":0},{"$f":"'Amendment 1-Other Funds'!E37+'Other Funds-Revision No. 2'!E37+'Other Funds-Revision No. 3'!E37","v":8840},{"$f":"'Amendment 1-Other Funds'!F37+'Other Funds-Revision No. 2'!F37+'Other Funds-Revision No. 3'!F37","v":0},{"$f":"'Amendment 1-Other Funds'!G37+'Other Funds-Revision No. 2'!G37+'Other Funds-Revision No. 3'!G37","v":0},{"$f":"'Amendment 1-Other Funds'!H37+'Other Funds-Revision No. 2'!H37+'Other Funds-Revision No. 3'!H37","v":0},{"$f":"'Amendment 1-Other Funds'!I37+'Other Funds-Revision No. 2'!I37+'Other Funds-Revision No. 3'!I37","v":0},{"$f":"'Amendment 1-Other Funds'!J37+'Other Funds-Revision No. 2'!J37+'Other Funds-Revision No. 3'!J37","v":0},{"$f":"'Amendment 1-Other Funds'!K37+'Other Funds-Revision No. 2'!K37+'Other Funds-Revision No. 3'!K37","v":0},{"$f":"'Amendment 1-Other Funds'!L37+'Other Funds-Revision No. 2'!L37+'Other Funds-Revision No. 3'!L37","v":0},{"$f":"'Amendment 1-Other Funds'!M37+'Other Funds-Revision No. 2'!M37+'Other Funds-Revision No. 3'!M37","v":0},{"$f":"'Amendment 1-Other Funds'!N37+'Other Funds-Revision No. 2'!N37+'Other Funds-Revision No. 3'!N37","v":0},{"$f":"'Amendment 1-Other Funds'!O37+'Other Funds-Revision No. 2'!O37+'Other Funds-Revision No. 3'!O37","v":0},{"$f":"'Amendment 1-Other Funds'!P37+'Other Funds-Revision No. 2'!P37+'Other Funds-Revision No. 3'!P37","v":0},{"$f":"'Amendment 1-Other Funds'!Q37+'Other Funds-Revision No. 2'!Q37+'Other Funds-Revision No. 3'!Q37","v":0},{"$f":"'Amendment 1-Other Funds'!R37+'Other Funds-Revision No. 2'!R37+'Other Funds-Revision No. 3'!R37","v":0},{"$f":"'Amendment 1-Other Funds'!S37+'Other Funds-Revision No. 2'!S37+'Other Funds-Revision No. 3'!S37","v":0},{"$f":"'Amendment 1-Other Funds'!T37+'Other Funds-Revision No. 2'!T37+'Other Funds-Revision No. 3'!T37","v":0},{"$f":"'Amendment 1-Other Funds'!U37+'Other Funds-Revision No. 2'!U37+'Other Funds-Revision No. 3'!U37","v":0},{"$f":"'Amendment 1-Other Funds'!V37+'Other Funds-Revision No. 2'!V37+'Other Funds-Revision No. 3'!V37","v":0},{"$f":"'Amendment 1-Other Funds'!W37+'Other Funds-Revision No. 2'!W37+'Other Funds-Revision No. 3'!W37","v":0},{"$f":"'Amendment 1-Other Funds'!X37+'Other Funds-Revision No. 2'!X37+'Other Funds-Revision No. 3'!X37","v":0},{"$f":"'Amendment 1-Other Funds'!Y37+'Other Funds-Revision No. 2'!Y37+'Other Funds-Revision No. 3'!Y37","v":0},{"$f":"'Amendment 1-Other Funds'!Z37+'Other Funds-Revision No. 2'!Z37+'Other Funds-Revision No. 3'!Z37","v":0},{"$f":"'Amendment 1-Other Funds'!AA37+'Other Funds-Revision No. 2'!AA37+'Other Funds-Revision No. 3'!AA37","v":0},{"$f":"'Amendment 1-Other Funds'!AB37+'Other Funds-Revision No. 2'!AB37+'Other Funds-Revision No. 3'!AB37","v":0},{"$f":"'Amendment 1-Other Funds'!AC37+'Other Funds-Revision No. 2'!AC37+'Other Funds-Revision No. 3'!AC37","v":0},{"$f":"'Amendment 1-Other Funds'!AD37+'Other Funds-Revision No. 2'!AD37+'Other Funds-Revision No. 3'!AD37","v":0},{"$f":"'Amendment 1-Other Funds'!AE37+'Other Funds-Revision No. 2'!AE37+'Other Funds-Revision No. 3'!AE37","v":0},{"$f":"'Amendment 1-Other Funds'!AF37+'Other Funds-Revision No. 2'!AF37+'Other Funds-Revision No. 3'!AF37","v":0},{"$f":"'Amendment 1-Other Funds'!AG37+'Other Funds-Revision No. 2'!AG37+'Other Funds-Revision No. 3'!AG37","v":0},{"$f":"'Amendment 1-Other Funds'!AH37+'Other Funds-Revision No. 2'!AH37+'Other Funds-Revision No. 3'!AH37","v":0},{"$f":"'Amendment 1-Other Funds'!AI37+'Other Funds-Revision No. 2'!AI37+'Other Funds-Revision No. 3'!AI37","v":0},{"$f":"'Amendment 1-Other Funds'!AJ37+'Other Funds-Revision No. 2'!AJ37+'Other Funds-Revision No. 3'!AJ37","v":0},{"$f":"'Amendment 1-Other Funds'!AK37+'Other Funds-Revision No. 2'!AK37+'Other Funds-Revision No. 3'!AK37","v":0},{"$f":"'Amendment 1-Other Funds'!AL37+'Other Funds-Revision No. 2'!AL37+'Other Funds-Revision No. 3'!AL37","v":61542},8840]
[{"$f":"+'Original ABG Allocation'!A38","v":"33"},{"$f":"+'Original ABG Allocation'!B38","v":"LEHIGH"},{"$f":"'Amendment 1-Other Funds'!C38+'Other Funds-Revision No. 2'!C38+'Other Funds-Revision No. 3'!C38","v":0},{"$f":"'Amendment 1-Other Funds'!D38+'Other Funds-Revision No. 2'!D38+'Other Funds-Revision No. 3'!D38","v":0},{"$f":"'Amendment 1-Other Funds'!E38+'Other Funds-Revision No. 2'!E38+'Other Funds-Revision No. 3'!E38","v":8840},{"$f":"'Amendment 1-Other Funds'!F38+'Other Funds-Revision No. 2'!F38+'Other Funds-Revision No. 3'!F38","v":0},{"$f":"'Amendment 1-Other Funds'!G38+'Other Funds-Revision No. 2'!G38+'Other Funds-Revision No. 3'!G38","v":0},{"$f":"'Amendment 1-Other Funds'!H38+'Other Funds-Revision No. 2'!H38+'Other Funds-Revision No. 3'!H38","v":0},{"$f":"'Amendment 1-Other Funds'!I38+'Other Funds-Revision No. 2'!I38+'Other Funds-Revision No. 3'!I38","v":0},{"$f":"'Amendment 1-Other Funds'!J38+'Other Funds-Revision No. 2'!J38+'Other Funds-Revision No. 3'!J38","v":0},{"$f":"'Amendment 1-Other Funds'!K38+'Other Funds-Revision No. 2'!K38+'Other Funds-Revision No. 3'!K38","v":0},{"$f":"'Amendment 1-Other Funds'!L38+'Other Funds-Revision No. 2'!L38+'Other Funds-Revision No. 3'!L38","v":0},{"$f":"'Amendment 1-Other Funds'!M38+'Other Funds-Revision No. 2'!M38+'Other Funds-Revision No. 3'!M38","v":0},{"$f":"'Amendment 1-Other Funds'!N38+'Other Funds-Revision No. 2'!N38+'Other Funds-Revision No. 3'!N38","v":0},{"$f":"'Amendment 1-Other Funds'!O38+'Other Funds-Revision No. 2'!O38+'Other Funds-Revision No. 3'!O38","v":0},{"$f":"'Amendment 1-Other Funds'!P38+'Other Funds-Revision No. 2'!P38+'Other Funds-Revision No. 3'!P38","v":0},{"$f":"'Amendment 1-Other Funds'!Q38+'Other Funds-Revision No. 2'!Q38+'Other Funds-Revision No. 3'!Q38","v":0},{"$f":"'Amendment 1-Other Funds'!R38+'Other Funds-Revision No. 2'!R38+'Other Funds-Revision No. 3'!R38","v":0},{"$f":"'Amendment 1-Other Funds'!S38+'Other Funds-Revision No. 2'!S38+'Other Funds-Revision No. 3'!S38","v":0},{"$f":"'Amendment 1-Other Funds'!T38+'Other Funds-Revision No. 2'!T38+'Other Funds-Revision No. 3'!T38","v":0},{"$f":"'Amendment 1-Other Funds'!U38+'Other Funds-Revision No. 2'!U38+'Other Funds-Revision No. 3'!U38","v":0},{"$f":"'Amendment 1-Other Funds'!V38+'Other Funds-Revision No. 2'!V38+'Other Funds-Revision No. 3'!V38","v":0},{"$f":"'Amendment 1-Other Funds'!W38+'Other Funds-Revision No. 2'!W38+'Other Funds-Revision No. 3'!W38","v":0},{"$f":"'Amendment 1-Other Funds'!X38+'Other Funds-Revision No. 2'!X38+'Other Funds-Revision No. 3'!X38","v":0},{"$f":"'Amendment 1-Other Funds'!Y38+'Other Funds-Revision No. 2'!Y38+'Other Funds-Revision No. 3'!Y38","v":0},{"$f":"'Amendment 1-Other Funds'!Z38+'Other Funds-Revision No. 2'!Z38+'Other Funds-Revision No. 3'!Z38","v":0},{"$f":"'Amendment 1-Other Funds'!AA38+'Other Funds-Revision No. 2'!AA38+'Other Funds-Revision No. 3'!AA38","v":0},{"$f":"'Amendment 1-Other Funds'!AB38+'Other Funds-Revision No. 2'!AB38+'Other Funds-Revision No. 3'!AB38","v":0},{"$f":"'Amendment 1-Other Funds'!AC38+'Other Funds-Revision No. 2'!AC38+'Other Funds-Revision No. 3'!AC38","v":0},{"$f":"'Amendment 1-Other Funds'!AD38+'Other Funds-Revision No. 2'!AD38+'Other Funds-Revision No. 3'!AD38","v":0},{"$f":"'Amendment 1-Other Funds'!AE38+'Other Funds-Revision No. 2'!AE38+'Other Funds-Revision No. 3'!AE38","v":0},{"$f":"'Amendment 1-Other Funds'!AF38+'Other Funds-Revision No. 2'!AF38+'Other Funds-Revision No. 3'!AF38","v":0},{"$f":"'Amendment 1-Other Funds'!AG38+'Other Funds-Revision No. 2'!AG38+'Other Funds-Revision No. 3'!AG38","v":0},{"$f":"'Amendment 1-Other Funds'!AH38+'Other Funds-Revision No. 2'!AH38+'Other Funds-Revision No. 3'!AH38","v":0},{"$f":"'Amendment 1-Other Funds'!AI38+'Other Funds-Revision No. 2'!AI38+'Other Funds-Revision No. 3'!AI38","v":0},{"$f":"'Amendment 1-Other Funds'!AJ38+'Other Funds-Revision No. 2'!AJ38+'Other Funds-Revision No. 3'!AJ38","v":0},{"$f":"'Amendment 1-Other Funds'!AK38+'Other Funds-Revision No. 2'!AK38+'Other Funds-Revision No. 3'!AK38","v":0},{"$f":"'Amendment 1-Other Funds'!AL38+'Other Funds-Revision No. 2'!AL38+'Other Funds-Revision No. 3'!AL38","v":49049},8840]
[{"$f":"+'Original ABG Allocation'!A39","v":"34"},{"$f":"+'Original ABG Allocation'!B39","v":"NORTHAMPTON"},{"$f":"'Amendment 1-Other Funds'!C39+'Other Funds-Revision No. 2'!C39+'Other Funds-Revision No. 3'!C39","v":0},{"$f":"'Amendment 1-Other Funds'!D39+'Other Funds-Revision No. 2'!D39+'Other Funds-Revision No. 3'!D39","v":0},{"$f":"'Amendment 1-Other Funds'!E39+'Other Funds-Revision No. 2'!E39+'Other Funds-Revision No. 3'!E39","v":8840},{"$f":"'Amendment 1-Other Funds'!F39+'Other Funds-Revision No. 2'!F39+'Other Funds-Revision No. 3'!F39","v":0},{"$f":"'Amendment 1-Other Funds'!G39+'Other Funds-Revision No. 2'!G39+'Other Funds-Revision No. 3'!G39","v":0},{"$f":"'Amendment 1-Other Funds'!H39+'Other Funds-Revision No. 2'!H39+'Other Funds-Revision No. 3'!H39","v":0},{"$f":"'Amendment 1-Other Funds'!I39+'Other Funds-Revision No. 2'!I39+'Other Funds-Revision No. 3'!I39","v":0},{"$f":"'Amendment 1-Other Funds'!J39+'Other Funds-Revision No. 2'!J39+'Other Funds-Revision No. 3'!J39","v":0},{"$f":"'Amendment 1-Other Funds'!K39+'Other Funds-Revision No. 2'!K39+'Other Funds-Revision No. 3'!K39","v":0},{"$f":"'Amendment 1-Other Funds'!L39+'Other Funds-Revision No. 2'!L39+'Other Funds-Revision No. 3'!L39","v":0},{"$f":"'Amendment 1-Other Funds'!M39+'Other Funds-Revision No. 2'!M39+'Other Funds-Revision No. 3'!M39","v":0},{"$f":"'Amendment 1-Other Funds'!N39+'Other Funds-Revision No. 2'!N39+'Other Funds-Revision No. 3'!N39","v":0},{"$f":"'Amendment 1-Other Funds'!O39+'Other Funds-Revision No. 2'!O39+'Other Funds-Revision No. 3'!O39","v":0},{"$f":"'Amendment 1-Other Funds'!P39+'Other Funds-Revision No. 2'!P39+'Other Funds-Revision No. 3'!P39","v":0},{"$f":"'Amendment 1-Other Funds'!Q39+'Other Funds-Revision No. 2'!Q39+'Other Funds-Revision No. 3'!Q39","v":0},{"$f":"'Amendment 1-Other Funds'!R39+'Other Funds-Revision No. 2'!R39+'Other Funds-Revision No. 3'!R39","v":0},{"$f":"'Amendment 1-Other Funds'!S39+'Other Funds-Revision No. 2'!S39+'Other Funds-Revision No. 3'!S39","v":0},{"$f":"'Amendment 1-Other Funds'!T39+'Other Funds-Revision No. 2'!T39+'Other Funds-Revision No. 3'!T39","v":0},{"$f":"'Amendment 1-Other Funds'!U39+'Other Funds-Revision No. 2'!U39+'Other Funds-Revision No. 3'!U39","v":0},{"$f":"'Amendment 1-Other Funds'!V39+'Other Funds-Revision No. 2'!V39+'Other Funds-Revision No. 3'!V39","v":0},{"$f":"'Amendment 1-Other Funds'!W39+'Other Funds-Revision No. 2'!W39+'Other Funds-Revision No. 3'!W39","v":0},{"$f":"'Amendment 1-Other Funds'!X39+'Other Funds-Revision No. 2'!X39+'Other Funds-Revision No. 3'!X39","v":0},{"$f":"'Amendment 1-Other Funds'!Y39+'Other Funds-Revision No. 2'!Y39+'Other Funds-Revision No. 3'!Y39","v":0},{"$f":"'Amendment 1-Other Funds'!Z39+'Other Funds-Revision No. 2'!Z39+'Other Funds-Revision No. 3'!Z39","v":0},{"$f":"'Amendment 1-Other Funds'!AA39+'Other Funds-Revision No. 2'!AA39+'Other Funds-Revision No. 3'!AA39","v":0},{"$f":"'Amendment 1-Other Funds'!AB39+'Other Funds-Revision No. 2'!AB39+'Other Funds-Revision No. 3'!AB39","v":0},{"$f":"'Amendment 1-Other Funds'!AC39+'Other Funds-Revision No. 2'!AC39+'Other Funds-Revision No. 3'!AC39","v":0},{"$f":"'Amendment 1-Other Funds'!AD39+'Other Funds-Revision No. 2'!AD39+'Other Funds-Revision No. 3'!AD39","v":0},{"$f":"'Amendment 1-Other Funds'!AE39+'Other Funds-Revision No. 2'!AE39+'Other Funds-Revision No. 3'!AE39","v":0},{"$f":"'Amendment 1-Other Funds'!AF39+'Other Funds-Revision No. 2'!AF39+'Other Funds-Revision No. 3'!AF39","v":0},{"$f":"'Amendment 1-Other Funds'!AG39+'Other Funds-Revision No. 2'!AG39+'Other Funds-Revision No. 3'!AG39","v":0},{"$f":"'Amendment 1-Other Funds'!AH39+'Other Funds-Revision No. 2'!AH39+'Other Funds-Revision No. 3'!AH39","v":0},{"$f":"'Amendment 1-Other Funds'!AI39+'Other Funds-Revision No. 2'!AI39+'Other Funds-Revision No. 3'!AI39","v":0},{"$f":"'Amendment 1-Other Funds'!AJ39+'Other Funds-Revision No. 2'!AJ39+'Other Funds-Revision No. 3'!AJ39","v":0},{"$f":"'Amendment 1-Other Funds'!AK39+'Other Funds-Revision No. 2'!AK39+'Other Funds-Revision No. 3'!AK39","v":0},{"$f":"'Amendment 1-Other Funds'!AL39+'Other Funds-Revision No. 2'!AL39+'Other Funds-Revision No. 3'!AL39","v":37573},8840]
[{"$f":"+'Original ABG Allocation'!A40","v":"35"},{"$f":"+'Original ABG Allocation'!B40","v":"PIKE"},{"$f":"'Amendment 1-Other Funds'!C40+'Other Funds-Revision No. 2'!C40+'Other Funds-Revision No. 3'!C40","v":0},{"$f":"'Amendment 1-Other Funds'!D40+'Other Funds-Revision No. 2'!D40+'Other Funds-Revision No. 3'!D40","v":0},{"$f":"'Amendment 1-Other Funds'!E40+'Other Funds-Revision No. 2'!E40+'Other Funds-Revision No. 3'!E40","v":8840},{"$f":"'Amendment 1-Other Funds'!F40+'Other Funds-Revision No. 2'!F40+'Other Funds-Revision No. 3'!F40","v":0},{"$f":"'Amendment 1-Other Funds'!G40+'Other Funds-Revision No. 2'!G40+'Other Funds-Revision No. 3'!G40","v":0},{"$f":"'Amendment 1-Other Funds'!H40+'Other Funds-Revision No. 2'!H40+'Other Funds-Revision No. 3'!H40","v":0},{"$f":"'Amendment 1-Other Funds'!I40+'Other Funds-Revision No. 2'!I40+'Other Funds-Revision No. 3'!I40","v":0},{"$f":"'Amendment 1-Other Funds'!J40+'Other Funds-Revision No. 2'!J40+'Other Funds-Revision No. 3'!J40","v":0},{"$f":"'Amendment 1-Other Funds'!K40+'Other Funds-Revision No. 2'!K40+'Other Funds-Revision No. 3'!K40","v":0},{"$f":"'Amendment 1-Other Funds'!L40+'Other Funds-Revision No. 2'!L40+'Other Funds-Revision No. 3'!L40","v":0},{"$f":"'Amendment 1-Other Funds'!M40+'Other Funds-Revision No. 2'!M40+'Other Funds-Revision No. 3'!M40","v":0},{"$f":"'Amendment 1-Other Funds'!N40+'Other Funds-Revision No. 2'!N40+'Other Funds-Revision No. 3'!N40","v":0},{"$f":"'Amendment 1-Other Funds'!O40+'Other Funds-Revision No. 2'!O40+'Other Funds-Revision No. 3'!O40","v":0},{"$f":"'Amendment 1-Other Funds'!P40+'Other Funds-Revision No. 2'!P40+'Other Funds-Revision No. 3'!P40","v":0},{"$f":"'Amendment 1-Other Funds'!Q40+'Other Funds-Revision No. 2'!Q40+'Other Funds-Revision No. 3'!Q40","v":0},{"$f":"'Amendment 1-Other Funds'!R40+'Other Funds-Revision No. 2'!R40+'Other Funds-Revision No. 3'!R40","v":0},{"$f":"'Amendment 1-Other Funds'!S40+'Other Funds-Revision No. 2'!S40+'Other Funds-Revision No. 3'!S40","v":0},{"$f":"'Amendment 1-Other Funds'!T40+'Other Funds-Revision No. 2'!T40+'Other Funds-Revision No. 3'!T40","v":0},{"$f":"'Amendment 1-Other Funds'!U40+'Other Funds-Revision No. 2'!U40+'Other Funds-Revision No. 3'!U40","v":0},{"$f":"'Amendment 1-Other Funds'!V40+'Other Funds-Revision No. 2'!V40+'Other Funds-Revision No. 3'!V40","v":0},{"$f":"'Amendment 1-Other Funds'!W40+'Other Funds-Revision No. 2'!W40+'Other Funds-Revision No. 3'!W40","v":0},{"$f":"'Amendment 1-Other Funds'!X40+'Other Funds-Revision No. 2'!X40+'Other Funds-Revision No. 3'!X40","v":0},{"$f":"'Amendment 1-Other Funds'!Y40+'Other Funds-Revision No. 2'!Y40+'Other Funds-Revision No. 3'!Y40","v":0},{"$f":"'Amendment 1-Other Funds'!Z40+'Other Funds-Revision No. 2'!Z40+'Other Funds-Revision No. 3'!Z40","v":0},{"$f":"'Amendment 1-Other Funds'!AA40+'Other Funds-Revision No. 2'!AA40+'Other Funds-Revision No. 3'!AA40","v":0},{"$f":"'Amendment 1-Other Funds'!AB40+'Other Funds-Revision No. 2'!AB40+'Other Funds-Revision No. 3'!AB40","v":0},{"$f":"'Amendment 1-Other Funds'!AC40+'Other Funds-Revision No. 2'!AC40+'Other Funds-Revision No. 3'!AC40","v":0},{"$f":"'Amendment 1-Other Funds'!AD40+'Other Funds-Revision No. 2'!AD40+'Other Funds-Revision No. 3'!AD40","v":0},{"$f":"'Amendment 1-Other Funds'!AE40+'Other Funds-Revision No. 2'!AE40+'Other Funds-Revision No. 3'!AE40","v":0},{"$f":"'Amendment 1-Other Funds'!AF40+'Other Funds-Revision No. 2'!AF40+'Other Funds-Revision No. 3'!AF40","v":0},{"$f":"'Amendment 1-Other Funds'!AG40+'Other Funds-Revision No. 2'!AG40+'Other Funds-Revision No. 3'!AG40","v":0},{"$f":"'Amendment 1-Other Funds'!AH40+'Other Funds-Revision No. 2'!AH40+'Other Funds-Revision No. 3'!AH40","v":0},{"$f":"'Amendment 1-Other Funds'!AI40+'Other Funds-Revision No. 2'!AI40+'Other Funds-Revision No. 3'!AI40","v":0},{"$f":"'Amendment 1-Other Funds'!AJ40+'Other Funds-Revision No. 2'!AJ40+'Other Funds-Revision No. 3'!AJ40","v":0},{"$f":"'Amendment 1-Other Funds'!AK40+'Other Funds-Revision No. 2'!AK40+'Other Funds-Revision No. 3'!AK40","v":0},{"$f":"'Amendment 1-Other Funds'!AL40+'Other Funds-Revision No. 2'!AL40+'Other Funds-Revision No. 3'!AL40","v":15706},8840]
[{"$f":"+'Original ABG Allocation'!A41","v":"36"},{"$f":"+'Original ABG Allocation'!B41","v":"B/S/S/T"},{"$f":"'Amendment 1-Other Funds'!C41+'Other Funds-Revision No. 2'!C41+'Other Funds-Revision No. 3'!C41","v":0},{"$f":"'Amendment 1-Other Funds'!D41+'Other Funds-Revision No. 2'!D41+'Other Funds-Revision No. 3'!D41","v":0},{"$f":"'Amendment 1-Other Funds'!E41+'Other Funds-Revision No. 2'!E41+'Other Funds-Revision No. 3'!E41","v":8840},{"$f":"'Amendment 1-Other Funds'!F41+'Other Funds-Revision No. 2'!F41+'Other Funds-Revision No. 3'!F41","v":0},{"$f":"'Amendment 1-Other Funds'!G41+'Other Funds-Revision No. 2'!G41+'Other Funds-Revision No. 3'!G41","v":0},{"$f":"'Amendment 1-Other Funds'!H41+'Other Funds-Revision No. 2'!H41+'Other Funds-Revision No. 3'!H41","v":0},{"$f":"'Amendment 1-Other Funds'!I41+'Other Funds-Revision No. 2'!I41+'Other Funds-Revision No. 3'!I41","v":0},{"$f":"'Amendment 1-Other Funds'!J41+'Other Funds-Revision No. 2'!J41+'Other Funds-Revision No. 3'!J41","v":0},{"$f":"'Amendment 1-Other Funds'!K41+'Other Funds-Revision No. 2'!K41+'Other Funds-Revision No. 3'!K41","v":0},{"$f":"'Amendment 1-Other Funds'!L41+'Other Funds-Revision No. 2'!L41+'Other Funds-Revision No. 3'!L41","v":0},{"$f":"'Amendment 1-Other Funds'!M41+'Other Funds-Revision No. 2'!M41+'Other Funds-Revision No. 3'!M41","v":0},{"$f":"'Amendment 1-Other Funds'!N41+'Other Funds-Revision No. 2'!N41+'Other Funds-Revision No. 3'!N41","v":0},{"$f":"'Amendment 1-Other Funds'!O41+'Other Funds-Revision No. 2'!O41+'Other Funds-Revision No. 3'!O41","v":0},{"$f":"'Amendment 1-Other Funds'!P41+'Other Funds-Revision No. 2'!P41+'Other Funds-Revision No. 3'!P41","v":0},{"$f":"'Amendment 1-Other Funds'!Q41+'Other Funds-Revision No. 2'!Q41+'Other Funds-Revision No. 3'!Q41","v":0},{"$f":"'Amendment 1-Other Funds'!R41+'Other Funds-Revision No. 2'!R41+'Other Funds-Revision No. 3'!R41","v":0},{"$f":"'Amendment 1-Other Funds'!S41+'Other Funds-Revision No. 2'!S41+'Other Funds-Revision No. 3'!S41","v":0},{"$f":"'Amendment 1-Other Funds'!T41+'Other Funds-Revision No. 2'!T41+'Other Funds-Revision No. 3'!T41","v":0},{"$f":"'Amendment 1-Other Funds'!U41+'Other Funds-Revision No. 2'!U41+'Other Funds-Revision No. 3'!U41","v":0},{"$f":"'Amendment 1-Other Funds'!V41+'Other Funds-Revision No. 2'!V41+'Other Funds-Revision No. 3'!V41","v":0},{"$f":"'Amendment 1-Other Funds'!W41+'Other Funds-Revision No. 2'!W41+'Other Funds-Revision No. 3'!W41","v":0},{"$f":"'Amendment 1-Other Funds'!X41+'Other Funds-Revision No. 2'!X41+'Other Funds-Revision No. 3'!X41","v":0},{"$f":"'Amendment 1-Other Funds'!Y41+'Other Funds-Revision No. 2'!Y41+'Other Funds-Revision No. 3'!Y41","v":0},{"$f":"'Amendment 1-Other Funds'!Z41+'Other Funds-Revision No. 2'!Z41+'Other Funds-Revision No. 3'!Z41","v":0},{"$f":"'Amendment 1-Other Funds'!AA41+'Other Funds-Revision No. 2'!AA41+'Other Funds-Revision No. 3'!AA41","v":0},{"$f":"'Amendment 1-Other Funds'!AB41+'Other Funds-Revision No. 2'!AB41+'Other Funds-Revision No. 3'!AB41","v":0},{"$f":"'Amendment 1-Other Funds'!AC41+'Other Funds-Revision No. 2'!AC41+'Other Funds-Revision No. 3'!AC41","v":0},{"$f":"'Amendment 1-Other Funds'!AD41+'Other Funds-Revision No. 2'!AD41+'Other Funds-Revision No. 3'!AD41","v":0},{"$f":"'Amendment 1-Other Funds'!AE41+'Other Funds-Revision No. 2'!AE41+'Other Funds-Revision No. 3'!AE41","v":0},{"$f":"'Amendment 1-Other Funds'!AF41+'Other Funds-Revision No. 2'!AF41+'Other Funds-Revision No. 3'!AF41","v":0},{"$f":"'Amendment 1-Other Funds'!AG41+'Other Funds-Revision No. 2'!AG41+'Other Funds-Revision No. 3'!AG41","v":0},{"$f":"'Amendment 1-Other Funds'!AH41+'Other Funds-Revision No. 2'!AH41+'Other Funds-Revision No. 3'!AH41","v":0},{"$f":"'Amendment 1-Other Funds'!AI41+'Other Funds-Revision No. 2'!AI41+'Other Funds-Revision No. 3'!AI41","v":0},{"$f":"'Amendment 1-Other Funds'!AJ41+'Other Funds-Revision No. 2'!AJ41+'Other Funds-Revision No. 3'!AJ41","v":0},{"$f":"'Amendment 1-Other Funds'!AK41+'Other Funds-Revision No. 2'!AK41+'Other Funds-Revision No. 3'!AK41","v":0},{"$f":"'Amendment 1-Other Funds'!AL41+'Other Funds-Revision No. 2'!AL41+'Other Funds-Revision No. 3'!AL41","v":39593},8840]
[{"$f":"+'Original ABG Allocation'!A42","v":"37"},{"$f":"+'Original ABG Allocation'!B42","v":"LUZERNE/WYOMING"},{"$f":"'Amendment 1-Other Funds'!C42+'Other Funds-Revision No. 2'!C42+'Other Funds-Revision No. 3'!C42","v":0},{"$f":"'Amendment 1-Other Funds'!D42+'Other Funds-Revision No. 2'!D42+'Other Funds-Revision No. 3'!D42","v":0},{"$f":"'Amendment 1-Other Funds'!E42+'Other Funds-Revision No. 2'!E42+'Other Funds-Revision No. 3'!E42","v":8840},{"$f":"'Amendment 1-Other Funds'!F42+'Other Funds-Revision No. 2'!F42+'Other Funds-Revision No. 3'!F42","v":0},{"$f":"'Amendment 1-Other Funds'!G42+'Other Funds-Revision No. 2'!G42+'Other Funds-Revision No. 3'!G42","v":0},{"$f":"'Amendment 1-Other Funds'!H42+'Other Funds-Revision No. 2'!H42+'Other Funds-Revision No. 3'!H42","v":0},{"$f":"'Amendment 1-Other Funds'!I42+'Other Funds-Revision No. 2'!I42+'Other Funds-Revision No. 3'!I42","v":0},{"$f":"'Amendment 1-Other Funds'!J42+'Other Funds-Revision No. 2'!J42+'Other Funds-Revision No. 3'!J42","v":0},{"$f":"'Amendment 1-Other Funds'!K42+'Other Funds-Revision No. 2'!K42+'Other Funds-Revision No. 3'!K42","v":0},{"$f":"'Amendment 1-Other Funds'!L42+'Other Funds-Revision No. 2'!L42+'Other Funds-Revision No. 3'!L42","v":0},{"$f":"'Amendment 1-Other Funds'!M42+'Other Funds-Revision No. 2'!M42+'Other Funds-Revision No. 3'!M42","v":0},{"$f":"'Amendment 1-Other Funds'!N42+'Other Funds-Revision No. 2'!N42+'Other Funds-Revision No. 3'!N42","v":0},{"$f":"'Amendment 1-Other Funds'!O42+'Other Funds-Revision No. 2'!O42+'Other Funds-Revision No. 3'!O42","v":0},{"$f":"'Amendment 1-Other Funds'!P42+'Other Funds-Revision No. 2'!P42+'Other Funds-Revision No. 3'!P42","v":0},{"$f":"'Amendment 1-Other Funds'!Q42+'Other Funds-Revision No. 2'!Q42+'Other Funds-Revision No. 3'!Q42","v":0},{"$f":"'Amendment 1-Other Funds'!R42+'Other Funds-Revision No. 2'!R42+'Other Funds-Revision No. 3'!R42","v":0},{"$f":"'Amendment 1-Other Funds'!S42+'Other Funds-Revision No. 2'!S42+'Other Funds-Revision No. 3'!S42","v":0},{"$f":"'Amendment 1-Other Funds'!T42+'Other Funds-Revision No. 2'!T42+'Other Funds-Revision No. 3'!T42","v":0},{"$f":"'Amendment 1-Other Funds'!U42+'Other Funds-Revision No. 2'!U42+'Other Funds-Revision No. 3'!U42","v":0},{"$f":"'Amendment 1-Other Funds'!V42+'Other Funds-Revision No. 2'!V42+'Other Funds-Revision No. 3'!V42","v":0},{"$f":"'Amendment 1-Other Funds'!W42+'Other Funds-Revision No. 2'!W42+'Other Funds-Revision No. 3'!W42","v":0},{"$f":"'Amendment 1-Other Funds'!X42+'Other Funds-Revision No. 2'!X42+'Other Funds-Revision No. 3'!X42","v":0},{"$f":"'Amendment 1-Other Funds'!Y42+'Other Funds-Revision No. 2'!Y42+'Other Funds-Revision No. 3'!Y42","v":0},{"$f":"'Amendment 1-Other Funds'!Z42+'Other Funds-Revision No. 2'!Z42+'Other Funds-Revision No. 3'!Z42","v":0},{"$f":"'Amendment 1-Other Funds'!AA42+'Other Funds-Revision No. 2'!AA42+'Other Funds-Revision No. 3'!AA42","v":0},{"$f":"'Amendment 1-Other Funds'!AB42+'Other Funds-Revision No. 2'!AB42+'Other Funds-Revision No. 3'!AB42","v":0},{"$f":"'Amendment 1-Other Funds'!AC42+'Other Funds-Revision No. 2'!AC42+'Other Funds-Revision No. 3'!AC42","v":0},{"$f":"'Amendment 1-Other Funds'!AD42+'Other Funds-Revision No. 2'!AD42+'Other Funds-Revision No. 3'!AD42","v":0},{"$f":"'Amendment 1-Other Funds'!AE42+'Other Funds-Revision No. 2'!AE42+'Other Funds-Revision No. 3'!AE42","v":0},{"$f":"'Amendment 1-Other Funds'!AF42+'Other Funds-Revision No. 2'!AF42+'Other Funds-Revision No. 3'!AF42","v":0},{"$f":"'Amendment 1-Other Funds'!AG42+'Other Funds-Revision No. 2'!AG42+'Other Funds-Revision No. 3'!AG42","v":0},{"$f":"'Amendment 1-Other Funds'!AH42+'Other Funds-Revision No. 2'!AH42+'Other Funds-Revision No. 3'!AH42","v":0},{"$f":"'Amendment 1-Other Funds'!AI42+'Other Funds-Revision No. 2'!AI42+'Other Funds-Revision No. 3'!AI42","v":0},{"$f":"'Amendment 1-Other Funds'!AJ42+'Other Funds-Revision No. 2'!AJ42+'Other Funds-Revision No. 3'!AJ42","v":0},{"$f":"'Amendment 1-Other Funds'!AK42+'Other Funds-Revision No. 2'!AK42+'Other Funds-Revision No. 3'!AK42","v":0},{"$f":"'Amendment 1-Other Funds'!AL42+'Other Funds-Revision No. 2'!AL42+'Other Funds-Revision No. 3'!AL42","v":53811},8840]
[{"$f":"+'Original ABG Allocation'!A43","v":"38"},{"$f":"+'Original ABG Allocation'!B43","v":"LACKAWANNA"},{"$f":"'Amendment 1-Other Funds'!C43+'Other Funds-Revision No. 2'!C43+'Other Funds-Revision No. 3'!C43","v":0},{"$f":"'Amendment 1-Other Funds'!D43+'Other Funds-Revision No. 2'!D43+'Other Funds-Revision No. 3'!D43","v":0},{"$f":"'Amendment 1-Other Funds'!E43+'Other Funds-Revision No. 2'!E43+'Other Funds-Revision No. 3'!E43","v":8840},{"$f":"'Amendment 1-Other Funds'!F43+'Other Funds-Revision No. 2'!F43+'Other Funds-Revision No. 3'!F43","v":0},{"$f":"'Amendment 1-Other Funds'!G43+'Other Funds-Revision No. 2'!G43+'Other Funds-Revision No. 3'!G43","v":0},{"$f":"'Amendment 1-Other Funds'!H43+'Other Funds-Revision No. 2'!H43+'Other Funds-Revision No. 3'!H43","v":0},{"$f":"'Amendment 1-Other Funds'!I43+'Other Funds-Revision No. 2'!I43+'Other Funds-Revision No. 3'!I43","v":0},{"$f":"'Amendment 1-Other Funds'!J43+'Other Funds-Revision No. 2'!J43+'Other Funds-Revision No. 3'!J43","v":0},{"$f":"'Amendment 1-Other Funds'!K43+'Other Funds-Revision No. 2'!K43+'Other Funds-Revision No. 3'!K43","v":0},{"$f":"'Amendment 1-Other Funds'!L43+'Other Funds-Revision No. 2'!L43+'Other Funds-Revision No. 3'!L43","v":0},{"$f":"'Amendment 1-Other Funds'!M43+'Other Funds-Revision No. 2'!M43+'Other Funds-Revision No. 3'!M43","v":0},{"$f":"'Amendment 1-Other Funds'!N43+'Other Funds-Revision No. 2'!N43+'Other Funds-Revision No. 3'!N43","v":0},{"$f":"'Amendment 1-Other Funds'!O43+'Other Funds-Revision No. 2'!O43+'Other Funds-Revision No. 3'!O43","v":0},{"$f":"'Amendment 1-Other Funds'!P43+'Other Funds-Revision No. 2'!P43+'Other Funds-Revision No. 3'!P43","v":0},{"$f":"'Amendment 1-Other Funds'!Q43+'Other Funds-Revision No. 2'!Q43+'Other Funds-Revision No. 3'!Q43","v":0},{"$f":"'Amendment 1-Other Funds'!R43+'Other Funds-Revision No. 2'!R43+'Other Funds-Revision No. 3'!R43","v":0},{"$f":"'Amendment 1-Other Funds'!S43+'Other Funds-Revision No. 2'!S43+'Other Funds-Revision No. 3'!S43","v":0},{"$f":"'Amendment 1-Other Funds'!T43+'Other Funds-Revision No. 2'!T43+'Other Funds-Revision No. 3'!T43","v":0},{"$f":"'Amendment 1-Other Funds'!U43+'Other Funds-Revision No. 2'!U43+'Other Funds-Revision No. 3'!U43","v":0},{"$f":"'Amendment 1-Other Funds'!V43+'Other Funds-Revision No. 2'!V43+'Other Funds-Revision No. 3'!V43","v":0},{"$f":"'Amendment 1-Other Funds'!W43+'Other Funds-Revision No. 2'!W43+'Other Funds-Revision No. 3'!W43","v":0},{"$f":"'Amendment 1-Other Funds'!X43+'Other Funds-Revision No. 2'!X43+'Other Funds-Revision No. 3'!X43","v":0},{"$f":"'Amendment 1-Other Funds'!Y43+'Other Funds-Revision No. 2'!Y43+'Other Funds-Revision No. 3'!Y43","v":0},{"$f":"'Amendment 1-Other Funds'!Z43+'Other Funds-Revision No. 2'!Z43+'Other Funds-Revision No. 3'!Z43","v":0},{"$f":"'Amendment 1-Other Funds'!AA43+'Other Funds-Revision No. 2'!AA43+'Other Funds-Revision No. 3'!AA43","v":0},{"$f":"'Amendment 1-Other Funds'!AB43+'Other Funds-Revision No. 2'!AB43+'Other Funds-Revision No. 3'!AB43","v":0},{"$f":"'Amendment 1-Other Funds'!AC43+'Other Funds-Revision No. 2'!AC43+'Other Funds-Revision No. 3'!AC43","v":0},{"$f":"'Amendment 1-Other Funds'!AD43+'Other Funds-Revision No. 2'!AD43+'Other Funds-Revision No. 3'!AD43","v":0},{"$f":"'Amendment 1-Other Funds'!AE43+'Other Funds-Revision No. 2'!AE43+'Other Funds-Revision No. 3'!AE43","v":0},{"$f":"'Amendment 1-Other Funds'!AF43+'Other Funds-Revision No. 2'!AF43+'Other Funds-Revision No. 3'!AF43","v":0},{"$f":"'Amendment 1-Other Funds'!AG43+'Other Funds-Revision No. 2'!AG43+'Other Funds-Revision No. 3'!AG43","v":0},{"$f":"'Amendment 1-Other Funds'!AH43+'Other Funds-Revision No. 2'!AH43+'Other Funds-Revision No. 3'!AH43","v":0},{"$f":"'Amendment 1-Other Funds'!AI43+'Other Funds-Revision No. 2'!AI43+'Other Funds-Revision No. 3'!AI43","v":0},{"$f":"'Amendment 1-Other Funds'!AJ43+'Other Funds-Revision No. 2'!AJ43+'Other Funds-Revision No. 3'!AJ43","v":0},{"$f":"'Amendment 1-Other Funds'!AK43+'Other Funds-Revision No. 2'!AK43+'Other Funds-Revision No. 3'!AK43","v":0},{"$f":"'Amendment 1-Other Funds'!AL43+'Other Funds-Revision No. 2'!AL43+'Other Funds-Revision No. 3'!AL43","v":33417},8840]
[{"$f":"+'Original ABG Allocation'!A44","v":"39"},{"$f":"+'Original ABG Allocation'!B44","v":"CARBON"},{"$f":"'Amendment 1-Other Funds'!C44+'Other Funds-Revision No. 2'!C44+'Other Funds-Revision No. 3'!C44","v":0},{"$f":"'Amendment 1-Other Funds'!D44+'Other Funds-Revision No. 2'!D44+'Other Funds-Revision No. 3'!D44","v":0},{"$f":"'Amendment 1-Other Funds'!E44+'Other Funds-Revision No. 2'!E44+'Other Funds-Revision No. 3'!E44","v":8840},{"$f":"'Amendment 1-Other Funds'!F44+'Other Funds-Revision No. 2'!F44+'Other Funds-Revision No. 3'!F44","v":0},{"$f":"'Amendment 1-Other Funds'!G44+'Other Funds-Revision No. 2'!G44+'Other Funds-Revision No. 3'!G44","v":0},{"$f":"'Amendment 1-Other Funds'!H44+'Other Funds-Revision No. 2'!H44+'Other Funds-Revision No. 3'!H44","v":0},{"$f":"'Amendment 1-Other Funds'!I44+'Other Funds-Revision No. 2'!I44+'Other Funds-Revision No. 3'!I44","v":0},{"$f":"'Amendment 1-Other Funds'!J44+'Other Funds-Revision No. 2'!J44+'Other Funds-Revision No. 3'!J44","v":0},{"$f":"'Amendment 1-Other Funds'!K44+'Other Funds-Revision No. 2'!K44+'Other Funds-Revision No. 3'!K44","v":0},{"$f":"'Amendment 1-Other Funds'!L44+'Other Funds-Revision No. 2'!L44+'Other Funds-Revision No. 3'!L44","v":0},{"$f":"'Amendment 1-Other Funds'!M44+'Other Funds-Revision No. 2'!M44+'Other Funds-Revision No. 3'!M44","v":0},{"$f":"'Amendment 1-Other Funds'!N44+'Other Funds-Revision No. 2'!N44+'Other Funds-Revision No. 3'!N44","v":0},{"$f":"'Amendment 1-Other Funds'!O44+'Other Funds-Revision No. 2'!O44+'Other Funds-Revision No. 3'!O44","v":0},{"$f":"'Amendment 1-Other Funds'!P44+'Other Funds-Revision No. 2'!P44+'Other Funds-Revision No. 3'!P44","v":0},{"$f":"'Amendment 1-Other Funds'!Q44+'Other Funds-Revision No. 2'!Q44+'Other Funds-Revision No. 3'!Q44","v":0},{"$f":"'Amendment 1-Other Funds'!R44+'Other Funds-Revision No. 2'!R44+'Other Funds-Revision No. 3'!R44","v":0},{"$f":"'Amendment 1-Other Funds'!S44+'Other Funds-Revision No. 2'!S44+'Other Funds-Revision No. 3'!S44","v":0},{"$f":"'Amendment 1-Other Funds'!T44+'Other Funds-Revision No. 2'!T44+'Other Funds-Revision No. 3'!T44","v":0},{"$f":"'Amendment 1-Other Funds'!U44+'Other Funds-Revision No. 2'!U44+'Other Funds-Revision No. 3'!U44","v":0},{"$f":"'Amendment 1-Other Funds'!V44+'Other Funds-Revision No. 2'!V44+'Other Funds-Revision No. 3'!V44","v":0},{"$f":"'Amendment 1-Other Funds'!W44+'Other Funds-Revision No. 2'!W44+'Other Funds-Revision No. 3'!W44","v":0},{"$f":"'Amendment 1-Other Funds'!X44+'Other Funds-Revision No. 2'!X44+'Other Funds-Revision No. 3'!X44","v":0},{"$f":"'Amendment 1-Other Funds'!Y44+'Other Funds-Revision No. 2'!Y44+'Other Funds-Revision No. 3'!Y44","v":0},{"$f":"'Amendment 1-Other Funds'!Z44+'Other Funds-Revision No. 2'!Z44+'Other Funds-Revision No. 3'!Z44","v":0},{"$f":"'Amendment 1-Other Funds'!AA44+'Other Funds-Revision No. 2'!AA44+'Other Funds-Revision No. 3'!AA44","v":0},{"$f":"'Amendment 1-Other Funds'!AB44+'Other Funds-Revision No. 2'!AB44+'Other Funds-Revision No. 3'!AB44","v":0},{"$f":"'Amendment 1-Other Funds'!AC44+'Other Funds-Revision No. 2'!AC44+'Other Funds-Revision No. 3'!AC44","v":0},{"$f":"'Amendment 1-Other Funds'!AD44+'Other Funds-Revision No. 2'!AD44+'Other Funds-Revision No. 3'!AD44","v":0},{"$f":"'Amendment 1-Other Funds'!AE44+'Other Funds-Revision No. 2'!AE44+'Other Funds-Revision No. 3'!AE44","v":0},{"$f":"'Amendment 1-Other Funds'!AF44+'Other Funds-Revision No. 2'!AF44+'Other Funds-Revision No. 3'!AF44","v":0},{"$f":"'Amendment 1-Other Funds'!AG44+'Other Funds-Revision No. 2'!AG44+'Other Funds-Revision No. 3'!AG44","v":0},{"$f":"'Amendment 1-Other Funds'!AH44+'Other Funds-Revision No. 2'!AH44+'Other Funds-Revision No. 3'!AH44","v":0},{"$f":"'Amendment 1-Other Funds'!AI44+'Other Funds-Revision No. 2'!AI44+'Other Funds-Revision No. 3'!AI44","v":0},{"$f":"'Amendment 1-Other Funds'!AJ44+'Other Funds-Revision No. 2'!AJ44+'Other Funds-Revision No. 3'!AJ44","v":0},{"$f":"'Amendment 1-Other Funds'!AK44+'Other Funds-Revision No. 2'!AK44+'Other Funds-Revision No. 3'!AK44","v":0},{"$f":"'Amendment 1-Other Funds'!AL44+'Other Funds-Revision No. 2'!AL44+'Other Funds-Revision No. 3'!AL44","v":14416},8840]
[{"$f":"+'Original ABG Allocation'!A45","v":"40"},{"$f":"+'Original ABG Allocation'!B45","v":"SCHUYLKILL"},{"$f":"'Amendment 1-Other Funds'!C45+'Other Funds-Revision No. 2'!C45+'Other Funds-Revision No. 3'!C45","v":0},{"$f":"'Amendment 1-Other Funds'!D45+'Other Funds-Revision No. 2'!D45+'Other Funds-Revision No. 3'!D45","v":0},{"$f":"'Amendment 1-Other Funds'!E45+'Other Funds-Revision No. 2'!E45+'Other Funds-Revision No. 3'!E45","v":11555},{"$f":"'Amendment 1-Other Funds'!F45+'Other Funds-Revision No. 2'!F45+'Other Funds-Revision No. 3'!F45","v":0},{"$f":"'Amendment 1-Other Funds'!G45+'Other Funds-Revision No. 2'!G45+'Other Funds-Revision No. 3'!G45","v":0},{"$f":"'Amendment 1-Other Funds'!H45+'Other Funds-Revision No. 2'!H45+'Other Funds-Revision No. 3'!H45","v":0},{"$f":"'Amendment 1-Other Funds'!I45+'Other Funds-Revision No. 2'!I45+'Other Funds-Revision No. 3'!I45","v":0},{"$f":"'Amendment 1-Other Funds'!J45+'Other Funds-Revision No. 2'!J45+'Other Funds-Revision No. 3'!J45","v":0},{"$f":"'Amendment 1-Other Funds'!K45+'Other Funds-Revision No. 2'!K45+'Other Funds-Revision No. 3'!K45","v":0},{"$f":"'Amendment 1-Other Funds'!L45+'Other Funds-Revision No. 2'!L45+'Other Funds-Revision No. 3'!L45","v":0},{"$f":"'Amendment 1-Other Funds'!M45+'Other Funds-Revision No. 2'!M45+'Other Funds-Revision No. 3'!M45","v":0},{"$f":"'Amendment 1-Other Funds'!N45+'Other Funds-Revision No. 2'!N45+'Other Funds-Revision No. 3'!N45","v":0},{"$f":"'Amendment 1-Other Funds'!O45+'Other Funds-Revision No. 2'!O45+'Other Funds-Revision No. 3'!O45","v":0},{"$f":"'Amendment 1-Other Funds'!P45+'Other Funds-Revision No. 2'!P45+'Other Funds-Revision No. 3'!P45","v":0},{"$f":"'Amendment 1-Other Funds'!Q45+'Other Funds-Revision No. 2'!Q45+'Other Funds-Revision No. 3'!Q45","v":0},{"$f":"'Amendment 1-Other Funds'!R45+'Other Funds-Revision No. 2'!R45+'Other Funds-Revision No. 3'!R45","v":0},{"$f":"'Amendment 1-Other Funds'!S45+'Other Funds-Revision No. 2'!S45+'Other Funds-Revision No. 3'!S45","v":0},{"$f":"'Amendment 1-Other Funds'!T45+'Other Funds-Revision No. 2'!T45+'Other Funds-Revision No. 3'!T45","v":0},{"$f":"'Amendment 1-Other Funds'!U45+'Other Funds-Revision No. 2'!U45+'Other Funds-Revision No. 3'!U45","v":0},{"$f":"'Amendment 1-Other Funds'!V45+'Other Funds-Revision No. 2'!V45+'Other Funds-Revision No. 3'!V45","v":0},{"$f":"'Amendment 1-Other Funds'!W45+'Other Funds-Revision No. 2'!W45+'Other Funds-Revision No. 3'!W45","v":0},{"$f":"'Amendment 1-Other Funds'!X45+'Other Funds-Revision No. 2'!X45+'Other Funds-Revision No. 3'!X45","v":0},{"$f":"'Amendment 1-Other Funds'!Y45+'Other Funds-Revision No. 2'!Y45+'Other Funds-Revision No. 3'!Y45","v":0},{"$f":"'Amendment 1-Other Funds'!Z45+'Other Funds-Revision No. 2'!Z45+'Other Funds-Revision No. 3'!Z45","v":0},{"$f":"'Amendment 1-Other Funds'!AA45+'Other Funds-Revision No. 2'!AA45+'Other Funds-Revision No. 3'!AA45","v":0},{"$f":"'Amendment 1-Other Funds'!AB45+'Other Funds-Revision No. 2'!AB45+'Other Funds-Revision No. 3'!AB45","v":0},{"$f":"'Amendment 1-Other Funds'!AC45+'Other Funds-Revision No. 2'!AC45+'Other Funds-Revision No. 3'!AC45","v":0},{"$f":"'Amendment 1-Other Funds'!AD45+'Other Funds-Revision No. 2'!AD45+'Other Funds-Revision No. 3'!AD45","v":0},{"$f":"'Amendment 1-Other Funds'!AE45+'Other Funds-Revision No. 2'!AE45+'Other Funds-Revision No. 3'!AE45","v":0},{"$f":"'Amendment 1-Other Funds'!AF45+'Other Funds-Revision No. 2'!AF45+'Other Funds-Revision No. 3'!AF45","v":0},{"$f":"'Amendment 1-Other Funds'!AG45+'Other Funds-Revision No. 2'!AG45+'Other Funds-Revision No. 3'!AG45","v":0},{"$f":"'Amendment 1-Other Funds'!AH45+'Other Funds-Revision No. 2'!AH45+'Other Funds-Revision No. 3'!AH45","v":0},{"$f":"'Amendment 1-Other Funds'!AI45+'Other Funds-Revision No. 2'!AI45+'Other Funds-Revision No. 3'!AI45","v":0},{"$f":"'Amendment 1-Other Funds'!AJ45+'Other Funds-Revision No. 2'!AJ45+'Other Funds-Revision No. 3'!AJ45","v":0},{"$f":"'Amendment 1-Other Funds'!AK45+'Other Funds-Revision No. 2'!AK45+'Other Funds-Revision No. 3'!AK45","v":0},{"$f":"'Amendment 1-Other Funds'!AL45+'Other Funds-Revision No. 2'!AL45+'Other Funds-Revision No. 3'!AL45","v":30878},11555]
[{"$f":"+'Original ABG Allocation'!A46","v":"41"},{"$f":"+'Original ABG Allocation'!B46","v":"CLEARFIELD"},{"$f":"'Amendment 1-Other Funds'!C46+'Other Funds-Revision No. 2'!C46+'Other Funds-Revision No. 3'!C46","v":0},{"$f":"'Amendment 1-Other Funds'!D46+'Other Funds-Revision No. 2'!D46+'Other Funds-Revision No. 3'!D46","v":0},{"$f":"'Amendment 1-Other Funds'!E46+'Other Funds-Revision No. 2'!E46+'Other Funds-Revision No. 3'!E46","v":8840},{"$f":"'Amendment 1-Other Funds'!F46+'Other Funds-Revision No. 2'!F46+'Other Funds-Revision No. 3'!F46","v":0},{"$f":"'Amendment 1-Other Funds'!G46+'Other Funds-Revision No. 2'!G46+'Other Funds-Revision No. 3'!G46","v":0},{"$f":"'Amendment 1-Other Funds'!H46+'Other Funds-Revision No. 2'!H46+'Other Funds-Revision No. 3'!H46","v":0},{"$f":"'Amendment 1-Other Funds'!I46+'Other Funds-Revision No. 2'!I46+'Other Funds-Revision No. 3'!I46","v":0},{"$f":"'Amendment 1-Other Funds'!J46+'Other Funds-Revision No. 2'!J46+'Other Funds-Revision No. 3'!J46","v":0},{"$f":"'Amendment 1-Other Funds'!K46+'Other Funds-Revision No. 2'!K46+'Other Funds-Revision No. 3'!K46","v":0},{"$f":"'Amendment 1-Other Funds'!L46+'Other Funds-Revision No. 2'!L46+'Other Funds-Revision No. 3'!L46","v":0},{"$f":"'Amendment 1-Other Funds'!M46+'Other Funds-Revision No. 2'!M46+'Other Funds-Revision No. 3'!M46","v":0},{"$f":"'Amendment 1-Other Funds'!N46+'Other Funds-Revision No. 2'!N46+'Other Funds-Revision No. 3'!N46","v":0},{"$f":"'Amendment 1-Other Funds'!O46+'Other Funds-Revision No. 2'!O46+'Other Funds-Revision No. 3'!O46","v":0},{"$f":"'Amendment 1-Other Funds'!P46+'Other Funds-Revision No. 2'!P46+'Other Funds-Revision No. 3'!P46","v":0},{"$f":"'Amendment 1-Other Funds'!Q46+'Other Funds-Revision No. 2'!Q46+'Other Funds-Revision No. 3'!Q46","v":0},{"$f":"'Amendment 1-Other Funds'!R46+'Other Funds-Revision No. 2'!R46+'Other Funds-Revision No. 3'!R46","v":0},{"$f":"'Amendment 1-Other Funds'!S46+'Other Funds-Revision No. 2'!S46+'Other Funds-Revision No. 3'!S46","v":0},{"$f":"'Amendment 1-Other Funds'!T46+'Other Funds-Revision No. 2'!T46+'Other Funds-Revision No. 3'!T46","v":0},{"$f":"'Amendment 1-Other Funds'!U46+'Other Funds-Revision No. 2'!U46+'Other Funds-Revision No. 3'!U46","v":0},{"$f":"'Amendment 1-Other Funds'!V46+'Other Funds-Revision No. 2'!V46+'Other Funds-Revision No. 3'!V46","v":0},{"$f":"'Amendment 1-Other Funds'!W46+'Other Funds-Revision No. 2'!W46+'Other Funds-Revision No. 3'!W46","v":0},{"$f":"'Amendment 1-Other Funds'!X46+'Other Funds-Revision No. 2'!X46+'Other Funds-Revision No. 3'!X46","v":0},{"$f":"'Amendment 1-Other Funds'!Y46+'Other Funds-Revision No. 2'!Y46+'Other Funds-Revision No. 3'!Y46","v":0},{"$f":"'Amendment 1-Other Funds'!Z46+'Other Funds-Revision No. 2'!Z46+'Other Funds-Revision No. 3'!Z46","v":0},{"$f":"'Amendment 1-Other Funds'!AA46+'Other Funds-Revision No. 2'!AA46+'Other Funds-Revision No. 3'!AA46","v":0},{"$f":"'Amendment 1-Other Funds'!AB46+'Other Funds-Revision No. 2'!AB46+'Other Funds-Revision No. 3'!AB46","v":0},{"$f":"'Amendment 1-Other Funds'!AC46+'Other Funds-Revision No. 2'!AC46+'Other Funds-Revision No. 3'!AC46","v":0},{"$f":"'Amendment 1-Other Funds'!AD46+'Other Funds-Revision No. 2'!AD46+'Other Funds-Revision No. 3'!AD46","v":0},{"$f":"'Amendment 1-Other Funds'!AE46+'Other Funds-Revision No. 2'!AE46+'Other Funds-Revision No. 3'!AE46","v":0},{"$f":"'Amendment 1-Other Funds'!AF46+'Other Funds-Revision No. 2'!AF46+'Other Funds-Revision No. 3'!AF46","v":0},{"$f":"'Amendment 1-Other Funds'!AG46+'Other Funds-Revision No. 2'!AG46+'Other Funds-Revision No. 3'!AG46","v":0},{"$f":"'Amendment 1-Other Funds'!AH46+'Other Funds-Revision No. 2'!AH46+'Other Funds-Revision No. 3'!AH46","v":0},{"$f":"'Amendment 1-Other Funds'!AI46+'Other Funds-Revision No. 2'!AI46+'Other Funds-Revision No. 3'!AI46","v":0},{"$f":"'Amendment 1-Other Funds'!AJ46+'Other Funds-Revision No. 2'!AJ46+'Other Funds-Revision No. 3'!AJ46","v":0},{"$f":"'Amendment 1-Other Funds'!AK46+'Other Funds-Revision No. 2'!AK46+'Other Funds-Revision No. 3'!AK46","v":0},{"$f":"'Amendment 1-Other Funds'!AL46+'Other Funds-Revision No. 2'!AL46+'Other Funds-Revision No. 3'!AL46","v":19666},8840]
[{"$f":"+'Original ABG Allocation'!A47","v":"42"},{"$f":"+'Original ABG Allocation'!B47","v":"JEFFERSON"},{"$f":"'Amendment 1-Other Funds'!C47+'Other Funds-Revision No. 2'!C47+'Other Funds-Revision No. 3'!C47","v":0},{"$f":"'Amendment 1-Other Funds'!D47+'Other Funds-Revision No. 2'!D47+'Other Funds-Revision No. 3'!D47","v":0},{"$f":"'Amendment 1-Other Funds'!E47+'Other Funds-Revision No. 2'!E47+'Other Funds-Revision No. 3'!E47","v":8840},{"$f":"'Amendment 1-Other Funds'!F47+'Other Funds-Revision No. 2'!F47+'Other Funds-Revision No. 3'!F47","v":0},{"$f":"'Amendment 1-Other Funds'!G47+'Other Funds-Revision No. 2'!G47+'Other Funds-Revision No. 3'!G47","v":0},{"$f":"'Amendment 1-Other Funds'!H47+'Other Funds-Revision No. 2'!H47+'Other Funds-Revision No. 3'!H47","v":0},{"$f":"'Amendment 1-Other Funds'!I47+'Other Funds-Revision No. 2'!I47+'Other Funds-Revision No. 3'!I47","v":0},{"$f":"'Amendment 1-Other Funds'!J47+'Other Funds-Revision No. 2'!J47+'Other Funds-Revision No. 3'!J47","v":0},{"$f":"'Amendment 1-Other Funds'!K47+'Other Funds-Revision No. 2'!K47+'Other Funds-Revision No. 3'!K47","v":0},{"$f":"'Amendment 1-Other Funds'!L47+'Other Funds-Revision No. 2'!L47+'Other Funds-Revision No. 3'!L47","v":0},{"$f":"'Amendment 1-Other Funds'!M47+'Other Funds-Revision No. 2'!M47+'Other Funds-Revision No. 3'!M47","v":0},{"$f":"'Amendment 1-Other Funds'!N47+'Other Funds-Revision No. 2'!N47+'Other Funds-Revision No. 3'!N47","v":0},{"$f":"'Amendment 1-Other Funds'!O47+'Other Funds-Revision No. 2'!O47+'Other Funds-Revision No. 3'!O47","v":0},{"$f":"'Amendment 1-Other Funds'!P47+'Other Funds-Revision No. 2'!P47+'Other Funds-Revision No. 3'!P47","v":0},{"$f":"'Amendment 1-Other Funds'!Q47+'Other Funds-Revision No. 2'!Q47+'Other Funds-Revision No. 3'!Q47","v":0},{"$f":"'Amendment 1-Other Funds'!R47+'Other Funds-Revision No. 2'!R47+'Other Funds-Revision No. 3'!R47","v":0},{"$f":"'Amendment 1-Other Funds'!S47+'Other Funds-Revision No. 2'!S47+'Other Funds-Revision No. 3'!S47","v":0},{"$f":"'Amendment 1-Other Funds'!T47+'Other Funds-Revision No. 2'!T47+'Other Funds-Revision No. 3'!T47","v":0},{"$f":"'Amendment 1-Other Funds'!U47+'Other Funds-Revision No. 2'!U47+'Other Funds-Revision No. 3'!U47","v":0},{"$f":"'Amendment 1-Other Funds'!V47+'Other Funds-Revision No. 2'!V47+'Other Funds-Revision No. 3'!V47","v":0},{"$f":"'Amendment 1-Other Funds'!W47+'Other Funds-Revision No. 2'!W47+'Other Funds-Revision No. 3'!W47","v":0},{"$f":"'Amendment 1-Other Funds'!X47+'Other Funds-Revision No. 2'!X47+'Other Funds-Revision No. 3'!X47","v":0},{"$f":"'Amendment 1-Other Funds'!Y47+'Other Funds-Revision No. 2'!Y47+'Other Funds-Revision No. 3'!Y47","v":0},{"$f":"'Amendment 1-Other Funds'!Z47+'Other Funds-Revision No. 2'!Z47+'Other Funds-Revision No. 3'!Z47","v":0},{"$f":"'Amendment 1-Other Funds'!AA47+'Other Funds-Revision No. 2'!AA47+'Other Funds-Revision No. 3'!AA47","v":0},{"$f":"'Amendment 1-Other Funds'!AB47+'Other Funds-Revision No. 2'!AB47+'Other Funds-Revision No. 3'!AB47","v":0},{"$f":"'Amendment 1-Other Funds'!AC47+'Other Funds-Revision No. 2'!AC47+'Other Funds-Revision No. 3'!AC47","v":0},{"$f":"'Amendment 1-Other Funds'!AD47+'Other Funds-Revision No. 2'!AD47+'Other Funds-Revision No. 3'!AD47","v":0},{"$f":"'Amendment 1-Other Funds'!AE47+'Other Funds-Revision No. 2'!AE47+'Other Funds-Revision No. 3'!AE47","v":0},{"$f":"'Amendment 1-Other Funds'!AF47+'Other Funds-Revision No. 2'!AF47+'Other Funds-Revision No. 3'!AF47","v":0},{"$f":"'Amendment 1-Other Funds'!AG47+'Other Funds-Revision No. 2'!AG47+'Other Funds-Revision No. 3'!AG47","v":0},{"$f":"'Amendment 1-Other Funds'!AH47+'Other Funds-Revision No. 2'!AH47+'Other Funds-Revision No. 3'!AH47","v":0},{"$f":"'Amendment 1-Other Funds'!AI47+'Other Funds-Revision No. 2'!AI47+'Other Funds-Revision No. 3'!AI47","v":0},{"$f":"'Amendment 1-Other Funds'!AJ47+'Other Funds-Revision No. 2'!AJ47+'Other Funds-Revision No. 3'!AJ47","v":0},{"$f":"'Amendment 1-Other Funds'!AK47+'Other Funds-Revision No. 2'!AK47+'Other Funds-Revision No. 3'!AK47","v":0},{"$f":"'Amendment 1-Other Funds'!AL47+'Other Funds-Revision No. 2'!AL47+'Other Funds-Revision No. 3'!AL47","v":10201},8840]
[{"$f":"+'Original ABG Allocation'!A48","v":"43"},{"$f":"+'Original ABG Allocation'!B48","v":"FOREST/WARREN"},{"$f":"'Amendment 1-Other Funds'!C48+'Other Funds-Revision No. 2'!C48+'Other Funds-Revision No. 3'!C48","v":0},{"$f":"'Amendment 1-Other Funds'!D48+'Other Funds-Revision No. 2'!D48+'Other Funds-Revision No. 3'!D48","v":0},{"$f":"'Amendment 1-Other Funds'!E48+'Other Funds-Revision No. 2'!E48+'Other Funds-Revision No. 3'!E48","v":8840},{"$f":"'Amendment 1-Other Funds'!F48+'Other Funds-Revision No. 2'!F48+'Other Funds-Revision No. 3'!F48","v":0},{"$f":"'Amendment 1-Other Funds'!G48+'Other Funds-Revision No. 2'!G48+'Other Funds-Revision No. 3'!G48","v":0},{"$f":"'Amendment 1-Other Funds'!H48+'Other Funds-Revision No. 2'!H48+'Other Funds-Revision No. 3'!H48","v":0},{"$f":"'Amendment 1-Other Funds'!I48+'Other Funds-Revision No. 2'!I48+'Other Funds-Revision No. 3'!I48","v":0},{"$f":"'Amendment 1-Other Funds'!J48+'Other Funds-Revision No. 2'!J48+'Other Funds-Revision No. 3'!J48","v":0},{"$f":"'Amendment 1-Other Funds'!K48+'Other Funds-Revision No. 2'!K48+'Other Funds-Revision No. 3'!K48","v":0},{"$f":"'Amendment 1-Other Funds'!L48+'Other Funds-Revision No. 2'!L48+'Other Funds-Revision No. 3'!L48","v":0},{"$f":"'Amendment 1-Other Funds'!M48+'Other Funds-Revision No. 2'!M48+'Other Funds-Revision No. 3'!M48","v":0},{"$f":"'Amendment 1-Other Funds'!N48+'Other Funds-Revision No. 2'!N48+'Other Funds-Revision No. 3'!N48","v":0},{"$f":"'Amendment 1-Other Funds'!O48+'Other Funds-Revision No. 2'!O48+'Other Funds-Revision No. 3'!O48","v":0},{"$f":"'Amendment 1-Other Funds'!P48+'Other Funds-Revision No. 2'!P48+'Other Funds-Revision No. 3'!P48","v":0},{"$f":"'Amendment 1-Other Funds'!Q48+'Other Funds-Revision No. 2'!Q48+'Other Funds-Revision No. 3'!Q48","v":0},{"$f":"'Amendment 1-Other Funds'!R48+'Other Funds-Revision No. 2'!R48+'Other Funds-Revision No. 3'!R48","v":0},{"$f":"'Amendment 1-Other Funds'!S48+'Other Funds-Revision No. 2'!S48+'Other Funds-Revision No. 3'!S48","v":0},{"$f":"'Amendment 1-Other Funds'!T48+'Other Funds-Revision No. 2'!T48+'Other Funds-Revision No. 3'!T48","v":0},{"$f":"'Amendment 1-Other Funds'!U48+'Other Funds-Revision No. 2'!U48+'Other Funds-Revision No. 3'!U48","v":0},{"$f":"'Amendment 1-Other Funds'!V48+'Other Funds-Revision No. 2'!V48+'Other Funds-Revision No. 3'!V48","v":0},{"$f":"'Amendment 1-Other Funds'!W48+'Other Funds-Revision No. 2'!W48+'Other Funds-Revision No. 3'!W48","v":0},{"$f":"'Amendment 1-Other Funds'!X48+'Other Funds-Revision No. 2'!X48+'Other Funds-Revision No. 3'!X48","v":0},{"$f":"'Amendment 1-Other Funds'!Y48+'Other Funds-Revision No. 2'!Y48+'Other Funds-Revision No. 3'!Y48","v":0},{"$f":"'Amendment 1-Other Funds'!Z48+'Other Funds-Revision No. 2'!Z48+'Other Funds-Revision No. 3'!Z48","v":0},{"$f":"'Amendment 1-Other Funds'!AA48+'Other Funds-Revision No. 2'!AA48+'Other Funds-Revision No. 3'!AA48","v":0},{"$f":"'Amendment 1-Other Funds'!AB48+'Other Funds-Revision No. 2'!AB48+'Other Funds-Revision No. 3'!AB48","v":0},{"$f":"'Amendment 1-Other Funds'!AC48+'Other Funds-Revision No. 2'!AC48+'Other Funds-Revision No. 3'!AC48","v":0},{"$f":"'Amendment 1-Other Funds'!AD48+'Other Funds-Revision No. 2'!AD48+'Other Funds-Revision No. 3'!AD48","v":0},{"$f":"'Amendment 1-Other Funds'!AE48+'Other Funds-Revision No. 2'!AE48+'Other Funds-Revision No. 3'!AE48","v":0},{"$f":"'Amendment 1-Other Funds'!AF48+'Other Funds-Revision No. 2'!AF48+'Other Funds-Revision No. 3'!AF48","v":0},{"$f":"'Amendment 1-Other Funds'!AG48+'Other Funds-Revision No. 2'!AG48+'Other Funds-Revision No. 3'!AG48","v":0},{"$f":"'Amendment 1-Other Funds'!AH48+'Other Funds-Revision No. 2'!AH48+'Other Funds-Revision No. 3'!AH48","v":0},{"$f":"'Amendment 1-Other Funds'!AI48+'Other Funds-Revision No. 2'!AI48+'Other Funds-Revision No. 3'!AI48","v":0},{"$f":"'Amendment 1-Other Funds'!AJ48+'Other Funds-Revision No. 2'!AJ48+'Other Funds-Revision No. 3'!AJ48","v":0},{"$f":"'Amendment 1-Other Funds'!AK48+'Other Funds-Revision No. 2'!AK48+'Other Funds-Revision No. 3'!AK48","v":0},{"$f":"'Amendment 1-Other Funds'!AL48+'Other Funds-Revision No. 2'!AL48+'Other Funds-Revision No. 3'!AL48","v":12228},8840]
[{"$f":"+'Original ABG Allocation'!A49","v":"44"},{"$f":"+'Original ABG Allocation'!B49","v":"VENANGO"},{"$f":"'Amendment 1-Other Funds'!C49+'Other Funds-Revision No. 2'!C49+'Other Funds-Revision No. 3'!C49","v":0},{"$f":"'Amendment 1-Other Funds'!D49+'Other Funds-Revision No. 2'!D49+'Other Funds-Revision No. 3'!D49","v":0},{"$f":"'Amendment 1-Other Funds'!E49+'Other Funds-Revision No. 2'!E49+'Other Funds-Revision No. 3'!E49","v":8840},{"$f":"'Amendment 1-Other Funds'!F49+'Other Funds-Revision No. 2'!F49+'Other Funds-Revision No. 3'!F49","v":0},{"$f":"'Amendment 1-Other Funds'!G49+'Other Funds-Revision No. 2'!G49+'Other Funds-Revision No. 3'!G49","v":0},{"$f":"'Amendment 1-Other Funds'!H49+'Other Funds-Revision No. 2'!H49+'Other Funds-Revision No. 3'!H49","v":0},{"$f":"'Amendment 1-Other Funds'!I49+'Other Funds-Revision No. 2'!I49+'Other Funds-Revision No. 3'!I49","v":0},{"$f":"'Amendment 1-Other Funds'!J49+'Other Funds-Revision No. 2'!J49+'Other Funds-Revision No. 3'!J49","v":0},{"$f":"'Amendment 1-Other Funds'!K49+'Other Funds-Revision No. 2'!K49+'Other Funds-Revision No. 3'!K49","v":0},{"$f":"'Amendment 1-Other Funds'!L49+'Other Funds-Revision No. 2'!L49+'Other Funds-Revision No. 3'!L49","v":0},{"$f":"'Amendment 1-Other Funds'!M49+'Other Funds-Revision No. 2'!M49+'Other Funds-Revision No. 3'!M49","v":0},{"$f":"'Amendment 1-Other Funds'!N49+'Other Funds-Revision No. 2'!N49+'Other Funds-Revision No. 3'!N49","v":0},{"$f":"'Amendment 1-Other Funds'!O49+'Other Funds-Revision No. 2'!O49+'Other Funds-Revision No. 3'!O49","v":0},{"$f":"'Amendment 1-Other Funds'!P49+'Other Funds-Revision No. 2'!P49+'Other Funds-Revision No. 3'!P49","v":0},{"$f":"'Amendment 1-Other Funds'!Q49+'Other Funds-Revision No. 2'!Q49+'Other Funds-Revision No. 3'!Q49","v":0},{"$f":"'Amendment 1-Other Funds'!R49+'Other Funds-Revision No. 2'!R49+'Other Funds-Revision No. 3'!R49","v":0},{"$f":"'Amendment 1-Other Funds'!S49+'Other Funds-Revision No. 2'!S49+'Other Funds-Revision No. 3'!S49","v":0},{"$f":"'Amendment 1-Other Funds'!T49+'Other Funds-Revision No. 2'!T49+'Other Funds-Revision No. 3'!T49","v":0},{"$f":"'Amendment 1-Other Funds'!U49+'Other Funds-Revision No. 2'!U49+'Other Funds-Revision No. 3'!U49","v":0},{"$f":"'Amendment 1-Other Funds'!V49+'Other Funds-Revision No. 2'!V49+'Other Funds-Revision No. 3'!V49","v":0},{"$f":"'Amendment 1-Other Funds'!W49+'Other Funds-Revision No. 2'!W49+'Other Funds-Revision No. 3'!W49","v":0},{"$f":"'Amendment 1-Other Funds'!X49+'Other Funds-Revision No. 2'!X49+'Other Funds-Revision No. 3'!X49","v":0},{"$f":"'Amendment 1-Other Funds'!Y49+'Other Funds-Revision No. 2'!Y49+'Other Funds-Revision No. 3'!Y49","v":0},{"$f":"'Amendment 1-Other Funds'!Z49+'Other Funds-Revision No. 2'!Z49+'Other Funds-Revision No. 3'!Z49","v":0},{"$f":"'Amendment 1-Other Funds'!AA49+'Other Funds-Revision No. 2'!AA49+'Other Funds-Revision No. 3'!AA49","v":0},{"$f":"'Amendment 1-Other Funds'!AB49+'Other Funds-Revision No. 2'!AB49+'Other Funds-Revision No. 3'!AB49","v":0},{"$f":"'Amendment 1-Other Funds'!AC49+'Other Funds-Revision No. 2'!AC49+'Other Funds-Revision No. 3'!AC49","v":0},{"$f":"'Amendment 1-Other Funds'!AD49+'Other Funds-Revision No. 2'!AD49+'Other Funds-Revision No. 3'!AD49","v":0},{"$f":"'Amendment 1-Other Funds'!AE49+'Other Funds-Revision No. 2'!AE49+'Other Funds-Revision No. 3'!AE49","v":0},{"$f":"'Amendment 1-Other Funds'!AF49+'Other Funds-Revision No. 2'!AF49+'Other Funds-Revision No. 3'!AF49","v":0},{"$f":"'Amendment 1-Other Funds'!AG49+'Other Funds-Revision No. 2'!AG49+'Other Funds-Revision No. 3'!AG49","v":0},{"$f":"'Amendment 1-Other Funds'!AH49+'Other Funds-Revision No. 2'!AH49+'Other Funds-Revision No. 3'!AH49","v":0},{"$f":"'Amendment 1-Other Funds'!AI49+'Other Funds-Revision No. 2'!AI49+'Other Funds-Revision No. 3'!AI49","v":0},{"$f":"'Amendment 1-Other Funds'!AJ49+'Other Funds-Revision No. 2'!AJ49+'Other Funds-Revision No. 3'!AJ49","v":0},{"$f":"'Amendment 1-Other Funds'!AK49+'Other Funds-Revision No. 2'!AK49+'Other Funds-Revision No. 3'!AK49","v":0},{"$f":"'Amendment 1-Other Funds'!AL49+'Other Funds-Revision No. 2'!AL49+'Other Funds-Revision No. 3'!AL49","v":13095},8840]
[{"$f":"+'Original ABG Allocation'!A50","v":"45"},{"$f":"+'Original ABG Allocation'!B50","v":"ARMSTRONG"},{"$f":"'Amendment 1-Other Funds'!C50+'Other Funds-Revision No. 2'!C50+'Other Funds-Revision No. 3'!C50","v":0},{"$f":"'Amendment 1-Other Funds'!D50+'Other Funds-Revision No. 2'!D50+'Other Funds-Revision No. 3'!D50","v":0},{"$f":"'Amendment 1-Other Funds'!E50+'Other Funds-Revision No. 2'!E50+'Other Funds-Revision No. 3'!E50","v":8840},{"$f":"'Amendment 1-Other Funds'!F50+'Other Funds-Revision No. 2'!F50+'Other Funds-Revision No. 3'!F50","v":0},{"$f":"'Amendment 1-Other Funds'!G50+'Other Funds-Revision No. 2'!G50+'Other Funds-Revision No. 3'!G50","v":0},{"$f":"'Amendment 1-Other Funds'!H50+'Other Funds-Revision No. 2'!H50+'Other Funds-Revision No. 3'!H50","v":0},{"$f":"'Amendment 1-Other Funds'!I50+'Other Funds-Revision No. 2'!I50+'Other Funds-Revision No. 3'!I50","v":0},{"$f":"'Amendment 1-Other Funds'!J50+'Other Funds-Revision No. 2'!J50+'Other Funds-Revision No. 3'!J50","v":0},{"$f":"'Amendment 1-Other Funds'!K50+'Other Funds-Revision No. 2'!K50+'Other Funds-Revision No. 3'!K50","v":0},{"$f":"'Amendment 1-Other Funds'!L50+'Other Funds-Revision No. 2'!L50+'Other Funds-Revision No. 3'!L50","v":0},{"$f":"'Amendment 1-Other Funds'!M50+'Other Funds-Revision No. 2'!M50+'Other Funds-Revision No. 3'!M50","v":0},{"$f":"'Amendment 1-Other Funds'!N50+'Other Funds-Revision No. 2'!N50+'Other Funds-Revision No. 3'!N50","v":0},{"$f":"'Amendment 1-Other Funds'!O50+'Other Funds-Revision No. 2'!O50+'Other Funds-Revision No. 3'!O50","v":0},{"$f":"'Amendment 1-Other Funds'!P50+'Other Funds-Revision No. 2'!P50+'Other Funds-Revision No. 3'!P50","v":0},{"$f":"'Amendment 1-Other Funds'!Q50+'Other Funds-Revision No. 2'!Q50+'Other Funds-Revision No. 3'!Q50","v":0},{"$f":"'Amendment 1-Other Funds'!R50+'Other Funds-Revision No. 2'!R50+'Other Funds-Revision No. 3'!R50","v":0},{"$f":"'Amendment 1-Other Funds'!S50+'Other Funds-Revision No. 2'!S50+'Other Funds-Revision No. 3'!S50","v":0},{"$f":"'Amendment 1-Other Funds'!T50+'Other Funds-Revision No. 2'!T50+'Other Funds-Revision No. 3'!T50","v":0},{"$f":"'Amendment 1-Other Funds'!U50+'Other Funds-Revision No. 2'!U50+'Other Funds-Revision No. 3'!U50","v":0},{"$f":"'Amendment 1-Other Funds'!V50+'Other Funds-Revision No. 2'!V50+'Other Funds-Revision No. 3'!V50","v":0},{"$f":"'Amendment 1-Other Funds'!W50+'Other Funds-Revision No. 2'!W50+'Other Funds-Revision No. 3'!W50","v":0},{"$f":"'Amendment 1-Other Funds'!X50+'Other Funds-Revision No. 2'!X50+'Other Funds-Revision No. 3'!X50","v":0},{"$f":"'Amendment 1-Other Funds'!Y50+'Other Funds-Revision No. 2'!Y50+'Other Funds-Revision No. 3'!Y50","v":0},{"$f":"'Amendment 1-Other Funds'!Z50+'Other Funds-Revision No. 2'!Z50+'Other Funds-Revision No. 3'!Z50","v":0},{"$f":"'Amendment 1-Other Funds'!AA50+'Other Funds-Revision No. 2'!AA50+'Other Funds-Revision No. 3'!AA50","v":0},{"$f":"'Amendment 1-Other Funds'!AB50+'Other Funds-Revision No. 2'!AB50+'Other Funds-Revision No. 3'!AB50","v":0},{"$f":"'Amendment 1-Other Funds'!AC50+'Other Funds-Revision No. 2'!AC50+'Other Funds-Revision No. 3'!AC50","v":0},{"$f":"'Amendment 1-Other Funds'!AD50+'Other Funds-Revision No. 2'!AD50+'Other Funds-Revision No. 3'!AD50","v":0},{"$f":"'Amendment 1-Other Funds'!AE50+'Other Funds-Revision No. 2'!AE50+'Other Funds-Revision No. 3'!AE50","v":0},{"$f":"'Amendment 1-Other Funds'!AF50+'Other Funds-Revision No. 2'!AF50+'Other Funds-Revision No. 3'!AF50","v":0},{"$f":"'Amendment 1-Other Funds'!AG50+'Other Funds-Revision No. 2'!AG50+'Other Funds-Revision No. 3'!AG50","v":0},{"$f":"'Amendment 1-Other Funds'!AH50+'Other Funds-Revision No. 2'!AH50+'Other Funds-Revision No. 3'!AH50","v":0},{"$f":"'Amendment 1-Other Funds'!AI50+'Other Funds-Revision No. 2'!AI50+'Other Funds-Revision No. 3'!AI50","v":0},{"$f":"'Amendment 1-Other Funds'!AJ50+'Other Funds-Revision No. 2'!AJ50+'Other Funds-Revision No. 3'!AJ50","v":0},{"$f":"'Amendment 1-Other Funds'!AK50+'Other Funds-Revision No. 2'!AK50+'Other Funds-Revision No. 3'!AK50","v":0},{"$f":"'Amendment 1-Other Funds'!AL50+'Other Funds-Revision No. 2'!AL50+'Other Funds-Revision No. 3'!AL50","v":17468},8840]
[{"$f":"+'Original ABG Allocation'!A51","v":"46"},{"$f":"+'Original ABG Allocation'!B51","v":"LAWRENCE"},{"$f":"'Amendment 1-Other Funds'!C51+'Other Funds-Revision No. 2'!C51+'Other Funds-Revision No. 3'!C51","v":0},{"$f":"'Amendment 1-Other Funds'!D51+'Other Funds-Revision No. 2'!D51+'Other Funds-Revision No. 3'!D51","v":0},{"$f":"'Amendment 1-Other Funds'!E51+'Other Funds-Revision No. 2'!E51+'Other Funds-Revision No. 3'!E51","v":8840},{"$f":"'Amendment 1-Other Funds'!F51+'Other Funds-Revision No. 2'!F51+'Other Funds-Revision No. 3'!F51","v":0},{"$f":"'Amendment 1-Other Funds'!G51+'Other Funds-Revision No. 2'!G51+'Other Funds-Revision No. 3'!G51","v":0},{"$f":"'Amendment 1-Other Funds'!H51+'Other Funds-Revision No. 2'!H51+'Other Funds-Revision No. 3'!H51","v":0},{"$f":"'Amendment 1-Other Funds'!I51+'Other Funds-Revision No. 2'!I51+'Other Funds-Revision No. 3'!I51","v":0},{"$f":"'Amendment 1-Other Funds'!J51+'Other Funds-Revision No. 2'!J51+'Other Funds-Revision No. 3'!J51","v":0},{"$f":"'Amendment 1-Other Funds'!K51+'Other Funds-Revision No. 2'!K51+'Other Funds-Revision No. 3'!K51","v":0},{"$f":"'Amendment 1-Other Funds'!L51+'Other Funds-Revision No. 2'!L51+'Other Funds-Revision No. 3'!L51","v":0},{"$f":"'Amendment 1-Other Funds'!M51+'Other Funds-Revision No. 2'!M51+'Other Funds-Revision No. 3'!M51","v":0},{"$f":"'Amendment 1-Other Funds'!N51+'Other Funds-Revision No. 2'!N51+'Other Funds-Revision No. 3'!N51","v":0},{"$f":"'Amendment 1-Other Funds'!O51+'Other Funds-Revision No. 2'!O51+'Other Funds-Revision No. 3'!O51","v":0},{"$f":"'Amendment 1-Other Funds'!P51+'Other Funds-Revision No. 2'!P51+'Other Funds-Revision No. 3'!P51","v":0},{"$f":"'Amendment 1-Other Funds'!Q51+'Other Funds-Revision No. 2'!Q51+'Other Funds-Revision No. 3'!Q51","v":0},{"$f":"'Amendment 1-Other Funds'!R51+'Other Funds-Revision No. 2'!R51+'Other Funds-Revision No. 3'!R51","v":0},{"$f":"'Amendment 1-Other Funds'!S51+'Other Funds-Revision No. 2'!S51+'Other Funds-Revision No. 3'!S51","v":0},{"$f":"'Amendment 1-Other Funds'!T51+'Other Funds-Revision No. 2'!T51+'Other Funds-Revision No. 3'!T51","v":0},{"$f":"'Amendment 1-Other Funds'!U51+'Other Funds-Revision No. 2'!U51+'Other Funds-Revision No. 3'!U51","v":0},{"$f":"'Amendment 1-Other Funds'!V51+'Other Funds-Revision No. 2'!V51+'Other Funds-Revision No. 3'!V51","v":0},{"$f":"'Amendment 1-Other Funds'!W51+'Other Funds-Revision No. 2'!W51+'Other Funds-Revision No. 3'!W51","v":0},{"$f":"'Amendment 1-Other Funds'!X51+'Other Funds-Revision No. 2'!X51+'Other Funds-Revision No. 3'!X51","v":0},{"$f":"'Amendment 1-Other Funds'!Y51+'Other Funds-Revision No. 2'!Y51+'Other Funds-Revision No. 3'!Y51","v":0},{"$f":"'Amendment 1-Other Funds'!Z51+'Other Funds-Revision No. 2'!Z51+'Other Funds-Revision No. 3'!Z51","v":0},{"$f":"'Amendment 1-Other Funds'!AA51+'Other Funds-Revision No. 2'!AA51+'Other Funds-Revision No. 3'!AA51","v":0},{"$f":"'Amendment 1-Other Funds'!AB51+'Other Funds-Revision No. 2'!AB51+'Other Funds-Revision No. 3'!AB51","v":0},{"$f":"'Amendment 1-Other Funds'!AC51+'Other Funds-Revision No. 2'!AC51+'Other Funds-Revision No. 3'!AC51","v":0},{"$f":"'Amendment 1-Other Funds'!AD51+'Other Funds-Revision No. 2'!AD51+'Other Funds-Revision No. 3'!AD51","v":0},{"$f":"'Amendment 1-Other Funds'!AE51+'Other Funds-Revision No. 2'!AE51+'Other Funds-Revision No. 3'!AE51","v":0},{"$f":"'Amendment 1-Other Funds'!AF51+'Other Funds-Revision No. 2'!AF51+'Other Funds-Revision No. 3'!AF51","v":0},{"$f":"'Amendment 1-Other Funds'!AG51+'Other Funds-Revision No. 2'!AG51+'Other Funds-Revision No. 3'!AG51","v":0},{"$f":"'Amendment 1-Other Funds'!AH51+'Other Funds-Revision No. 2'!AH51+'Other Funds-Revision No. 3'!AH51","v":0},{"$f":"'Amendment 1-Other Funds'!AI51+'Other Funds-Revision No. 2'!AI51+'Other Funds-Revision No. 3'!AI51","v":0},{"$f":"'Amendment 1-Other Funds'!AJ51+'Other Funds-Revision No. 2'!AJ51+'Other Funds-Revision No. 3'!AJ51","v":0},{"$f":"'Amendment 1-Other Funds'!AK51+'Other Funds-Revision No. 2'!AK51+'Other Funds-Revision No. 3'!AK51","v":0},{"$f":"'Amendment 1-Other Funds'!AL51+'Other Funds-Revision No. 2'!AL51+'Other Funds-Revision No. 3'!AL51","v":17606},8840]
[{"$f":"+'Original ABG Allocation'!A52","v":"47"},{"$f":"+'Original ABG Allocation'!B52","v":"MERCER"},{"$f":"'Amendment 1-Other Funds'!C52+'Other Funds-Revision No. 2'!C52+'Other Funds-Revision No. 3'!C52","v":0},{"$f":"'Amendment 1-Other Funds'!D52+'Other Funds-Revision No. 2'!D52+'Other Funds-Revision No. 3'!D52","v":0},{"$f":"'Amendment 1-Other Funds'!E52+'Other Funds-Revision No. 2'!E52+'Other Funds-Revision No. 3'!E52","v":8840},{"$f":"'Amendment 1-Other Funds'!F52+'Other Funds-Revision No. 2'!F52+'Other Funds-Revision No. 3'!F52","v":0},{"$f":"'Amendment 1-Other Funds'!G52+'Other Funds-Revision No. 2'!G52+'Other Funds-Revision No. 3'!G52","v":0},{"$f":"'Amendment 1-Other Funds'!H52+'Other Funds-Revision No. 2'!H52+'Other Funds-Revision No. 3'!H52","v":0},{"$f":"'Amendment 1-Other Funds'!I52+'Other Funds-Revision No. 2'!I52+'Other Funds-Revision No. 3'!I52","v":0},{"$f":"'Amendment 1-Other Funds'!J52+'Other Funds-Revision No. 2'!J52+'Other Funds-Revision No. 3'!J52","v":0},{"$f":"'Amendment 1-Other Funds'!K52+'Other Funds-Revision No. 2'!K52+'Other Funds-Revision No. 3'!K52","v":0},{"$f":"'Amendment 1-Other Funds'!L52+'Other Funds-Revision No. 2'!L52+'Other Funds-Revision No. 3'!L52","v":0},{"$f":"'Amendment 1-Other Funds'!M52+'Other Funds-Revision No. 2'!M52+'Other Funds-Revision No. 3'!M52","v":0},{"$f":"'Amendment 1-Other Funds'!N52+'Other Funds-Revision No. 2'!N52+'Other Funds-Revision No. 3'!N52","v":0},{"$f":"'Amendment 1-Other Funds'!O52+'Other Funds-Revision No. 2'!O52+'Other Funds-Revision No. 3'!O52","v":0},{"$f":"'Amendment 1-Other Funds'!P52+'Other Funds-Revision No. 2'!P52+'Other Funds-Revision No. 3'!P52","v":0},{"$f":"'Amendment 1-Other Funds'!Q52+'Other Funds-Revision No. 2'!Q52+'Other Funds-Revision No. 3'!Q52","v":0},{"$f":"'Amendment 1-Other Funds'!R52+'Other Funds-Revision No. 2'!R52+'Other Funds-Revision No. 3'!R52","v":0},{"$f":"'Amendment 1-Other Funds'!S52+'Other Funds-Revision No. 2'!S52+'Other Funds-Revision No. 3'!S52","v":0},{"$f":"'Amendment 1-Other Funds'!T52+'Other Funds-Revision No. 2'!T52+'Other Funds-Revision No. 3'!T52","v":0},{"$f":"'Amendment 1-Other Funds'!U52+'Other Funds-Revision No. 2'!U52+'Other Funds-Revision No. 3'!U52","v":0},{"$f":"'Amendment 1-Other Funds'!V52+'Other Funds-Revision No. 2'!V52+'Other Funds-Revision No. 3'!V52","v":0},{"$f":"'Amendment 1-Other Funds'!W52+'Other Funds-Revision No. 2'!W52+'Other Funds-Revision No. 3'!W52","v":0},{"$f":"'Amendment 1-Other Funds'!X52+'Other Funds-Revision No. 2'!X52+'Other Funds-Revision No. 3'!X52","v":0},{"$f":"'Amendment 1-Other Funds'!Y52+'Other Funds-Revision No. 2'!Y52+'Other Funds-Revision No. 3'!Y52","v":0},{"$f":"'Amendment 1-Other Funds'!Z52+'Other Funds-Revision No. 2'!Z52+'Other Funds-Revision No. 3'!Z52","v":0},{"$f":"'Amendment 1-Other Funds'!AA52+'Other Funds-Revision No. 2'!AA52+'Other Funds-Revision No. 3'!AA52","v":0},{"$f":"'Amendment 1-Other Funds'!AB52+'Other Funds-Revision No. 2'!AB52+'Other Funds-Revision No. 3'!AB52","v":0},{"$f":"'Amendment 1-Other Funds'!AC52+'Other Funds-Revision No. 2'!AC52+'Other Funds-Revision No. 3'!AC52","v":0},{"$f":"'Amendment 1-Other Funds'!AD52+'Other Funds-Revision No. 2'!AD52+'Other Funds-Revision No. 3'!AD52","v":0},{"$f":"'Amendment 1-Other Funds'!AE52+'Other Funds-Revision No. 2'!AE52+'Other Funds-Revision No. 3'!AE52","v":0},{"$f":"'Amendment 1-Other Funds'!AF52+'Other Funds-Revision No. 2'!AF52+'Other Funds-Revision No. 3'!AF52","v":0},{"$f":"'Amendment 1-Other Funds'!AG52+'Other Funds-Revision No. 2'!AG52+'Other Funds-Revision No. 3'!AG52","v":0},{"$f":"'Amendment 1-Other Funds'!AH52+'Other Funds-Revision No. 2'!AH52+'Other Funds-Revision No. 3'!AH52","v":0},{"$f":"'Amendment 1-Other Funds'!AI52+'Other Funds-Revision No. 2'!AI52+'Other Funds-Revision No. 3'!AI52","v":0},{"$f":"'Amendment 1-Other Funds'!AJ52+'Other Funds-Revision No. 2'!AJ52+'Other Funds-Revision No. 3'!AJ52","v":0},{"$f":"'Amendment 1-Other Funds'!AK52+'Other Funds-Revision No. 2'!AK52+'Other Funds-Revision No. 3'!AK52","v":0},{"$f":"'Amendment 1-Other Funds'!AL52+'Other Funds-Revision No. 2'!AL52+'Other Funds-Revision No. 3'!AL52","v":22459},8840]
[{"$f":"+'Original ABG Allocation'!A53","v":"48"},{"$f":"+'Original ABG Allocation'!B53","v":"MONROE"},{"$f":"'Amendment 1-Other Funds'!C53+'Other Funds-Revision No. 2'!C53+'Other Funds-Revision No. 3'!C53","v":0},{"$f":"'Amendment 1-Other Funds'!D53+'Other Funds-Revision No. 2'!D53+'Other Funds-Revision No. 3'!D53","v":0},{"$f":"'Amendment 1-Other Funds'!E53+'Other Funds-Revision No. 2'!E53+'Other Funds-Revision No. 3'!E53","v":8840},{"$f":"'Amendment 1-Other Funds'!F53+'Other Funds-Revision No. 2'!F53+'Other Funds-Revision No. 3'!F53","v":0},{"$f":"'Amendment 1-Other Funds'!G53+'Other Funds-Revision No. 2'!G53+'Other Funds-Revision No. 3'!G53","v":0},{"$f":"'Amendment 1-Other Funds'!H53+'Other Funds-Revision No. 2'!H53+'Other Funds-Revision No. 3'!H53","v":0},{"$f":"'Amendment 1-Other Funds'!I53+'Other Funds-Revision No. 2'!I53+'Other Funds-Revision No. 3'!I53","v":0},{"$f":"'Amendment 1-Other Funds'!J53+'Other Funds-Revision No. 2'!J53+'Other Funds-Revision No. 3'!J53","v":0},{"$f":"'Amendment 1-Other Funds'!K53+'Other Funds-Revision No. 2'!K53+'Other Funds-Revision No. 3'!K53","v":0},{"$f":"'Amendment 1-Other Funds'!L53+'Other Funds-Revision No. 2'!L53+'Other Funds-Revision No. 3'!L53","v":0},{"$f":"'Amendment 1-Other Funds'!M53+'Other Funds-Revision No. 2'!M53+'Other Funds-Revision No. 3'!M53","v":0},{"$f":"'Amendment 1-Other Funds'!N53+'Other Funds-Revision No. 2'!N53+'Other Funds-Revision No. 3'!N53","v":0},{"$f":"'Amendment 1-Other Funds'!O53+'Other Funds-Revision No. 2'!O53+'Other Funds-Revision No. 3'!O53","v":0},{"$f":"'Amendment 1-Other Funds'!P53+'Other Funds-Revision No. 2'!P53+'Other Funds-Revision No. 3'!P53","v":0},{"$f":"'Amendment 1-Other Funds'!Q53+'Other Funds-Revision No. 2'!Q53+'Other Funds-Revision No. 3'!Q53","v":0},{"$f":"'Amendment 1-Other Funds'!R53+'Other Funds-Revision No. 2'!R53+'Other Funds-Revision No. 3'!R53","v":0},{"$f":"'Amendment 1-Other Funds'!S53+'Other Funds-Revision No. 2'!S53+'Other Funds-Revision No. 3'!S53","v":0},{"$f":"'Amendment 1-Other Funds'!T53+'Other Funds-Revision No. 2'!T53+'Other Funds-Revision No. 3'!T53","v":0},{"$f":"'Amendment 1-Other Funds'!U53+'Other Funds-Revision No. 2'!U53+'Other Funds-Revision No. 3'!U53","v":0},{"$f":"'Amendment 1-Other Funds'!V53+'Other Funds-Revision No. 2'!V53+'Other Funds-Revision No. 3'!V53","v":0},{"$f":"'Amendment 1-Other Funds'!W53+'Other Funds-Revision No. 2'!W53+'Other Funds-Revision No. 3'!W53","v":0},{"$f":"'Amendment 1-Other Funds'!X53+'Other Funds-Revision No. 2'!X53+'Other Funds-Revision No. 3'!X53","v":0},{"$f":"'Amendment 1-Other Funds'!Y53+'Other Funds-Revision No. 2'!Y53+'Other Funds-Revision No. 3'!Y53","v":0},{"$f":"'Amendment 1-Other Funds'!Z53+'Other Funds-Revision No. 2'!Z53+'Other Funds-Revision No. 3'!Z53","v":0},{"$f":"'Amendment 1-Other Funds'!AA53+'Other Funds-Revision No. 2'!AA53+'Other Funds-Revision No. 3'!AA53","v":0},{"$f":"'Amendment 1-Other Funds'!AB53+'Other Funds-Revision No. 2'!AB53+'Other Funds-Revision No. 3'!AB53","v":0},{"$f":"'Amendment 1-Other Funds'!AC53+'Other Funds-Revision No. 2'!AC53+'Other Funds-Revision No. 3'!AC53","v":0},{"$f":"'Amendment 1-Other Funds'!AD53+'Other Funds-Revision No. 2'!AD53+'Other Funds-Revision No. 3'!AD53","v":0},{"$f":"'Amendment 1-Other Funds'!AE53+'Other Funds-Revision No. 2'!AE53+'Other Funds-Revision No. 3'!AE53","v":0},{"$f":"'Amendment 1-Other Funds'!AF53+'Other Funds-Revision No. 2'!AF53+'Other Funds-Revision No. 3'!AF53","v":0},{"$f":"'Amendment 1-Other Funds'!AG53+'Other Funds-Revision No. 2'!AG53+'Other Funds-Revision No. 3'!AG53","v":0},{"$f":"'Amendment 1-Other Funds'!AH53+'Other Funds-Revision No. 2'!AH53+'Other Funds-Revision No. 3'!AH53","v":0},{"$f":"'Amendment 1-Other Funds'!AI53+'Other Funds-Revision No. 2'!AI53+'Other Funds-Revision No. 3'!AI53","v":0},{"$f":"'Amendment 1-Other Funds'!AJ53+'Other Funds-Revision No. 2'!AJ53+'Other Funds-Revision No. 3'!AJ53","v":0},{"$f":"'Amendment 1-Other Funds'!AK53+'Other Funds-Revision No. 2'!AK53+'Other Funds-Revision No. 3'!AK53","v":0},{"$f":"'Amendment 1-Other Funds'!AL53+'Other Funds-Revision No. 2'!AL53+'Other Funds-Revision No. 3'!AL53","v":33334},8840]
[{"$f":"+'Original ABG Allocation'!A54","v":"49"},{"$f":"+'Original ABG Allocation'!B54","v":"CLARION"},{"$f":"'Amendment 1-Other Funds'!C54+'Other Funds-Revision No. 2'!C54+'Other Funds-Revision No. 3'!C54","v":0},{"$f":"'Amendment 1-Other Funds'!D54+'Other Funds-Revision No. 2'!D54+'Other Funds-Revision No. 3'!D54","v":0},{"$f":"'Amendment 1-Other Funds'!E54+'Other Funds-Revision No. 2'!E54+'Other Funds-Revision No. 3'!E54","v":8840},{"$f":"'Amendment 1-Other Funds'!F54+'Other Funds-Revision No. 2'!F54+'Other Funds-Revision No. 3'!F54","v":0},{"$f":"'Amendment 1-Other Funds'!G54+'Other Funds-Revision No. 2'!G54+'Other Funds-Revision No. 3'!G54","v":0},{"$f":"'Amendment 1-Other Funds'!H54+'Other Funds-Revision No. 2'!H54+'Other Funds-Revision No. 3'!H54","v":0},{"$f":"'Amendment 1-Other Funds'!I54+'Other Funds-Revision No. 2'!I54+'Other Funds-Revision No. 3'!I54","v":0},{"$f":"'Amendment 1-Other Funds'!J54+'Other Funds-Revision No. 2'!J54+'Other Funds-Revision No. 3'!J54","v":0},{"$f":"'Amendment 1-Other Funds'!K54+'Other Funds-Revision No. 2'!K54+'Other Funds-Revision No. 3'!K54","v":0},{"$f":"'Amendment 1-Other Funds'!L54+'Other Funds-Revision No. 2'!L54+'Other Funds-Revision No. 3'!L54","v":0},{"$f":"'Amendment 1-Other Funds'!M54+'Other Funds-Revision No. 2'!M54+'Other Funds-Revision No. 3'!M54","v":0},{"$f":"'Amendment 1-Other Funds'!N54+'Other Funds-Revision No. 2'!N54+'Other Funds-Revision No. 3'!N54","v":0},{"$f":"'Amendment 1-Other Funds'!O54+'Other Funds-Revision No. 2'!O54+'Other Funds-Revision No. 3'!O54","v":0},{"$f":"'Amendment 1-Other Funds'!P54+'Other Funds-Revision No. 2'!P54+'Other Funds-Revision No. 3'!P54","v":0},{"$f":"'Amendment 1-Other Funds'!Q54+'Other Funds-Revision No. 2'!Q54+'Other Funds-Revision No. 3'!Q54","v":0},{"$f":"'Amendment 1-Other Funds'!R54+'Other Funds-Revision No. 2'!R54+'Other Funds-Revision No. 3'!R54","v":0},{"$f":"'Amendment 1-Other Funds'!S54+'Other Funds-Revision No. 2'!S54+'Other Funds-Revision No. 3'!S54","v":0},{"$f":"'Amendment 1-Other Funds'!T54+'Other Funds-Revision No. 2'!T54+'Other Funds-Revision No. 3'!T54","v":0},{"$f":"'Amendment 1-Other Funds'!U54+'Other Funds-Revision No. 2'!U54+'Other Funds-Revision No. 3'!U54","v":0},{"$f":"'Amendment 1-Other Funds'!V54+'Other Funds-Revision No. 2'!V54+'Other Funds-Revision No. 3'!V54","v":0},{"$f":"'Amendment 1-Other Funds'!W54+'Other Funds-Revision No. 2'!W54+'Other Funds-Revision No. 3'!W54","v":0},{"$f":"'Amendment 1-Other Funds'!X54+'Other Funds-Revision No. 2'!X54+'Other Funds-Revision No. 3'!X54","v":0},{"$f":"'Amendment 1-Other Funds'!Y54+'Other Funds-Revision No. 2'!Y54+'Other Funds-Revision No. 3'!Y54","v":0},{"$f":"'Amendment 1-Other Funds'!Z54+'Other Funds-Revision No. 2'!Z54+'Other Funds-Revision No. 3'!Z54","v":0},{"$f":"'Amendment 1-Other Funds'!AA54+'Other Funds-Revision No. 2'!AA54+'Other Funds-Revision No. 3'!AA54","v":0},{"$f":"'Amendment 1-Other Funds'!AB54+'Other Funds-Revision No. 2'!AB54+'Other Funds-Revision No. 3'!AB54","v":0},{"$f":"'Amendment 1-Other Funds'!AC54+'Other Funds-Revision No. 2'!AC54+'Other Funds-Revision No. 3'!AC54","v":0},{"$f":"'Amendment 1-Other Funds'!AD54+'Other Funds-Revision No. 2'!AD54+'Other Funds-Revision No. 3'!AD54","v":0},{"$f":"'Amendment 1-Other Funds'!AE54+'Other Funds-Revision No. 2'!AE54+'Other Funds-Revision No. 3'!AE54","v":0},{"$f":"'Amendment 1-Other Funds'!AF54+'Other Funds-Revision No. 2'!AF54+'Other Funds-Revision No. 3'!AF54","v":0},{"$f":"'Amendment 1-Other Funds'!AG54+'Other Funds-Revision No. 2'!AG54+'Other Funds-Revision No. 3'!AG54","v":0},{"$f":"'Amendment 1-Other Funds'!AH54+'Other Funds-Revision No. 2'!AH54+'Other Funds-Revision No. 3'!AH54","v":0},{"$f":"'Amendment 1-Other Funds'!AI54+'Other Funds-Revision No. 2'!AI54+'Other Funds-Revision No. 3'!AI54","v":0},{"$f":"'Amendment 1-Other Funds'!AJ54+'Other Funds-Revision No. 2'!AJ54+'Other Funds-Revision No. 3'!AJ54","v":0},{"$f":"'Amendment 1-Other Funds'!AK54+'Other Funds-Revision No. 2'!AK54+'Other Funds-Revision No. 3'!AK54","v":0},{"$f":"'Amendment 1-Other Funds'!AL54+'Other Funds-Revision No. 2'!AL54+'Other Funds-Revision No. 3'!AL54","v":9909},8840]
[{"$f":"+'Original ABG Allocation'!A55","v":"50"},{"$f":"+'Original ABG Allocation'!B55","v":"BUTLER"},{"$f":"'Amendment 1-Other Funds'!C55+'Other Funds-Revision No. 2'!C55+'Other Funds-Revision No. 3'!C55","v":0},{"$f":"'Amendment 1-Other Funds'!D55+'Other Funds-Revision No. 2'!D55+'Other Funds-Revision No. 3'!D55","v":0},{"$f":"'Amendment 1-Other Funds'!E55+'Other Funds-Revision No. 2'!E55+'Other Funds-Revision No. 3'!E55","v":8840},{"$f":"'Amendment 1-Other Funds'!F55+'Other Funds-Revision No. 2'!F55+'Other Funds-Revision No. 3'!F55","v":0},{"$f":"'Amendment 1-Other Funds'!G55+'Other Funds-Revision No. 2'!G55+'Other Funds-Revision No. 3'!G55","v":0},{"$f":"'Amendment 1-Other Funds'!H55+'Other Funds-Revision No. 2'!H55+'Other Funds-Revision No. 3'!H55","v":0},{"$f":"'Amendment 1-Other Funds'!I55+'Other Funds-Revision No. 2'!I55+'Other Funds-Revision No. 3'!I55","v":0},{"$f":"'Amendment 1-Other Funds'!J55+'Other Funds-Revision No. 2'!J55+'Other Funds-Revision No. 3'!J55","v":0},{"$f":"'Amendment 1-Other Funds'!K55+'Other Funds-Revision No. 2'!K55+'Other Funds-Revision No. 3'!K55","v":0},{"$f":"'Amendment 1-Other Funds'!L55+'Other Funds-Revision No. 2'!L55+'Other Funds-Revision No. 3'!L55","v":0},{"$f":"'Amendment 1-Other Funds'!M55+'Other Funds-Revision No. 2'!M55+'Other Funds-Revision No. 3'!M55","v":0},{"$f":"'Amendment 1-Other Funds'!N55+'Other Funds-Revision No. 2'!N55+'Other Funds-Revision No. 3'!N55","v":0},{"$f":"'Amendment 1-Other Funds'!O55+'Other Funds-Revision No. 2'!O55+'Other Funds-Revision No. 3'!O55","v":0},{"$f":"'Amendment 1-Other Funds'!P55+'Other Funds-Revision No. 2'!P55+'Other Funds-Revision No. 3'!P55","v":0},{"$f":"'Amendment 1-Other Funds'!Q55+'Other Funds-Revision No. 2'!Q55+'Other Funds-Revision No. 3'!Q55","v":0},{"$f":"'Amendment 1-Other Funds'!R55+'Other Funds-Revision No. 2'!R55+'Other Funds-Revision No. 3'!R55","v":0},{"$f":"'Amendment 1-Other Funds'!S55+'Other Funds-Revision No. 2'!S55+'Other Funds-Revision No. 3'!S55","v":0},{"$f":"'Amendment 1-Other Funds'!T55+'Other Funds-Revision No. 2'!T55+'Other Funds-Revision No. 3'!T55","v":0},{"$f":"'Amendment 1-Other Funds'!U55+'Other Funds-Revision No. 2'!U55+'Other Funds-Revision No. 3'!U55","v":0},{"$f":"'Amendment 1-Other Funds'!V55+'Other Funds-Revision No. 2'!V55+'Other Funds-Revision No. 3'!V55","v":0},{"$f":"'Amendment 1-Other Funds'!W55+'Other Funds-Revision No. 2'!W55+'Other Funds-Revision No. 3'!W55","v":0},{"$f":"'Amendment 1-Other Funds'!X55+'Other Funds-Revision No. 2'!X55+'Other Funds-Revision No. 3'!X55","v":0},{"$f":"'Amendment 1-Other Funds'!Y55+'Other Funds-Revision No. 2'!Y55+'Other Funds-Revision No. 3'!Y55","v":0},{"$f":"'Amendment 1-Other Funds'!Z55+'Other Funds-Revision No. 2'!Z55+'Other Funds-Revision No. 3'!Z55","v":0},{"$f":"'Amendment 1-Other Funds'!AA55+'Other Funds-Revision No. 2'!AA55+'Other Funds-Revision No. 3'!AA55","v":0},{"$f":"'Amendment 1-Other Funds'!AB55+'Other Funds-Revision No. 2'!AB55+'Other Funds-Revision No. 3'!AB55","v":0},{"$f":"'Amendment 1-Other Funds'!AC55+'Other Funds-Revision No. 2'!AC55+'Other Funds-Revision No. 3'!AC55","v":0},{"$f":"'Amendment 1-Other Funds'!AD55+'Other Funds-Revision No. 2'!AD55+'Other Funds-Revision No. 3'!AD55","v":0},{"$f":"'Amendment 1-Other Funds'!AE55+'Other Funds-Revision No. 2'!AE55+'Other Funds-Revision No. 3'!AE55","v":0},{"$f":"'Amendment 1-Other Funds'!AF55+'Other Funds-Revision No. 2'!AF55+'Other Funds-Revision No. 3'!AF55","v":0},{"$f":"'Amendment 1-Other Funds'!AG55+'Other Funds-Revision No. 2'!AG55+'Other Funds-Revision No. 3'!AG55","v":0},{"$f":"'Amendment 1-Other Funds'!AH55+'Other Funds-Revision No. 2'!AH55+'Other Funds-Revision No. 3'!AH55","v":0},{"$f":"'Amendment 1-Other Funds'!AI55+'Other Funds-Revision No. 2'!AI55+'Other Funds-Revision No. 3'!AI55","v":0},{"$f":"'Amendment 1-Other Funds'!AJ55+'Other Funds-Revision No. 2'!AJ55+'Other Funds-Revision No. 3'!AJ55","v":0},{"$f":"'Amendment 1-Other Funds'!AK55+'Other Funds-Revision No. 2'!AK55+'Other Funds-Revision No. 3'!AK55","v":0},{"$f":"'Amendment 1-Other Funds'!AL55+'Other Funds-Revision No. 2'!AL55+'Other Funds-Revision No. 3'!AL55","v":29771},8840]
[{"$f":"+'Original ABG Allocation'!A56","v":"51"},{"$f":"+'Original ABG Allocation'!B56","v":"POTTER"},{"$f":"'Amendment 1-Other Funds'!C56+'Other Funds-Revision No. 2'!C56+'Other Funds-Revision No. 3'!C56","v":0},{"$f":"'Amendment 1-Other Funds'!D56+'Other Funds-Revision No. 2'!D56+'Other Funds-Revision No. 3'!D56","v":0},{"$f":"'Amendment 1-Other Funds'!E56+'Other Funds-Revision No. 2'!E56+'Other Funds-Revision No. 3'!E56","v":8840},{"$f":"'Amendment 1-Other Funds'!F56+'Other Funds-Revision No. 2'!F56+'Other Funds-Revision No. 3'!F56","v":0},{"$f":"'Amendment 1-Other Funds'!G56+'Other Funds-Revision No. 2'!G56+'Other Funds-Revision No. 3'!G56","v":0},{"$f":"'Amendment 1-Other Funds'!H56+'Other Funds-Revision No. 2'!H56+'Other Funds-Revision No. 3'!H56","v":0},{"$f":"'Amendment 1-Other Funds'!I56+'Other Funds-Revision No. 2'!I56+'Other Funds-Revision No. 3'!I56","v":0},{"$f":"'Amendment 1-Other Funds'!J56+'Other Funds-Revision No. 2'!J56+'Other Funds-Revision No. 3'!J56","v":0},{"$f":"'Amendment 1-Other Funds'!K56+'Other Funds-Revision No. 2'!K56+'Other Funds-Revision No. 3'!K56","v":0},{"$f":"'Amendment 1-Other Funds'!L56+'Other Funds-Revision No. 2'!L56+'Other Funds-Revision No. 3'!L56","v":0},{"$f":"'Amendment 1-Other Funds'!M56+'Other Funds-Revision No. 2'!M56+'Other Funds-Revision No. 3'!M56","v":0},{"$f":"'Amendment 1-Other Funds'!N56+'Other Funds-Revision No. 2'!N56+'Other Funds-Revision No. 3'!N56","v":0},{"$f":"'Amendment 1-Other Funds'!O56+'Other Funds-Revision No. 2'!O56+'Other Funds-Revision No. 3'!O56","v":0},{"$f":"'Amendment 1-Other Funds'!P56+'Other Funds-Revision No. 2'!P56+'Other Funds-Revision No. 3'!P56","v":0},{"$f":"'Amendment 1-Other Funds'!Q56+'Other Funds-Revision No. 2'!Q56+'Other Funds-Revision No. 3'!Q56","v":0},{"$f":"'Amendment 1-Other Funds'!R56+'Other Funds-Revision No. 2'!R56+'Other Funds-Revision No. 3'!R56","v":0},{"$f":"'Amendment 1-Other Funds'!S56+'Other Funds-Revision No. 2'!S56+'Other Funds-Revision No. 3'!S56","v":0},{"$f":"'Amendment 1-Other Funds'!T56+'Other Funds-Revision No. 2'!T56+'Other Funds-Revision No. 3'!T56","v":0},{"$f":"'Amendment 1-Other Funds'!U56+'Other Funds-Revision No. 2'!U56+'Other Funds-Revision No. 3'!U56","v":0},{"$f":"'Amendment 1-Other Funds'!V56+'Other Funds-Revision No. 2'!V56+'Other Funds-Revision No. 3'!V56","v":0},{"$f":"'Amendment 1-Other Funds'!W56+'Other Funds-Revision No. 2'!W56+'Other Funds-Revision No. 3'!W56","v":0},{"$f":"'Amendment 1-Other Funds'!X56+'Other Funds-Revision No. 2'!X56+'Other Funds-Revision No. 3'!X56","v":0},{"$f":"'Amendment 1-Other Funds'!Y56+'Other Funds-Revision No. 2'!Y56+'Other Funds-Revision No. 3'!Y56","v":0},{"$f":"'Amendment 1-Other Funds'!Z56+'Other Funds-Revision No. 2'!Z56+'Other Funds-Revision No. 3'!Z56","v":0},{"$f":"'Amendment 1-Other Funds'!AA56+'Other Funds-Revision No. 2'!AA56+'Other Funds-Revision No. 3'!AA56","v":0},{"$f":"'Amendment 1-Other Funds'!AB56+'Other Funds-Revision No. 2'!AB56+'Other Funds-Revision No. 3'!AB56","v":0},{"$f":"'Amendment 1-Other Funds'!AC56+'Other Funds-Revision No. 2'!AC56+'Other Funds-Revision No. 3'!AC56","v":0},{"$f":"'Amendment 1-Other Funds'!AD56+'Other Funds-Revision No. 2'!AD56+'Other Funds-Revision No. 3'!AD56","v":0},{"$f":"'Amendment 1-Other Funds'!AE56+'Other Funds-Revision No. 2'!AE56+'Other Funds-Revision No. 3'!AE56","v":0},{"$f":"'Amendment 1-Other Funds'!AF56+'Other Funds-Revision No. 2'!AF56+'Other Funds-Revision No. 3'!AF56","v":0},{"$f":"'Amendment 1-Other Funds'!AG56+'Other Funds-Revision No. 2'!AG56+'Other Funds-Revision No. 3'!AG56","v":0},{"$f":"'Amendment 1-Other Funds'!AH56+'Other Funds-Revision No. 2'!AH56+'Other Funds-Revision No. 3'!AH56","v":0},{"$f":"'Amendment 1-Other Funds'!AI56+'Other Funds-Revision No. 2'!AI56+'Other Funds-Revision No. 3'!AI56","v":0},{"$f":"'Amendment 1-Other Funds'!AJ56+'Other Funds-Revision No. 2'!AJ56+'Other Funds-Revision No. 3'!AJ56","v":0},{"$f":"'Amendment 1-Other Funds'!AK56+'Other Funds-Revision No. 2'!AK56+'Other Funds-Revision No. 3'!AK56","v":0},{"$f":"'Amendment 1-Other Funds'!AL56+'Other Funds-Revision No. 2'!AL56+'Other Funds-Revision No. 3'!AL56","v":4511},8840]
[{"$f":"+'Original ABG Allocation'!A57","v":"52"},{"$f":"+'Original ABG Allocation'!B57","v":"WAYNE"},{"$f":"'Amendment 1-Other Funds'!C57+'Other Funds-Revision No. 2'!C57+'Other Funds-Revision No. 3'!C57","v":0},{"$f":"'Amendment 1-Other Funds'!D57+'Other Funds-Revision No. 2'!D57+'Other Funds-Revision No. 3'!D57","v":0},{"$f":"'Amendment 1-Other Funds'!E57+'Other Funds-Revision No. 2'!E57+'Other Funds-Revision No. 3'!E57","v":8840},{"$f":"'Amendment 1-Other Funds'!F57+'Other Funds-Revision No. 2'!F57+'Other Funds-Revision No. 3'!F57","v":0},{"$f":"'Amendment 1-Other Funds'!G57+'Other Funds-Revision No. 2'!G57+'Other Funds-Revision No. 3'!G57","v":0},{"$f":"'Amendment 1-Other Funds'!H57+'Other Funds-Revision No. 2'!H57+'Other Funds-Revision No. 3'!H57","v":0},{"$f":"'Amendment 1-Other Funds'!I57+'Other Funds-Revision No. 2'!I57+'Other Funds-Revision No. 3'!I57","v":0},{"$f":"'Amendment 1-Other Funds'!J57+'Other Funds-Revision No. 2'!J57+'Other Funds-Revision No. 3'!J57","v":0},{"$f":"'Amendment 1-Other Funds'!K57+'Other Funds-Revision No. 2'!K57+'Other Funds-Revision No. 3'!K57","v":0},{"$f":"'Amendment 1-Other Funds'!L57+'Other Funds-Revision No. 2'!L57+'Other Funds-Revision No. 3'!L57","v":0},{"$f":"'Amendment 1-Other Funds'!M57+'Other Funds-Revision No. 2'!M57+'Other Funds-Revision No. 3'!M57","v":0},{"$f":"'Amendment 1-Other Funds'!N57+'Other Funds-Revision No. 2'!N57+'Other Funds-Revision No. 3'!N57","v":0},{"$f":"'Amendment 1-Other Funds'!O57+'Other Funds-Revision No. 2'!O57+'Other Funds-Revision No. 3'!O57","v":0},{"$f":"'Amendment 1-Other Funds'!P57+'Other Funds-Revision No. 2'!P57+'Other Funds-Revision No. 3'!P57","v":0},{"$f":"'Amendment 1-Other Funds'!Q57+'Other Funds-Revision No. 2'!Q57+'Other Funds-Revision No. 3'!Q57","v":0},{"$f":"'Amendment 1-Other Funds'!R57+'Other Funds-Revision No. 2'!R57+'Other Funds-Revision No. 3'!R57","v":0},{"$f":"'Amendment 1-Other Funds'!S57+'Other Funds-Revision No. 2'!S57+'Other Funds-Revision No. 3'!S57","v":0},{"$f":"'Amendment 1-Other Funds'!T57+'Other Funds-Revision No. 2'!T57+'Other Funds-Revision No. 3'!T57","v":0},{"$f":"'Amendment 1-Other Funds'!U57+'Other Funds-Revision No. 2'!U57+'Other Funds-Revision No. 3'!U57","v":0},{"$f":"'Amendment 1-Other Funds'!V57+'Other Funds-Revision No. 2'!V57+'Other Funds-Revision No. 3'!V57","v":0},{"$f":"'Amendment 1-Other Funds'!W57+'Other Funds-Revision No. 2'!W57+'Other Funds-Revision No. 3'!W57","v":0},{"$f":"'Amendment 1-Other Funds'!X57+'Other Funds-Revision No. 2'!X57+'Other Funds-Revision No. 3'!X57","v":0},{"$f":"'Amendment 1-Other Funds'!Y57+'Other Funds-Revision No. 2'!Y57+'Other Funds-Revision No. 3'!Y57","v":0},{"$f":"'Amendment 1-Other Funds'!Z57+'Other Funds-Revision No. 2'!Z57+'Other Funds-Revision No. 3'!Z57","v":0},{"$f":"'Amendment 1-Other Funds'!AA57+'Other Funds-Revision No. 2'!AA57+'Other Funds-Revision No. 3'!AA57","v":0},{"$f":"'Amendment 1-Other Funds'!AB57+'Other Funds-Revision No. 2'!AB57+'Other Funds-Revision No. 3'!AB57","v":0},{"$f":"'Amendment 1-Other Funds'!AC57+'Other Funds-Revision No. 2'!AC57+'Other Funds-Revision No. 3'!AC57","v":0},{"$f":"'Amendment 1-Other Funds'!AD57+'Other Funds-Revision No. 2'!AD57+'Other Funds-Revision No. 3'!AD57","v":0},{"$f":"'Amendment 1-Other Funds'!AE57+'Other Funds-Revision No. 2'!AE57+'Other Funds-Revision No. 3'!AE57","v":0},{"$f":"'Amendment 1-Other Funds'!AF57+'Other Funds-Revision No. 2'!AF57+'Other Funds-Revision No. 3'!AF57","v":0},{"$f":"'Amendment 1-Other Funds'!AG57+'Other Funds-Revision No. 2'!AG57+'Other Funds-Revision No. 3'!AG57","v":0},{"$f":"'Amendment 1-Other Funds'!AH57+'Other Funds-Revision No. 2'!AH57+'Other Funds-Revision No. 3'!AH57","v":0},{"$f":"'Amendment 1-Other Funds'!AI57+'Other Funds-Revision No. 2'!AI57+'Other Funds-Revision No. 3'!AI57","v":0},{"$f":"'Amendment 1-Other Funds'!AJ57+'Other Funds-Revision No. 2'!AJ57+'Other Funds-Revision No. 3'!AJ57","v":0},{"$f":"'Amendment 1-Other Funds'!AK57+'Other Funds-Revision No. 2'!AK57+'Other Funds-Revision No. 3'!AK57","v":0},{"$f":"'Amendment 1-Other Funds'!AL57+'Other Funds-Revision No. 2'!AL57+'Other Funds-Revision No. 3'!AL57","v":13948},8840]
[null,"     TOTALS",{"$f":"SUM(C6:C57)","v":0},0,464070,0,0,0,{"$f":"SUM(I6:I57)","v":0},0,0,0,0,0,0,0,0,0,0,{"$f":"SUM(T6:T57)","v":0},0,0,0,0,0,0,0,0,0,0,0,0,0,0,0,0,{"$f":"'Amendment 1-Other Funds'!AK58+'Other Funds-Revision No. 2'!AK58+'Other Funds-Revision No. 3'!AK58","v":0},{"$f":"'Amendment 1-Other Funds'!AL58+'Other Funds-Revision No. 2'!AL58+'Other Funds-Revision No. 3'!AL58","v":2112887},{"$f":"'Amendment 1-Other Funds'!AM58+'Other Funds-Revision No. 2'!AM58+'Other Funds-Revision No. 3'!AM58","v":2576957}]
[]
[null,"PennCare Funding",null,null,null,null,{"$f":"G58-'Other Funds Summary'!H58","v":0},{"$f":"+H58","v":0},{"$f":"+I58","v":0},{"$f":"+J58","v":0},null,null,null,null,{"$f":"+O58","v":0}]

{"sheet":"In Home Parameter","index":20,"n_rows":58,"n_cols":10,"rows_kept":58,"cut":false,"hidden":false,"merged":[]}
["In-Home Service Parameter"]
["Calculation"]
[null,null,"IN-HOME"]
[null,null,"PARAMETER",{"$f":"+'Amended ABG Allocation No. 2'!C4","v":"REGULAR"},{"$f":"+'Amended ABG Allocation No. 2'!D4","v":"CAREGIVER"},{"$f":"+'Amended ABG Allocation No. 2'!E4","v":"FED. CAREGIVER"},null,{"$f":"'Amendment 2- Other Funds '!L4","v":"OPTIONS"},{"$f":"'Amendment 2- Other Funds '!M4","v":"Block Grant"},"TOTAL ALL"]
[null,null,0.6,{"$f":"+'Amended ABG Allocation No. 2'!C5","v":"BLOCK GRANT"},{"$f":"+'Amended ABG Allocation No. 2'!D5","v":"SUPPORT "},{"$f":"+'Amended ABG Allocation No. 2'!E5","v":"SUPPORT "},{"$f":"+'Amended ABG Allocation No. 2'!F5","v":"NSIP"},{"$f":"'Amendment 2- Other Funds '!L5","v":"Services"},{"$f":"'Amendment 2- Other Funds '!M5","v":"Supplement"},"FUNDS"]
[" 01 ERIE",null,{"$f":"ROUND((J6*$C$5),0)","v":2861220},{"$f":"+'[3]Amended ABG Allocation No. 1 '!C6","v":4411598},{"$f":"+'[3]Amended ABG Allocation No. 1 '!D6","v":156011},{"$f":"+'[3]Amended ABG Allocation No. 1 '!E6","v":134766},{"$f":"+'Amended ABG Allocation No. 3'!F6","v":66325},{"$f":"'Amendment 1-Other Funds'!L6","v":0},{"$f":"'Amendment 1-Other Funds'!R6","v":0},{"$f":"SUM(D6:I6)","v":4768700}]
[" 02 CRAWFORD",null,1401470,{"$f":"+'[3]Amended ABG Allocation No. 1 '!C7","v":2137845},{"$f":"+'[3]Amended ABG Allocation No. 1 '!D7","v":94962},{"$f":"+'[3]Amended ABG Allocation No. 1 '!E7","v":55648},{"$f":"+'Amended ABG Allocation No. 3'!F7","v":47328},{"$f":"'Amendment 1-Other Funds'!L7","v":0},{"$f":"'Amendment 1-Other Funds'!R7","v":0},{"$f":"SUM(D7:I7)","v":2335783}]
[" 03 CAM/ELK/MCK",null,1388419,{"$f":"+'[3]Amended ABG Allocation No. 1 '!C8","v":2104494},{"$f":"+'[3]Amended ABG Allocation No. 1 '!D8","v":104392},{"$f":"+'[3]Amended ABG Allocation No. 1 '!E8","v":69557},{"$f":"+'Amended ABG Allocation No. 3'!F8","v":35588},{"$f":"'Amendment 1-Other Funds'!L8","v":0},{"$f":"'Amendment 1-Other Funds'!R8","v":0},2314031]
[" 04 BEAVER",null,2239507,{"$f":"+'[3]Amended ABG Allocation No. 1 '!C9","v":3472650},{"$f":"+'[3]Amended ABG Allocation No. 1 '!D9","v":120693},{"$f":"+'[3]Amended ABG Allocation No. 1 '!E9","v":115200},{"$f":"+'Amended ABG Allocation No. 3'!F9","v":23968},{"$f":"'Amendment 1-Other Funds'!L9","v":0},{"$f":"'Amendment 1-Other Funds'!R9","v":0},3732511]
[" 05 INDIANA",null,1283941,{"$f":"+'[3]Amended ABG Allocation No. 1 '!C10","v":1949787},{"$f":"+'[3]Amended ABG Allocation No. 1 '!D10","v":72332},{"$f":"+'[3]Amended ABG Allocation No. 1 '!E10","v":65877},{"$f":"+'Amended ABG Allocation No. 3'!F10","v":51905},{"$f":"'Amendment 1-Other Funds'!L10","v":0},{"$f":"'Amendment 1-Other Funds'!R10","v":0},2139901]
[" 06 ALLEGHENY",null,19387830,{"$f":"+'[3]Amended ABG Allocation No. 1 '!C11","v":29841874},{"$f":"+'[3]Amended ABG Allocation No. 1 '!D11","v":1024598},{"$f":"+'[3]Amended ABG Allocation No. 1 '!E11","v":1027359},{"$f":"+'Amended ABG Allocation No. 3'!F11","v":419219},{"$f":"'Amendment 1-Other Funds'!L11","v":0},{"$f":"'Amendment 1-Other Funds'!R11","v":0},32313050]
[" 07 WESTMORELAND",null,5041830,{"$f":"+'[3]Amended ABG Allocation No. 1 '!C12","v":7750368},{"$f":"+'[3]Amended ABG Allocation No. 1 '!D12","v":279704},{"$f":"+'[3]Amended ABG Allocation No. 1 '!E12","v":249205},{"$f":"+'Amended ABG Allocation No. 3'!F12","v":123773},{"$f":"'Amendment 1-Other Funds'!L7","v":0},{"$f":"'Amendment 1-Other Funds'!R7","v":0},8403050]
[" 08 WASH/FAY/GRE",null,7076655,{"$f":"+'[3]Amended ABG Allocation No. 1 '!C13","v":10511355},{"$f":"+'[3]Amended ABG Allocation No. 1 '!D13","v":393598},{"$f":"+'[3]Amended ABG Allocation No. 1 '!E13","v":534972},{"$f":"+'Amended ABG Allocation No. 3'!F13","v":354500},{"$f":"'Amendment 1-Other Funds'!L8","v":0},{"$f":"'Amendment 1-Other Funds'!R8","v":0},11794425]
[" 09 SOMERSET",null,1544488,{"$f":"+'[3]Amended ABG Allocation No. 1 '!C14","v":2326690},{"$f":"+'[3]Amended ABG Allocation No. 1 '!D14","v":81631},{"$f":"+'[3]Amended ABG Allocation No. 1 '!E14","v":93246},{"$f":"+'Amended ABG Allocation No. 3'!F14","v":72579},{"$f":"'Amendment 1-Other Funds'!L9","v":0},{"$f":"'Amendment 1-Other Funds'!R9","v":0},2574146]
[" 10 CAMBRIA",null,2692159,{"$f":"+'[3]Amended ABG Allocation No. 1 '!C15","v":4034624},{"$f":"+'[3]Amended ABG Allocation No. 1 '!D15","v":140343},{"$f":"+'[3]Amended ABG Allocation No. 1 '!E15","v":133780},{"$f":"+'Amended ABG Allocation No. 3'!F15","v":178185},{"$f":"'Amendment 1-Other Funds'!L10","v":0},{"$f":"'Amendment 1-Other Funds'!R10","v":0},4486932]
[" 11 BLAIR",null,1863608,{"$f":"+'[3]Amended ABG Allocation No. 1 '!C16","v":2763377},{"$f":"+'[3]Amended ABG Allocation No. 1 '!D16","v":114081},{"$f":"+'[3]Amended ABG Allocation No. 1 '!E16","v":109683},{"$f":"+'Amended ABG Allocation No. 3'!F16","v":118873},{"$f":"'Amendment 1-Other Funds'!L11","v":0},{"$f":"'Amendment 1-Other Funds'!R11","v":0},3106014]
[" 12 BEDFORD/F/H",null,2048699,{"$f":"+'[3]Amended ABG Allocation No. 1 '!C17","v":3121983},{"$f":"+'[3]Amended ABG Allocation No. 1 '!D17","v":120022},{"$f":"+'[3]Amended ABG Allocation No. 1 '!E17","v":106084},{"$f":"+'Amended ABG Allocation No. 3'!F17","v":66409},{"$f":"'Amendment 1-Other Funds'!L12","v":0},{"$f":"'Amendment 1-Other Funds'!R12","v":0},3414498]
[" 13 CENTRE",null,902803,{"$f":"+'[3]Amended ABG Allocation No. 1 '!C18","v":1381274},{"$f":"+'[3]Amended ABG Allocation No. 1 '!D18","v":45132},{"$f":"+'[3]Amended ABG Allocation No. 1 '!E18","v":36131},{"$f":"+'Amended ABG Allocation No. 3'!F18","v":42135},{"$f":"'Amendment 1-Other Funds'!L13","v":0},{"$f":"'Amendment 1-Other Funds'!R13","v":0},1504672]
[" 14 LYCOM/CLINTON",null,2073814,{"$f":"+'[3]Amended ABG Allocation No. 1 '!C19","v":3159609},{"$f":"+'[3]Amended ABG Allocation No. 1 '!D19","v":117392},{"$f":"+'[3]Amended ABG Allocation No. 1 '!E19","v":98452},{"$f":"+'Amended ABG Allocation No. 3'!F19","v":80903},{"$f":"'Amendment 1-Other Funds'!L14","v":0},{"$f":"'Amendment 1-Other Funds'!R14","v":0},3456356]
[" 15 COLUM/MONT",null,1161403,{"$f":"+'[3]Amended ABG Allocation No. 1 '!C20","v":1789613},{"$f":"+'[3]Amended ABG Allocation No. 1 '!D20","v":66474},{"$f":"+'[3]Amended ABG Allocation No. 1 '!E20","v":53326},{"$f":"+'Amended ABG Allocation No. 3'!F20","v":26259},{"$f":"'Amendment 1-Other Funds'!L15","v":0},{"$f":"'Amendment 1-Other Funds'!R15","v":0},1935672]
[" 16 NTHUMBERLAND",null,1935383,{"$f":"+'[3]Amended ABG Allocation No. 1 '!C21","v":2955045},{"$f":"+'[3]Amended ABG Allocation No. 1 '!D21","v":122953},{"$f":"+'[3]Amended ABG Allocation No. 1 '!E21","v":109123},{"$f":"+'Amended ABG Allocation No. 3'!F21","v":38517},{"$f":"'Amendment 1-Other Funds'!L16","v":0},{"$f":"'Amendment 1-Other Funds'!R16","v":0},3225638]
[" 17 UNION/SNYDER",null,835939,{"$f":"+'[3]Amended ABG Allocation No. 1 '!C22","v":1295880},{"$f":"+'[3]Amended ABG Allocation No. 1 '!D22","v":41818},{"$f":"+'[3]Amended ABG Allocation No. 1 '!E22","v":38788},{"$f":"+'Amended ABG Allocation No. 3'!F22","v":16745},{"$f":"'Amendment 1-Other Funds'!L17","v":0},{"$f":"'Amendment 1-Other Funds'!R17","v":0},1393231]
[" 18 MIFF/JUNIATA",null,1207111,{"$f":"+'[3]Amended ABG Allocation No. 1 '!C23","v":1827966},{"$f":"+'[3]Amended ABG Allocation No. 1 '!D23","v":64859},{"$f":"+'[3]Amended ABG Allocation No. 1 '!E23","v":74111},{"$f":"+'Amended ABG Allocation No. 3'!F23","v":44916},{"$f":"'Amendment 1-Other Funds'!L18","v":0},{"$f":"'Amendment 1-Other Funds'!R18","v":0},2011852]
[" 19 FRANKLIN",null,1598667,{"$f":"+'[3]Amended ABG Allocation No. 1 '!C24","v":2436382},{"$f":"+'[3]Amended ABG Allocation No. 1 '!D24","v":83393},{"$f":"+'[3]Amended ABG Allocation No. 1 '!E24","v":78131},{"$f":"+'Amended ABG Allocation No. 3'!F24","v":66539},{"$f":"'Amendment 1-Other Funds'!L19","v":0},{"$f":"'Amendment 1-Other Funds'!R19","v":0},2664445]
[" 20 ADAMS",null,819008,{"$f":"+'[3]Amended ABG Allocation No. 1 '!C25","v":1263446},{"$f":"+'[3]Amended ABG Allocation No. 1 '!D25","v":39383},{"$f":"+'[3]Amended ABG Allocation No. 1 '!E25","v":32448},{"$f":"+'Amended ABG Allocation No. 3'!F25","v":29737},{"$f":"'Amendment 1-Other Funds'!L20","v":0},{"$f":"'Amendment 1-Other Funds'!R20","v":0},1365014]
[" 21 CUMBERLAND",null,1459754,{"$f":"+'[3]Amended ABG Allocation No. 1 '!C26","v":2273659},{"$f":"+'[3]Amended ABG Allocation No. 1 '!D26","v":80733},{"$f":"+'[3]Amended ABG Allocation No. 1 '!E26","v":57284},{"$f":"+'Amended ABG Allocation No. 3'!F26","v":21248},{"$f":"'Amendment 1-Other Funds'!L21","v":0},{"$f":"'Amendment 1-Other Funds'!R21","v":0},2432924]
[" 22 PERRY",null,507213,{"$f":"+'[3]Amended ABG Allocation No. 1 '!C27","v":767004},{"$f":"+'[3]Amended ABG Allocation No. 1 '!D27","v":25396},{"$f":"+'[3]Amended ABG Allocation No. 1 '!E27","v":23988},{"$f":"+'Amended ABG Allocation No. 3'!F27","v":28967},{"$f":"'Amendment 1-Other Funds'!L22","v":0},{"$f":"'Amendment 1-Other Funds'!R22","v":0},845355]
[" 23 DAUPHIN",null,2918312,{"$f":"+'[3]Amended ABG Allocation No. 1 '!C28","v":4488392},{"$f":"+'[3]Amended ABG Allocation No. 1 '!D28","v":171730},{"$f":"+'[3]Amended ABG Allocation No. 1 '!E28","v":127675},{"$f":"+'Amended ABG Allocation No. 3'!F28","v":76056},{"$f":"'Amendment 1-Other Funds'!L23","v":0},{"$f":"'Amendment 1-Other Funds'!R23","v":0},4863853]
[" 24 LEBANON",null,1259990,{"$f":"+'[3]Amended ABG Allocation No. 1 '!C29","v":1934714},{"$f":"+'[3]Amended ABG Allocation No. 1 '!D29","v":68543},{"$f":"+'[3]Amended ABG Allocation No. 1 '!E29","v":56539},{"$f":"+'Amended ABG Allocation No. 3'!F29","v":40188},{"$f":"'Amendment 1-Other Funds'!L24","v":0},{"$f":"'Amendment 1-Other Funds'!R24","v":0},2099984]
[" 25 YORK",null,3540640,{"$f":"+'[3]Amended ABG Allocation No. 1 '!C30","v":5364017},{"$f":"+'[3]Amended ABG Allocation No. 1 '!D30","v":199228},{"$f":"+'[3]Amended ABG Allocation No. 1 '!E30","v":133054},{"$f":"+'Amended ABG Allocation No. 3'!F30","v":204767},{"$f":"'Amendment 1-Other Funds'!L25","v":0},{"$f":"'Amendment 1-Other Funds'!R25","v":0},5901066]
[" 26 LANCASTER",null,3620250,{"$f":"+'[3]Amended ABG Allocation No. 1 '!C31","v":5609386},{"$f":"+'[3]Amended ABG Allocation No. 1 '!D31","v":198436},{"$f":"+'[3]Amended ABG Allocation No. 1 '!E31","v":164965},{"$f":"+'Amended ABG Allocation No. 3'!F31","v":60963},{"$f":"'Amendment 1-Other Funds'!L26","v":0},{"$f":"'Amendment 1-Other Funds'!R26","v":0},6033750]
[" 27 CHESTER",null,2412775,{"$f":"+'[3]Amended ABG Allocation No. 1 '!C32","v":3766491},{"$f":"+'[3]Amended ABG Allocation No. 1 '!D32","v":114753},{"$f":"+'[3]Amended ABG Allocation No. 1 '!E32","v":74312},{"$f":"+'Amended ABG Allocation No. 3'!F32","v":65735},{"$f":"'Amendment 1-Other Funds'!L27","v":0},{"$f":"'Amendment 1-Other Funds'!R27","v":0},4021291]
[" 28 MONTGOMERY",null,5345959,{"$f":"+'[3]Amended ABG Allocation No. 1 '!C33","v":8212898},{"$f":"+'[3]Amended ABG Allocation No. 1 '!D33","v":236029},{"$f":"+'[3]Amended ABG Allocation No. 1 '!E33","v":238996},{"$f":"+'Amended ABG Allocation No. 3'!F33","v":222009},{"$f":"'Amendment 1-Other Funds'!L28","v":0},{"$f":"'Amendment 1-Other Funds'!R28","v":0},8909932]
[" 29 BUCKS",null,3439277,{"$f":"+'[3]Amended ABG Allocation No. 1 '!C34","v":5247058},{"$f":"+'[3]Amended ABG Allocation No. 1 '!D34","v":206856},{"$f":"+'[3]Amended ABG Allocation No. 1 '!E34","v":197793},{"$f":"+'Amended ABG Allocation No. 3'!F34","v":80421},{"$f":"'Amendment 1-Other Funds'!L29","v":0},{"$f":"'Amendment 1-Other Funds'!R29","v":0},5732128]
[" 30 DELAWARE",null,5215832,{"$f":"+'[3]Amended ABG Allocation No. 1 '!C35","v":8091925},{"$f":"+'[3]Amended ABG Allocation No. 1 '!D35","v":278240},{"$f":"+'[3]Amended ABG Allocation No. 1 '!E35","v":230814},{"$f":"+'Amended ABG Allocation No. 3'!F35","v":92075},{"$f":"'Amendment 1-Other Funds'!L30","v":0},{"$f":"'Amendment 1-Other Funds'!R30","v":0},8693054]
[" 31 PHILADELPHIA",null,36578225,{"$f":"+'[3]Amended ABG Allocation No. 1 '!C36","v":56025883},{"$f":"+'[3]Amended ABG Allocation No. 1 '!D36","v":1702584},{"$f":"+'[3]Amended ABG Allocation No. 1 '!E36","v":2431642},{"$f":"+'Amended ABG Allocation No. 3'!F36","v":803599},{"$f":"'Amendment 1-Other Funds'!L31","v":0},{"$f":"'Amendment 1-Other Funds'!R31","v":0},60963708]
[" 32 BERKS",null,3996308,{"$f":"+'[3]Amended ABG Allocation No. 1 '!C37","v":6004484},{"$f":"+'[3]Amended ABG Allocation No. 1 '!D37","v":235166},{"$f":"+'[3]Amended ABG Allocation No. 1 '!E37","v":262043},{"$f":"+'Amended ABG Allocation No. 3'!F37","v":158821},{"$f":"'Amendment 1-Other Funds'!L32","v":0},{"$f":"'Amendment 1-Other Funds'!R32","v":0},6660514]
[" 33 LEHIGH",null,{"$f":"ROUND((J38*$C$5),0)","v":2993852},{"$f":"+'[3]Amended ABG Allocation No. 1 '!C38","v":4654532},{"$f":"+'[3]Amended ABG Allocation No. 1 '!D38","v":172458},{"$f":"+'[3]Amended ABG Allocation No. 1 '!E38","v":119971},{"$f":"+'Amended ABG Allocation No. 3'!F38","v":42793},{"$f":"'Amendment 1-Other Funds'!L33","v":0},{"$f":"'Amendment 1-Other Funds'!R33","v":0},4989754]
[" 34 NORTHAMPTON",null,2650037,{"$f":"+'[3]Amended ABG Allocation No. 1 '!C39","v":4087354},{"$f":"+'[3]Amended ABG Allocation No. 1 '!D39","v":153486},{"$f":"+'[3]Amended ABG Allocation No. 1 '!E39","v":102099},{"$f":"+'Amended ABG Allocation No. 3'!F39","v":73789},{"$f":"'Amendment 1-Other Funds'!L34","v":0},{"$f":"'Amendment 1-Other Funds'!R34","v":0},4416728]
[" 35 PIKE",null,468461,{"$f":"+'[3]Amended ABG Allocation No. 1 '!C40","v":714453},{"$f":"+'[3]Amended ABG Allocation No. 1 '!D40","v":25399},{"$f":"+'[3]Amended ABG Allocation No. 1 '!E40","v":20229},{"$f":"+'Amended ABG Allocation No. 3'!F40","v":20687},{"$f":"'Amendment 1-Other Funds'!L35","v":0},{"$f":"'Amendment 1-Other Funds'!R35","v":0},780768]
[" 36 TIOGA/B/S/S",null,2621493,{"$f":"+'[3]Amended ABG Allocation No. 1 '!C41","v":3993199},{"$f":"+'[3]Amended ABG Allocation No. 1 '!D41","v":141181},{"$f":"+'[3]Amended ABG Allocation No. 1 '!E41","v":136248},{"$f":"+'Amended ABG Allocation No. 3'!F41","v":98527},{"$f":"'Amendment 1-Other Funds'!L36","v":0},{"$f":"'Amendment 1-Other Funds'!R36","v":0},4369155]
[" 37 LUZERNE/WYO",null,6124045,{"$f":"+'[3]Amended ABG Allocation No. 1 '!C42","v":9360224},{"$f":"+'[3]Amended ABG Allocation No. 1 '!D42","v":343992},{"$f":"+'[3]Amended ABG Allocation No. 1 '!E42","v":282547},{"$f":"+'Amended ABG Allocation No. 3'!F42","v":219979},{"$f":"'Amendment 1-Other Funds'!L37","v":0},{"$f":"'Amendment 1-Other Funds'!R37","v":0},10206742]
[" 38 LACKAWANNA",null,3469864,{"$f":"+'[3]Amended ABG Allocation No. 1 '!C43","v":5223495},{"$f":"+'[3]Amended ABG Allocation No. 1 '!D43","v":202907},{"$f":"+'[3]Amended ABG Allocation No. 1 '!E43","v":231866},{"$f":"+'Amended ABG Allocation No. 3'!F43","v":124839},{"$f":"'Amendment 1-Other Funds'!L38","v":0},{"$f":"'Amendment 1-Other Funds'!R38","v":0},5783107]
[" 39 CARBON",null,780017,{"$f":"+'[3]Amended ABG Allocation No. 1 '!C44","v":1185509},{"$f":"+'[3]Amended ABG Allocation No. 1 '!D44","v":44213},{"$f":"+'[3]Amended ABG Allocation No. 1 '!E44","v":39403},{"$f":"+'Amended ABG Allocation No. 3'!F44","v":30903},{"$f":"'Amendment 1-Other Funds'!L39","v":0},{"$f":"'Amendment 1-Other Funds'!R39","v":0},1300028]
[" 40 SCHUYLKILL",null,2978103,{"$f":"+'[3]Amended ABG Allocation No. 1 '!C45","v":4568989},{"$f":"+'[3]Amended ABG Allocation No. 1 '!D45","v":181495},{"$f":"+'[3]Amended ABG Allocation No. 1 '!E45","v":156510},{"$f":"+'Amended ABG Allocation No. 3'!F45","v":56511},{"$f":"'Amendment 1-Other Funds'!L40","v":0},{"$f":"'Amendment 1-Other Funds'!R40","v":0},4963505]
[" 41 CLEARFIELD",null,1497618,{"$f":"+'[3]Amended ABG Allocation No. 1 '!C46","v":2229583},{"$f":"+'[3]Amended ABG Allocation No. 1 '!D46","v":79676},{"$f":"+'[3]Amended ABG Allocation No. 1 '!E46","v":76522},{"$f":"+'Amended ABG Allocation No. 3'!F46","v":110249},{"$f":"'Amendment 1-Other Funds'!L41","v":0},{"$f":"'Amendment 1-Other Funds'!R41","v":0},2496030]
[" 42 JEFFERSON",null,852603,{"$f":"+'[3]Amended ABG Allocation No. 1 '!C47","v":1281851},{"$f":"+'[3]Amended ABG Allocation No. 1 '!D47","v":51609},{"$f":"+'[3]Amended ABG Allocation No. 1 '!E47","v":59466},{"$f":"+'Amended ABG Allocation No. 3'!F47","v":28079},{"$f":"'Amendment 1-Other Funds'!L42","v":0},{"$f":"'Amendment 1-Other Funds'!R42","v":0},1421005]
[" 43 FOREST/WARREN",null,671290,{"$f":"+'[3]Amended ABG Allocation No. 1 '!C48","v":1026619},{"$f":"+'[3]Amended ABG Allocation No. 1 '!D48","v":34269},{"$f":"+'[3]Amended ABG Allocation No. 1 '!E48","v":30176},{"$f":"+'Amended ABG Allocation No. 3'!F48","v":27753},{"$f":"'Amendment 1-Other Funds'!L43","v":0},{"$f":"'Amendment 1-Other Funds'!R43","v":0},1118817]
[" 44 VENANGO",null,844492,{"$f":"+'[3]Amended ABG Allocation No. 1 '!C49","v":1267563},{"$f":"+'[3]Amended ABG Allocation No. 1 '!D49","v":48574},{"$f":"+'[3]Amended ABG Allocation No. 1 '!E49","v":55242},{"$f":"+'Amended ABG Allocation No. 3'!F49","v":36107},{"$f":"'Amendment 1-Other Funds'!L44","v":0},{"$f":"'Amendment 1-Other Funds'!R44","v":0},1407486]
[" 45 ARMSTRONG",null,1322252,{"$f":"+'[3]Amended ABG Allocation No. 1 '!C50","v":1994604},{"$f":"+'[3]Amended ABG Allocation No. 1 '!D50","v":75493},{"$f":"+'[3]Amended ABG Allocation No. 1 '!E50","v":62026},{"$f":"+'Amended ABG Allocation No. 3'!F50","v":71631},{"$f":"'Amendment 1-Other Funds'!L45","v":0},{"$f":"'Amendment 1-Other Funds'!R45","v":0},2203754]
[" 46 LAWRENCE",null,1382843,{"$f":"+'[3]Amended ABG Allocation No. 1 '!C51","v":2116483},{"$f":"+'[3]Amended ABG Allocation No. 1 '!D51","v":79407},{"$f":"+'[3]Amended ABG Allocation No. 1 '!E51","v":65793},{"$f":"+'Amended ABG Allocation No. 3'!F51","v":43055},{"$f":"'Amendment 1-Other Funds'!L46","v":0},{"$f":"'Amendment 1-Other Funds'!R46","v":0},2304738]
[" 47 MERCER",null,1513010,{"$f":"+'[3]Amended ABG Allocation No. 1 '!C52","v":2322893},{"$f":"+'[3]Amended ABG Allocation No. 1 '!D52","v":80316},{"$f":"+'[3]Amended ABG Allocation No. 1 '!E52","v":77331},{"$f":"+'Amended ABG Allocation No. 3'!F52","v":41143},{"$f":"'Amendment 1-Other Funds'!L47","v":0},{"$f":"'Amendment 1-Other Funds'!R47","v":0},2521683]
[" 48 MONROE",null,1083576,{"$f":"+'[3]Amended ABG Allocation No. 1 '!C53","v":1655963},{"$f":"+'[3]Amended ABG Allocation No. 1 '!D53","v":46961},{"$f":"+'[3]Amended ABG Allocation No. 1 '!E53","v":65227},{"$f":"+'Amended ABG Allocation No. 3'!F53","v":37809},{"$f":"'Amendment 1-Other Funds'!L48","v":0},{"$f":"'Amendment 1-Other Funds'!R48","v":0},1805960]
[" 49 CLARION",null,636301,{"$f":"+'[3]Amended ABG Allocation No. 1 '!C54","v":954686},{"$f":"+'[3]Amended ABG Allocation No. 1 '!D54","v":32868},{"$f":"+'[3]Amended ABG Allocation No. 1 '!E54","v":43252},{"$f":"+'Amended ABG Allocation No. 3'!F54","v":29696},{"$f":"'Amendment 1-Other Funds'!L49","v":0},{"$f":"'Amendment 1-Other Funds'!R49","v":0},1060502]
[" 50 BUTLER",null,1682614,{"$f":"+'[3]Amended ABG Allocation No. 1 '!C55","v":2546870},{"$f":"+'[3]Amended ABG Allocation No. 1 '!D55","v":104331},{"$f":"+'[3]Amended ABG Allocation No. 1 '!E55","v":112372},{"$f":"+'Amended ABG Allocation No. 3'!F55","v":40783},{"$f":"'Amendment 1-Other Funds'!L50","v":0},{"$f":"'Amendment 1-Other Funds'!R50","v":0},2804356]
[" 51 POTTER",null,390114,{"$f":"+'[3]Amended ABG Allocation No. 1 '!C56","v":589962},{"$f":"+'[3]Amended ABG Allocation No. 1 '!D56","v":25400},{"$f":"+'[3]Amended ABG Allocation No. 1 '!E56","v":20017},{"$f":"+'Amended ABG Allocation No. 3'!F56","v":14811},{"$f":"'Amendment 1-Other Funds'!L51","v":0},{"$f":"'Amendment 1-Other Funds'!R51","v":0},650190]
[" 52 WAYNE",null,784861,{"$f":"+'[3]Amended ABG Allocation No. 1 '!C57","v":1178872},{"$f":"+'[3]Amended ABG Allocation No. 1 '!D57","v":35500},{"$f":"+'[3]Amended ABG Allocation No. 1 '!E57","v":38682},{"$f":"+'Amended ABG Allocation No. 3'!F57","v":55047},{"$f":"'Amendment 1-Other Funds'!L52","v":0},{"$f":"'Amendment 1-Other Funds'!R52","v":0},1308101]
["     TOTAL",null,{"$f":"SUM(C5:C57)","v":164405935.59999999},{"$f":"SUM(D6:D57)","v":251275475},8761000,9009971,4963443,0,0,274009889]

{"sheet":"Changes","index":21,"n_rows":10,"n_cols":1,"rows_kept":10,"cut":false,"hidden":true,"merged":[]}
["Changes"]
[]
[1]
[2]
[3]
[4]
[5]
[6]
[7]
[8]